{"text_format":"1","workbook":"xlsx","n_sheets":40,"sheets":["Home","Geography","PP_Data","HB_PP","LA_PP","RPB_PP","CHB_PP","CLA_PP","HB_LTC","LA_LTC","RPB_LTC","CHB_LTC","CLA_LTC","LTC data","HB_LTCM","LA_LTCM","RPB_LTCM","CHB_LTCM","CLA_LTCM","HB_C&S","Screening data","stage at diag data","Prevalence data","LA_C&S","RPB_C&S","CHB_C&S","CLA_C&S","HB_IDP","LA_IDP","RPB_IDP","CHB_IDP","CLA_IDP","HB_DOH","LA_DOH","RPB_DOH","CHB_DOH","CLA_DOH","DOH data","flu data","Child vacc data"],"not_rendered":{"charts":0,"images":5,"macros":1,"external_links":0,"defined_names":9,"comments":0,"pivot_tables":0},"unopened":[],"bounds":{"document_bytes":16777216,"sheet_cells":100000,"rows_first":2000,"rows_last":500,"rows_between":2000,"halvings":0,"cell_chars":16384,"cell_head_chars":4096},"cells_cut":0,"cells_raw":0,"read":"whole","date_system":"1900"}

{"sheet":"Home","index":0,"n_rows":24,"n_cols":4,"rows_kept":24,"cut":false,"hidden":false,"merged":[]}
[" "]
[]
[]
[]
[]
[]
[]
[null,"Welcome to the Primary Care Needs Assessment (PCNA) workbook"]
[]
[null,"We will step you through using this tool. Please begin by choosing a view that represents your organisational perspective."]
[null,"Click here"," to view the PCNA indicator map and guide; this provides an overview of the topics within each category & shows the footprints at which data are available."]
[null,"It also provides detail about each indicator, such as source, limitations, and linked frameworks."]
[]
[]
[null,null,null,"CHOOSE A VIEW"]
[]
[]
[]
[]
[]
[]
[null,"Release date: 11.04.19"]
[null,"Contact: PrimaryCare.One@wales.nhs.uk"]
[null,"Latest version downloadable from: http://www.primarycareone.wales.nhs.uk/pcna"]

{"sheet":"Geography","index":1,"n_rows":5,"n_cols":1,"rows_kept":5,"cut":false,"hidden":true,"merged":[]}
["Health boards"]
["Local authorities"]
["Regional Partnership Boards"]
["Clusters, by health board"]
["Clusters, by local authority (PSB)"]

{"sheet":"PP_Data","index":2,"n_rows":358,"n_cols":65,"rows_kept":358,"cut":false,"hidden":false,"merged":[[1,35,1,36],[1,37,1,38],[1,39,1,40],[1,41,1,42],[0,10,0,11],[0,13,0,14],[0,16,0,17],[0,22,0,23],[0,18,0,20]]}
["Area","Outcome","Title","Gender","Measure Type","Area value","Area  LCL","Area UCL",null,null,"Least deprived",null,null,"Next least deprived",null,null,"Middle",null,"Next most deprived",null,null,null,"Most deprived",null,null,"Population","Age band","<16 ","16-64 ","65-84 ","85+ ",null,"removed %",null,null,null,null,null,null,null,null,null,null,"(2014) Population aged 0-25, by age, projected to 2035",2017,2020,2025,2030,2035,null,"Population aged 18 and over, by age, projected to 2035",2017,2020,2025,2030,2035,null,null,null,"2014 Adult projection sums",2017,2020,2025,2030,2035]
["Wales","Years of life and years of health","Life expectancy at birth, 2013 to 2015","Males","Years",78.427224500511898,78.305213616532797,78.549235384491098,null,null,"Count","%",null,"Count","%",null,"Count","%",null,"Count","%",null,"Count","%",null,null,"Wales",554800,1922400,535900,78900,null,null,null,2014,"<16 ",null,"16-64 ",null,"65-84 ",null,"85+ ",null,"Wales: Total population aged 0-17",634270,645950,657050,645870,628710,null,"Wales: People aged 18-24",286890,271260,259530,280070,287280,null,null,null,"Wales",2510820,2539770,2588720,2646380,2698770]
["Betsi Cadwaladr UHB","Years of life and years of health","Life expectancy at birth, 2013 to 2015","Males","Years",78.814600292418106,78.559142886978094,79.070057697858104,null,"Betsi Cadwaladr UHB",139200,20.042679845004798,null,197700,28.4640295591045,null,150800,21.719202906376498,null,124600,17.937630404637801,null,82200,11.836457284876399,null,null,"Betsi Cadwaladr UHB",123800,418100,132300,19800,null,null,null,"Wales",554800,"(18%)",1922400,"(62%)",535900,"(17%)",78900,"(3%)","Bridgend: Total population aged 0-17",29280,29760,30130,29480,28120,null,"Wales: People aged 25-34",401890,416040,412610,379760,379140,null,null,null,"Bridgend",114440,115890,118100,120360,122750]
["Powys THB","Years of life and years of health","Life expectancy at birth, 2013 to 2015","Males","Years",80.292127330146897,79.695044777587,80.889209882706794,null,"Powys THB",13500,10.170232656323,null,70600,53.212406326804498,null,31300,23.613938269929601,null,12600,9.5067927202545199,null,4600,3.4966300266883801,null,null,"Powys THB",21900,77200,29100,4500,null,null,null,"Betsi Cadwaladr",123800,"(18%)",418100,"(60%)",132300,"(19%)",19800,"(3%)","Neath Port Talbot: Total population aged 0-17",28360,28790,28910,28040,26530,null,"Wales: People aged 35-44",354990,360190,391210,420360,417050,null,null,null,"Neath Port Talbot",112960,113210,113760,114630,115700]
["Hywel Dda UHB","Years of life and years of health","Life expectancy at birth, 2013 to 2015","Males","Years",79.051983190785705,78.697595623790903,79.406370757780394,null,"Hywel Dda UHB",28900,7.5299625028377299,null,105300,27.463996722586199,null,144900,37.806115925464901,null,75700,19.742764769889501,null,28600,7.45716007922156,null,null,"Hywel Dda UHB",65300,230600,76600,11500,null,null,null,"Anglesey",12100,"(17%)",41100,"(59%)",14800,"(21%)",2200,"(3%)","Swansea: Total population aged 0-17",47110,47860,49110,49180,48470,null,"Wales: People aged 45-54",428950,403430,363590,361240,392290,null,null,null,"Swansea",142550,143520,145170,146970,148020]
["ABM UHB","Years of life and years of health","Life expectancy at birth, 2013 to 2015","Males","Years",77.654538588619403,77.355730902963003,77.953346274275702,null,"Abertawe Bro Morgannwg UHB",125300,23.837127425941901,null,69800,13.286492370581501,null,86500,16.4532053453506,null,111000,21.115352848709499,null,133000,25.307822009416402,null,null,"ABM UHB",91500,329800,88800,13000,null,null,null,"Gwynedd",20900,"(17%)",74100,"(61%)",23400,"(19%)",3800,"(3%)","Blaenau Gwent: Total population aged 0-17",13630,13630,13280,12290,11230,null,"Wales: People aged 55-64",391130,411300,427320,400250,362700,null,null,null,"Blaenau Gwent",55620,55350,54950,54740,54300]
["Cardiff and Vale UHB","Years of life and years of health","Life expectancy at birth, 2013 to 2015","Males","Years",78.588363966261397,78.268430670692794,78.90829726183,null,"Cardiff & Vale UHB",168100,34.676906954483897,null,76100,15.705556655774499,null,59700,12.306292702247701,null,63800,13.157037000363101,null,117100,24.154206687130699,null,null,"Cardiff and Vale UHB",88900,318700,63900,10500,null,null,null,"Conwy",18900,"(16%)",66900,"(58%)",25800,"(22%)",4600,"(4%)","Caerphilly: Total population aged 0-17",38870,38980,38300,36440,34550,null,"Wales: People aged 65-69",186970,176970,186400,207450,203420,null,null,null,"Caerphilly",151900,154170,157960,162150,165900]
["Cwm Taf UHB","Years of life and years of health","Life expectancy at birth, 2013 to 2015","Males","Years",76.848808841017998,76.456504254875497,77.2411134271604,null,"Cwm Taf UHB",35200,11.878612229767301,null,26700,8.9918614251773494,null,47300,15.9334085968962,null,101700,34.284462567610802,null,85800,28.911655180548301,null,null,"Cwm Taf UHB",55200,186500,47900,6300,null,null,null,"Denbighshire",17100,"(18%)",55900,"(59%)",19100,"(20%)",2700,"(3%)","Monmouthshire: Total population aged 0-17",17390,17130,16710,16060,15360,null,"Wales: People aged 70-74",166820,179960,164790,174440,194960,null,null,null,"Monmouthshire",74710,75160,75630,75750,75280]
["Aneurin Bevan UHB","Years of life and years of health","Life expectancy at birth, 2013 to 2015","Males","Years",78.281092408909103,78.003136129024298,78.559048688793894,null,"Aneurin Bevan UHB",104600,17.9752453208981,null,82200,14.130896252765201,null,116800,20.079444609643701,null,127000,21.822516410588701,null,151200,25.9918974061043,null,null,"Aneurin Bevan UHB",108300,361600,97300,13300,null,null,null,"Flintshire",28400,"(18%)",95100,"(62%)",26900,"(18%)",3400,"(2%)","Newport: Total population aged 0-17",34100,35230,37080,37590,37480,null,"Wales: People aged 75-79",119120,132020,159990,147640,157410,null,null,null,"Newport",117640,119760,123260,127720,132530]
["Isle of Anglesey","Years of life and years of health","Life expectancy at birth, 2013 to 2015","Males","Years",78.775400701150105,77.970186559307194,79.5806148429931,null,null,null,null,null,null,null,null,null,null,null,null,null,null,null,null,null,null,"Bridgend",25500,88300,24200,3200,null,null,null,"Wrexham",26300,"(19%)",85000,"(62%)",22300,"(16%)",3200,"(2%)","Torfaen: Total population aged 0-17",19450,19870,20110,19560,18540,null,"Wales: People aged 80-84",87230,93160,108770,133620,124680,null,null,null,"Torfaen",72720,72770,72930,73310,73790]
["Gwynedd","Years of life and years of health","Life expectancy at birth, 2013 to 2015","Males","Years",79.587398900881098,78.998383243045396,80.1764145587168,null,"Isle of Anglesey",9800,14.052787264750901,null,12600,18.052558624730299,null,26300,37.536975378327803,null,10500,14.9587733462896,null,10800,15.3989053859015,null,null,"Neath Port Talbot",24500,87900,24500,3600,null,null,null,"Powys",21900,"(17%)",77200,"(58%)",29100,"(22%)",4500,"(3%)","Isle of Anglesey: Total population aged 0-17",13790,14040,14130,13370,12520,null,"Wales: People aged 85 and over",86820,95430,114500,141530,179830,null,null,null,"Anglesey",56430,56230,55860,55880,55750]
["Conwy","Years of life and years of health","Life expectancy at birth, 2013 to 2015","Males","Years",78.889948088249895,78.253871777454705,79.526024399045198,null,"Gwynedd",12900,10.4823219169163,null,49500,40.306354994139902,null,38900,31.667534835264998,null,16500,13.438435994270099,null,5000,4.1053522594087797,null,null,"Swansea",41500,153500,40100,6200,null,null,null,"Hywel dda",65300,"(17%)",230600,"(60%)",76600,"(20%)",11500,"(3%)","Conwy: Total population aged 0-17",21700,21920,21860,20870,19570,null,"Wales: Total population aged 18 and over",2510820,2539770,2588720,2646380,2698770,null,null,null,"Conwy",94520,94690,95000,95590,95970]
["Denbighshire","Years of life and years of health","Life expectancy at birth, 2013 to 2015","Males","Years",77.992449614299403,77.313885674441295,78.671013554157497,null,"Conwy",25600,22.004336677623101,null,35300,30.342976131063999,null,18100,15.5569705209176,null,21100,18.1572561909515,null,16200,13.938460479443799,null,null,"Blaenau Gwent",12200,44000,11900,1500,null,null,null,"Ceredigion",11000,"(15%)",47300,"(63%)",14800,"(20%)",2300,"(3%)","Denbighshire: Total population aged 0-17",19560,20010,20430,19870,19150,null,"Blaenau Gwent: People aged 18-24",5640,4920,4390,4850,4690,null,null,null,"Denbighshire",76850,77650,78990,80730,82230]
["Flintshire","Years of life and years of health","Life expectancy at birth, 2013 to 2015","Males","Years",79.009877163649094,78.451354285220205,79.568400042078096,null,"Denbighshire",18900,19.922695926751199,null,22900,24.2282793507303,null,23100,24.372960471428101,null,15900,16.765056869184999,null,13900,14.7110073819054,null,null,"Caerphilly",34200,113100,29200,3500,null,null,null,"Pembrokeshire",21600,"(17%)",72600,"(59%)",25700,"(21%)",3800,"(3%)","Flintshire: Total population aged 0-17",31940,32090,31690,30030,28620,null,"Blaenau Gwent: People aged 25-34",9450,9660,8830,7330,7090,null,null,null,"Flintshire",122840,123470,124480,125810,126180]
["Wrexham","Years of life and years of health","Life expectancy at birth, 2013 to 2015","Males","Years",78.427642023663907,77.845743199091899,79.009540848236,null,"Flintshire",45200,29.304100626971501,null,44100,28.591456053584601,null,17800,11.5379622778665,null,29400,19.0622687799369,null,17700,11.5042122616405,null,null,"Monmouthshire",15600,55500,18500,2800,null,null,null,"Carmarthenshire",32600,"(18%)",110700,"(60%)",36100,"(20%)",5400,"(3%)","Gwynedd: Total population aged 0-17",22850,22840,23120,23360,23900,null,"Blaenau Gwent: People aged 35-44",7870,8000,8960,9530,8710,null,null,null,"Gwynedd",100650,101910,103960,106050,107570]
["Powys","Years of life and years of health","Life expectancy at birth, 2013 to 2015","Males","Years",80.292127330146897,79.695044777587,80.889209882706794,null,"Wrexham",26900,19.678441531830199,null,33300,24.3415515891311,null,26700,19.555497010545398,null,31200,22.866217333713902,null,18500,13.558292534779399,null,null,"Newport",29300,92100,22200,3200,null,null,null,"ABM",91500,"(17%)",329800,"(63%)",88800,"(17%)",13000,"(2%)","Wrexham: Total population aged 0-17",30590,31470,32130,31660,31390,null,"Blaenau Gwent: People aged 45-54",10320,9550,7960,7780,8740,null,null,null,"Wrexham",112180,115050,120170,125900,131140]
["Ceredigion","Years of life and years of health","Life expectancy at birth, 2013 to 2015","Males","Years",79.916938131032197,79.0978614412045,80.736014820859907,null,"Powys",13500,10.170232656323,null,70600,53.212406326804498,null,31300,23.613938269929601,null,12600,9.5067927202545199,null,4600,3.4966300266883801,null,null,"Torfaen",16900,56900,15500,2300,null,null,null,"Swansea",41500,"(17%)",153500,"(64%)",40100,"(17%)",6200,"(3%)","Cardiff: Total population aged 0-17",76400,80820,87630,91180,93410,null,"Blaenau Gwent: People aged 55-64",8630,9180,9890,9100,7610,null,null,null,"Cardiff",294830,304030,320490,340150,360640]
["Pembrokeshire","Years of life and years of health","Life expectancy at birth, 2013 to 2015","Males","Years",79.141769607585402,78.516000738582306,79.767538476588498,null,"Ceredigion",15300,20.538034886525001,null,19400,25.925082393290602,null,33500,44.874199512338897,null,5300,7.1246751158865003,null,1100,1.5380080919589501,null,null,"Anglesey",12100,41100,14800,2200,null,null,null,"Neath Port Talbot",24500,"(17%)",87900,"(63%)",24500,"(17%)",3600,"(3%)","The Vale of Glamorgan: Total population aged 0-17",26580,26710,26700,25920,25120,null,"Blaenau Gwent: People aged 65-69",4050,3730,4000,4490,4710,null,null,null,"Vale of Glamorgan",102800,103890,105560,107400,108600]
["Carmarthenshire","Years of life and years of health","Life expectancy at birth, 2013 to 2015","Males","Years",78.649684556559393,78.143379353847706,79.155989759271094,null,"Pembrokeshire",5400,4.3356767964750897,null,43300,35.058802565930201,null,42200,34.171094408086603,null,22700,18.388356120002602,null,9900,8.0460701095055995,null,null,"Conwy",18900,66900,25800,4600,null,null,null,"Bridgend",25500,"(18%)",88300,"(63%)",24200,"(17%)",3200,"(2%)","Merthyr Tydfil: Total population aged 0-17",12490,12710,12770,12170,11350,null,"Blaenau Gwent: People aged 70-74",3670,3820,3350,3630,4090,null,null,null,"Merthyr Tydfil",47840,48320,49080,50100,51070]
["Swansea","Years of life and years of health","Life expectancy at birth, 2013 to 2015","Males","Years",78.031397639411097,77.5845919289238,78.478203349898394,null,"Carmarthenshire",8200,4.4154427056605599,null,42600,23.019289877540899,null,69200,37.380552389492401,null,47600,25.733701376922401,null,17500,9.4510136503837998,null,null,"Denbighshire",17100,55900,19100,2700,null,null,null,"Cardiff & Vale",88900,"(18%)",318700,"(66%)",63900,"(13%)",10500,"(2%)","Rhondda Cynon Taf: Total population aged 0-17",50280,51070,50970,49040,46960,null,"Blaenau Gwent: People aged 75-79",2620,2880,3260,2890,3160,null,null,null,"Rhondda Cynon Taf",185900,185870,186460,187830,188750]
["Neath Port Talbot","Years of life and years of health","Life expectancy at birth, 2013 to 2015","Males","Years",77.432208024473795,76.870746074946794,77.993669974000895,null,"Swansea",77700,32.036207309123597,null,29900,12.3317738115867,null,41300,17.040869371488,null,31700,13.0979198125273,null,61800,25.493229695274401,null,null,"Flintshire",28400,95100,26900,3400,null,null,null,"Vale of glamorgan",23700,"(19%)",78500,"(61%)",22200,"(17%)",3300,"(3%)","Carmarthenshire: Total population aged 0-17",37980,38730,39480,38900,38020,null,"Blaenau Gwent: People aged 80-84",1840,1920,2260,2610,2340,null,null,null,"Carmarthenshire",199550,202980,208470,214410,220460]
["Bridgend","Years of life and years of health","Life expectancy at birth, 2013 to 2015","Males","Years",77.202759794232193,76.618192638187296,77.787326950277006,null,"Neath Port Talbot",15500,10.987857467090301,null,17500,12.3787165229233,null,24200,17.156292555606001,null,42500,30.15632092601,null,41300,29.3208125283704,null,null,"Gwynedd",20900,74100,23400,3800,null,null,null,"Cardiff",65300,"(18%)",240200,"(68%)",41700,"(12%)",7100,"(2%)","Ceredigion: Total population aged 0-17",12780,13050,13520,13760,13790,null,"Blaenau Gwent: People aged 85 and over",1540,1700,2040,2550,3150,null,null,null,"Ceredigion",63520,63850,64430,64990,65410]
["Vale of Glamorgan","Years of life and years of health","Life expectancy at birth, 2013 to 2015","Males","Years",79.136697347913596,78.557118068661794,79.716276627165399,null,"Bridgend",32100,22.6008501534217,null,22500,15.815809475551101,null,21000,14.7531176983926,null,36700,25.820595107395199,null,29900,21.009627565239398,null,null,"Wrexham",26300,85000,22300,3200,null,null,null,"Cwm Taf",55200,"(19%)",186500,"(63%)",47900,"(16%)",6300,"(2%)","Pembrokeshire: Total population aged 0-17",24610,24840,24830,23840,22610,null,"Blaenau Gwent: Total population aged 18 and over",55620,55350,54950,54740,54300,null,null,null,"Pembrokeshire",100010,100700,101710,102910,103760]
["Cardiff","Years of life and years of health","Life expectancy at birth, 2013 to 2015","Males","Years",78.324657716736994,77.938640540060703,78.710674893413298,null,"Vale of Glamorgan",62300,48.858862624616002,null,16000,12.521944949526601,null,13900,10.9027211737413,null,17100,13.3636905135118,null,18300,14.3527807386043,null,null,"Cardiff",65300,240200,41700,7100,null,null,null,"Rhondda Cynon Taf",44200,"(19%)",149100,"(63%)",38500,"(16%)",5100,"(2%)","Powys: Total population aged 0-17",24540,24400,24150,23240,22020,null,"Bridgend: People aged 18-24",10520,9950,9380,9950,10920,null,null,null,"Powys",110350,111280,112300,112990,112960]
["Rhondda Cynon Taf","Years of life and years of health","Life expectancy at birth, 2013 to 2015","Males","Years",76.928854016227106,76.500352049105004,77.357355983349294,null,"Cardiff",105800,29.610538694142701,null,60200,16.842871542166002,null,45700,12.807705230149001,null,46700,13.0832120058237,null,98800,27.6556725277187,null,null,"Vale of Glamorgan",23700,78500,22200,3300,null,null,null,"Merthyr Tydfil",11000,"(19%)",37500,"(63%)",9300,"(16%)",1200,"(2%)",null,null,null,null,null,null,null,"Bridgend: People aged 25-34",18120,18170,17410,16030,15600]
["Merthyr Tydfil","Years of life and years of health","Life expectancy at birth, 2013 to 2015","Males","Years",76.600646362001697,75.646819619254103,77.554473104749306,null,"Rhondda Cynon Taf",31800,13.3826992009637,null,22200,9.34329074895434,null,34200,14.4142436534112,null,80900,34.075084979213301,null,68300,28.784681417457499,null,null,"Merthyr Tydfil",11000,37500,9300,1200,null,null,null,"Aneurin Bevan",108300,"(19%)",361600,"(62%)",97300,"(17%)",13300,"(2%)",null,null,null,null,null,null,null,"Bridgend: People aged 35-44",17300,17350,18470,18940,18200]
["Caerphilly","Years of life and years of health","Life expectancy at birth, 2013 to 2015","Males","Years",77.782819116243104,77.292309417660206,78.273328814826002,null,"Merthyr Tydfil",3500,5.8593486615872203,null,4500,7.5854628818016296,null,13100,22.0130132829883,null,20800,35.122378801159698,null,17500,29.4197963724631,null,null,"Rhondda Cynon Taf",44200,149100,38500,5100,null,null,null,"Caerphilly",34200,"(19%)",113100,"(63%)",29200,"(16%)",3500,"(2%)",null,null,null,null,null,null,null,"Bridgend: People aged 45-54",21160,20210,18290,17750,18860]
["Blaenau Gwent","Years of life and years of health","Life expectancy at birth, 2013 to 2015","Males","Years",76.473907100153795,75.650742876839004,77.2970713234686,null,"Caerphilly",21100,11.700450700472899,null,21700,12.064563397793099,null,41100,22.833640460913401,null,46600,25.881974201283299,null,49600,27.5193712395373,null,null,"Carmarthenshire",32600,110700,36100,5400,null,null,null,"Blaenau Gwent",12200,"(18%)",44000,"(63%)",11900,"(17%)",1500,"(2%)",null,null,null,null,null,null,null,"Bridgend: People aged 55-64",18230,19510,20800,20100,18280]
["Torfaen","Years of life and years of health","Life expectancy at birth, 2013 to 2015","Males","Years",78.222959580189993,77.495901395213195,78.950017765166805,null,"Blaenau Gwent",0,0,null,1200,1.75572299551363,null,16600,23.918670194409302,null,19200,27.650120786839999,null,32500,46.675486023237099,null,null,"Ceredigion",11000,47300,14800,2300,null,null,null,"Torfaen",16900,"(18%)",56900,"(62%)",15500,"(17%)",2300,"(2%)",null,null,null,null,null,null,null,"Bridgend: People aged 65-69",8520,8170,8800,10050,10100]
["Monmouthshire","Years of life and years of health","Life expectancy at birth, 2013 to 2015","Males","Years",80.723492204069103,79.993127617534299,81.453856790603993,null,"Torfaen",10800,11.717627074349901,null,19000,20.709743455725398,null,16000,17.465917505117801,null,23400,25.473670456030298,null,22600,24.6330415087765,null,null,"Pembrokeshire",21600,72600,25700,3800,null,null,null,"Monmouthshire",15600,"(17%)",55500,"(60%)",18500,"(20%)",2800,"(3%)",null,null,null,null,null,null,null,"Bridgend: People aged 70-74",7540,8140,7680,8300,9510]
["Newport","Years of life and years of health","Life expectancy at birth, 2013 to 2015","Males","Years",78.071655516766995,77.534525918873399,78.608785114660606,null,"Monmouthshire",35300,38.168822180890203,null,25200,27.198408235650302,null,21800,23.543405856654701,null,10300,11.0893637268048,null,0,0,null,null,"Powys",21900,77200,29100,4500,null,null,null,"Newport",29300,"(20%)",92100,"(63%)",22200,"(15%)",3200,"(2%)",null,null,null,null,null,null,null,"Bridgend: People aged 75-79",5550,6070,7260,6900,7510]
["Wales","Years of life and years of health","Life expectancy at birth, 2013 to 2015","Females","Years",82.265512507796402,82.152970588241701,82.378054427351202,null,"Newport",37400,25.336843316257099,null,15100,10.2078243745305,null,21200,14.371079184402699,null,27500,18.578321569476699,null,46600,31.505931555332999,null,null,null,null,null,null,null,null,null,null,null,null,null,null,null,null,null,null,null,null,null,null,null,null,null,null,"Bridgend: People aged 80-84",3880,4290,4980,6040,5790]
["Betsi Cadwaladr UHB","Years of life and years of health","Life expectancy at birth, 2013 to 2015","Females","Years",82.468546845252206,82.234654564316202,82.702439126188196,null,"Wales",614700,19.835428897423306,null,628400,20.275332791668252,null,637300,20.562546505647148,null,616300,19.885540446441304,null,602500,19.44115135881999,null,null,null,null,null,null,null,null,null,null,null,null,null,null,null,null,null,null,null,null,null,null,null,null,null,null,"Bridgend: People aged 85 and over",3620,4030,5040,6310,7970]
["Powys THB","Years of life and years of health","Life expectancy at birth, 2013 to 2015","Females","Years",83.520143481262096,82.964701226663394,84.075585735860798,null,null,null,null,null,null,null,null,null,null,null,null,null,null,null,null,null,null,null,null,null,null,null,null,null,null,null,null,null,null,null,null,null,null,null,null,null,null,null,null,null,null,"Bridgend: Total population aged 18 and over",114440,115890,118100,120360,122750]
["Hywel Dda UHB","Years of life and years of health","Life expectancy at birth, 2013 to 2015","Females","Years",82.824022497989006,82.509872989413594,83.138172006564503,null,null,null,null,null,null,null,null,null,null,null,null,null,null,null,null,null,null,null,null,null,null,null,null,null,null,null,null,null,null,null,null,null,null,null,null,null,null,null,null,null,null,"Caerphilly: People aged 18-24",14560,13540,12940,13850,13620]
["ABM UHB","Years of life and years of health","Life expectancy at birth, 2013 to 2015","Females","Years",81.923648050140102,81.656874488685403,82.1904216115948,null,null,null,null,null,null,null,null,null,null,null,null,null,null,null,null,null,null,null,null,null,null,null,null,null,null,null,null,null,null,null,null,null,null,null,null,null,null,null,null,null,null,"Caerphilly: People aged 25-34",23140,23320,22460,20690,20680]
["Cardiff and Vale UHB","Years of life and years of health","Life expectancy at birth, 2013 to 2015","Females","Years",82.860622755936205,82.560967139426594,83.160278372445802,null,null,null,null,null,null,null,null,null,null,null,null,null,null,null,null,null,null,null,null,null,null,null,null,null,null,null,null,null,null,null,null,null,null,null,null,null,null,null,null,null,null,"Caerphilly: People aged 35-44",21730,21930,22990,23330,22490]
["Cwm Taf UHB","Years of life and years of health","Life expectancy at birth, 2013 to 2015","Females","Years",80.619726306969199,80.242258724583294,80.997193889355202,null,null,null,null,null,null,null,null,null,null,null,null,null,null,null,null,null,null,null,null,null,null,null,null,null,null,null,null,null,null,null,null,null,null,null,null,null,null,null,null,null,null,"Caerphilly: People aged 45-54",25870,24510,21800,21450,22510]
["Aneurin Bevan UHB","Years of life and years of health","Life expectancy at birth, 2013 to 2015","Females","Years",81.972762421397704,81.712055189657505,82.233469653137803,null,null,null,null,null,null,null,null,null,null,null,null,null,null,null,null,null,null,null,null,null,null,null,null,null,null,null,null,null,null,null,null,null,null,null,null,null,null,null,null,null,null,"Caerphilly: People aged 55-64",22610,23810,25260,23940,21400]
["Isle of Anglesey","Years of life and years of health","Life expectancy at birth, 2013 to 2015","Females","Years",82.625920482334294,81.894961645058999,83.356879319609504,null,null,null,null,null,null,null,null,null,null,null,null,null,null,null,null,null,null,null,null,null,null,null,null,null,null,null,null,null,null,null,null,null,null,null,null,null,null,null,null,null,null,"Caerphilly: People aged 65-69",10690,9980,10590,11830,12080]
["Gwynedd","Years of life and years of health","Life expectancy at birth, 2013 to 2015","Females","Years",83.667973378920607,83.112166006524703,84.223780751316397,null,null,null,null,null,null,null,null,null,null,null,null,null,null,null,null,null,null,null,null,null,null,null,null,null,null,null,null,null,null,null,null,null,null,null,null,null,null,null,null,null,null,"Caerphilly: People aged 70-74",9120,10090,9190,9800,11000]
["Conwy","Years of life and years of health","Life expectancy at birth, 2013 to 2015","Females","Years",82.542523432767297,81.940038501004494,83.145008364530099,null,null,null,null,null,null,null,null,null,null,null,null,null,null,null,null,null,null,null,null,null,null,null,null,null,null,null,null,null,null,null,null,null,null,null,null,null,null,null,null,null,null,"Caerphilly: People aged 75-79",6530,7140,8810,8090,8700]
["Denbighshire","Years of life and years of health","Life expectancy at birth, 2013 to 2015","Females","Years",81.824766954455797,81.229054426591304,82.420479482320204,null,null,null,null,null,null,null,null,null,null,null,null,null,null,null,null,null,null,null,null,null,null,null,null,null,null,null,null,null,null,null,null,null,null,null,null,null,null,null,null,null,null,"Caerphilly: People aged 80-84",4420,4840,5710,7160,6650]
["Flintshire","Years of life and years of health","Life expectancy at birth, 2013 to 2015","Females","Years",82.444871112201298,81.935340655995603,82.954401568406993,null,null,null,null,null,null,null,null,null,null,null,null,null,null,null,null,null,null,null,null,null,null,null,null,null,null,null,null,null,null,null,null,null,null,null,null,null,null,null,null,null,null,"Caerphilly: People aged 85 and over",3870,4360,5420,6840,8900]
["Wrexham","Years of life and years of health","Life expectancy at birth, 2013 to 2015","Females","Years",81.638306110355302,81.124863990898803,82.151748229811901,null,null,null,null,null,null,null,null,null,null,null,null,null,null,null,null,null,null,null,null,null,null,null,null,null,null,null,null,null,null,null,null,null,null,null,null,null,null,null,null,null,null,"Caerphilly: Total population aged 18 and over",142550,143520,145170,146970,148020]
["Powys","Years of life and years of health","Life expectancy at birth, 2013 to 2015","Females","Years",83.520143481262096,82.964701226663394,84.075585735860798,null,null,null,null,null,null,null,null,null,null,null,null,null,null,null,null,null,null,null,null,null,null,null,null,null,null,null,null,null,null,null,null,null,null,null,null,null,null,null,null,null,null,"Cardiff: People aged 18-24",52940,51590,51280,56310,59070]
["Ceredigion","Years of life and years of health","Life expectancy at birth, 2013 to 2015","Females","Years",83.712188926709203,82.9551898096787,84.469188043739805,null,null,null,null,null,null,null,null,null,null,null,null,null,null,null,null,null,null,null,null,null,null,null,null,null,null,null,null,null,null,null,null,null,null,null,null,null,null,null,null,null,null,"Cardiff: People aged 25-34",64020,66900,69660,66780,69080]
["Pembrokeshire","Years of life and years of health","Life expectancy at birth, 2013 to 2015","Females","Years",83.150400312112495,82.602357975928996,83.698442648295995,null,null,null,null,null,null,null,null,null,null,null,null,null,null,null,null,null,null,null,null,null,null,null,null,null,null,null,null,null,null,null,null,null,null,null,null,null,null,null,null,null,null,"Cardiff: People aged 35-44",46330,49760,55690,61770,64480]
["Carmarthenshire","Years of life and years of health","Life expectancy at birth, 2013 to 2015","Females","Years",82.302823735513201,81.857341622863501,82.7483058481629,null,null,null,null,null,null,null,null,null,null,null,null,null,null,null,null,null,null,null,null,null,null,null,null,null,null,null,null,null,null,null,null,null,null,null,null,null,null,null,null,null,null,"Cardiff: People aged 45-54",43150,42050,42150,46940,52830]
["Swansea","Years of life and years of health","Life expectancy at birth, 2013 to 2015","Females","Years",82.468006634191596,82.076889744420299,82.859123523962893,null,null,null,null,null,null,null,null,null,null,null,null,null,null,null,null,null,null,null,null,null,null,null,null,null,null,null,null,null,null,null,null,null,null,null,null,null,null,null,null,null,null,"Cardiff: People aged 55-64",36930,39240,40770,39440,39650]
["Neath Port Talbot","Years of life and years of health","Life expectancy at birth, 2013 to 2015","Females","Years",81.138004945848294,80.595686601694396,81.680323290002207,null,null,null,null,null,null,null,null,null,null,null,null,null,null,null,null,null,null,null,null,null,null,null,null,null,null,null,null,null,null,null,null,null,null,null,null,null,null,null,null,null,null,"Cardiff: People aged 65-69",15160,15310,17050,19140,18690]
["Bridgend","Years of life and years of health","Life expectancy at birth, 2013 to 2015","Females","Years",81.816991591063797,81.329122767953606,82.304860414174101,null,null,null,null,null,null,null,null,null,null,null,null,null,null,null,null,null,null,null,null,null,null,null,null,null,null,null,null,null,null,null,null,null,null,null,null,null,null,null,null,null,null,"Cardiff: People aged 70-74",12310,13810,14160,15860,17890]
["Vale of Glamorgan","Years of life and years of health","Life expectancy at birth, 2013 to 2015","Females","Years",83.243109813766694,82.679184011938702,83.807035615594799,null,null,null,null,null,null,null,null,null,null,null,null,null,null,null,null,null,null,null,null,null,null,null,null,null,null,null,null,null,null,null,null,null,null,null,null,null,null,null,null,null,null,"Cardiff: People aged 75-79",9050,9670,12260,12660,14290]
["Cardiff","Years of life and years of health","Life expectancy at birth, 2013 to 2015","Females","Years",82.627107529956902,82.268850086510398,82.985364973403406,null,null,null,null,null,null,null,null,null,null,null,null,null,null,null,null,null,null,null,null,null,null,null,null,null,null,null,null,null,null,null,null,null,null,null,null,null,null,null,null,null,null,"Cardiff: People aged 80-84",7180,7370,7980,10240,10700]
["Rhondda Cynon Taf","Years of life and years of health","Life expectancy at birth, 2013 to 2015","Females","Years",80.644280484984094,80.225137854532505,81.063423115435597,null,null,null,null,null,null,null,null,null,null,null,null,null,null,null,null,null,null,null,null,null,null,null,null,null,null,null,null,null,null,null,null,null,null,null,null,null,null,null,null,null,null,"Cardiff: People aged 85 and over",7770,8330,9490,11020,13960]
["Merthyr Tydfil","Years of life and years of health","Life expectancy at birth, 2013 to 2015","Females","Years",80.550689768871294,79.679062276457003,81.422317261285698,null,null,null,null,null,null,null,null,null,null,null,null,null,null,null,null,null,null,null,null,null,null,null,null,null,null,null,null,null,null,null,null,null,null,null,null,null,null,null,null,null,null,"Cardiff: Total population aged 18 and over",294830,304030,320490,340150,360640]
["Caerphilly","Years of life and years of health","Life expectancy at birth, 2013 to 2015","Females","Years",81.151733396521607,80.681819005532503,81.621647787510597,null,null,null,null,null,null,null,null,null,null,null,null,null,null,null,null,null,null,null,null,null,null,null,null,null,null,null,null,null,null,null,null,null,null,null,null,null,null,null,null,null,null,"Carmarthenshire: People aged 18-24",14240,13500,12980,14190,14640]
["Blaenau Gwent","Years of life and years of health","Life expectancy at birth, 2013 to 2015","Females","Years",80.579227259605105,79.841090661645694,81.317363857564501,null,null,null,null,null,null,null,null,null,null,null,null,null,null,null,null,null,null,null,null,null,null,null,null,null,null,null,null,null,null,null,null,null,null,null,null,null,null,null,null,null,null,"Carmarthenshire: People aged 25-34",21970,23050,22540,20930,21050]
["Torfaen","Years of life and years of health","Life expectancy at birth, 2013 to 2015","Females","Years",81.964322486197901,81.282486009279907,82.646158963115894,null,null,null,null,null,null,null,null,null,null,null,null,null,null,null,null,null,null,null,null,null,null,null,null,null,null,null,null,null,null,null,null,null,null,null,null,null,null,null,null,null,null,"Carmarthenshire: People aged 35-44",20160,20290,22760,24850,24350]
["Monmouthshire","Years of life and years of health","Life expectancy at birth, 2013 to 2015","Females","Years",84.086453933156207,83.458609872860805,84.714297993451495,null,null,null,null,null,null,null,null,null,null,null,null,null,null,null,null,null,null,null,null,null,null,null,null,null,null,null,null,null,null,null,null,null,null,null,null,null,null,null,null,null,null,"Carmarthenshire: People aged 45-54",26130,24510,22160,21830,24310]
["Newport","Years of life and years of health","Life expectancy at birth, 2013 to 2015","Females","Years",82.285635745008406,81.773778928838993,82.797492561177805,null,null,null,null,null,null,null,null,null,null,null,null,null,null,null,null,null,null,null,null,null,null,null,null,null,null,null,null,null,null,null,null,null,null,null,null,null,null,null,null,null,null,"Carmarthenshire: People aged 55-64",25550,26720,27450,25650,23430]
["Wales","Years of life and years of health","Healthy life expectancy at birth, 2010 to 2014","Males","Years",65.251177237928502,64.994068718507506,65.508285757349498,null,null,null,null,null,null,null,null,null,null,null,null,null,null,null,null,null,null,null,null,null,null,null,null,null,null,null,null,null,null,null,null,null,null,null,null,null,null,null,null,null,null,"Carmarthenshire: People aged 65-69",12460,11990,12520,13790,13330]
["Betsi Cadwaladr UHB","Years of life and years of health","Healthy life expectancy at birth, 2010 to 2014","Males","Years",67.569652577722096,67.1089771904673,68.030327964976806,null,null,null,null,null,null,null,null,null,null,null,null,null,null,null,null,null,null,null,null,null,null,null,null,null,null,null,null,null,null,null,null,null,null,null,null,null,null,null,null,null,null,"Carmarthenshire: People aged 70-74",11470,12180,11310,11860,13110]
["Powys THB","Years of life and years of health","Healthy life expectancy at birth, 2010 to 2014","Males","Years",68.172857711533595,66.947679149231703,69.398036273835601,null,null,null,null,null,null,null,null,null,null,null,null,null,null,null,null,null,null,null,null,null,null,null,null,null,null,null,null,null,null,null,null,null,null,null,null,null,null,null,null,null,null,"Carmarthenshire: People aged 75-79",8070,9210,10930,10230,10800]
["Hywel Dda UHB","Years of life and years of health","Healthy life expectancy at birth, 2010 to 2014","Males","Years",66.185000775231003,65.492381329391804,66.877620221070103,null,null,null,null,null,null,null,null,null,null,null,null,null,null,null,null,null,null,null,null,null,null,null,null,null,null,null,null,null,null,null,null,null,null,null,null,null,null,null,null,null,null,"Carmarthenshire: People aged 80-84",5970,6300,7660,9200,8700]
["ABM UHB","Years of life and years of health","Healthy life expectancy at birth, 2010 to 2014","Males","Years",63.945200565291202,63.295130871445302,64.595270259136996,null,null,null,null,null,null,null,null,null,null,null,null,null,null,null,null,null,null,null,null,null,null,null,null,null,null,null,null,null,null,null,null,null,null,null,null,null,null,null,null,null,null,"Carmarthenshire: People aged 85 and over",5880,6430,7650,9630,12160]
["Cardiff and Vale UHB","Years of life and years of health","Healthy life expectancy at birth, 2010 to 2014","Males","Years",65.712410345892806,64.964071165524402,66.460749526261296,null,null,null,null,null,null,null,null,null,null,null,null,null,null,null,null,null,null,null,null,null,null,null,null,null,null,null,null,null,null,null,null,null,null,null,null,null,null,null,null,null,null,"Carmarthenshire: Total population aged 18 and over",151900,154170,157960,162150,165900]
["Cwm Taf UHB","Years of life and years of health","Healthy life expectancy at birth, 2010 to 2014","Males","Years",61.186659488599503,60.381524808744103,61.991794168454803,null,null,null,null,null,null,null,null,null,null,null,null,null,null,null,null,null,null,null,null,null,null,null,null,null,null,null,null,null,null,null,null,null,null,null,null,null,null,null,null,null,null,"Ceredigion: People aged 18-24",12180,11740,11590,11800,11980]
["Aneurin Bevan UHB","Years of life and years of health","Healthy life expectancy at birth, 2010 to 2014","Males","Years",63.815441416326301,63.269644089623803,64.361238743028906,null,null,null,null,null,null,null,null,null,null,null,null,null,null,null,null,null,null,null,null,null,null,null,null,null,null,null,null,null,null,null,null,null,null,null,null,null,null,null,null,null,null,"Ceredigion: People aged 25-34",7640,8550,9320,8340,8220]
["Isle of Anglesey","Years of life and years of health","Healthy life expectancy at birth, 2010 to 2014","Males","Years",67.7329276810121,66.576009923447003,68.889845438577098,null,null,null,null,null,null,null,null,null,null,null,null,null,null,null,null,null,null,null,null,null,null,null,null,null,null,null,null,null,null,null,null,null,null,null,null,null,null,null,null,null,null,"Ceredigion: People aged 35-44",6670,6400,6310,7960,8740]
["Gwynedd","Years of life and years of health","Healthy life expectancy at birth, 2010 to 2014","Males","Years",68.157960992029601,67.007290358778903,69.308631625280199,null,null,null,null,null,null,null,null,null,null,null,null,null,null,null,null,null,null,null,null,null,null,null,null,null,null,null,null,null,null,null,null,null,null,null,null,null,null,null,null,null,null,"Ceredigion: People aged 45-54",9110,8260,7210,6630,6540]
["Conwy","Years of life and years of health","Healthy life expectancy at birth, 2010 to 2014","Males","Years",67.295735922105706,66.131539314445803,68.459932529765695,null,null,null,null,null,null,null,null,null,null,null,null,null,null,null,null,null,null,null,null,null,null,null,null,null,null,null,null,null,null,null,null,null,null,null,null,null,null,null,null,null,null,"Ceredigion: People aged 55-64",9830,9980,9770,8770,7770]
["Denbighshire","Years of life and years of health","Healthy life expectancy at birth, 2010 to 2014","Males","Years",67.492961585516497,66.431469752249498,68.554453418783396,null,null,null,null,null,null,null,null,null,null,null,null,null,null,null,null,null,null,null,null,null,null,null,null,null,null,null,null,null,null,null,null,null,null,null,null,null,null,null,null,null,null,"Ceredigion: People aged 65-69",5110,4770,4840,4980,4680]
["Flintshire","Years of life and years of health","Healthy life expectancy at birth, 2010 to 2014","Males","Years",67.721337871669107,66.627739772052905,68.814935971285294,null,null,null,null,null,null,null,null,null,null,null,null,null,null,null,null,null,null,null,null,null,null,null,null,null,null,null,null,null,null,null,null,null,null,null,null,null,null,null,null,null,null,"Ceredigion: People aged 70-74",4780,5040,4440,4520,4680]
["Wrexham","Years of life and years of health","Healthy life expectancy at birth, 2010 to 2014","Males","Years",66.810441143271504,65.672095975597003,67.948786310946105,null,null,null,null,null,null,null,null,null,null,null,null,null,null,null,null,null,null,null,null,null,null,null,null,null,null,null,null,null,null,null,null,null,null,null,null,null,null,null,null,null,null,"Ceredigion: People aged 75-79",3290,3750,4520,4010,4110]
["Powys","Years of life and years of health","Healthy life expectancy at birth, 2010 to 2014","Males","Years",68.172857711533595,66.947679149231703,69.398036273835601,null,null,null,null,null,null,null,null,null,null,null,null,null,null,null,null,null,null,null,null,null,null,null,null,null,null,null,null,null,null,null,null,null,null,null,null,null,null,null,null,null,null,"Ceredigion: People aged 80-84",2440,2660,3160,3850,3450]
["Ceredigion","Years of life and years of health","Healthy life expectancy at birth, 2010 to 2014","Males","Years",67.864230236166406,66.688320519700198,69.0401399526326,null,null,null,null,null,null,null,null,null,null,null,null,null,null,null,null,null,null,null,null,null,null,null,null,null,null,null,null,null,null,null,null,null,null,null,null,null,null,null,null,null,null,"Ceredigion: People aged 85 and over",2460,2700,3280,4120,5230]
["Pembrokeshire","Years of life and years of health","Healthy life expectancy at birth, 2010 to 2014","Males","Years",66.855493549082993,65.579098731402297,68.131888366763604,null,null,null,null,null,null,null,null,null,null,null,null,null,null,null,null,null,null,null,null,null,null,null,null,null,null,null,null,null,null,null,null,null,null,null,null,null,null,null,null,null,null,"Ceredigion: Total population aged 18 and over",63520,63850,64430,64990,65410]
["Carmarthenshire","Years of life and years of health","Healthy life expectancy at birth, 2010 to 2014","Males","Years",65.005426995289596,63.821781860672203,66.189072129907004,null,null,null,null,null,null,null,null,null,null,null,null,null,null,null,null,null,null,null,null,null,null,null,null,null,null,null,null,null,null,null,null,null,null,null,null,null,null,null,null,null,null,"Conwy: People aged 18-24",7280,6610,6040,6750,6920]
["Swansea","Years of life and years of health","Healthy life expectancy at birth, 2010 to 2014","Males","Years",65.496199032119407,64.476922276391306,66.515475787847507,null,null,null,null,null,null,null,null,null,null,null,null,null,null,null,null,null,null,null,null,null,null,null,null,null,null,null,null,null,null,null,null,null,null,null,null,null,null,null,null,null,null,"Conwy: People aged 25-34",11790,11990,11080,9620,9450]
["Neath Port Talbot","Years of life and years of health","Healthy life expectancy at birth, 2010 to 2014","Males","Years",61.887857414649702,60.705777647951003,63.069937181348401,null,null,null,null,null,null,null,null,null,null,null,null,null,null,null,null,null,null,null,null,null,null,null,null,null,null,null,null,null,null,null,null,null,null,null,null,null,null,null,null,null,null,"Conwy: People aged 35-44",11490,11460,12400,12820,11920]
["Bridgend","Years of life and years of health","Healthy life expectancy at birth, 2010 to 2014","Males","Years",63.429316058267197,62.2323917831337,64.626240333400801,null,null,null,null,null,null,null,null,null,null,null,null,null,null,null,null,null,null,null,null,null,null,null,null,null,null,null,null,null,null,null,null,null,null,null,null,null,null,null,null,null,null,"Conwy: People aged 45-54",16310,14850,12930,12320,13280]
["Vale of Glamorgan","Years of life and years of health","Healthy life expectancy at birth, 2010 to 2014","Males","Years",66.628233756653103,65.369125380251106,67.8873421330551,null,null,null,null,null,null,null,null,null,null,null,null,null,null,null,null,null,null,null,null,null,null,null,null,null,null,null,null,null,null,null,null,null,null,null,null,null,null,null,null,null,null,"Conwy: People aged 55-64",16050,16990,17370,15960,14140]
["Cardiff","Years of life and years of health","Healthy life expectancy at birth, 2010 to 2014","Males","Years",65.321167371750505,64.369944112876198,66.272390630624798,null,null,null,null,null,null,null,null,null,null,null,null,null,null,null,null,null,null,null,null,null,null,null,null,null,null,null,null,null,null,null,null,null,null,null,null,null,null,null,null,null,null,"Conwy: People aged 65-69",8350,7850,8340,9180,8760]
["Rhondda Cynon Taf","Years of life and years of health","Healthy life expectancy at birth, 2010 to 2014","Males","Years",61.220139740031101,60.1599089898057,62.280370490256601,null,null,null,null,null,null,null,null,null,null,null,null,null,null,null,null,null,null,null,null,null,null,null,null,null,null,null,null,null,null,null,null,null,null,null,null,null,null,null,null,null,null,"Conwy: People aged 70-74",7770,8340,7500,8000,8830]
["Merthyr Tydfil","Years of life and years of health","Healthy life expectancy at birth, 2010 to 2014","Males","Years",61.065932537075398,59.818679973813303,62.313185100337499,null,null,null,null,null,null,null,null,null,null,null,null,null,null,null,null,null,null,null,null,null,null,null,null,null,null,null,null,null,null,null,null,null,null,null,null,null,null,null,null,null,null,"Conwy: People aged 75-79",5880,6420,7620,6910,7410]
["Caerphilly","Years of life and years of health","Healthy life expectancy at birth, 2010 to 2014","Males","Years",61.535865486879104,60.3236797181927,62.748051255565599,null,null,null,null,null,null,null,null,null,null,null,null,null,null,null,null,null,null,null,null,null,null,null,null,null,null,null,null,null,null,null,null,null,null,null,null,null,null,null,null,null,null,"Conwy: People aged 80-84",4630,4800,5440,6530,5980]
["Blaenau Gwent","Years of life and years of health","Healthy life expectancy at birth, 2010 to 2014","Males","Years",59.643934124662401,58.4178098088273,60.870058440497502,null,null,null,null,null,null,null,null,null,null,null,null,null,null,null,null,null,null,null,null,null,null,null,null,null,null,null,null,null,null,null,null,null,null,null,null,null,null,null,null,null,null,"Conwy: People aged 85 and over",4980,5390,6270,7510,9280]
["Torfaen","Years of life and years of health","Healthy life expectancy at birth, 2010 to 2014","Males","Years",63.085652243824498,61.815789390760003,64.355515096888894,null,null,null,null,null,null,null,null,null,null,null,null,null,null,null,null,null,null,null,null,null,null,null,null,null,null,null,null,null,null,null,null,null,null,null,null,null,null,null,null,null,null,"Conwy: Total population aged 18 and over",94520,94690,95000,95590,95970]
["Monmouthshire","Years of life and years of health","Healthy life expectancy at birth, 2010 to 2014","Males","Years",69.825962681271506,68.678394445290294,70.973530917252603,null,null,null,null,null,null,null,null,null,null,null,null,null,null,null,null,null,null,null,null,null,null,null,null,null,null,null,null,null,null,null,null,null,null,null,null,null,null,null,null,null,null,"Denbighshire: People aged 18-24",7200,6510,6100,6830,7190]
["Newport","Years of life and years of health","Healthy life expectancy at birth, 2010 to 2014","Males","Years",65.446761897125796,64.279023463187897,66.614500331063695,null,null,null,null,null,null,null,null,null,null,null,null,null,null,null,null,null,null,null,null,null,null,null,null,null,null,null,null,null,null,null,null,null,null,null,null,null,null,null,null,null,null,"Denbighshire: People aged 25-34",10600,11350,10980,9830,9800]
["Wales","Years of life and years of health","Healthy life expectancy at birth, 2010 to 2014","Females","Years",66.717144517837099,66.448366200693002,66.985922834981295,null,null,null,null,null,null,null,null,null,null,null,null,null,null,null,null,null,null,null,null,null,null,null,null,null,null,null,null,null,null,null,null,null,null,null,null,null,null,null,null,null,null,"Denbighshire: People aged 35-44",9870,9660,10700,12090,11720]
["Betsi Cadwaladr UHB","Years of life and years of health","Healthy life expectancy at birth, 2010 to 2014","Females","Years",69.216218010045097,68.729392448479103,69.703043571611104,null,null,null,null,null,null,null,null,null,null,null,null,null,null,null,null,null,null,null,null,null,null,null,null,null,null,null,null,null,null,null,null,null,null,null,null,null,null,null,null,null,null,"Denbighshire: People aged 45-54",13590,12710,11230,10430,11470]
["Powys THB","Years of life and years of health","Healthy life expectancy at birth, 2010 to 2014","Females","Years",68.682625252668501,67.408126586079604,69.957123919257299,null,null,null,null,null,null,null,null,null,null,null,null,null,null,null,null,null,null,null,null,null,null,null,null,null,null,null,null,null,null,null,null,null,null,null,null,null,null,null,null,null,null,"Denbighshire: People aged 55-64",12700,13530,14290,13350,11950]
["Hywel Dda UHB","Years of life and years of health","Healthy life expectancy at birth, 2010 to 2014","Females","Years",67.635457427326699,66.913911075530194,68.357003779123104,null,null,null,null,null,null,null,null,null,null,null,null,null,null,null,null,null,null,null,null,null,null,null,null,null,null,null,null,null,null,null,null,null,null,null,null,null,null,null,null,null,null,"Denbighshire: People aged 65-69",6700,6120,6300,7300,7090]
["ABM UHB","Years of life and years of health","Healthy life expectancy at birth, 2010 to 2014","Females","Years",64.955076623402405,64.257969758304895,65.6521834885,null,null,null,null,null,null,null,null,null,null,null,null,null,null,null,null,null,null,null,null,null,null,null,null,null,null,null,null,null,null,null,null,null,null,null,null,null,null,null,null,null,null,"Denbighshire: People aged 70-74",5990,6530,5770,5970,6930]
["Cardiff and Vale UHB","Years of life and years of health","Healthy life expectancy at birth, 2010 to 2014","Females","Years",67.618959669652,66.827760456312404,68.410158882991496,null,null,null,null,null,null,null,null,null,null,null,null,null,null,null,null,null,null,null,null,null,null,null,null,null,null,null,null,null,null,null,null,null,null,null,null,null,null,null,null,null,null,"Denbighshire: People aged 75-79",4180,4710,5790,5160,5380]
["Cwm Taf UHB","Years of life and years of health","Healthy life expectancy at birth, 2010 to 2014","Females","Years",62.632552512874,61.779568911556197,63.485536114191902,null,null,null,null,null,null,null,null,null,null,null,null,null,null,null,null,null,null,null,null,null,null,null,null,null,null,null,null,null,null,null,null,null,null,null,null,null,null,null,null,null,null,"Denbighshire: People aged 80-84",3040,3300,3900,4860,4370]
["Aneurin Bevan UHB","Years of life and years of health","Healthy life expectancy at birth, 2010 to 2014","Females","Years",65.272972014946603,64.704474969627299,65.841469060265993,null,null,null,null,null,null,null,null,null,null,null,null,null,null,null,null,null,null,null,null,null,null,null,null,null,null,null,null,null,null,null,null,null,null,null,null,null,null,null,null,null,null,"Denbighshire: People aged 85 and over",2980,3230,3930,4920,6330]
["Isle of Anglesey","Years of life and years of health","Healthy life expectancy at birth, 2010 to 2014","Females","Years",70.917290703557001,69.723906153458202,72.110675253655799,null,null,null,null,null,null,null,null,null,null,null,null,null,null,null,null,null,null,null,null,null,null,null,null,null,null,null,null,null,null,null,null,null,null,null,null,null,null,null,null,null,null,"Denbighshire: Total population aged 18 and over",76850,77650,78990,80730,82230]
["Gwynedd","Years of life and years of health","Healthy life expectancy at birth, 2010 to 2014","Females","Years",71.108181746420897,69.937982733078996,72.278380759762896,null,null,null,null,null,null,null,null,null,null,null,null,null,null,null,null,null,null,null,null,null,null,null,null,null,null,null,null,null,null,null,null,null,null,null,null,null,null,null,null,null,null,"Flintshire: People aged 18-24",11160,10200,9730,10750,10390]
["Conwy","Years of life and years of health","Healthy life expectancy at birth, 2010 to 2014","Females","Years",69.099080741698401,67.905915510698804,70.292245972697998,null,null,null,null,null,null,null,null,null,null,null,null,null,null,null,null,null,null,null,null,null,null,null,null,null,null,null,null,null,null,null,null,null,null,null,null,null,null,null,null,null,null,"Flintshire: People aged 25-34",18870,19300,17980,16050,16260]
["Denbighshire","Years of life and years of health","Healthy life expectancy at birth, 2010 to 2014","Females","Years",67.664147575000996,66.485170942741902,68.843124207260104,null,null,null,null,null,null,null,null,null,null,null,null,null,null,null,null,null,null,null,null,null,null,null,null,null,null,null,null,null,null,null,null,null,null,null,null,null,null,null,null,null,null,"Flintshire: People aged 35-44",17860,17530,18970,19970,18670]
["Flintshire","Years of life and years of health","Healthy life expectancy at birth, 2010 to 2014","Females","Years",68.869451432879202,67.678609353848003,70.060293511910402,null,null,null,null,null,null,null,null,null,null,null,null,null,null,null,null,null,null,null,null,null,null,null,null,null,null,null,null,null,null,null,null,null,null,null,null,null,null,null,null,null,null,"Flintshire: People aged 45-54",22820,21290,18410,17250,18690]
["Wrexham","Years of life and years of health","Healthy life expectancy at birth, 2010 to 2014","Females","Years",67.849483090139998,66.661511101441306,69.037455078838605,null,null,null,null,null,null,null,null,null,null,null,null,null,null,null,null,null,null,null,null,null,null,null,null,null,null,null,null,null,null,null,null,null,null,null,null,null,null,null,null,null,null,"Flintshire: People aged 55-64",19500,20800,22200,20690,17940]
["Powys","Years of life and years of health","Healthy life expectancy at birth, 2010 to 2014","Females","Years",68.682625252668501,67.408126586079703,69.957123919257299,null,null,null,null,null,null,null,null,null,null,null,null,null,null,null,null,null,null,null,null,null,null,null,null,null,null,null,null,null,null,null,null,null,null,null,null,null,null,null,null,null,null,"Flintshire: People aged 65-69",9810,8980,9060,10660,10480]
["Ceredigion","Years of life and years of health","Healthy life expectancy at birth, 2010 to 2014","Females","Years",69.711212535215793,68.450018193972198,70.972406876459402,null,null,null,null,null,null,null,null,null,null,null,null,null,null,null,null,null,null,null,null,null,null,null,null,null,null,null,null,null,null,null,null,null,null,null,null,null,null,null,null,null,null,"Flintshire: People aged 70-74",8690,9530,8310,8430,9980]
["Pembrokeshire","Years of life and years of health","Healthy life expectancy at birth, 2010 to 2014","Females","Years",69.046885034392204,67.7955980006397,70.298172068144694,null,null,null,null,null,null,null,null,null,null,null,null,null,null,null,null,null,null,null,null,null,null,null,null,null,null,null,null,null,null,null,null,null,null,null,null,null,null,null,null,null,null,"Flintshire: People aged 75-79",6070,6690,8500,7460,7630]
["Carmarthenshire","Years of life and years of health","Healthy life expectancy at birth, 2010 to 2014","Females","Years",65.957055835917103,64.726410420444196,67.187701251389896,null,null,null,null,null,null,null,null,null,null,null,null,null,null,null,null,null,null,null,null,null,null,null,null,null,null,null,null,null,null,null,null,null,null,null,null,null,null,null,null,null,null,"Flintshire: People aged 80-84",4080,4700,5510,7110,6310]
["Swansea","Years of life and years of health","Healthy life expectancy at birth, 2010 to 2014","Females","Years",66.822789610821104,65.714716407006705,67.930862814635503,null,null,null,null,null,null,null,null,null,null,null,null,null,null,null,null,null,null,null,null,null,null,null,null,null,null,null,null,null,null,null,null,null,null,null,null,null,null,null,null,null,null,"Flintshire: People aged 85 and over",3970,4460,5810,7440,9840]
["Neath Port Talbot","Years of life and years of health","Healthy life expectancy at birth, 2010 to 2014","Females","Years",62.422151667302998,61.134416427923597,63.709886906682399,null,null,null,null,null,null,null,null,null,null,null,null,null,null,null,null,null,null,null,null,null,null,null,null,null,null,null,null,null,null,null,null,null,null,null,null,null,null,null,null,null,null,"Flintshire: Total population aged 18 and over",122840,123470,124480,125810,126180]
["Bridgend","Years of life and years of health","Healthy life expectancy at birth, 2010 to 2014","Females","Years",64.309392986560994,63.064999353465602,65.553786619656506,null,null,null,null,null,null,null,null,null,null,null,null,null,null,null,null,null,null,null,null,null,null,null,null,null,null,null,null,null,null,null,null,null,null,null,null,null,null,null,null,null,null,"Gwynedd: People aged 18-24",14760,14370,14070,14430,13820]
["Vale of Glamorgan","Years of life and years of health","Healthy life expectancy at birth, 2010 to 2014","Females","Years",68.712124053355396,67.460479585156307,69.963768521554499,null,null,null,null,null,null,null,null,null,null,null,null,null,null,null,null,null,null,null,null,null,null,null,null,null,null,null,null,null,null,null,null,null,null,null,null,null,null,null,null,null,null,"Gwynedd: People aged 25-34",14660,16500,18110,17110,17210]
["Cardiff","Years of life and years of health","Healthy life expectancy at birth, 2010 to 2014","Females","Years",67.067630768689298,66.036194987422903,68.099066549955694,null,null,null,null,null,null,null,null,null,null,null,null,null,null,null,null,null,null,null,null,null,null,null,null,null,null,null,null,null,null,null,null,null,null,null,null,null,null,null,null,null,null,"Gwynedd: People aged 35-44",12320,11870,12960,15940,17550]
["Rhondda Cynon Taf","Years of life and years of health","Healthy life expectancy at birth, 2010 to 2014","Females","Years",62.936915529800203,61.795176345619197,64.078654713981194,null,null,null,null,null,null,null,null,null,null,null,null,null,null,null,null,null,null,null,null,null,null,null,null,null,null,null,null,null,null,null,null,null,null,null,null,null,null,null,null,null,null,"Gwynedd: People aged 45-54",15830,14820,12680,11750,12840]
["Merthyr Tydfil","Years of life and years of health","Healthy life expectancy at birth, 2010 to 2014","Females","Years",61.470371375796802,60.197372762101502,62.743369989492102,null,null,null,null,null,null,null,null,null,null,null,null,null,null,null,null,null,null,null,null,null,null,null,null,null,null,null,null,null,null,null,null,null,null,null,null,null,null,null,null,null,null,"Gwynedd: People aged 55-64",15300,15930,16220,15020,12980]
["Caerphilly","Years of life and years of health","Healthy life expectancy at birth, 2010 to 2014","Females","Years",63.705104120473301,62.517714739389902,64.8924935015567,null,null,null,null,null,null,null,null,null,null,null,null,null,null,null,null,null,null,null,null,null,null,null,null,null,null,null,null,null,null,null,null,null,null,null,null,null,null,null,null,null,null,"Gwynedd: People aged 65-69",7560,6870,7280,7830,7630]
["Blaenau Gwent","Years of life and years of health","Healthy life expectancy at birth, 2010 to 2014","Females","Years",59.312790459915099,57.979450485277802,60.646130434552298,null,null,null,null,null,null,null,null,null,null,null,null,null,null,null,null,null,null,null,null,null,null,null,null,null,null,null,null,null,null,null,null,null,null,null,null,null,null,null,null,null,null,"Gwynedd: People aged 70-74",7210,7450,6280,6690,7240]
["Torfaen","Years of life and years of health","Healthy life expectancy at birth, 2010 to 2014","Females","Years",64.371463044857407,63.039935067720599,65.702991021994094,null,null,null,null,null,null,null,null,null,null,null,null,null,null,null,null,null,null,null,null,null,null,null,null,null,null,null,null,null,null,null,null,null,null,null,null,null,null,null,null,null,null,"Gwynedd: People aged 75-79",5060,5700,6580,5580,6000]
["Monmouthshire","Years of life and years of health","Healthy life expectancy at birth, 2010 to 2014","Females","Years",70.733515617830903,69.469736356832797,71.997294878829095,null,null,null,null,null,null,null,null,null,null,null,null,null,null,null,null,null,null,null,null,null,null,null,null,null,null,null,null,null,null,null,null,null,null,null,null,null,null,null,null,null,null,"Gwynedd: People aged 80-84",3830,3980,4760,5550,4760]
["Newport","Years of life and years of health","Healthy life expectancy at birth, 2010 to 2014","Females","Years",67.189324725359995,65.958957896794402,68.419691553925603,null,null,null,null,null,null,null,null,null,null,null,null,null,null,null,null,null,null,null,null,null,null,null,null,null,null,null,null,null,null,null,null,null,null,null,null,null,null,null,null,null,null,"Gwynedd: People aged 85 and over",4110,4420,5030,6150,7560]
["Wales","A fair chance for health","Gap in life expectancy at birth between the most and least deprived fifth, 2013 to 2015","Males","Years",8.9803499999999996,6.7187900000000003,11.241910000000001,null,null,null,null,null,null,null,null,null,null,null,null,null,null,null,null,null,null,null,null,null,null,null,null,null,null,null,null,null,null,null,null,null,null,null,null,null,null,null,null,null,null,"Gwynedd: Total population aged 18 and over",100650,101910,103960,106050,107570]
["Betsi Cadwaladr UHB","A fair chance for health","Gap in life expectancy at birth between the most and least deprived fifth, 2013 to 2015","Males","Years",8.7729379999999999,2.9619529999999998,14.583920000000001,null,null,null,null,null,null,null,null,null,null,null,null,null,null,null,null,null,null,null,null,null,null,null,null,null,null,null,null,null,null,null,null,null,null,null,null,null,null,null,null,null,null,"Isle of Anglesey: People aged 18-24",4400,4050,3790,4460,4690]
["Powys THB","A fair chance for health","Gap in life expectancy at birth between the most and least deprived fifth, 2013 to 2015","Males","Years",5.1600809999999999,0.49248209999999998,9.8276810000000001,null,null,null,null,null,null,null,null,null,null,null,null,null,null,null,null,null,null,null,null,null,null,null,null,null,null,null,null,null,null,null,null,null,null,null,null,null,null,null,null,null,null,"Isle of Anglesey: People aged 25-34",7830,7730,6930,6080,6170]
["Hywel Dda UHB","A fair chance for health","Gap in life expectancy at birth between the most and least deprived fifth, 2013 to 2015","Males","Years",4.8713870000000004,-0.75825450000000005,10.50103,null,null,null,null,null,null,null,null,null,null,null,null,null,null,null,null,null,null,null,null,null,null,null,null,null,null,null,null,null,null,null,null,null,null,null,null,null,null,null,null,null,null,"Isle of Anglesey: People aged 35-44",7260,7210,7740,7740,6940]
["ABM UHB","A fair chance for health","Gap in life expectancy at birth between the most and least deprived fifth, 2013 to 2015","Males","Years",9.6274099999999994,8.2049509999999994,11.04987,null,null,null,null,null,null,null,null,null,null,null,null,null,null,null,null,null,null,null,null,null,null,null,null,null,null,null,null,null,null,null,null,null,null,null,null,null,null,null,null,null,null,"Isle of Anglesey: People aged 45-54",9380,8760,7690,7300,7840]
["Cardiff and Vale UHB","A fair chance for health","Gap in life expectancy at birth between the most and least deprived fifth, 2013 to 2015","Males","Years",10.61214,8.7416549999999997,12.482620000000001,null,null,null,null,null,null,null,null,null,null,null,null,null,null,null,null,null,null,null,null,null,null,null,null,null,null,null,null,null,null,null,null,null,null,null,null,null,null,null,null,null,null,"Isle of Anglesey: People aged 55-64",9630,9830,9740,9130,8110]
["Cwm Taf UHB","A fair chance for health","Gap in life expectancy at birth between the most and least deprived fifth, 2013 to 2015","Males","Years",7.5326199999999996,5.4283169999999998,9.6369220000000002,null,null,null,null,null,null,null,null,null,null,null,null,null,null,null,null,null,null,null,null,null,null,null,null,null,null,null,null,null,null,null,null,null,null,null,null,null,null,null,null,null,null,"Isle of Anglesey: People aged 65-69",5010,4650,4830,4920,4790]
["Aneurin Bevan UHB","A fair chance for health","Gap in life expectancy at birth between the most and least deprived fifth, 2013 to 2015","Males","Years",8.4991830000000004,5.3623979999999998,11.63597,null,null,null,null,null,null,null,null,null,null,null,null,null,null,null,null,null,null,null,null,null,null,null,null,null,null,null,null,null,null,null,null,null,null,null,null,null,null,null,null,null,null,"Isle of Anglesey: People aged 70-74",4780,4940,4350,4540,4640]
["Isle of Anglesey","A fair chance for health","Gap in life expectancy at birth between the most and least deprived fifth, 2013 to 2015","Males","Years",7.225047,5.9672890000000001,8.4828039999999998,null,null,null,null,null,null,null,null,null,null,null,null,null,null,null,null,null,null,null,null,null,null,null,null,null,null,null,null,null,null,null,null,null,null,null,null,null,null,null,null,null,null,"Isle of Anglesey: People aged 75-79",3370,3770,4390,3900,4100]
["Gwynedd","A fair chance for health","Gap in life expectancy at birth between the most and least deprived fifth, 2013 to 2015","Males","Years",3.4185409999999998,-1.230434,8.0675150000000002,null,null,null,null,null,null,null,null,null,null,null,null,null,null,null,null,null,null,null,null,null,null,null,null,null,null,null,null,null,null,null,null,null,null,null,null,null,null,null,null,null,null,"Isle of Anglesey: People aged 80-84",2370,2660,3120,3690,3300]
["Conwy","A fair chance for health","Gap in life expectancy at birth between the most and least deprived fifth, 2013 to 2015","Males","Years",9.6763410000000007,1.7455400000000001,17.607140000000001,null,null,null,null,null,null,null,null,null,null,null,null,null,null,null,null,null,null,null,null,null,null,null,null,null,null,null,null,null,null,null,null,null,null,null,null,null,null,null,null,null,null,"Isle of Anglesey: People aged 85 and over",2400,2640,3280,4130,5170]
["Denbighshire","A fair chance for health","Gap in life expectancy at birth between the most and least deprived fifth, 2013 to 2015","Males","Years",12.135109999999999,1.8347830000000001,22.43543,null,null,null,null,null,null,null,null,null,null,null,null,null,null,null,null,null,null,null,null,null,null,null,null,null,null,null,null,null,null,null,null,null,null,null,null,null,null,null,null,null,null,"Isle of Anglesey: Total population aged 18 and over",56430,56230,55860,55880,55750]
["Flintshire","A fair chance for health","Gap in life expectancy at birth between the most and least deprived fifth, 2013 to 2015","Males","Years",9.795579,4.2296599999999997E-2,19.548860000000001,null,null,null,null,null,null,null,null,null,null,null,null,null,null,null,null,null,null,null,null,null,null,null,null,null,null,null,null,null,null,null,null,null,null,null,null,null,null,null,null,null,null,"Merthyr Tydfil: People aged 18-24",4850,4380,4020,4510,4710]
["Wrexham","A fair chance for health","Gap in life expectancy at birth between the most and least deprived fifth, 2013 to 2015","Males","Years",8.2291070000000008,6.6231580000000001,9.8350559999999998,null,null,null,null,null,null,null,null,null,null,null,null,null,null,null,null,null,null,null,null,null,null,null,null,null,null,null,null,null,null,null,null,null,null,null,null,null,null,null,null,null,null,"Merthyr Tydfil: People aged 25-34",8750,8760,8070,7110,7010]
["Powys","A fair chance for health","Gap in life expectancy at birth between the most and least deprived fifth, 2013 to 2015","Males","Years",5.1600809999999999,0.49248209999999998,9.8276810000000001,null,null,null,null,null,null,null,null,null,null,null,null,null,null,null,null,null,null,null,null,null,null,null,null,null,null,null,null,null,null,null,null,null,null,null,null,null,null,null,null,null,null,"Merthyr Tydfil: People aged 35-44",6880,7480,8740,8900,8220]
["Ceredigion","A fair chance for health","Gap in life expectancy at birth between the most and least deprived fifth, 2013 to 2015","Males","Years",1.2176990000000001,-4.6737120000000001,7.1091100000000003,null,null,null,null,null,null,null,null,null,null,null,null,null,null,null,null,null,null,null,null,null,null,null,null,null,null,null,null,null,null,null,null,null,null,null,null,null,null,null,null,null,null,"Merthyr Tydfil: People aged 45-54",8480,7850,6910,7510,8760]
["Pembrokeshire","A fair chance for health","Gap in life expectancy at birth between the most and least deprived fifth, 2013 to 2015","Males","Years",4.6658480000000004,-0.43981160000000002,9.7715080000000007,null,null,null,null,null,null,null,null,null,null,null,null,null,null,null,null,null,null,null,null,null,null,null,null,null,null,null,null,null,null,null,null,null,null,null,null,null,null,null,null,null,null,"Merthyr Tydfil: People aged 55-64",7610,8070,8390,7670,6790]
["Carmarthenshire","A fair chance for health","Gap in life expectancy at birth between the most and least deprived fifth, 2013 to 2015","Males","Years",6.3319140000000003,2.6459619999999999,10.01787,null,null,null,null,null,null,null,null,null,null,null,null,null,null,null,null,null,null,null,null,null,null,null,null,null,null,null,null,null,null,null,null,null,null,null,null,null,null,null,null,null,null,"Merthyr Tydfil: People aged 65-69",3470,3260,3570,3980,3910]
["Swansea","A fair chance for health","Gap in life expectancy at birth between the most and least deprived fifth, 2013 to 2015","Males","Years",10.71898,7.871391,13.566560000000001,null,null,null,null,null,null,null,null,null,null,null,null,null,null,null,null,null,null,null,null,null,null,null,null,null,null,null,null,null,null,null,null,null,null,null,null,null,null,null,null,null,null,"Merthyr Tydfil: People aged 70-74",2830,3120,2990,3300,3690]
["Neath Port Talbot","A fair chance for health","Gap in life expectancy at birth between the most and least deprived fifth, 2013 to 2015","Males","Years",7.3757859999999997,4.7801939999999998,9.9713779999999996,null,null,null,null,null,null,null,null,null,null,null,null,null,null,null,null,null,null,null,null,null,null,null,null,null,null,null,null,null,null,null,null,null,null,null,null,null,null,null,null,null,null,"Merthyr Tydfil: People aged 75-79",2080,2240,2720,2620,2920]
["Bridgend","A fair chance for health","Gap in life expectancy at birth between the most and least deprived fifth, 2013 to 2015","Males","Years",9.2287289999999995,5.7971899999999996,12.660270000000001,null,null,null,null,null,null,null,null,null,null,null,null,null,null,null,null,null,null,null,null,null,null,null,null,null,null,null,null,null,null,null,null,null,null,null,null,null,null,null,null,null,null,"Merthyr Tydfil: People aged 80-84",1520,1630,1810,2230,2170]
["Vale of Glamorgan","A fair chance for health","Gap in life expectancy at birth between the most and least deprived fifth, 2013 to 2015","Males","Years",8.9706840000000003,5.2399269999999998,12.70144,null,null,null,null,null,null,null,null,null,null,null,null,null,null,null,null,null,null,null,null,null,null,null,null,null,null,null,null,null,null,null,null,null,null,null,null,null,null,null,null,null,null,"Merthyr Tydfil: People aged 85 and over",1370,1530,1870,2270,2880]
["Cardiff","A fair chance for health","Gap in life expectancy at birth between the most and least deprived fifth, 2013 to 2015","Males","Years",11.017250000000001,8.8003959999999992,13.234109999999999,null,null,null,null,null,null,null,null,null,null,null,null,null,null,null,null,null,null,null,null,null,null,null,null,null,null,null,null,null,null,null,null,null,null,null,null,null,null,null,null,null,null,"Merthyr Tydfil: Total population aged 18 and over",47840,48320,49080,50100,51070]
["Rhondda Cynon Taf","A fair chance for health","Gap in life expectancy at birth between the most and least deprived fifth, 2013 to 2015","Males","Years",7.386565,2.1113840000000001,12.66175,null,null,null,null,null,null,null,null,null,null,null,null,null,null,null,null,null,null,null,null,null,null,null,null,null,null,null,null,null,null,null,null,null,null,null,null,null,null,null,null,null,null,"Monmouthshire: People aged 18-24",6230,5570,4870,4850,4570]
["Merthyr Tydfil","A fair chance for health","Gap in life expectancy at birth between the most and least deprived fifth, 2013 to 2015","Males","Years",7.991498,4.4381120000000003,11.544879999999999,null,null,null,null,null,null,null,null,null,null,null,null,null,null,null,null,null,null,null,null,null,null,null,null,null,null,null,null,null,null,null,null,null,null,null,null,null,null,null,null,null,null,"Monmouthshire: People aged 25-34",8850,9540,9390,8160,7490]
["Caerphilly","A fair chance for health","Gap in life expectancy at birth between the most and least deprived fifth, 2013 to 2015","Males","Years",7.6088180000000003,2.9912139999999998,12.226419999999999,null,null,null,null,null,null,null,null,null,null,null,null,null,null,null,null,null,null,null,null,null,null,null,null,null,null,null,null,null,null,null,null,null,null,null,null,null,null,null,null,null,null,"Monmouthshire: People aged 35-44",9370,8940,9530,10630,10480]
["Blaenau Gwent","A fair chance for health","Gap in life expectancy at birth between the most and least deprived fifth, 2013 to 2015","Males","Years",5.7673160000000001,4.0445869999999999,7.4900440000000001,null,null,null,null,null,null,null,null,null,null,null,null,null,null,null,null,null,null,null,null,null,null,null,null,null,null,null,null,null,null,null,null,null,null,null,null,null,null,null,null,null,null,"Monmouthshire: People aged 45-54",14490,13110,10770,9700,10300]
["Torfaen","A fair chance for health","Gap in life expectancy at birth between the most and least deprived fifth, 2013 to 2015","Males","Years",6.9345939999999997,4.0315979999999998,9.8375900000000005,null,null,null,null,null,null,null,null,null,null,null,null,null,null,null,null,null,null,null,null,null,null,null,null,null,null,null,null,null,null,null,null,null,null,null,null,null,null,null,null,null,null,"Monmouthshire: People aged 55-64",13000,13870,14810,13180,10930]
["Monmouthshire","A fair chance for health","Gap in life expectancy at birth between the most and least deprived fifth, 2013 to 2015","Males","Years",5.2928980000000001,-2.5462259999999999,13.132020000000001,null,null,null,null,null,null,null,null,null,null,null,null,null,null,null,null,null,null,null,null,null,null,null,null,null,null,null,null,null,null,null,null,null,null,null,null,null,null,null,null,null,null,"Monmouthshire: People aged 65-69",6360,6050,6100,7290,7050]
["Newport","A fair chance for health","Gap in life expectancy at birth between the most and least deprived fifth, 2013 to 2015","Males","Years",9.3988800000000001,4.5109120000000003,14.286849999999999,null,null,null,null,null,null,null,null,null,null,null,null,null,null,null,null,null,null,null,null,null,null,null,null,null,null,null,null,null,null,null,null,null,null,null,null,null,null,null,null,null,null,"Monmouthshire: People aged 70-74",5890,6310,5800,5870,7020]
["Wales","A fair chance for health","Gap in life expectancy at birth between the most and least deprived fifth, 2013 to 2015","Females","Years",6.9305909999999997,5.9353259999999999,7.9258559999999996,null,null,null,null,null,null,null,null,null,null,null,null,null,null,null,null,null,null,null,null,null,null,null,null,null,null,null,null,null,null,null,null,null,null,null,null,null,null,null,null,null,null,"Monmouthshire: People aged 75-79",4160,4810,5830,5390,5480]
["Betsi Cadwaladr UHB","A fair chance for health","Gap in life expectancy at birth between the most and least deprived fifth, 2013 to 2015","Females","Years",6.1919000000000004,2.6519680000000001,9.7318320000000007,null,null,null,null,null,null,null,null,null,null,null,null,null,null,null,null,null,null,null,null,null,null,null,null,null,null,null,null,null,null,null,null,null,null,null,null,null,null,null,null,null,null,"Monmouthshire: People aged 80-84",3160,3340,4130,5060,4710]
["Powys THB","A fair chance for health","Gap in life expectancy at birth between the most and least deprived fifth, 2013 to 2015","Females","Years",5.2089379999999998,-1.2870299999999999,11.70491,null,null,null,null,null,null,null,null,null,null,null,null,null,null,null,null,null,null,null,null,null,null,null,null,null,null,null,null,null,null,null,null,null,null,null,null,null,null,null,null,null,null,"Monmouthshire: People aged 85 and over",3190,3620,4400,5630,7230]
["Hywel Dda UHB","A fair chance for health","Gap in life expectancy at birth between the most and least deprived fifth, 2013 to 2015","Females","Years",4.0948960000000003,0.78777160000000002,7.4020210000000004,null,null,null,null,null,null,null,null,null,null,null,null,null,null,null,null,null,null,null,null,null,null,null,null,null,null,null,null,null,null,null,null,null,null,null,null,null,null,null,null,null,null,"Monmouthshire: Total population aged 18 and over",74710,75160,75630,75750,75280]
["ABM UHB","A fair chance for health","Gap in life expectancy at birth between the most and least deprived fifth, 2013 to 2015","Females","Years",6.8675879999999996,4.860328,8.8748480000000001,null,null,null,null,null,null,null,null,null,null,null,null,null,null,null,null,null,null,null,null,null,null,null,null,null,null,null,null,null,null,null,null,null,null,null,null,null,null,null,null,null,null,"Neath Port Talbot: People aged 18-24",10690,9860,9300,9970,10660]
["Cardiff and Vale UHB","A fair chance for health","Gap in life expectancy at birth between the most and least deprived fifth, 2013 to 2015","Females","Years",8.2920180000000006,5.3983049999999997,11.18573,null,null,null,null,null,null,null,null,null,null,null,null,null,null,null,null,null,null,null,null,null,null,null,null,null,null,null,null,null,null,null,null,null,null,null,null,null,null,null,null,null,null,"Neath Port Talbot: People aged 25-34",17590,17530,16610,15160,14900]
["Cwm Taf UHB","A fair chance for health","Gap in life expectancy at birth between the most and least deprived fifth, 2013 to 2015","Females","Years",3.896906,-0.30056769999999999,8.0943810000000003,null,null,null,null,null,null,null,null,null,null,null,null,null,null,null,null,null,null,null,null,null,null,null,null,null,null,null,null,null,null,null,null,null,null,null,null,null,null,null,null,null,null,"Neath Port Talbot: People aged 35-44",17150,17580,18380,18280,17380]
["Aneurin Bevan UHB","A fair chance for health","Gap in life expectancy at birth between the most and least deprived fifth, 2013 to 2015","Females","Years",7.2568700000000002,5.7584739999999996,8.7552660000000007,null,null,null,null,null,null,null,null,null,null,null,null,null,null,null,null,null,null,null,null,null,null,null,null,null,null,null,null,null,null,null,null,null,null,null,null,null,null,null,null,null,null,"Neath Port Talbot: People aged 45-54",19670,18390,17140,17490,18300]
["Isle of Anglesey","A fair chance for health","Gap in life expectancy at birth between the most and least deprived fifth, 2013 to 2015","Females","Years",4.1166530000000003,0.75892559999999998,7.4743810000000002,null,null,null,null,null,null,null,null,null,null,null,null,null,null,null,null,null,null,null,null,null,null,null,null,null,null,null,null,null,null,null,null,null,null,null,null,null,null,null,null,null,null,"Neath Port Talbot: People aged 55-64",18650,19430,19390,17920,16770]
["Gwynedd","A fair chance for health","Gap in life expectancy at birth between the most and least deprived fifth, 2013 to 2015","Females","Years",2.6647129999999999,-0.84221639999999998,6.1716420000000003,null,null,null,null,null,null,null,null,null,null,null,null,null,null,null,null,null,null,null,null,null,null,null,null,null,null,null,null,null,null,null,null,null,null,null,null,null,null,null,null,null,null,"Neath Port Talbot: People aged 65-69",8760,8460,8840,9480,8900]
["Conwy","A fair chance for health","Gap in life expectancy at birth between the most and least deprived fifth, 2013 to 2015","Females","Years",6.2511510000000001,0.2991529,12.203150000000001,null,null,null,null,null,null,null,null,null,null,null,null,null,null,null,null,null,null,null,null,null,null,null,null,null,null,null,null,null,null,null,null,null,null,null,null,null,null,null,null,null,null,"Neath Port Talbot: People aged 70-74",7570,8120,7790,8180,8820]
["Denbighshire","A fair chance for health","Gap in life expectancy at birth between the most and least deprived fifth, 2013 to 2015","Females","Years",7.2671609999999998,-0.1033129,14.637639999999999,null,null,null,null,null,null,null,null,null,null,null,null,null,null,null,null,null,null,null,null,null,null,null,null,null,null,null,null,null,null,null,null,null,null,null,null,null,null,null,null,null,null,"Neath Port Talbot: People aged 75-79",5270,5810,6990,6770,7180]
["Flintshire","A fair chance for health","Gap in life expectancy at birth between the most and least deprived fifth, 2013 to 2015","Females","Years",7.1348960000000003,3.996289,10.2735,null,null,null,null,null,null,null,null,null,null,null,null,null,null,null,null,null,null,null,null,null,null,null,null,null,null,null,null,null,null,null,null,null,null,null,null,null,null,null,null,null,null,"Neath Port Talbot: People aged 80-84",3770,4010,4620,5650,5550]
["Wrexham","A fair chance for health","Gap in life expectancy at birth between the most and least deprived fifth, 2013 to 2015","Females","Years",6.6272209999999996,3.8775520000000001,9.3768899999999995,null,null,null,null,null,null,null,null,null,null,null,null,null,null,null,null,null,null,null,null,null,null,null,null,null,null,null,null,null,null,null,null,null,null,null,null,null,null,null,null,null,null,"Neath Port Talbot: People aged 85 and over",3830,4030,4690,5710,7230]
["Powys","A fair chance for health","Gap in life expectancy at birth between the most and least deprived fifth, 2013 to 2015","Females","Years",5.2089379999999998,-1.2870299999999999,11.70491,null,null,null,null,null,null,null,null,null,null,null,null,null,null,null,null,null,null,null,null,null,null,null,null,null,null,null,null,null,null,null,null,null,null,null,null,null,null,null,null,null,null,"Neath Port Talbot: Total population aged 18 and over",112960,113210,113760,114630,115700]
["Ceredigion","A fair chance for health","Gap in life expectancy at birth between the most and least deprived fifth, 2013 to 2015","Females","Years",3.227716,1.5338879999999999,4.9215439999999999,null,null,null,null,null,null,null,null,null,null,null,null,null,null,null,null,null,null,null,null,null,null,null,null,null,null,null,null,null,null,null,null,null,null,null,null,null,null,null,null,null,null,"Newport: People aged 18-24",14570,14010,13150,14410,15450]
["Pembrokeshire","A fair chance for health","Gap in life expectancy at birth between the most and least deprived fifth, 2013 to 2015","Females","Years",3.406263,-1.8412569999999999,8.6537830000000007,null,null,null,null,null,null,null,null,null,null,null,null,null,null,null,null,null,null,null,null,null,null,null,null,null,null,null,null,null,null,null,null,null,null,null,null,null,null,null,null,null,null,"Newport: People aged 25-34",21250,22420,23470,21990,21800]
["Carmarthenshire","A fair chance for health","Gap in life expectancy at birth between the most and least deprived fifth, 2013 to 2015","Females","Years",4.3279730000000001,2.2845559999999998,6.3713899999999999,null,null,null,null,null,null,null,null,null,null,null,null,null,null,null,null,null,null,null,null,null,null,null,null,null,null,null,null,null,null,null,null,null,null,null,null,null,null,null,null,null,null,"Newport: People aged 35-44",17970,18720,20410,22870,23920]
["Swansea","A fair chance for health","Gap in life expectancy at birth between the most and least deprived fifth, 2013 to 2015","Females","Years",7.1296059999999999,2.9261360000000001,11.333080000000001,null,null,null,null,null,null,null,null,null,null,null,null,null,null,null,null,null,null,null,null,null,null,null,null,null,null,null,null,null,null,null,null,null,null,null,null,null,null,null,null,null,null,"Newport: People aged 45-54",20710,19330,17460,18080,19770]
["Neath Port Talbot","A fair chance for health","Gap in life expectancy at birth between the most and least deprived fifth, 2013 to 2015","Females","Years",6.3387589999999996,2.4233639999999999,10.254149999999999,null,null,null,null,null,null,null,null,null,null,null,null,null,null,null,null,null,null,null,null,null,null,null,null,null,null,null,null,null,null,null,null,null,null,null,null,null,null,null,null,null,null,"Newport: People aged 55-64",16930,18300,19600,18120,16390]
["Bridgend","A fair chance for health","Gap in life expectancy at birth between the most and least deprived fifth, 2013 to 2015","Females","Years",5.3510900000000001,4.0328470000000003,6.6693319999999998,null,null,null,null,null,null,null,null,null,null,null,null,null,null,null,null,null,null,null,null,null,null,null,null,null,null,null,null,null,null,null,null,null,null,null,null,null,null,null,null,null,null,"Newport: People aged 65-69",7400,6820,7800,8900,9110]
["Vale of Glamorgan","A fair chance for health","Gap in life expectancy at birth between the most and least deprived fifth, 2013 to 2015","Females","Years",6.9654179999999997,4.5466680000000004,9.384169,null,null,null,null,null,null,null,null,null,null,null,null,null,null,null,null,null,null,null,null,null,null,null,null,null,null,null,null,null,null,null,null,null,null,null,null,null,null,null,null,null,null,"Newport: People aged 70-74",6610,7170,6260,7210,8270]
["Cardiff","A fair chance for health","Gap in life expectancy at birth between the most and least deprived fifth, 2013 to 2015","Females","Years",8.8436369999999993,4.1432849999999997,13.543990000000001,null,null,null,null,null,null,null,null,null,null,null,null,null,null,null,null,null,null,null,null,null,null,null,null,null,null,null,null,null,null,null,null,null,null,null,null,null,null,null,null,null,null,"Newport: People aged 75-79",4960,5260,6290,5540,6440]
["Rhondda Cynon Taf","A fair chance for health","Gap in life expectancy at birth between the most and least deprived fifth, 2013 to 2015","Females","Years",3.7770519999999999,-0.75430980000000003,8.3084129999999998,null,null,null,null,null,null,null,null,null,null,null,null,null,null,null,null,null,null,null,null,null,null,null,null,null,null,null,null,null,null,null,null,null,null,null,null,null,null,null,null,null,null,"Newport: People aged 80-84",3660,3860,4220,5130,4570]
["Merthyr Tydfil","A fair chance for health","Gap in life expectancy at birth between the most and least deprived fifth, 2013 to 2015","Females","Years",4.6191269999999998,-6.2732780000000004,15.51153,null,null,null,null,null,null,null,null,null,null,null,null,null,null,null,null,null,null,null,null,null,null,null,null,null,null,null,null,null,null,null,null,null,null,null,null,null,null,null,null,null,null,"Newport: People aged 85 and over",3580,3860,4590,5470,6800]
["Caerphilly","A fair chance for health","Gap in life expectancy at birth between the most and least deprived fifth, 2013 to 2015","Females","Years",6.5555979999999998,4.4602500000000003,8.6509459999999994,null,null,null,null,null,null,null,null,null,null,null,null,null,null,null,null,null,null,null,null,null,null,null,null,null,null,null,null,null,null,null,null,null,null,null,null,null,null,null,null,null,null,"Newport: Total population aged 18 and over",117640,119760,123260,127720,132530]
["Blaenau Gwent","A fair chance for health","Gap in life expectancy at birth between the most and least deprived fifth, 2013 to 2015","Females","Years",3.6830349999999998,1.187635,6.1784340000000002,null,null,null,null,null,null,null,null,null,null,null,null,null,null,null,null,null,null,null,null,null,null,null,null,null,null,null,null,null,null,null,null,null,null,null,null,null,null,null,null,null,null,"Pembrokeshire: People aged 18-24",8530,7860,7130,7790,7920]
["Torfaen","A fair chance for health","Gap in life expectancy at birth between the most and least deprived fifth, 2013 to 2015","Females","Years",7.3699779999999997,3.7680310000000001,10.97193,null,null,null,null,null,null,null,null,null,null,null,null,null,null,null,null,null,null,null,null,null,null,null,null,null,null,null,null,null,null,null,null,null,null,null,null,null,null,null,null,null,null,"Pembrokeshire: People aged 25-34",13920,14470,13810,12140,11760]
["Monmouthshire","A fair chance for health","Gap in life expectancy at birth between the most and least deprived fifth, 2013 to 2015","Females","Years",4.174849,-1.740238,10.08994,null,null,null,null,null,null,null,null,null,null,null,null,null,null,null,null,null,null,null,null,null,null,null,null,null,null,null,null,null,null,null,null,null,null,null,null,null,null,null,null,null,null,"Pembrokeshire: People aged 35-44",12530,12570,14310,15610,14960]
["Newport","A fair chance for health","Gap in life expectancy at birth between the most and least deprived fifth, 2013 to 2015","Females","Years",6.6212150000000003,0.81005360000000004,12.43238,null,null,null,null,null,null,null,null,null,null,null,null,null,null,null,null,null,null,null,null,null,null,null,null,null,null,null,null,null,null,null,null,null,null,null,null,null,null,null,null,null,null,"Pembrokeshire: People aged 45-54",17130,15770,13760,13480,15230]
["Wales","A fair chance for health","Gap in healthy life expectancy at birth between the most and least deprived fifth, 2010 to 2014","Males","Years",18.668099999999999,14.289630000000001,23.046579999999999,null,null,null,null,null,null,null,null,null,null,null,null,null,null,null,null,null,null,null,null,null,null,null,null,null,null,null,null,null,null,null,null,null,null,null,null,null,null,null,null,null,null,"Pembrokeshire: People aged 55-64",16970,17720,18240,16560,14650]
["Betsi Cadwaladr UHB","A fair chance for health","Gap in healthy life expectancy at birth between the most and least deprived fifth, 2010 to 2014","Males","Years",13.32647,5.5314030000000001,21.121549999999999,null,null,null,null,null,null,null,null,null,null,null,null,null,null,null,null,null,null,null,null,null,null,null,null,null,null,null,null,null,null,null,null,null,null,null,null,null,null,null,null,null,null,"Pembrokeshire: People aged 65-69",8800,8170,8190,9250,8760]
["Powys THB","A fair chance for health","Gap in healthy life expectancy at birth between the most and least deprived fifth, 2010 to 2014","Males","Years",10.40105,3.0945909999999999,17.707509999999999,null,null,null,null,null,null,null,null,null,null,null,null,null,null,null,null,null,null,null,null,null,null,null,null,null,null,null,null,null,null,null,null,null,null,null,null,null,null,null,null,null,null,"Pembrokeshire: People aged 70-74",7960,8550,7620,7670,8700]
["Hywel Dda UHB","A fair chance for health","Gap in healthy life expectancy at birth between the most and least deprived fifth, 2010 to 2014","Males","Years",12.16854,5.7496179999999999,18.58746,null,null,null,null,null,null,null,null,null,null,null,null,null,null,null,null,null,null,null,null,null,null,null,null,null,null,null,null,null,null,null,null,null,null,null,null,null,null,null,null,null,null,"Pembrokeshire: People aged 75-79",5760,6320,7620,6840,6930]
["ABM UHB","A fair chance for health","Gap in healthy life expectancy at birth between the most and least deprived fifth, 2010 to 2014","Males","Years",20.828880000000002,18.32264,23.33512,null,null,null,null,null,null,null,null,null,null,null,null,null,null,null,null,null,null,null,null,null,null,null,null,null,null,null,null,null,null,null,null,null,null,null,null,null,null,null,null,null,null,"Pembrokeshire: People aged 80-84",4270,4530,5280,6450,5840]
["Cardiff and Vale UHB","A fair chance for health","Gap in healthy life expectancy at birth between the most and least deprived fifth, 2010 to 2014","Males","Years",23.18956,16.521370000000001,29.857749999999999,null,null,null,null,null,null,null,null,null,null,null,null,null,null,null,null,null,null,null,null,null,null,null,null,null,null,null,null,null,null,null,null,null,null,null,null,null,null,null,null,null,null,"Pembrokeshire: People aged 85 and over",4160,4730,5760,7120,9010]
["Cwm Taf UHB","A fair chance for health","Gap in healthy life expectancy at birth between the most and least deprived fifth, 2010 to 2014","Males","Years",14.78356,8.6384930000000004,20.928629999999998,null,null,null,null,null,null,null,null,null,null,null,null,null,null,null,null,null,null,null,null,null,null,null,null,null,null,null,null,null,null,null,null,null,null,null,null,null,null,null,null,null,null,"Pembrokeshire: Total population aged 18 and over",100010,100700,101710,102910,103760]
["Aneurin Bevan UHB","A fair chance for health","Gap in healthy life expectancy at birth between the most and least deprived fifth, 2010 to 2014","Males","Years",18.29871,14.06166,22.53576,null,null,null,null,null,null,null,null,null,null,null,null,null,null,null,null,null,null,null,null,null,null,null,null,null,null,null,null,null,null,null,null,null,null,null,null,null,null,null,null,null,null,"Powys: People aged 18-24",8760,7960,6770,6920,6840]
["Isle of Anglesey","A fair chance for health","Gap in healthy life expectancy at birth between the most and least deprived fifth, 2010 to 2014","Males","Years",12.666869999999999,6.7016929999999997,18.63205,null,null,null,null,null,null,null,null,null,null,null,null,null,null,null,null,null,null,null,null,null,null,null,null,null,null,null,null,null,null,null,null,null,null,null,null,null,null,null,null,null,null,"Powys: People aged 25-34",13460,14050,13490,11750,10710]
["Gwynedd","A fair chance for health","Gap in healthy life expectancy at birth between the most and least deprived fifth, 2010 to 2014","Males","Years",9.1769300000000005,-7.3307399999999996,25.6846,null,null,null,null,null,null,null,null,null,null,null,null,null,null,null,null,null,null,null,null,null,null,null,null,null,null,null,null,null,null,null,null,null,null,null,null,null,null,null,null,null,null,"Powys: People aged 35-44",12810,12440,13760,14960,14400]
["Conwy","A fair chance for health","Gap in healthy life expectancy at birth between the most and least deprived fifth, 2010 to 2014","Males","Years",14.63977,3.7870550000000001,25.49248,null,null,null,null,null,null,null,null,null,null,null,null,null,null,null,null,null,null,null,null,null,null,null,null,null,null,null,null,null,null,null,null,null,null,null,null,null,null,null,null,null,null,"Powys: People aged 45-54",19380,17730,14960,13740,15100]
["Denbighshire","A fair chance for health","Gap in healthy life expectancy at birth between the most and least deprived fifth, 2010 to 2014","Males","Years",15.950710000000001,3.8401860000000001,28.061240000000002,null,null,null,null,null,null,null,null,null,null,null,null,null,null,null,null,null,null,null,null,null,null,null,null,null,null,null,null,null,null,null,null,null,null,null,null,null,null,null,null,null,null,"Powys: People aged 55-64",19810,20700,21350,19560,16870]
["Flintshire","A fair chance for health","Gap in healthy life expectancy at birth between the most and least deprived fifth, 2010 to 2014","Males","Years",11.63358,1.271156,21.995999999999999,null,null,null,null,null,null,null,null,null,null,null,null,null,null,null,null,null,null,null,null,null,null,null,null,null,null,null,null,null,null,null,null,null,null,null,null,null,null,null,null,null,null,"Powys: People aged 65-69",10410,9910,10100,11200,10790]
["Wrexham","A fair chance for health","Gap in healthy life expectancy at birth between the most and least deprived fifth, 2010 to 2014","Males","Years",14.96532,13.71096,16.219670000000001,null,null,null,null,null,null,null,null,null,null,null,null,null,null,null,null,null,null,null,null,null,null,null,null,null,null,null,null,null,null,null,null,null,null,null,null,null,null,null,null,null,null,"Powys: People aged 70-74",9440,10140,9450,9660,10740]
["Powys","A fair chance for health","Gap in healthy life expectancy at birth between the most and least deprived fifth, 2010 to 2014","Males","Years",10.40105,3.0945909999999999,17.707509999999999,null,null,null,null,null,null,null,null,null,null,null,null,null,null,null,null,null,null,null,null,null,null,null,null,null,null,null,null,null,null,null,null,null,null,null,null,null,null,null,null,null,null,"Powys: People aged 75-79",6530,7620,9230,8660,8900]
["Ceredigion","A fair chance for health","Gap in healthy life expectancy at birth between the most and least deprived fifth, 2010 to 2014","Males","Years",9.2937580000000004,6.9563550000000003,11.631159999999999,null,null,null,null,null,null,null,null,null,null,null,null,null,null,null,null,null,null,null,null,null,null,null,null,null,null,null,null,null,null,null,null,null,null,null,null,null,null,null,null,null,null,"Powys: People aged 80-84",4760,5190,6400,7840,7430]
["Pembrokeshire","A fair chance for health","Gap in healthy life expectancy at birth between the most and least deprived fifth, 2010 to 2014","Males","Years",11.948499999999999,-2.440747,26.33775,null,null,null,null,null,null,null,null,null,null,null,null,null,null,null,null,null,null,null,null,null,null,null,null,null,null,null,null,null,null,null,null,null,null,null,null,null,null,null,null,null,null,"Powys: People aged 85 and over",5000,5550,6790,8690,11170]
["Carmarthenshire","A fair chance for health","Gap in healthy life expectancy at birth between the most and least deprived fifth, 2010 to 2014","Males","Years",10.60403,3.175433,18.032620000000001,null,null,null,null,null,null,null,null,null,null,null,null,null,null,null,null,null,null,null,null,null,null,null,null,null,null,null,null,null,null,null,null,null,null,null,null,null,null,null,null,null,null,"Powys: Total population aged 18 and over",110350,111280,112300,112990,112960]
["Swansea","A fair chance for health","Gap in healthy life expectancy at birth between the most and least deprived fifth, 2010 to 2014","Males","Years",21.893409999999999,18.61403,25.172789999999999,null,null,null,null,null,null,null,null,null,null,null,null,null,null,null,null,null,null,null,null,null,null,null,null,null,null,null,null,null,null,null,null,null,null,null,null,null,null,null,null,null,null,"Rhondda Cynon Taf: People aged 18-24",21320,20150,19470,21120,21510]
["Neath Port Talbot","A fair chance for health","Gap in healthy life expectancy at birth between the most and least deprived fifth, 2010 to 2014","Males","Years",16.890339999999998,6.4124350000000003,27.36825,null,null,null,null,null,null,null,null,null,null,null,null,null,null,null,null,null,null,null,null,null,null,null,null,null,null,null,null,null,null,null,null,null,null,null,null,null,null,null,null,null,null,"Rhondda Cynon Taf: People aged 25-34",29730,29570,28750,26570,26640]
["Bridgend","A fair chance for health","Gap in healthy life expectancy at birth between the most and least deprived fifth, 2010 to 2014","Males","Years",21.544049999999999,13.56033,29.52777,null,null,null,null,null,null,null,null,null,null,null,null,null,null,null,null,null,null,null,null,null,null,null,null,null,null,null,null,null,null,null,null,null,null,null,null,null,null,null,null,null,null,"Rhondda Cynon Taf: People aged 35-44",27810,27940,28690,28760,27950]
["Vale of Glamorgan","A fair chance for health","Gap in healthy life expectancy at birth between the most and least deprived fifth, 2010 to 2014","Males","Years",20.88212,5.1830319999999999,36.581200000000003,null,null,null,null,null,null,null,null,null,null,null,null,null,null,null,null,null,null,null,null,null,null,null,null,null,null,null,null,null,null,null,null,null,null,null,null,null,null,null,null,null,null,"Rhondda Cynon Taf: People aged 45-54",32820,31000,27640,26940,27710]
["Cardiff","A fair chance for health","Gap in healthy life expectancy at birth between the most and least deprived fifth, 2010 to 2014","Males","Years",24.36261,17.396229999999999,31.328990000000001,null,null,null,null,null,null,null,null,null,null,null,null,null,null,null,null,null,null,null,null,null,null,null,null,null,null,null,null,null,null,null,null,null,null,null,null,null,null,null,null,null,null,"Rhondda Cynon Taf: People aged 55-64",28640,30000,31400,29610,26450]
["Rhondda Cynon Taf","A fair chance for health","Gap in healthy life expectancy at birth between the most and least deprived fifth, 2010 to 2014","Males","Years",15.122120000000001,9.3134250000000005,20.930810000000001,null,null,null,null,null,null,null,null,null,null,null,null,null,null,null,null,null,null,null,null,null,null,null,null,null,null,null,null,null,null,null,null,null,null,null,null,null,null,null,null,null,null,"Rhondda Cynon Taf: People aged 65-69",13690,12520,13130,14590,14600]
["Merthyr Tydfil","A fair chance for health","Gap in healthy life expectancy at birth between the most and least deprived fifth, 2010 to 2014","Males","Years",15.480829999999999,5.5873030000000004,25.374359999999999,null,null,null,null,null,null,null,null,null,null,null,null,null,null,null,null,null,null,null,null,null,null,null,null,null,null,null,null,null,null,null,null,null,null,null,null,null,null,null,null,null,null,"Rhondda Cynon Taf: People aged 70-74",11950,13050,11390,12030,13450]
["Caerphilly","A fair chance for health","Gap in healthy life expectancy at birth between the most and least deprived fifth, 2010 to 2014","Males","Years",13.03796,1.443112,24.6328,null,null,null,null,null,null,null,null,null,null,null,null,null,null,null,null,null,null,null,null,null,null,null,null,null,null,null,null,null,null,null,null,null,null,null,null,null,null,null,null,null,null,"Rhondda Cynon Taf: People aged 75-79",8410,9160,11300,9950,10620]
["Blaenau Gwent","A fair chance for health","Gap in healthy life expectancy at birth between the most and least deprived fifth, 2010 to 2014","Males","Years",11.794449999999999,4.4197819999999997,19.169119999999999,null,null,null,null,null,null,null,null,null,null,null,null,null,null,null,null,null,null,null,null,null,null,null,null,null,null,null,null,null,null,null,null,null,null,null,null,null,null,null,null,null,null,"Rhondda Cynon Taf: People aged 80-84",6000,6320,7300,9160,8170]
["Torfaen","A fair chance for health","Gap in healthy life expectancy at birth between the most and least deprived fifth, 2010 to 2014","Males","Years",14.78548,8.4687769999999993,21.10219,null,null,null,null,null,null,null,null,null,null,null,null,null,null,null,null,null,null,null,null,null,null,null,null,null,null,null,null,null,null,null,null,null,null,null,null,null,null,null,null,null,null,"Rhondda Cynon Taf: People aged 85 and over",5540,6170,7390,9080,11650]
["Monmouthshire","A fair chance for health","Gap in healthy life expectancy at birth between the most and least deprived fifth, 2010 to 2014","Males","Years",10.067,8.1222449999999995,12.01177,null,null,null,null,null,null,null,null,null,null,null,null,null,null,null,null,null,null,null,null,null,null,null,null,null,null,null,null,null,null,null,null,null,null,null,null,null,null,null,null,null,null,"Rhondda Cynon Taf: Total population aged 18 and over",185900,185870,186460,187830,188750]
["Newport","A fair chance for health","Gap in healthy life expectancy at birth between the most and least deprived fifth, 2010 to 2014","Males","Years",18.15821,9.6368530000000003,26.679569999999998,null,null,null,null,null,null,null,null,null,null,null,null,null,null,null,null,null,null,null,null,null,null,null,null,null,null,null,null,null,null,null,null,null,null,null,null,null,null,null,null,null,null,"Swansea: People aged 18-24",28670,28010,27130,27980,28870]
["Wales","A fair chance for health","Gap in healthy life expectancy at birth between the most and least deprived fifth, 2010 to 2014","Females","Years",18.208169999999999,12.934990000000001,23.481349999999999,null,null,null,null,null,null,null,null,null,null,null,null,null,null,null,null,null,null,null,null,null,null,null,null,null,null,null,null,null,null,null,null,null,null,null,null,null,null,null,null,null,null,"Swansea: People aged 25-34",33880,35720,37120,35360,34960]
["Betsi Cadwaladr UHB","A fair chance for health","Gap in healthy life expectancy at birth between the most and least deprived fifth, 2010 to 2014","Females","Years",13.800929999999999,4.9362690000000002,22.665600000000001,null,null,null,null,null,null,null,null,null,null,null,null,null,null,null,null,null,null,null,null,null,null,null,null,null,null,null,null,null,null,null,null,null,null,null,null,null,null,null,null,null,null,"Swansea: People aged 35-44",28580,29090,31780,35300,36690]
["Powys THB","A fair chance for health","Gap in healthy life expectancy at birth between the most and least deprived fifth, 2010 to 2014","Females","Years",14.40537,3.0680399999999999,25.742699999999999,null,null,null,null,null,null,null,null,null,null,null,null,null,null,null,null,null,null,null,null,null,null,null,null,null,null,null,null,null,null,null,null,null,null,null,null,null,null,null,null,null,null,"Swansea: People aged 45-54",31640,30410,28260,28530,31200]
["Hywel Dda UHB","A fair chance for health","Gap in healthy life expectancy at birth between the most and least deprived fifth, 2010 to 2014","Females","Years",12.15889,4.6733609999999999,19.644410000000001,null,null,null,null,null,null,null,null,null,null,null,null,null,null,null,null,null,null,null,null,null,null,null,null,null,null,null,null,null,null,null,null,null,null,null,null,null,null,null,null,null,null,"Swansea: People aged 55-64",28770,29820,30610,29320,27330]
["ABM UHB","A fair chance for health","Gap in healthy life expectancy at birth between the most and least deprived fifth, 2010 to 2014","Females","Years",18.29983,14.083930000000001,22.515730000000001,null,null,null,null,null,null,null,null,null,null,null,null,null,null,null,null,null,null,null,null,null,null,null,null,null,null,null,null,null,null,null,null,null,null,null,null,null,null,null,null,null,null,"Swansea: People aged 65-69",13410,12740,13490,14600,14360]
["Cardiff and Vale UHB","A fair chance for health","Gap in healthy life expectancy at birth between the most and least deprived fifth, 2010 to 2014","Females","Years",21.902439999999999,16.363499999999998,27.441389999999998,null,null,null,null,null,null,null,null,null,null,null,null,null,null,null,null,null,null,null,null,null,null,null,null,null,null,null,null,null,null,null,null,null,null,null,null,null,null,null,null,null,null,"Swansea: People aged 70-74",12200,13120,11870,12620,13720]
["Cwm Taf UHB","A fair chance for health","Gap in healthy life expectancy at birth between the most and least deprived fifth, 2010 to 2014","Females","Years",15.0085,7.6954279999999997,22.321570000000001,null,null,null,null,null,null,null,null,null,null,null,null,null,null,null,null,null,null,null,null,null,null,null,null,null,null,null,null,null,null,null,null,null,null,null,null,null,null,null,null,null,null,"Swansea: People aged 75-79",8860,9640,11690,10650,11410]
["Aneurin Bevan UHB","A fair chance for health","Gap in healthy life expectancy at birth between the most and least deprived fifth, 2010 to 2014","Females","Years",18.580870000000001,15.667770000000001,21.493960000000001,null,null,null,null,null,null,null,null,null,null,null,null,null,null,null,null,null,null,null,null,null,null,null,null,null,null,null,null,null,null,null,null,null,null,null,null,null,null,null,null,null,null,"Swansea: People aged 80-84",6810,7040,7900,9720,8960]
["Isle of Anglesey","A fair chance for health","Gap in healthy life expectancy at birth between the most and least deprived fifth, 2010 to 2014","Females","Years",6.8310009999999997,-1.3407579999999999,15.00276,null,null,null,null,null,null,null,null,null,null,null,null,null,null,null,null,null,null,null,null,null,null,null,null,null,null,null,null,null,null,null,null,null,null,null,null,null,null,null,null,null,null,"Swansea: People aged 85 and over",6710,7390,8630,10320,12950]
["Gwynedd","A fair chance for health","Gap in healthy life expectancy at birth between the most and least deprived fifth, 2010 to 2014","Females","Years",7.0019419999999997,0.48238409999999998,13.5215,null,null,null,null,null,null,null,null,null,null,null,null,null,null,null,null,null,null,null,null,null,null,null,null,null,null,null,null,null,null,null,null,null,null,null,null,null,null,null,null,null,null,"Swansea: Total population aged 18 and over",199550,202980,208470,214410,220460]
["Conwy","A fair chance for health","Gap in healthy life expectancy at birth between the most and least deprived fifth, 2010 to 2014","Females","Years",13.513350000000001,5.8959469999999996,21.130749999999999,null,null,null,null,null,null,null,null,null,null,null,null,null,null,null,null,null,null,null,null,null,null,null,null,null,null,null,null,null,null,null,null,null,null,null,null,null,null,null,null,null,null,"The Vale of Glamorgan: People aged 18-24",9710,8920,8210,8960,8770]
["Denbighshire","A fair chance for health","Gap in healthy life expectancy at birth between the most and least deprived fifth, 2010 to 2014","Females","Years",20.545760000000001,2.6349429999999998,38.456580000000002,null,null,null,null,null,null,null,null,null,null,null,null,null,null,null,null,null,null,null,null,null,null,null,null,null,null,null,null,null,null,null,null,null,null,null,null,null,null,null,null,null,null,"The Vale of Glamorgan: People aged 25-34",15030,15570,15230,13680,13510]
["Flintshire","A fair chance for health","Gap in healthy life expectancy at birth between the most and least deprived fifth, 2010 to 2014","Females","Years",13.65122,3.3085650000000002,23.993880000000001,null,null,null,null,null,null,null,null,null,null,null,null,null,null,null,null,null,null,null,null,null,null,null,null,null,null,null,null,null,null,null,null,null,null,null,null,null,null,null,null,null,null,"The Vale of Glamorgan: People aged 35-44",15500,15280,15830,16720,16400]
["Wrexham","A fair chance for health","Gap in healthy life expectancy at birth between the most and least deprived fifth, 2010 to 2014","Females","Years",16.94312,8.9825309999999998,24.90371,null,null,null,null,null,null,null,null,null,null,null,null,null,null,null,null,null,null,null,null,null,null,null,null,null,null,null,null,null,null,null,null,null,null,null,null,null,null,null,null,null,null,"The Vale of Glamorgan: People aged 45-54",18120,17270,16130,15470,16030]
["Powys","A fair chance for health","Gap in healthy life expectancy at birth between the most and least deprived fifth, 2010 to 2014","Females","Years",14.40537,3.0680399999999999,25.742699999999999,null,null,null,null,null,null,null,null,null,null,null,null,null,null,null,null,null,null,null,null,null,null,null,null,null,null,null,null,null,null,null,null,null,null,null,null,null,null,null,null,null,null,"The Vale of Glamorgan: People aged 55-64",17200,17820,17960,16940,15860]
["Ceredigion","A fair chance for health","Gap in healthy life expectancy at birth between the most and least deprived fifth, 2010 to 2014","Females","Years",6.6689800000000004,3.2133280000000002,10.12463,null,null,null,null,null,null,null,null,null,null,null,null,null,null,null,null,null,null,null,null,null,null,null,null,null,null,null,null,null,null,null,null,null,null,null,null,null,null,null,null,null,null,"The Vale of Glamorgan: People aged 65-69",7810,7750,8250,8930,8450]
["Pembrokeshire","A fair chance for health","Gap in healthy life expectancy at birth between the most and least deprived fifth, 2010 to 2014","Females","Years",11.940849999999999,-0.1230908,24.004799999999999,null,null,null,null,null,null,null,null,null,null,null,null,null,null,null,null,null,null,null,null,null,null,null,null,null,null,null,null,null,null,null,null,null,null,null,null,null,null,null,null,null,null,"The Vale of Glamorgan: People aged 70-74",7080,7580,7320,7820,8490]
["Carmarthenshire","A fair chance for health","Gap in healthy life expectancy at birth between the most and least deprived fifth, 2010 to 2014","Females","Years",12.475059999999999,7.9312709999999997,17.01885,null,null,null,null,null,null,null,null,null,null,null,null,null,null,null,null,null,null,null,null,null,null,null,null,null,null,null,null,null,null,null,null,null,null,null,null,null,null,null,null,null,null,"The Vale of Glamorgan: People aged 75-79",5010,5600,6830,6650,7150]
["Swansea","A fair chance for health","Gap in healthy life expectancy at birth between the most and least deprived fifth, 2010 to 2014","Females","Years",16.334299999999999,0.51689529999999995,32.151710000000001,null,null,null,null,null,null,null,null,null,null,null,null,null,null,null,null,null,null,null,null,null,null,null,null,null,null,null,null,null,null,null,null,null,null,null,null,null,null,null,null,null,null,"The Vale of Glamorgan: People aged 80-84",3560,3960,4710,5820,5720]
["Neath Port Talbot","A fair chance for health","Gap in healthy life expectancy at birth between the most and least deprived fifth, 2010 to 2014","Females","Years",18.418600000000001,6.1856020000000003,30.651589999999999,null,null,null,null,null,null,null,null,null,null,null,null,null,null,null,null,null,null,null,null,null,null,null,null,null,null,null,null,null,null,null,null,null,null,null,null,null,null,null,null,null,null,"The Vale of Glamorgan: People aged 85 and over",3790,4150,5090,6410,8220]
["Bridgend","A fair chance for health","Gap in healthy life expectancy at birth between the most and least deprived fifth, 2010 to 2014","Females","Years",16.16461,11.11706,21.21217,null,null,null,null,null,null,null,null,null,null,null,null,null,null,null,null,null,null,null,null,null,null,null,null,null,null,null,null,null,null,null,null,null,null,null,null,null,null,null,null,null,null,"The Vale of Glamorgan: Total population aged 18 and over",102800,103890,105560,107400,108600]
["Vale of Glamorgan","A fair chance for health","Gap in healthy life expectancy at birth between the most and least deprived fifth, 2010 to 2014","Females","Years",23.412859999999998,10.57409,36.251629999999999,null,null,null,null,null,null,null,null,null,null,null,null,null,null,null,null,null,null,null,null,null,null,null,null,null,null,null,null,null,null,null,null,null,null,null,null,null,null,null,null,null,null,"Torfaen: People aged 18-24",7620,6770,6100,6720,7150]
["Cardiff","A fair chance for health","Gap in healthy life expectancy at birth between the most and least deprived fifth, 2010 to 2014","Females","Years",21.776499999999999,13.823399999999999,29.729610000000001,null,null,null,null,null,null,null,null,null,null,null,null,null,null,null,null,null,null,null,null,null,null,null,null,null,null,null,null,null,null,null,null,null,null,null,null,null,null,null,null,null,null,"Torfaen: People aged 25-34",11850,12130,11690,10140,9750]
["Rhondda Cynon Taf","A fair chance for health","Gap in healthy life expectancy at birth between the most and least deprived fifth, 2010 to 2014","Females","Years",13.34769,2.9427279999999998,23.752659999999999,null,null,null,null,null,null,null,null,null,null,null,null,null,null,null,null,null,null,null,null,null,null,null,null,null,null,null,null,null,null,null,null,null,null,null,null,null,null,null,null,null,null,"Torfaen: People aged 35-44",10030,10360,11340,12030,11610]
["Merthyr Tydfil","A fair chance for health","Gap in healthy life expectancy at birth between the most and least deprived fifth, 2010 to 2014","Females","Years",15.182499999999999,5.0113570000000003,25.353639999999999,null,null,null,null,null,null,null,null,null,null,null,null,null,null,null,null,null,null,null,null,null,null,null,null,null,null,null,null,null,null,null,null,null,null,null,null,null,null,null,null,null,null,"Torfaen: People aged 45-54",12770,11640,10020,10040,11010]
["Caerphilly","A fair chance for health","Gap in healthy life expectancy at birth between the most and least deprived fifth, 2010 to 2014","Females","Years",14.579029999999999,7.2029759999999996,21.955079999999999,null,null,null,null,null,null,null,null,null,null,null,null,null,null,null,null,null,null,null,null,null,null,null,null,null,null,null,null,null,null,null,null,null,null,null,null,null,null,null,null,null,null,"Torfaen: People aged 55-64",11670,12220,12540,11070,9530]
["Blaenau Gwent","A fair chance for health","Gap in healthy life expectancy at birth between the most and least deprived fifth, 2010 to 2014","Females","Years",12.34524,3.1344810000000001,21.556000000000001,null,null,null,null,null,null,null,null,null,null,null,null,null,null,null,null,null,null,null,null,null,null,null,null,null,null,null,null,null,null,null,null,null,null,null,null,null,null,null,null,null,null,"Torfaen: People aged 65-69",5470,5200,5370,6080,5740]
["Torfaen","A fair chance for health","Gap in healthy life expectancy at birth between the most and least deprived fifth, 2010 to 2014","Females","Years",16.485469999999999,7.1743119999999996,25.79663,null,null,null,null,null,null,null,null,null,null,null,null,null,null,null,null,null,null,null,null,null,null,null,null,null,null,null,null,null,null,null,null,null,null,null,null,null,null,null,null,null,null,"Torfaen: People aged 70-74",4800,5180,4810,5000,5690]
["Monmouthshire","A fair chance for health","Gap in healthy life expectancy at birth between the most and least deprived fifth, 2010 to 2014","Females","Years",11.144159999999999,1.8731910000000001,20.415120000000002,null,null,null,null,null,null,null,null,null,null,null,null,null,null,null,null,null,null,null,null,null,null,null,null,null,null,null,null,null,null,null,null,null,null,null,null,null,null,null,null,null,null,"Torfaen: People aged 75-79",3430,3850,4610,4320,4510]
["Newport","A fair chance for health","Gap in healthy life expectancy at birth between the most and least deprived fifth, 2010 to 2014","Females","Years",20.092890000000001,13.38593,26.79984,null,null,null,null,null,null,null,null,null,null,null,null,null,null,null,null,null,null,null,null,null,null,null,null,null,null,null,null,null,null,null,null,null,null,null,null,null,null,null,null,null,null,"Torfaen: People aged 80-84",2580,2650,3180,3860,3650]
["HB",null,null,null,null,null,null,null,null,null,null,null,null,null,null,null,null,null,null,null,null,null,null,null,null,null,null,null,null,null,null,null,null,null,null,null,null,null,null,null,null,null,null,null,null,null,null,null,null,null,"Torfaen: People aged 85 and over",2510,2790,3270,4050,5140]
["Population",null,null,null,null,null,null,null,null,null,null,null,null,null,null,null,null,null,null,null,null,null,null,null,null,null,null,null,null,null,null,null,null,null,null,null,null,null,null,null,null,null,null,null,null,null,null,null,null,null,"Torfaen: Total population aged 18 and over",72720,72770,72930,73310,73790]
["Indicator","Age band","Wales","ABM UHB","Aneurin Bevan UHB","Betsi Cadwaladr UHB","Cardiff and Vale UHB","Cwm Taf UHB","Hywel Dda UHB","Powys THB",null,null,null,null,null,null,null,null,null,null,null,null,null,null,null,null,null,null,null,null,null,null,null,null,null,null,null,null,null,null,null,null,null,null,null,null,null,null,null,null,"Wrexham: People aged 18-24",11050,10790,11080,12690,12900]
["Population by age band, 2014","<16 ",554800,91500,108300,123800,88900,55200,65300,21900,null,null,null,null,null,null,null,null,null,null,null,null,null,null,null,null,null,null,null,null,null,null,null,null,null,null,null,null,null,null,null,null,null,null,null,null,null,null,null,null,"Wrexham: People aged 25-34",19490,19770,19670,18910,20000]
["Population by age band, 2014","16-64 ",1922400,329800,361600,418100,318700,186500,230600,77200,null,null,null,null,null,null,null,null,null,null,null,null,null,null,null,null,null,null,null,null,null,null,null,null,null,null,null,null,null,null,null,null,null,null,null,null,null,null,null,null,"Wrexham: People aged 35-44",17480,18360,20490,21370,21280]
["Population by age band, 2014","65-84 ",535900,88800,97300,132300,63900,47900,76600,29100,null,null,null,null,null,null,null,null,null,null,null,null,null,null,null,null,null,null,null,null,null,null,null,null,null,null,null,null,null,null,null,null,null,null,null,null,null,null,null,null,"Wrexham: People aged 45-54",20050,19430,18050,18830,20940]
["Population by age band, 2014","85+ ",78900,13000,13300,19800,10500,6300,11500,4500,null,null,null,null,null,null,null,null,null,null,null,null,null,null,null,null,null,null,null,null,null,null,null,null,null,null,null,null,null,null,null,null,null,null,null,null,null,null,null,null,"Wrexham: People aged 55-64",16930,17830,19270,19160,17860]
["Population projection",null,null,null,null,null,null,null,null,null,null,null,null,null,null,null,null,null,null,null,null,null,null,null,null,null,null,null,null,null,null,null,null,null,null,null,null,null,null,null,null,null,null,null,null,null,null,null,null,null,"Wrexham: People aged 65-69",7990,7680,7960,8970,9400]
["Indicator","Projected to","Wales","ABM UHB","Aneurin Bevan UHB","Betsi Cadwaladr UHB","Cardiff and Vale UHB","Cwm Taf UHB","Hywel Dda UHB","Powys THB",null,null,null,null,null,null,null,null,null,null,null,null,null,null,null,null,null,null,null,null,null,null,null,null,null,null,null,null,null,null,null,null,null,null,null,null,null,null,null,null,"Wrexham: People aged 70-74",7160,7750,7160,7460,8440]
["Population aged 0-18, by age, projected to 2035",2017,null,null,null,null,null,null,null,null,null,null,null,null,null,null,null,null,null,null,null,null,null,null,null,null,null,null,null,null,null,null,null,null,null,null,null,null,null,null,null,null,null,null,null,null,null,null,null,null,"Wrexham: People aged 75-79",4970,5700,6950,6470,6780]
[null,2020,null,null,null,null,null,null,null,null,null,null,null,null,null,null,null,null,null,null,null,null,null,null,null,null,null,null,null,null,null,null,null,null,null,null,null,null,null,null,null,null,null,null,null,null,null,null,null,null,"Wrexham: People aged 80-84",3480,3820,4770,5880,5540]
[null,2025,null,null,null,null,null,null,null,null,null,null,null,null,null,null,null,null,null,null,null,null,null,null,null,null,null,null,null,null,null,null,null,null,null,null,null,null,null,null,null,null,null,null,null,null,null,null,null,null,"Wrexham: People aged 85 and over",3580,3920,4780,6170,7980]
[null,2030,null,null,null,null,null,null,null,null,null,null,null,null,null,null,null,null,null,null,null,null,null,null,null,null,null,null,null,null,null,null,null,null,null,null,null,null,null,null,null,null,null,null,null,null,null,null,null,null,"Wrexham: Total population aged 18 and over",112180,115050,120170,125900,131140]
[null,2035]
["Population aged 18+ by age, projected to 2035","Projected to","Wales","ABM UHB","Aneurin Bevan UHB","Betsi Cadwaladr UHB","Cardiff and Vale UHB","Cwm Taf UHB","Hywel Dda UHB","Powys THB"]
[null,2017]
[null,2020]
[null,2025]
[null,2030]
[null,2035]
["Life expectancy"]
["Indicator","Period","Wales","ABM","AB","BC","CV","CT","HD","Powys"]
["Life expectancy at birth (M)","2013-15",{"$f":"F2","v":78.427224500511898},{"$f":"F6","v":77.654538588619403},{"$f":"F9","v":78.281092408909103},{"$f":"F3","v":78.814600292418106},{"$f":"F7","v":78.588363966261397},{"$f":"F8","v":76.848808841017998},{"$f":"F5","v":79.051983190785705},{"$f":"F4","v":80.292127330146897}]
["Life expectancy at birth (F)","2013-15",{"$f":"F32","v":82.265512507796402},{"$f":"F36","v":81.923648050140102},{"$f":"F39","v":81.972762421397704},{"$f":"F33","v":82.468546845252206},{"$f":"F37","v":82.860622755936205},{"$f":"F38","v":80.619726306969199},{"$f":"F35","v":82.824022497989006},{"$f":"F34","v":83.520143481262096}]
["The gap in life expectancy at birth between the most and least deprived (M)","2013-15",{"$f":"F122","v":8.9803499999999996},{"$f":"F126","v":9.6274099999999994},{"$f":"F129","v":8.4991830000000004},{"$f":"F123","v":8.7729379999999999},{"$f":"F127","v":10.61214},{"$f":"F128","v":7.5326199999999996},{"$f":"F125","v":4.8713870000000004},{"$f":"F124","v":5.1600809999999999}]
["The gap in life expectancy at birth between the most and least deprived (F)","2013-15",{"$f":"F152","v":6.9305909999999997},{"$f":"F156","v":6.8675879999999996},{"$f":"F159","v":7.2568700000000002},{"$f":"F153","v":6.1919000000000004},{"$f":"F157","v":8.2920180000000006},{"$f":"F158","v":3.896906},{"$f":"F155","v":4.0948960000000003},{"$f":"F154","v":5.2089379999999998}]
["Healthy life expectancy"]
["Indicator","Period","Wales","ABM","AB","BC","CV","CT","HD","Powys"]
["Healthy life expectancy at birth (M)","2010-2014",{"$f":"F62","v":65.251177237928502},{"$f":"F66","v":63.945200565291202},{"$f":"F69","v":63.815441416326301},{"$f":"F63","v":67.569652577722096},{"$f":"F67","v":65.712410345892806},{"$f":"F68","v":61.186659488599503},{"$f":"F65","v":66.185000775231003},{"$f":"F64","v":68.172857711533595}]
["Healthy life expectancy at birth (F)","2010-2014",{"$f":"F92","v":66.717144517837099},{"$f":"F96","v":64.955076623402405},{"$f":"F99","v":65.272972014946603},{"$f":"F93","v":69.216218010045097},{"$f":"F97","v":67.618959669652},{"$f":"F98","v":62.632552512874},{"$f":"F95","v":67.635457427326699},{"$f":"F94","v":68.682625252668501}]
["The gap in healthy life expectancy at birth between the most and least deprived (M)","2010-2014",{"$f":"F182","v":18.668099999999999},{"$f":"F186","v":20.828880000000002},{"$f":"F189","v":18.29871},{"$f":"F183","v":13.32647},{"$f":"F187","v":23.18956},{"$f":"F188","v":14.78356},{"$f":"F185","v":12.16854},{"$f":"F184","v":10.40105}]
["The gap in healthy life expectancy at birth between the most and least deprived (F)","2010-2014",{"$f":"F212","v":18.208169999999999},{"$f":"F216","v":18.29983},{"$f":"F219","v":18.580870000000001},{"$f":"F213","v":13.800929999999999},{"$f":"F217","v":21.902439999999999},{"$f":"F218","v":15.0085},{"$f":"F215","v":12.15889},{"$f":"F214","v":14.40537}]
["Deprivation"]
["Indicator","Deprivation","Wales","ABM","AB","BC","CV","CT","HD","Powys"]
["Population estimates by deprivation fifth, 2015",{"$f":"K1","v":"Least deprived"},{"$f":"L33","v":19.835428897423306},{"$f":"L6","v":23.837127425941901},{"$f":"L9","v":17.9752453208981},{"$f":"L3","v":20.042679845004798},{"$f":"L7","v":34.676906954483897},{"$f":"L8","v":11.878612229767301},{"$f":"L5","v":7.5299625028377299},{"$f":"L4","v":10.170232656323}]
[null,{"$f":"N1","v":"Next least deprived"},{"$f":"O33","v":20.275332791668252},{"$f":"O6","v":13.286492370581501},{"$f":"O9","v":14.130896252765201},{"$f":"O3","v":28.4640295591045},{"$f":"O7","v":15.705556655774499},{"$f":"O8","v":8.9918614251773494},{"$f":"O5","v":27.463996722586199},{"$f":"O4","v":53.212406326804498}]
[null,{"$f":"Q1","v":"Middle"},{"$f":"R33","v":20.562546505647148},{"$f":"R6","v":16.4532053453506},{"$f":"R9","v":20.079444609643701},{"$f":"R3","v":21.719202906376498},{"$f":"R7","v":12.306292702247701},{"$f":"R8","v":15.9334085968962},{"$f":"R5","v":37.806115925464901},{"$f":"R4","v":23.613938269929601}]
[null,{"$f":"S1","v":"Next most deprived"},{"$f":"U33","v":19.885540446441304},{"$f":"U6","v":21.115352848709499},{"$f":"U9","v":21.822516410588701},{"$f":"U3","v":17.937630404637801},{"$f":"U7","v":13.157037000363101},{"$f":"U8","v":34.284462567610802},{"$f":"U5","v":19.742764769889501},{"$f":"U4","v":9.5067927202545199}]
[null,{"$f":"W1","v":"Most deprived"},{"$f":"X33","v":19.44115135881999},{"$f":"X6","v":25.307822009416402},{"$f":"X9","v":25.9918974061043},{"$f":"X3","v":11.836457284876399},{"$f":"X7","v":24.154206687130699},{"$f":"X8","v":28.911655180548301},{"$f":"X5","v":7.45716007922156},{"$f":"X4","v":3.4966300266883801}]
["LA"]
["Population"]
["Indicator","Age band","Wales","Bridgend","Neath Port Talbot","Swansea","Blaenau Gwent","Caerphilly","Monmouthshire","Newport","Torfaen","Anglesey","Conwy","Denbighshire","Flintshire","Gwynedd","Wrexham","Cardiff","Vale of Glamorgan","Merthyr Tydfil","Rhondda Cynon Taf","Carmarthenshire","Ceredigion","Pembrokeshire","Powys"]
["Population by age, 2014","<16 ",554800,25500,24500,41500,12200,34200,15600,29300,16900,12100,18900,17100,28400,20900,26300,65300,23700,11000,44200,32600,11000,21600,21900]
[null,"16-64 ",1922400,88300,87900,153500,44000,113100,55500,92100,56900,41100,66900,55900,95100,74100,85000,240200,78500,37500,149100,110700,47300,72600,77200]
[null,"65-84 ",535900,24200,24500,40100,11900,29200,18500,22200,15500,14800,25800,19100,26900,23400,22300,41700,22200,9300,38500,36100,14800,25700,29100]
[null,"85+ ",78900,3200,3600,6200,1500,3500,2800,3200,2300,2200,4600,2700,3400,3800,3200,7100,3300,1200,5100,5400,2300,3800,4500]
["Population projection"]
["Indicator","Projected to","Wales","Bridgend","Neath Port Talbot","Swansea","Blaenau Gwent","Caerphilly","Monmouthshire","Newport","Torfaen","Isle of Anglesey","Conwy","Denbighshire","Flintshire","Gwynedd","Wrexham","Cardiff","The Vale of Glamorgan","Merthyr Tydfil","Rhondda Cynon Taf","Carmarthenshire","Ceredigion","Pembrokeshire","Powys"]
["Population aged 0-18, by age, projected to 2035",2017,634270,29280,28360,47110,13630,38870,17390,34100,19450,13790,21700,19560,31940,22850,30590,76400,26580,12490,50280,37980,12780,24610,24540]
[null,2020,645950,29760,28790,47860,13630,38980,17130,35230,19870,14040,21920,20010,32090,22840,31470,80820,26710,12710,51070,38730,13050,24840,24400]
[null,2025,657050,30130,28910,49110,13280,38300,16710,37080,20110,14130,21860,20430,31690,23120,32130,87630,26700,12770,50970,39480,13520,24830,24150]
[null,2030,645870,29480,28040,49180,12290,36440,16060,37590,19560,13370,20870,19870,30030,23360,31660,91180,25920,12170,49040,38900,13760,23840,23240]
[null,2035,628710,28120,26530,48470,11230,34550,15360,37480,18540,12520,19570,19150,28620,23900,31390,93410,25120,11350,46960,38020,13790,22610,22020]
["Population aged 18+ by age, projected to 2035","Projected to","Wales","Bridgend","Neath Port Talbot","Swansea","Blaenau Gwent","Caerphilly","Monmouthshire","Newport","Torfaen","Anglesey","Conwy","Denbighshire","Flintshire","Gwynedd","Wrexham","Cardiff","Vale of Glamorgan","Merthyr Tydfil","Rhondda Cynon Taf","Carmarthenshire","Ceredigion","Pembrokeshire","Powys"]
[null,2017,2510820,114440,112960,142550,55620,151900,74710,117640,72720,56430,94520,76850,122840,100650,112180,294830,102800,47840,185900,199550,63520,100010,110350]
[null,2020,2539770,115890,113210,143520,55350,154170,75160,119760,72770,56230,94690,77650,123470,101910,115050,304030,103890,48320,185870,202980,63850,100700,111280]
[null,2025,2588720,118100,113760,145170,54950,157960,75630,123260,72930,55860,95000,78990,124480,103960,120170,320490,105560,49080,186460,208470,64430,101710,112300]
[null,2030,2646380,120360,114630,146970,54740,162150,75750,127720,73310,55880,95590,80730,125810,106050,125900,340150,107400,50100,187830,214410,64990,102910,112990]
[null,2035,2698770,122750,115700,148020,54300,165900,75280,132530,73790,55750,95970,82230,126180,107570,131140,360640,108600,51070,188750,220460,65410,103760,112960]
["Life expectancy"]
["Indicator","Period","Wales","Bridgend","Neath Port Talbot","Swansea","Blaenau Gwent","Caerphilly","Monmouthshire","Newport","Torfaen","Anglesey","Conwy","Denbighshire","Flintshire","Gwynedd","Wrexham","Cardiff","Vale of Glamorgan","Merthyr Tydfil","Rhondda Cynon Taf","Carmarthenshire","Ceredigion","Pembrokeshire","Powys"]
["Life expectancy at birth (M)","2017-18",{"$f":"C264","v":78.427224500511898},{"$f":"F22","v":77.202759794232193},{"$f":"F21","v":77.432208024473795},{"$f":"F20","v":78.031397639411097},{"$f":"F28","v":76.473907100153795},{"$f":"F27","v":77.782819116243104},{"$f":"F30","v":80.723492204069103},{"$f":"F31","v":78.071655516766995},{"$f":"F29","v":78.222959580189993},{"$f":"F10","v":78.775400701150105},{"$f":"F12","v":78.889948088249895},{"$f":"F13","v":77.992449614299403},{"$f":"F14","v":79.009877163649094},{"$f":"F11","v":79.587398900881098},{"$f":"F15","v":78.427642023663907},{"$f":"F24","v":78.324657716736994},{"$f":"F23","v":79.136697347913596},{"$f":"F26","v":76.600646362001697},{"$f":"F25","v":76.928854016227106},{"$f":"F19","v":78.649684556559393},{"$f":"F17","v":79.916938131032197},{"$f":"F18","v":79.141769607585402},{"$f":"F16","v":80.292127330146897}]
["Life expectancy at birth (F)","2017-18",{"$f":"C265","v":82.265512507796402},{"$f":"F52","v":81.816991591063797},{"$f":"F51","v":81.138004945848294},{"$f":"F50","v":82.468006634191596},{"$f":"F58","v":80.579227259605105},{"$f":"F57","v":81.151733396521607},{"$f":"F60","v":84.086453933156207},{"$f":"F61","v":82.285635745008406},{"$f":"F59","v":81.964322486197901},{"$f":"F40","v":82.625920482334294},{"$f":"F42","v":82.542523432767297},{"$f":"F43","v":81.824766954455797},{"$f":"F44","v":82.444871112201298},{"$f":"F41","v":83.667973378920607},{"$f":"F45","v":81.638306110355302},{"$f":"F54","v":82.627107529956902},{"$f":"F53","v":83.243109813766694},{"$f":"F56","v":80.550689768871294},{"$f":"F55","v":80.644280484984094},{"$f":"F49","v":82.302823735513201},{"$f":"F47","v":83.712188926709203},{"$f":"F48","v":83.150400312112495},{"$f":"F46","v":83.520143481262096}]
["The gap in life expectancy at birth between the most and least deprived (M)","2017-18",{"$f":"C266","v":8.9803499999999996},{"$f":"F142","v":9.2287289999999995},{"$f":"F141","v":7.3757859999999997},{"$f":"F140","v":10.71898},{"$f":"F148","v":5.7673160000000001},{"$f":"F147","v":7.6088180000000003},{"$f":"F150","v":5.2928980000000001},{"$f":"F151","v":9.3988800000000001},{"$f":"F149","v":6.9345939999999997},{"$f":"F130","v":7.225047},{"$f":"F132","v":9.6763410000000007},{"$f":"F133","v":12.135109999999999},{"$f":"F134","v":9.795579},{"$f":"F131","v":3.4185409999999998},{"$f":"F135","v":8.2291070000000008},{"$f":"F144","v":11.017250000000001},{"$f":"F143","v":8.9706840000000003},{"$f":"F146","v":7.991498},{"$f":"F145","v":7.386565},{"$f":"F139","v":6.3319140000000003},{"$f":"F137","v":1.2176990000000001},{"$f":"F138","v":4.6658480000000004},{"$f":"F136","v":5.1600809999999999}]
["The gap in life expectancy at birth between the most and least deprived (F)","2017-18",{"$f":"C267","v":6.9305909999999997},{"$f":"F172","v":5.3510900000000001},{"$f":"F171","v":6.3387589999999996},{"$f":"F170","v":7.1296059999999999},{"$f":"F178","v":3.6830349999999998},{"$f":"F177","v":6.5555979999999998},{"$f":"F180","v":4.174849},{"$f":"F181","v":6.6212150000000003},{"$f":"F179","v":7.3699779999999997},{"$f":"F160","v":4.1166530000000003},{"$f":"F162","v":6.2511510000000001},{"$f":"F163","v":7.2671609999999998},{"$f":"F164","v":7.1348960000000003},{"$f":"F161","v":2.6647129999999999},{"$f":"F165","v":6.6272209999999996},{"$f":"F174","v":8.8436369999999993},{"$f":"F173","v":6.9654179999999997},{"$f":"F176","v":4.6191269999999998},{"$f":"F175","v":3.7770519999999999},{"$f":"F169","v":4.3279730000000001},{"$f":"F167","v":3.227716},{"$f":"F168","v":3.406263},{"$f":"F166","v":5.2089379999999998}]
["Healthy life expectancy"]
["Indicator","Period","Wales","Bridgend","Neath Port Talbot","Swansea","Blaenau Gwent","Caerphilly","Monmouthshire","Newport","Torfaen","Anglesey","Conwy","Denbighshire","Flintshire","Gwynedd","Wrexham","Cardiff","Vale of Glamorgan","Merthyr Tydfil","Rhondda Cynon Taf","Carmarthenshire","Ceredigion","Pembrokeshire","Powys"]
["Healthy life expectancy at birth (M)","2017-18",{"$f":"C270","v":65.251177237928502},{"$f":"F82","v":63.429316058267197},{"$f":"F81","v":61.887857414649702},{"$f":"F80","v":65.496199032119407},{"$f":"F88","v":59.643934124662401},{"$f":"F87","v":61.535865486879104},{"$f":"F90","v":69.825962681271506},{"$f":"F91","v":65.446761897125796},{"$f":"F89","v":63.085652243824498},{"$f":"F70","v":67.7329276810121},{"$f":"F72","v":67.295735922105706},{"$f":"F73","v":67.492961585516497},{"$f":"F74","v":67.721337871669107},{"$f":"F71","v":68.157960992029601},{"$f":"F75","v":66.810441143271504},{"$f":"F84","v":65.321167371750505},{"$f":"F83","v":66.628233756653103},{"$f":"F86","v":61.065932537075398},{"$f":"F85","v":61.220139740031101},{"$f":"F79","v":65.005426995289596},{"$f":"F77","v":67.864230236166406},{"$f":"F78","v":66.855493549082993},{"$f":"F76","v":68.172857711533595}]
["Healthy life expectancy at birth (F)","2017-18",{"$f":"C271","v":66.717144517837099},{"$f":"F112","v":64.309392986560994},{"$f":"F111","v":62.422151667302998},{"$f":"F110","v":66.822789610821104},{"$f":"F118","v":59.312790459915099},{"$f":"F117","v":63.705104120473301},{"$f":"F120","v":70.733515617830903},{"$f":"F121","v":67.189324725359995},{"$f":"F119","v":64.371463044857407},{"$f":"F100","v":70.917290703557001},{"$f":"F102","v":69.099080741698401},{"$f":"F103","v":67.664147575000996},{"$f":"F104","v":68.869451432879202},{"$f":"F101","v":71.108181746420897},{"$f":"F105","v":67.849483090139998},{"$f":"F114","v":67.067630768689298},{"$f":"F113","v":68.712124053355396},{"$f":"F116","v":61.470371375796802},{"$f":"F115","v":62.936915529800203},{"$f":"F109","v":65.957055835917103},{"$f":"F107","v":69.711212535215793},{"$f":"F108","v":69.046885034392204},{"$f":"F106","v":68.682625252668501}]
["The gap in healthy life expectancy at birth between the most and least deprived (M)","2017-18",{"$f":"C272","v":18.668099999999999},{"$f":"F202","v":21.544049999999999},{"$f":"F201","v":16.890339999999998},{"$f":"F200","v":21.893409999999999},{"$f":"F208","v":11.794449999999999},{"$f":"F207","v":13.03796},{"$f":"F210","v":10.067},{"$f":"F211","v":18.15821},{"$f":"F209","v":14.78548},{"$f":"F190","v":12.666869999999999},{"$f":"F192","v":14.63977},{"$f":"F193","v":15.950710000000001},{"$f":"F194","v":11.63358},{"$f":"F191","v":9.1769300000000005},{"$f":"F195","v":14.96532},{"$f":"F204","v":24.36261},{"$f":"F203","v":20.88212},{"$f":"F206","v":15.480829999999999},{"$f":"F205","v":15.122120000000001},{"$f":"F199","v":10.60403},{"$f":"F197","v":9.2937580000000004},{"$f":"F198","v":11.948499999999999},{"$f":"F196","v":10.40105}]
["The gap in healthy life expectancy at birth between the most and least deprived (F)","2017-18",{"$f":"C273","v":18.208169999999999},{"$f":"F232","v":16.16461},{"$f":"F231","v":18.418600000000001},{"$f":"F230","v":16.334299999999999},{"$f":"F238","v":12.34524},{"$f":"F237","v":14.579029999999999},{"$f":"F240","v":11.144159999999999},{"$f":"F231","v":18.418600000000001},{"$f":"F229","v":12.475059999999999},{"$f":"F220","v":6.8310009999999997},{"$f":"F222","v":13.513350000000001},{"$f":"F223","v":20.545760000000001},{"$f":"F224","v":13.65122},{"$f":"F221","v":7.0019419999999997},{"$f":"F225","v":16.94312},{"$f":"F234","v":21.776499999999999},{"$f":"F233","v":23.412859999999998},{"$f":"F236","v":15.182499999999999},{"$f":"F235","v":13.34769},{"$f":"F229","v":12.475059999999999},{"$f":"F227","v":6.6689800000000004},{"$f":"F228","v":11.940849999999999},{"$f":"F226","v":14.40537}]
["Deprivation"]
["Indicator","Deprivation","Wales","Bridgend","Neath Port Talbot","Swansea","Blaenau Gwent","Caerphilly","Monmouthshire","Newport","Torfaen","Anglesey","Conwy","Denbighshire","Flintshire","Gwynedd","Wrexham","Cardiff","Vale of Glamorgan","Merthyr Tydfil","Rhondda Cynon Taf","Carmarthenshire","Ceredigion","Pembrokeshire","Powys"]
["Population estimates by deprivation fifth, 2015","Least deprived",{"$f":"C276","v":19.835428897423306},{"$f":"L23","v":22.6008501534217},{"$f":"L22","v":10.987857467090301},{"$f":"L21","v":32.036207309123597},{"$f":"L29","v":0},{"$f":"L28","v":11.700450700472899},{"$f":"L31","v":38.168822180890203},{"$f":"L32","v":25.336843316257099},{"$f":"L30","v":11.717627074349901},{"$f":"L11","v":14.052787264750901},{"$f":"L13","v":22.004336677623101},{"$f":"L14","v":19.922695926751199},{"$f":"L15","v":29.304100626971501},{"$f":"L12","v":10.4823219169163},{"$f":"L16","v":19.678441531830199},{"$f":"L25","v":29.610538694142701},{"$f":"L24","v":48.858862624616002},{"$f":"L27","v":5.8593486615872203},{"$f":"L26","v":13.3826992009637},{"$f":"L20","v":4.4154427056605599},{"$f":"L18","v":20.538034886525001},{"$f":"L19","v":4.3356767964750897},{"$f":"L17","v":10.170232656323}]
[null,"Next least deprived",{"$f":"C277","v":20.275332791668252},{"$f":"O23","v":15.815809475551101},{"$f":"O22","v":12.3787165229233},{"$f":"O21","v":12.3317738115867},{"$f":"O29","v":1.75572299551363},{"$f":"O28","v":12.064563397793099},{"$f":"O31","v":27.198408235650302},{"$f":"O32","v":10.2078243745305},{"$f":"O30","v":20.709743455725398},{"$f":"O11","v":18.052558624730299},{"$f":"O13","v":30.342976131063999},{"$f":"O14","v":24.2282793507303},{"$f":"O15","v":28.591456053584601},{"$f":"O12","v":40.306354994139902},{"$f":"O16","v":24.3415515891311},{"$f":"O25","v":16.842871542166002},{"$f":"O24","v":12.521944949526601},{"$f":"O27","v":7.5854628818016296},{"$f":"O26","v":9.34329074895434},{"$f":"O20","v":23.019289877540899},{"$f":"O18","v":25.925082393290602},{"$f":"O19","v":35.058802565930201},{"$f":"O17","v":53.212406326804498}]
[null,"Middle",{"$f":"C278","v":20.562546505647148},{"$f":"R23","v":14.7531176983926},{"$f":"R22","v":17.156292555606001},{"$f":"R21","v":17.040869371488},{"$f":"R29","v":23.918670194409302},{"$f":"R28","v":22.833640460913401},{"$f":"R31","v":23.543405856654701},{"$f":"R32","v":14.371079184402699},{"$f":"R30","v":17.465917505117801},{"$f":"R11","v":37.536975378327803},{"$f":"R13","v":15.5569705209176},{"$f":"R14","v":24.372960471428101},{"$f":"R15","v":11.5379622778665},{"$f":"R12","v":31.667534835264998},{"$f":"R16","v":19.555497010545398},{"$f":"R25","v":12.807705230149001},{"$f":"R24","v":10.9027211737413},{"$f":"R27","v":22.0130132829883},{"$f":"R26","v":14.4142436534112},{"$f":"R20","v":37.380552389492401},{"$f":"R18","v":44.874199512338897},{"$f":"R19","v":34.171094408086603},{"$f":"R17","v":23.613938269929601}]
[null,"Next most deprived",{"$f":"C279","v":19.885540446441304},{"$f":"U23","v":25.820595107395199},{"$f":"U22","v":30.15632092601},{"$f":"U21","v":13.0979198125273},{"$f":"U29","v":27.650120786839999},{"$f":"U28","v":25.881974201283299},{"$f":"U31","v":11.0893637268048},{"$f":"U32","v":18.578321569476699},{"$f":"U30","v":25.473670456030298},{"$f":"U11","v":14.9587733462896},{"$f":"U13","v":18.1572561909515},{"$f":"U14","v":16.765056869184999},{"$f":"U15","v":19.0622687799369},{"$f":"U12","v":13.438435994270099},{"$f":"U16","v":22.866217333713902},{"$f":"U25","v":13.0832120058237},{"$f":"U24","v":13.3636905135118},{"$f":"U27","v":35.122378801159698},{"$f":"U26","v":34.075084979213301},{"$f":"U20","v":25.733701376922401},{"$f":"U18","v":7.1246751158865003},{"$f":"U19","v":18.388356120002602},{"$f":"U17","v":9.5067927202545199}]
[null,"Most deprived",{"$f":"C280","v":19.44115135881999},{"$f":"X23","v":21.009627565239398},{"$f":"X22","v":29.3208125283704},{"$f":"X21","v":25.493229695274401},{"$f":"X29","v":46.675486023237099},{"$f":"X28","v":27.5193712395373},{"$f":"X31","v":0},{"$f":"X32","v":31.505931555332999},{"$f":"X30","v":24.6330415087765},{"$f":"X11","v":15.3989053859015},{"$f":"X13","v":13.938460479443799},{"$f":"X14","v":14.7110073819054},{"$f":"X15","v":11.5042122616405},{"$f":"X12","v":4.1053522594087797},{"$f":"X16","v":13.558292534779399},{"$f":"X25","v":27.6556725277187},{"$f":"X24","v":14.3527807386043},{"$f":"X27","v":29.4197963724631},{"$f":"X26","v":28.784681417457499},{"$f":"X20","v":9.4510136503837998},{"$f":"X18","v":1.5380080919589501},{"$f":"X19","v":8.0460701095055995},{"$f":"X17","v":3.4966300266883801}]
["RPB"]
["Population"]
["Indicator","Age band","ABM","Bridgend","Neath Port Talbot","Swansea","AB","Blaenau Gwent","Caerphilly","Monmouthshire","Newport","Torfaen","BC","Anglesey","Conwy","Denbighshire","Flintshire","Gwynedd","Wrexham","CV","Cardiff","Vale of Glamorgan","CT","Merthyr Tydfil","Rhondda Cynon Taf","HD","Carmarthenshire","Ceredigion","Pembrokeshire","Powys"]
["Population by age band, 2014","<16 ",{"$f":"D245","v":91500},{"$f":"D284","v":25500},{"$f":"E284","v":24500},{"$f":"F284","v":41500},{"$f":"E245","v":108300},{"$f":"G284","v":12200},{"$f":"H284","v":34200},{"$f":"I284","v":15600},{"$f":"J284","v":29300},{"$f":"K284","v":16900},{"$f":"F245","v":123800},{"$f":"L284","v":12100},18900,17100,28400,20900,26300,{"$f":"G245","v":88900},{"$f":"R284","v":65300},{"$f":"S284","v":23700},{"$f":"H245","v":55200},{"$f":"T284","v":11000},{"$f":"U284","v":44200},{"$f":"I245","v":65300},{"$f":"V284","v":32600},{"$f":"W284","v":11000},{"$f":"X284","v":21600},{"$f":"Y284","v":21900}]
[null,"16-64 ",{"$f":"D246","v":329800},{"$f":"D285","v":88300},87900,153500,{"$f":"E246","v":361600},{"$f":"G285","v":44000},113100,55500,92100,56900,{"$f":"F246","v":418100},{"$f":"L285","v":41100},66900,55900,95100,74100,85000,{"$f":"G246","v":318700},{"$f":"R285","v":240200},78500,{"$f":"H246","v":186500},{"$f":"T285","v":37500},149100,{"$f":"I246","v":230600},{"$f":"V285","v":110700},47300,72600,{"$f":"Y285","v":77200}]
[null,"65-84 ",88800,{"$f":"D286","v":24200},24500,40100,97300,{"$f":"G286","v":11900},29200,18500,22200,15500,132300,{"$f":"L286","v":14800},25800,19100,26900,23400,22300,63900,{"$f":"R286","v":41700},22200,47900,{"$f":"T286","v":9300},38500,76600,{"$f":"V286","v":36100},14800,25700,{"$f":"Y286","v":29100}]
[null,"85+ ",13000,{"$f":"D287","v":3200},3600,6200,13300,{"$f":"G287","v":1500},3500,2800,3200,2300,19800,{"$f":"L287","v":2200},4600,2700,3400,3800,3200,10500,{"$f":"R287","v":7100},3300,6300,{"$f":"T287","v":1200},5100,11500,{"$f":"V287","v":5400},2300,3800,{"$f":"Y287","v":4500}]
["Population projection"]
["Indicator","Projected to","ABM","Bridgend","Neath Port Talbot","Swansea","AB","Blaenau Gwent","Caerphilly","Monmouthshire","Newport","Torfaen","BC","Anglesey","Conwy","Denbighshire","Flintshire","Gwynedd","Wrexham","CV","Cardiff","Vale of Glamorgan","CT","Merthyr Tydfil","Rhondda Cynon Taf","HD","Carmarthenshire","Ceredigion","Pembrokeshire","Powys"]
["Population aged 0-18, by age, projected to 2035",2017]
[null,2020]
[null,2025]
[null,2030]
[null,2035]
["Population aged 18+ by age, projected to 2035","Projected to","ABM","Bridgend","Neath Port Talbot","Swansea","AB","Blaenau Gwent","Caerphilly","Monmouthshire","Newport","Torfaen","BC","Anglesey","Conwy","Denbighshire","Flintshire","Gwynedd","Wrexham","CV","Cardiff","Vale of Glamorgan","CT","Merthyr Tydfil","Rhondda Cynon Taf","HD","Carmarthenshire","Ceredigion","Pembrokeshire","Powys"]
[null,2017]
[null,2020]
[null,2025]
[null,2030]
[null,2035]
["Life expectancy"]
["Indicator","Period","ABM","Bridgend","Neath Port Talbot","Swansea","AB","Blaenau Gwent","Caerphilly","Monmouthshire","Newport","Torfaen","BC","Anglesey","Conwy","Denbighshire","Flintshire","Gwynedd","Wrexham","CV","Cardiff","Vale of Glamorgan","CT","Merthyr Tydfil","Rhondda Cynon Taf","HD","Carmarthenshire","Ceredigion","Pembrokeshire","Powys"]
["Life expectancy at birth (M)","2017-18",{"$f":"D264","v":77.654538588619403},{"$f":"D303","v":77.202759794232193},{"$f":"E303","v":77.432208024473795},78.031397639411097,{"$f":"E264","v":78.281092408909103},{"$f":"G303","v":76.473907100153795},{"$f":"H303","v":77.782819116243104},80.723492204069103,78.071655516766995,78.222959580189993,{"$f":"F264","v":78.814600292418106},{"$f":"L303","v":78.775400701150105},{"$f":"M303","v":78.889948088249895},77.992449614299403,79.009877163649094,79.587398900881098,78.427642023663907,{"$f":"G264","v":78.588363966261397},{"$f":"R303","v":78.324657716736994},{"$f":"S303","v":79.136697347913596},{"$f":"H264","v":76.848808841017998},{"$f":"T303","v":76.600646362001697},{"$f":"U303","v":76.928854016227106},{"$f":"I264","v":79.051983190785705},{"$f":"V303","v":78.649684556559393},79.916938131032197,79.141769607585402,80.292127330146897]
["Life expectancy at birth (F)","2017-18",{"$f":"D265","v":81.923648050140102},{"$f":"D304","v":81.816991591063797},81.138004945848294,82.468006634191596,{"$f":"E265","v":81.972762421397704},{"$f":"G304","v":80.579227259605105},81.151733396521607,84.086453933156207,82.285635745008406,81.964322486197901,{"$f":"F265","v":82.468546845252206},{"$f":"L304","v":82.625920482334294},{"$f":"M304","v":82.542523432767297},{"$f":"N304","v":81.824766954455797},{"$f":"O304","v":82.444871112201298},{"$f":"P304","v":83.667973378920607},{"$f":"Q304","v":81.638306110355302},{"$f":"G265","v":82.860622755936205},{"$f":"R304","v":82.627107529956902},83.243109813766694,{"$f":"H265","v":80.619726306969199},{"$f":"T304","v":80.550689768871294},80.644280484984094,{"$f":"I265","v":82.824022497989006},82.302823735513201,83.712188926709203,83.150400312112495,83.520143481262096]
["The gap in life expectancy at birth between the most and least deprived (M)","2017-18",{"$f":"D266","v":9.6274099999999994},{"$f":"D305","v":9.2287289999999995},7.3757859999999997,10.71898,{"$f":"E266","v":8.4991830000000004},{"$f":"G305","v":5.7673160000000001},7.6088180000000003,5.2928980000000001,9.3988800000000001,6.9345939999999997,{"$f":"F266","v":8.7729379999999999},7.225047,9.6763410000000007,12.135109999999999,9.795579,3.4185409999999998,8.2291070000000008,{"$f":"G266","v":10.61214},{"$f":"R305","v":11.017250000000001},8.9706840000000003,{"$f":"H266","v":7.5326199999999996},{"$f":"T305","v":7.991498},7.386565,{"$f":"I266","v":4.8713870000000004},6.3319140000000003,1.2176990000000001,4.6658480000000004,5.1600809999999999]
["The gap in life expectancy at birth between the most and least deprived (F)","2017-18",{"$f":"D267","v":6.8675879999999996},{"$f":"D306","v":5.3510900000000001},6.3387589999999996,7.1296059999999999,{"$f":"E267","v":7.2568700000000002},{"$f":"G306","v":3.6830349999999998},6.5555979999999998,4.174849,6.6212150000000003,7.3699779999999997,{"$f":"F267","v":6.1919000000000004},{"$f":"L306","v":4.1166530000000003},6.2511510000000001,7.2671609999999998,7.1348960000000003,2.6647129999999999,6.6272209999999996,{"$f":"G267","v":8.2920180000000006},{"$f":"R306","v":8.8436369999999993},6.9654179999999997,{"$f":"H267","v":3.896906},{"$f":"T306","v":4.6191269999999998},3.7770519999999999,{"$f":"I267","v":4.0948960000000003},4.3279730000000001,3.227716,3.406263,5.2089379999999998]
["Healthy life expectancy"]
["Indicator","Period","ABM","Bridgend","Neath Port Talbot","Swansea","AB","Blaenau Gwent","Caerphilly","Monmouthshire","Newport","Torfaen","BC","Anglesey","Conwy","Denbighshire","Flintshire","Gwynedd","Wrexham","CV","Cardiff","Vale of Glamorgan","CT","Merthyr Tydfil","Rhondda Cynon Taf","HD","Carmarthenshire","Ceredigion","Pembrokeshire","Powys"]
["Healthy life expectancy at birth (M)","2017-18",{"$f":"D270","v":63.945200565291202},{"$f":"D309","v":63.429316058267197},{"$f":"E309","v":61.887857414649702},65.496199032119407,{"$f":"E270","v":63.815441416326301},{"$f":"G309","v":59.643934124662401},{"$f":"H309","v":61.535865486879104},69.825962681271506,65.446761897125796,63.085652243824498,{"$f":"F270","v":67.569652577722096},{"$f":"L309","v":67.7329276810121},{"$f":"M309","v":67.295735922105706},67.492961585516497,67.721337871669107,68.157960992029601,66.810441143271504,{"$f":"G270","v":65.712410345892806},{"$f":"R309","v":65.321167371750505},{"$f":"S309","v":66.628233756653103},{"$f":"H270","v":61.186659488599503},{"$f":"T309","v":61.065932537075398},{"$f":"U309","v":61.220139740031101},{"$f":"I270","v":66.185000775231003},{"$f":"V309","v":65.005426995289596},67.864230236166406,66.855493549082993,68.172857711533595]
["Healthy life expectancy at birth (F)","2017-18",{"$f":"D271","v":64.955076623402405},{"$f":"D310","v":64.309392986560994},62.422151667302998,66.822789610821104,{"$f":"E271","v":65.272972014946603},{"$f":"G310","v":59.312790459915099},63.705104120473301,70.733515617830903,67.189324725359995,64.371463044857407,{"$f":"F271","v":69.216218010045097},{"$f":"L310","v":70.917290703557001},{"$f":"M310","v":69.099080741698401},{"$f":"N310","v":67.664147575000996},{"$f":"O310","v":68.869451432879202},{"$f":"P310","v":71.108181746420897},{"$f":"Q310","v":67.849483090139998},{"$f":"G271","v":67.618959669652},{"$f":"R310","v":67.067630768689298},68.712124053355396,{"$f":"H271","v":62.632552512874},{"$f":"T310","v":61.470371375796802},62.936915529800203,{"$f":"I271","v":67.635457427326699},65.957055835917103,69.711212535215793,69.046885034392204,68.682625252668501]
["The gap in healthy life expectancy at birth between the most and least deprived (M)","2017-18",{"$f":"D272","v":20.828880000000002},{"$f":"D311","v":21.544049999999999},16.890339999999998,21.893409999999999,{"$f":"E272","v":18.29871},{"$f":"G311","v":11.794449999999999},13.03796,10.067,18.15821,14.78548,{"$f":"F272","v":13.32647},12.666869999999999,14.63977,15.950710000000001,11.63358,9.1769300000000005,14.96532,{"$f":"G272","v":23.18956},{"$f":"R311","v":24.36261},20.88212,{"$f":"H272","v":14.78356},{"$f":"T311","v":15.480829999999999},15.122120000000001,{"$f":"I272","v":12.16854},10.60403,9.2937580000000004,11.948499999999999,10.40105]
["The gap in healthy life expectancy at birth between the most and least deprived (F)","2017-18",{"$f":"D273","v":18.29983},{"$f":"D312","v":16.16461},18.418600000000001,16.334299999999999,{"$f":"E273","v":18.580870000000001},{"$f":"G312","v":12.34524},14.579029999999999,11.144159999999999,18.418600000000001,12.475059999999999,{"$f":"F273","v":13.800929999999999},6.8310009999999997,13.513350000000001,20.545760000000001,13.65122,7.0019419999999997,16.94312,{"$f":"G273","v":21.902439999999999},{"$f":"R312","v":21.776499999999999},23.412859999999998,{"$f":"H273","v":15.0085},{"$f":"T312","v":15.182499999999999},13.34769,{"$f":"I273","v":12.15889},12.475059999999999,6.6689800000000004,11.940849999999999,14.40537]
["Deprivation"]
["Indicator","Deprivation","ABM","Bridgend","Neath Port Talbot","Swansea","AB","Blaenau Gwent","Caerphilly","Monmouthshire","Newport","Torfaen","BC","Anglesey","Conwy","Denbighshire","Flintshire","Gwynedd","Wrexham","CV","Cardiff","Vale of Glamorgan","CT","Merthyr Tydfil","Rhondda Cynon Taf","HD","Carmarthenshire","Ceredigion","Pembrokeshire","Powys"]
["Population estimates by deprivation fifth, 2015","Least deprived",{"$f":"D276","v":23.837127425941901},{"$f":"D315","v":22.6008501534217},10.987857467090301,32.036207309123597,{"$f":"E276","v":17.9752453208981},{"$f":"G315","v":0},11.700450700472899,38.168822180890203,25.336843316257099,11.717627074349901,{"$f":"F276","v":20.042679845004798},{"$f":"L315","v":14.052787264750901},22.004336677623101,19.922695926751199,29.304100626971501,10.4823219169163,19.678441531830199,{"$f":"G276","v":34.676906954483897},{"$f":"R315","v":29.610538694142701},48.858862624616002,{"$f":"H276","v":11.878612229767301},{"$f":"T315","v":5.8593486615872203},13.3826992009637,{"$f":"I276","v":7.5299625028377299},{"$f":"V315","v":4.4154427056605599},20.538034886525001,4.3356767964750897,10.170232656323]
[null,"Next least deprived",{"$f":"D277","v":13.286492370581501},15.815809475551101,12.3787165229233,12.3317738115867,{"$f":"E277","v":14.130896252765201},1.75572299551363,12.064563397793099,27.198408235650302,10.2078243745305,20.709743455725398,{"$f":"F277","v":28.4640295591045},18.052558624730299,30.342976131063999,24.2282793507303,28.591456053584601,40.306354994139902,24.3415515891311,{"$f":"G277","v":15.705556655774499},16.842871542166002,12.521944949526601,{"$f":"H277","v":8.9918614251773494},7.5854628818016296,9.34329074895434,{"$f":"I277","v":27.463996722586199},23.019289877540899,25.925082393290602,35.058802565930201,53.212406326804498]
[null,"Middle",{"$f":"D278","v":16.4532053453506},14.7531176983926,17.156292555606001,17.040869371488,{"$f":"E278","v":20.079444609643701},23.918670194409302,22.833640460913401,23.543405856654701,14.371079184402699,17.465917505117801,{"$f":"F278","v":21.719202906376498},37.536975378327803,15.5569705209176,24.372960471428101,11.5379622778665,31.667534835264998,19.555497010545398,{"$f":"G278","v":12.306292702247701},12.807705230149001,10.9027211737413,{"$f":"H278","v":15.9334085968962},22.0130132829883,14.4142436534112,{"$f":"I278","v":37.806115925464901},37.380552389492401,44.874199512338897,34.171094408086603,23.613938269929601]
[null,"Next most deprived",{"$f":"D279","v":21.115352848709499},25.820595107395199,30.15632092601,13.0979198125273,{"$f":"E279","v":21.822516410588701},27.650120786839999,25.881974201283299,11.0893637268048,18.578321569476699,25.473670456030298,{"$f":"F279","v":17.937630404637801},14.9587733462896,18.1572561909515,16.765056869184999,19.0622687799369,13.438435994270099,22.866217333713902,{"$f":"G279","v":13.157037000363101},13.0832120058237,13.3636905135118,{"$f":"H279","v":34.284462567610802},35.122378801159698,34.075084979213301,{"$f":"I279","v":19.742764769889501},25.733701376922401,7.1246751158865003,18.388356120002602,9.5067927202545199]
[null,"Most deprived",{"$f":"D280","v":25.307822009416402},21.009627565239398,29.3208125283704,25.493229695274401,{"$f":"E280","v":25.9918974061043},46.675486023237099,27.5193712395373,0,31.505931555332999,24.6330415087765,{"$f":"F280","v":11.836457284876399},15.3989053859015,13.938460479443799,14.7110073819054,11.5042122616405,4.1053522594087797,13.558292534779399,{"$f":"G280","v":24.154206687130699},27.6556725277187,14.3527807386043,{"$f":"H280","v":28.911655180548301},29.4197963724631,28.784681417457499,{"$f":"I280","v":7.45716007922156},9.4510136503837998,1.5380080919589501,8.0460701095055995,3.4966300266883801]

{"sheet":"HB_PP","index":3,"n_rows":56,"n_cols":12,"rows_kept":56,"cut":false,"hidden":false,"merged":[]}
[]
[]
[]
[]
[]
[]
[null,null,null,null,"Key:"]
[null,"ⓘ You are currently viewing the category page for population profile",null,null,null,"Primary care data exists, but no PHW access"]
[null,"ⓘ You are currently viewing this information by health board",null,null,null,"No statistical comparison made, or no data available"]
[]
[]
[]
[]
[null,null,"Compare your position to others, and use the checkbox to select indicators of interest for review."]
[null,null,"After selecting indicators, scroll right to click 'Review this indicator'; this will open a web page."]
[null,null,"When complete, click the 'Next' button at the top, for the next category page."]
[]
[]
[null,null,"Population"]
[null,null,"Indicator","Age band","Wales","Abertawe BM","Aneurin Bevan","Betsi Cadwaladr","Cardiff and Vale","Cwm Taf","Hywel Dda","Powys"]
[null,null,"Population by age band, 2014","<16 ",554800,91500,108300,123800,88900,55200,65300,21900]
[null,null,null,"16-64 ",1922400,329800,361600,418100,318700,186500,230600,77200]
[null,null,null,"65-84 ",535900,88800,97300,132300,63900,47900,76600,29100]
[null,null,null,"85+ ",78900,13000,13300,19800,10500,6300,11500,4500]
[null,null,"Population projection"]
[null,null,"Indicator","Projected to","Wales","Abertawe BM","Aneurin Bevan","Betsi Cadwaladr","Cardiff and Vale","Cwm Taf","Hywel Dda","Powys"]
[null,null,"Population aged 0-18",2017,634270]
[null,null,null,2020,645950]
[null,null,null,2025,657050]
[null,null,null,2030,645870]
[null,null,null,2035,628710]
[null,null,null,"Projected to","Wales","Abertawe BM","Aneurin Bevan","Betsi Cadwaladr","Cardiff and Vale","Cwm Taf","Hywel Dda","Powys"]
[null,null,"Population aged 18+",2017,2510820]
[null,null,null,2020,2539770]
[null,null,null,2025,2588720]
[null,null,null,2030,2646380]
[null,null,null,2035,2698770]
[null,null,"Life expectancy"]
[null,null,"Indicator","Period","Wales","Abertawe BM","Aneurin Bevan","Betsi Cadwaladr","Cardiff and Vale","Cwm Taf","Hywel Dda","Powys"]
[null,null,"Life expectancy at birth (M) (years)","2013-2015",78.427224500511898,77.654538588619403,78.281092408909103,78.814600292418106,78.588363966261397,76.848808841017998,79.051983190785705,80.292127330146897]
[null,null,"Life expectancy at birth (F) (years)","2013-2015",82.265512507796402,81.923648050140102,81.972762421397704,82.468546845252206,82.860622755936205,80.619726306969199,82.824022497989006,83.520143481262096]
[null,null,"The gap in life expectancy at birth between the most and least deprived (M) (years)","2013-2015",8.9803499999999996,9.6274099999999994,8.4991830000000004,8.7729379999999999,10.61214,7.5326199999999996,4.8713870000000004,5.1600809999999999]
[null,null,"The gap in life expectancy at birth between the most and least deprived (F) (years)","2013-2015",6.9305909999999997,6.8675879999999996,7.2568700000000002,6.1919000000000004,8.2920180000000006,3.896906,4.0948960000000003,5.2089379999999998]
[null,null,"Healthy life expectancy"]
[null,null,"Indicator","Period","Wales","Abertawe BM","Aneurin Bevan","Betsi Cadwaladr","Cardiff and Vale","Cwm Taf","Hywel Dda","Powys"]
[null,null,"Healthy life expectancy at birth (M) (years)","2010-2014",65.251177237928502,63.945200565291202,63.815441416326301,67.569652577722096,65.712410345892806,61.186659488599503,66.185000775231003,68.172857711533595]
[null,null,"Healthy life expectancy at birth (F) (years)","2010-2014",66.717144517837099,64.955076623402405,65.272972014946603,69.216218010045097,67.618959669652,62.632552512874,67.635457427326699,68.682625252668501]
[null,null,"The gap in healthy life expectancy at birth between the most and least deprived (M) (years)","2010-2014",18.668099999999999,20.828880000000002,18.29871,13.32647,23.18956,14.78356,12.16854,10.40105]
[null,null,"The gap in healthy life expectancy at birth between the most and least deprived (F) (years)","2010-2014",18.208169999999999,18.29983,18.580870000000001,13.800929999999999,21.902439999999999,15.0085,12.15889,14.40537]
[null,null,"Deprivation"]
[null,null,"Indicator","Deprivation level","Wales","Abertawe BM","Aneurin Bevan","Betsi Cadwaladr","Cardiff and Vale","Cwm Taf","Hywel Dda","Powys"]
[null,null,"Population estimates by deprivation fifth, 2015 (%)","Least deprived",19.835428897423306,23.837127425941901,17.9752453208981,20.042679845004798,34.676906954483897,11.878612229767301,7.5299625028377299,10.170232656323]
[null,null,null,"Next least deprived",20.275332791668252,13.286492370581501,14.130896252765201,28.4640295591045,15.705556655774499,8.9918614251773494,27.463996722586199,53.212406326804498]
[null,null,null,"Middle",20.562546505647148,16.4532053453506,20.079444609643701,21.719202906376498,12.306292702247701,15.9334085968962,37.806115925464901,23.613938269929601]
[null,null,null,"Next most deprived",19.885540446441304,21.115352848709499,21.822516410588701,17.937630404637801,13.157037000363101,34.284462567610802,19.742764769889501,9.5067927202545199]
[null,null,null,"Most deprived",19.44115135881999,25.307822009416402,25.9918974061043,11.836457284876399,24.154206687130699,28.911655180548301,7.45716007922156,3.4966300266883801]

{"sheet":"LA_PP","index":4,"n_rows":56,"n_cols":30,"rows_kept":56,"cut":false,"hidden":false,"merged":[]}
[]
[]
[]
[]
[]
[]
[null,null,null,null,"Key:"]
[null,"ⓘ You are currently viewing the category page for population profile",null,null,null,"Primary care data exists, but no PHW access"]
[null,"ⓘ You are currently viewing this information by local authority",null,null,null,"No statistical comparison made, or no data available"]
[]
[]
[]
[]
[null,null,"Compare your position to others, and use the checkbox to select indicators of interest for review."]
[null,null,"After selecting indicators, scroll right to click 'Review this indicator'; this will open a web page."]
[null,null,"When complete, click the 'Next' button at the top, for the next category page."]
[]
[]
[null,null,"Population"]
[null,null,"Indicator","Age band","Wales","Bridgend","Neath Port Talbot","Swansea","Blaenau Gwent","Caerphilly","Monmouthshire","Newport","Torfaen","Anglesey","Conwy","Denbighshire","Flintshire","Gwynedd","Wrexham","Cardiff","Vale of Glamorgan","Merthyr Tydfil","Rhondda Cynon Taf","Carmarthenshire","Ceredigion","Pembrokeshire","Powys"]
[null,null,"Population by age, 2014","<16 ",554800,25500,24500,41500,12200,34200,15600,29300,16900,12100,18900,17100,28400,20900,26300,65300,23700,11000,44200,32600,11000,21600,21900]
[null,null,null,"16-64 ",1922400,88300,87900,153500,44000,113100,55500,92100,56900,41100,66900,55900,95100,74100,85000,240200,78500,37500,149100,110700,47300,72600,77200]
[null,null,null,"65-84 ",535900,24200,24500,40100,11900,29200,18500,22200,15500,14800,25800,19100,26900,23400,22300,41700,22200,9300,38500,36100,14800,25700,29100]
[null,null,null,"85+ ",78900,3200,3600,6200,1500,3500,2800,3200,2300,2200,4600,2700,3400,3800,3200,7100,3300,1200,5100,5400,2300,3800,4500]
[null,null,"Population projection"]
[null,null,"Indicator","Projected to","Wales","Bridgend","Neath Port Talbot","Swansea","Blaenau Gwent","Caerphilly","Monmouthshire","Newport","Torfaen","Anglesey","Conwy","Denbighshire","Flintshire","Gwynedd","Wrexham","Cardiff","Vale of Glamorgan","Merthyr Tydfil","Rhondda Cynon Taf","Carmarthenshire","Ceredigion","Pembrokeshire","Powys"]
[null,null,"Population aged 0-18",2017,634270,29280,28360,47110,13630,38870,17390,34100,19450,13790,21700,19560,31940,22850,30590,76400,26580,12490,50280,37980,12780,24610,24540]
[null,null,null,2020,645950,29760,28790,47860,13630,38980,17130,35230,19870,14040,21920,20010,32090,22840,31470,80820,26710,12710,51070,38730,13050,24840,24400]
[null,null,null,2025,657050,30130,28910,49110,13280,38300,16710,37080,20110,14130,21860,20430,31690,23120,32130,87630,26700,12770,50970,39480,13520,24830,24150]
[null,null,null,2030,645870,29480,28040,49180,12290,36440,16060,37590,19560,13370,20870,19870,30030,23360,31660,91180,25920,12170,49040,38900,13760,23840,23240]
[null,null,null,2035,628710,28120,26530,48470,11230,34550,15360,37480,18540,12520,19570,19150,28620,23900,31390,93410,25120,11350,46960,38020,13790,22610,22020]
[null,null,null,"Projected to","Wales","Bridgend","Neath Port Talbot","Swansea","Blaenau Gwent","Caerphilly","Monmouthshire","Newport","Torfaen","Anglesey","Conwy","Denbighshire","Flintshire","Gwynedd","Wrexham","Cardiff","Vale of Glamorgan","Merthyr Tydfil","Rhondda Cynon Taf","Carmarthenshire","Ceredigion","Pembrokeshire","Powys"]
[null,null,"Population aged 18+",2017,2510820,114440,112960,142550,55620,151900,74710,117640,72720,56430,94520,76850,122840,100650,112180,294830,102800,47840,185900,199550,63520,100010,110350]
[null,null,null,2020,2539770,115890,113210,143520,55350,154170,75160,119760,72770,56230,94690,77650,123470,101910,115050,304030,103890,48320,185870,202980,63850,100700,111280]
[null,null,null,2025,2588720,118100,113760,145170,54950,157960,75630,123260,72930,55860,95000,78990,124480,103960,120170,320490,105560,49080,186460,208470,64430,101710,112300]
[null,null,null,2030,2646380,120360,114630,146970,54740,162150,75750,127720,73310,55880,95590,80730,125810,106050,125900,340150,107400,50100,187830,214410,64990,102910,112990]
[null,null,null,2035,2698770,122750,115700,148020,54300,165900,75280,132530,73790,55750,95970,82230,126180,107570,131140,360640,108600,51070,188750,220460,65410,103760,112960]
[null,null,"Life expectancy"]
[null,null,"Indicator","Period","Wales","Bridgend","Neath Port Talbot","Swansea","Blaenau Gwent","Caerphilly","Monmouthshire","Newport","Torfaen","Anglesey","Conwy","Denbighshire","Flintshire","Gwynedd","Wrexham","Cardiff","Vale of Glamorgan","Merthyr Tydfil","Rhondda Cynon Taf","Carmarthenshire","Ceredigion","Pembrokeshire","Powys"]
[null,null,"Life expectancy at birth (M) (years)","2013-2015",78.427224500511898,77.202759794232193,77.432208024473795,78.031397639411097,76.473907100153795,77.782819116243104,80.723492204069103,78.071655516766995,78.222959580189993,78.775400701150105,78.889948088249895,77.992449614299403,79.009877163649094,79.587398900881098,78.427642023663907,78.324657716736994,79.136697347913596,76.600646362001697,76.928854016227106,78.649684556559393,79.916938131032197,79.141769607585402,80.292127330146897]
[null,null,"Life expectancy at birth (F) (years)","2013-2015",82.265512507796402,81.816991591063797,81.138004945848294,82.468006634191596,80.579227259605105,81.151733396521607,84.086453933156207,82.285635745008406,81.964322486197901,82.625920482334294,82.542523432767297,81.824766954455797,82.444871112201298,83.667973378920607,81.638306110355302,82.627107529956902,83.243109813766694,80.550689768871294,80.644280484984094,82.302823735513201,83.712188926709203,83.150400312112495,83.520143481262096]
[null,null,"The gap in life expectancy at birth between the most and least deprived (M) (years)","2013-2015",8.9803499999999996,9.2287289999999995,7.3757859999999997,10.71898,5.7673160000000001,7.6088180000000003,5.2928980000000001,9.3988800000000001,6.9345939999999997,7.225047,9.6763410000000007,12.135109999999999,9.795579,3.4185409999999998,8.2291070000000008,11.017250000000001,8.9706840000000003,7.991498,7.386565,6.3319140000000003,1.2176990000000001,4.6658480000000004,5.1600809999999999]
[null,null,"The gap in life expectancy at birth between the most and least deprived (F) (years)","2013-2015",6.9305909999999997,5.3510900000000001,6.3387589999999996,7.1296059999999999,3.6830349999999998,6.5555979999999998,4.174849,6.6212150000000003,7.3699779999999997,4.1166530000000003,6.2511510000000001,7.2671609999999998,7.1348960000000003,2.6647129999999999,6.6272209999999996,8.8436369999999993,6.9654179999999997,4.6191269999999998,3.7770519999999999,4.3279730000000001,3.227716,3.406263,5.2089379999999998]
[null,null,"Healthy life expectancy"]
[null,null,"Indicator","Period","Wales","Bridgend","Neath Port Talbot","Swansea","Blaenau Gwent","Caerphilly","Monmouthshire","Newport","Torfaen","Anglesey","Conwy","Denbighshire","Flintshire","Gwynedd","Wrexham","Cardiff","Vale of Glamorgan","Merthyr Tydfil","Rhondda Cynon Taf","Carmarthenshire","Ceredigion","Pembrokeshire","Powys"]
[null,null,"Healthy life expectancy at birth (M) (years)","2010-2014",65.251177237928502,63.429316058267197,61.887857414649702,65.496199032119407,59.643934124662401,61.535865486879104,69.825962681271506,65.446761897125796,63.085652243824498,67.7329276810121,67.295735922105706,67.492961585516497,67.721337871669107,68.157960992029601,66.810441143271504,65.321167371750505,66.628233756653103,61.065932537075398,61.220139740031101,65.005426995289596,67.864230236166406,66.855493549082993,68.172857711533595]
[null,null,"Healthy life expectancy at birth (F) (years)","2010-2014",66.717144517837099,64.309392986560994,62.422151667302998,66.822789610821104,59.312790459915099,63.705104120473301,70.733515617830903,67.189324725359995,64.371463044857407,70.917290703557001,69.099080741698401,67.664147575000996,68.869451432879202,71.108181746420897,67.849483090139998,67.067630768689298,68.712124053355396,61.470371375796802,62.936915529800203,65.957055835917103,69.711212535215793,69.046885034392204,68.682625252668501]
[null,null,"The gap in healthy life expectancy at birth between the most and least deprived (M) (years)","2010-2014",18.668099999999999,21.544049999999999,16.890339999999998,21.893409999999999,11.794449999999999,13.03796,10.067,18.15821,14.78548,12.666869999999999,14.63977,15.950710000000001,11.63358,9.1769300000000005,14.96532,24.36261,20.88212,15.480829999999999,15.122120000000001,10.60403,9.2937580000000004,11.948499999999999,10.40105]
[null,null,"The gap in healthy life expectancy at birth between the most and least deprived (F) (years)","2010-2014",18.208169999999999,16.16461,18.418600000000001,16.334299999999999,12.34524,14.579029999999999,11.144159999999999,18.418600000000001,12.475059999999999,6.8310009999999997,13.513350000000001,20.545760000000001,13.65122,7.0019419999999997,16.94312,21.776499999999999,23.412859999999998,15.182499999999999,13.34769,12.475059999999999,6.6689800000000004,11.940849999999999,14.40537]
[null,null,"Deprivation"]
[null,null,"Indicator","Deprivation level","Wales","Bridgend","Neath Port Talbot","Swansea","Blaenau Gwent","Caerphilly","Monmouthshire","Newport","Torfaen","Anglesey","Conwy","Denbighshire","Flintshire","Gwynedd","Wrexham","Cardiff","Vale of Glamorgan","Merthyr Tydfil","Rhondda Cynon Taf","Carmarthenshire","Ceredigion","Pembrokeshire","Powys"]
[null,null,"Population estimates by deprivation fifth, 2015 (%)","Least deprived",19.835428897423306,22.6008501534217,10.987857467090301,32.036207309123597,0,11.700450700472899,38.168822180890203,25.336843316257099,11.717627074349901,14.052787264750901,22.004336677623101,19.922695926751199,29.304100626971501,10.4823219169163,19.678441531830199,29.610538694142701,48.858862624616002,5.8593486615872203,13.3826992009637,4.4154427056605599,20.538034886525001,4.3356767964750897,10.170232656323]
[null,null,null,"Next least deprived",20.275332791668252,15.815809475551101,12.3787165229233,12.3317738115867,1.75572299551363,12.064563397793099,27.198408235650302,10.2078243745305,20.709743455725398,18.052558624730299,30.342976131063999,24.2282793507303,28.591456053584601,40.306354994139902,24.3415515891311,16.842871542166002,12.521944949526601,7.5854628818016296,9.34329074895434,23.019289877540899,25.925082393290602,35.058802565930201,53.212406326804498,null,null," "]
[null,null,null,"Middle",20.562546505647148,14.7531176983926,17.156292555606001,17.040869371488,23.918670194409302,22.833640460913401,23.543405856654701,14.371079184402699,17.465917505117801,37.536975378327803,15.5569705209176,24.372960471428101,11.5379622778665,31.667534835264998,19.555497010545398,12.807705230149001,10.9027211737413,22.0130132829883,14.4142436534112,37.380552389492401,44.874199512338897,34.171094408086603,23.613938269929601]
[null,null,null,"Next most deprived",19.885540446441304,25.820595107395199,30.15632092601,13.0979198125273,27.650120786839999,25.881974201283299,11.0893637268048,18.578321569476699,25.473670456030298,14.9587733462896,18.1572561909515,16.765056869184999,19.0622687799369,13.438435994270099,22.866217333713902,13.0832120058237,13.3636905135118,35.122378801159698,34.075084979213301,25.733701376922401,7.1246751158865003,18.388356120002602,9.5067927202545199]
[null,null,null,"Most deprived",19.44115135881999,21.009627565239398,29.3208125283704,25.493229695274401,46.675486023237099,27.5193712395373,0,31.505931555332999,24.6330415087765,15.3989053859015,13.938460479443799,14.7110073819054,11.5042122616405,4.1053522594087797,13.558292534779399,27.6556725277187,14.3527807386043,29.4197963724631,28.784681417457499,9.4510136503837998,1.5380080919589501,8.0460701095055995,3.4966300266883801]

{"sheet":"RPB_PP","index":5,"n_rows":56,"n_cols":35,"rows_kept":56,"cut":false,"hidden":false,"merged":[]}
[]
[]
[]
[]
[]
[]
[null,null,null,null,"Key:"]
[null,"ⓘ You are currently viewing the category page for population profile",null,null,null,"Primary care data exists, but no PHW access"]
[null,"ⓘ You are currently viewing this information by regional partnership board",null,null,null,"No statistical comparison made, or no data available"]
[]
[]
[]
[]
[null,null,"Compare your position to others, and use the checkbox to select indicators of interest for review."]
[null,null,"After selecting indicators, scroll right to click 'Review this indicator'; this will open a web page."]
[null,null,"When complete, click the 'Next' button at the top, for the next category page."]
[]
[]
[null,null,"Population"]
[null,null,"Indicator","Age band","Abertawe BM","Bridgend","Neath Port Talbot","Swansea","Aneurin Bevan","Blaenau Gwent","Caerphilly","Monmouthshire","Newport","Torfaen","Betsi Cadwaladr","Anglesey","Conwy","Denbighshire","Flintshire","Gwynedd","Wrexham","Cardiff & Vale","Cardiff","Vale of Glamorgan","Cwm Taf","Merthyr Tydfil","Rhondda Cynon Taf","Hywel Dda","Carmarthenshire","Ceredigion","Pembrokeshire","Powys"]
[null,null,"Population by age band, 2014","<16 ",91500,25500,24500,41500,108300,12200,34200,15600,29300,16900,123800,12100,18900,17100,28400,20900,26300,88900,65300,23700,55200,11000,44200,65300,32600,11000,21600,21900]
[null,null,null,"16-64 ",329800,88300,87900,153500,361600,44000,113100,55500,92100,56900,418100,41100,66900,55900,95100,74100,85000,318700,240200,78500,186500,37500,149100,230600,110700,47300,72600,77200]
[null,null,null,"65-84 ",88800,24200,24500,40100,97300,11900,29200,18500,22200,15500,132300,14800,25800,19100,26900,23400,22300,63900,41700,22200,47900,9300,38500,76600,36100,14800,25700,29100]
[null,null,null,"85+ ",13000,3200,3600,6200,13300,1500,3500,2800,3200,2300,19800,2200,4600,2700,3400,3800,3200,10500,7100,3300,6300,1200,5100,11500,5400,2300,3800,4500]
[null,null,"Population projection"]
[null,null,"Indicator","Projected to","Abertawe BM","Bridgend","Neath Port Talbot","Swansea","Aneurin Bevan","Blaenau Gwent","Caerphilly","Monmouthshire","Newport","Torfaen","Betsi Cadwaladr","Anglesey","Conwy","Denbighshire","Flintshire","Gwynedd","Wrexham","Cardiff & Vale","Cardiff","Vale of Glamorgan","Cwm Taf","Merthyr Tydfil","Rhondda Cynon Taf","Hywel Dda","Carmarthenshire","Ceredigion","Pembrokeshire","Powys"]
[null,null,"Population aged 0-18",2017,null,29280,28360,47110,null,13630,38870,17390,34100,19450,null,13790,21700,19560,22850,22850,30590,null,76400,26580,null,12490,50280,null,37980,12780,24610,24540]
[null,null,null,2020,null,29760,28790,47860,null,13630,38980,17130,35230,19870,null,14040,21920,20010,22840,22840,31470,null,80820,26710,null,12710,51070,null,38730,13050,24840,24400]
[null,null,null,2025,null,30130,28910,49110,null,13280,38300,16710,37080,20110,null,14130,21860,20430,23120,23120,32130,null,87630,26700,null,12770,50970,null,39480,13520,24830,24150]
[null,null,null,2030,null,29480,28040,49180,null,12290,36440,16060,37590,19560,null,13370,20870,19870,23360,23360,31660,null,91180,25920,null,12170,49040,null,38900,13760,23840,23240]
[null,null,null,2035,null,28120,26530,48470,null,11230,34550,15360,37480,18540,null,12520,19570,19150,23900,23900,31390,null,93410,25120,null,11350,46960,null,38020,13790,22610,22020]
[null,null,null,"Projected to","Abertawe BM","Bridgend","Neath Port Talbot","Swansea","Aneurin Bevan","Blaenau Gwent","Caerphilly","Monmouthshire","Newport","Torfaen","Betsi Cadwaladr","Anglesey","Conwy","Denbighshire","Flintshire","Gwynedd","Wrexham","Cardiff & Vale","Cardiff","Vale of Glamorgan","Cwm Taf","Merthyr Tydfil","Rhondda Cynon Taf","Hywel Dda","Carmarthenshire","Ceredigion","Pembrokeshire","Powys"]
[null,null,"Population aged 18+",2017,null,114440,112960,142550,null,55620,151900,74710,117640,72720,null,56430,94520,76850,100650,100650,112180,null,294830,102800,null,47840,185900,null,199550,63520,100010,110350]
[null,null,null,2020,null,115890,113210,143520,null,55350,154170,75160,119760,72770,null,56230,94690,77650,101910,101910,115050,null,304030,103890,null,48320,185870,null,202980,63850,100700,111280]
[null,null,null,2025,null,118100,113760,145170,null,54950,157960,75630,123260,72930,null,55860,95000,78990,103960,103960,120170,null,320490,105560,null,49080,186460,null,208470,64430,101710,112300]
[null,null,null,2030,null,120360,114630,146970,null,54740,162150,75750,127720,73310,null,55880,95590,80730,106050,106050,125900,null,340150,107400,null,50100,187830,null,214410,64990,102910,112990]
[null,null,null,2035,null,122750,115700,148020,null,54300,165900,75280,132530,73790,null,55750,95970,82230,107570,107570,131140,null,360640,108600,null,51070,188750,null,220460,65410,103760,112960]
[null,null,"Life expectancy"]
[null,null,"Indicator","Period","Abertawe BM","Bridgend","Neath Port Talbot","Swansea","Aneurin Bevan","Blaenau Gwent","Caerphilly","Monmouthshire","Newport","Torfaen","Betsi Cadwaladr","Anglesey","Conwy","Denbighshire","Flintshire","Gwynedd","Wrexham","Cardiff & Vale","Cardiff","Vale of Glamorgan","Cwm Taf","Merthyr Tydfil","Rhondda Cynon Taf","Hywel Dda","Carmarthenshire","Ceredigion","Pembrokeshire","Powys"]
[null,null,"Life expectancy at birth (M) (years)","2013-2015",77.654538588619403,77.202759794232193,77.432208024473795,78.031397639411097,78.281092408909103,76.473907100153795,77.782819116243104,80.723492204069103,78.071655516766995,78.222959580189993,78.814600292418106,78.775400701150105,78.889948088249895,77.992449614299403,79.009877163649094,79.587398900881098,78.427642023663907,78.588363966261397,78.324657716736994,79.136697347913596,76.848808841017998,76.600646362001697,76.928854016227106,79.051983190785705,78.649684556559393,79.916938131032197,79.141769607585402,80.292127330146897]
[null,null,"Life expectancy at birth (F) (years)","2013-2015",81.923648050140102,81.816991591063797,81.138004945848294,82.468006634191596,81.972762421397704,80.579227259605105,81.151733396521607,84.086453933156207,82.285635745008406,81.964322486197901,82.468546845252206,82.625920482334294,82.542523432767297,81.824766954455797,82.444871112201298,83.667973378920607,81.638306110355302,82.860622755936205,82.627107529956902,83.243109813766694,80.619726306969199,80.550689768871294,80.644280484984094,82.824022497989006,82.302823735513201,83.712188926709203,83.150400312112495,83.520143481262096]
[null,null,"The gap in life expectancy at birth between the most and least deprived (M) (years)","2013-2015",9.6274099999999994,9.2287289999999995,7.3757859999999997,10.71898,8.4991830000000004,5.7673160000000001,7.6088180000000003,5.2928980000000001,9.3988800000000001,6.9345939999999997,8.7729379999999999,7.225047,9.6763410000000007,12.135109999999999,9.795579,3.4185409999999998,8.2291070000000008,10.61214,11.017250000000001,8.9706840000000003,7.5326199999999996,7.991498,7.386565,4.8713870000000004,6.3319140000000003,1.2176990000000001,4.6658480000000004,5.1600809999999999]
[null,null,"The gap in life expectancy at birth between the most and least deprived (F) (years)","2013-2015",6.8675879999999996,5.3510900000000001,6.3387589999999996,7.1296059999999999,7.2568700000000002,3.6830349999999998,6.5555979999999998,4.174849,6.6212150000000003,7.3699779999999997,6.1919000000000004,4.1166530000000003,6.2511510000000001,7.2671609999999998,7.1348960000000003,2.6647129999999999,6.6272209999999996,8.2920180000000006,8.8436369999999993,6.9654179999999997,3.896906,4.6191269999999998,3.7770519999999999,4.0948960000000003,4.3279730000000001,3.227716,3.406263,5.2089379999999998]
[null,null,"Healthy life expectancy"]
[null,null,"Indicator","Period","Abertawe BM","Bridgend","Neath Port Talbot","Swansea","Aneurin Bevan","Blaenau Gwent","Caerphilly","Monmouthshire","Newport","Torfaen","Betsi Cadwaladr","Anglesey","Conwy","Denbighshire","Flintshire","Gwynedd","Wrexham","Cardiff & Vale","Cardiff","Vale of Glamorgan","Cwm Taf","Merthyr Tydfil","Rhondda Cynon Taf","Hywel Dda","Carmarthenshire","Ceredigion","Pembrokeshire","Powys"]
[null,null,"Healthy life expectancy at birth (M) (years)","2010-2014",63.945200565291202,63.429316058267197,61.887857414649702,65.496199032119407,63.815441416326301,59.643934124662401,61.535865486879104,69.825962681271506,65.446761897125796,63.085652243824498,67.569652577722096,67.7329276810121,67.295735922105706,67.492961585516497,67.721337871669107,68.157960992029601,66.810441143271504,65.712410345892806,65.321167371750505,66.628233756653103,61.186659488599503,61.065932537075398,61.220139740031101,66.185000775231003,65.005426995289596,67.864230236166406,66.855493549082993,68.172857711533595]
[null,null,"Healthy life expectancy at birth (F) (years)","2010-2014",64.955076623402405,64.309392986560994,62.422151667302998,66.822789610821104,65.272972014946603,59.312790459915099,63.705104120473301,70.733515617830903,67.189324725359995,64.371463044857407,69.216218010045097,70.917290703557001,69.099080741698401,67.664147575000996,68.869451432879202,71.108181746420897,67.849483090139998,67.618959669652,67.067630768689298,68.712124053355396,62.632552512874,61.470371375796802,62.936915529800203,67.635457427326699,65.957055835917103,69.711212535215793,69.046885034392204,68.682625252668501]
[null,null,"The gap in healthy life expectancy at birth between the most and least deprived (M) (years)","2010-2014",20.828880000000002,21.544049999999999,16.890339999999998,21.893409999999999,18.29871,11.794449999999999,13.03796,10.067,18.15821,14.78548,13.32647,12.666869999999999,14.63977,15.950710000000001,11.63358,9.1769300000000005,14.96532,23.18956,24.36261,20.88212,14.78356,15.480829999999999,15.122120000000001,12.16854,10.60403,9.2937580000000004,11.948499999999999,10.40105]
[null,null,"The gap in healthy life expectancy at birth between the most and least deprived (F) (years)","2010-2014",18.29983,16.16461,18.418600000000001,16.334299999999999,18.580870000000001,12.34524,14.579029999999999,11.144159999999999,18.418600000000001,12.475059999999999,13.800929999999999,6.8310009999999997,13.513350000000001,20.545760000000001,13.65122,7.0019419999999997,16.94312,21.902439999999999,21.776499999999999,23.412859999999998,15.0085,15.182499999999999,13.34769,12.15889,12.475059999999999,6.6689800000000004,11.940849999999999,14.40537]
[null,null,"Deprivation"]
[null,null,"Indicator","Deprivation level","Abertawe BM","Bridgend","Neath Port Talbot","Swansea","Aneurin Bevan","Blaenau Gwent","Caerphilly","Monmouthshire","Newport","Torfaen","Betsi Cadwaladr","Anglesey","Conwy","Denbighshire","Flintshire","Gwynedd","Wrexham","Cardiff & Vale","Cardiff","Vale of Glamorgan","Cwm Taf","Merthyr Tydfil","Rhondda Cynon Taf","Hywel Dda","Carmarthenshire","Ceredigion","Pembrokeshire","Powys",null,null," "]
[null,null,"Population estimates by deprivation fifth, 2015 (%)","Least deprived",23.837127425941901,22.6008501534217,10.987857467090301,32.036207309123597,17.9752453208981,0,11.700450700472899,38.168822180890203,25.336843316257099,11.717627074349901,20.042679845004798,14.052787264750901,22.004336677623101,19.922695926751199,29.304100626971501,10.4823219169163,19.678441531830199,34.676906954483897,29.610538694142701,48.858862624616002,11.878612229767301,5.8593486615872203,13.3826992009637,7.5299625028377299,4.4154427056605599,20.538034886525001,4.3356767964750897,10.170232656323]
[null,null,null,"Next least deprived",13.286492370581501,15.815809475551101,12.3787165229233,12.3317738115867,14.130896252765201,1.75572299551363,12.064563397793099,27.198408235650302,10.2078243745305,20.709743455725398,28.4640295591045,18.052558624730299,30.342976131063999,24.2282793507303,28.591456053584601,40.306354994139902,24.3415515891311,15.705556655774499,16.842871542166002,12.521944949526601,8.9918614251773494,7.5854628818016296,9.34329074895434,27.463996722586199,23.019289877540899,25.925082393290602,35.058802565930201,53.212406326804498]
[null,null,null,"Middle",16.4532053453506,14.7531176983926,17.156292555606001,17.040869371488,20.079444609643701,23.918670194409302,22.833640460913401,23.543405856654701,14.371079184402699,17.465917505117801,21.719202906376498,37.536975378327803,15.5569705209176,24.372960471428101,11.5379622778665,31.667534835264998,19.555497010545398,12.306292702247701,12.807705230149001,10.9027211737413,15.9334085968962,22.0130132829883,14.4142436534112,37.806115925464901,37.380552389492401,44.874199512338897,34.171094408086603,23.613938269929601]
[null,null,null,"Next most deprived",21.115352848709499,25.820595107395199,30.15632092601,13.0979198125273,21.822516410588701,27.650120786839999,25.881974201283299,11.0893637268048,18.578321569476699,25.473670456030298,17.937630404637801,14.9587733462896,18.1572561909515,16.765056869184999,19.0622687799369,13.438435994270099,22.866217333713902,13.157037000363101,13.0832120058237,13.3636905135118,34.284462567610802,35.122378801159698,34.075084979213301,19.742764769889501,25.733701376922401,7.1246751158865003,18.388356120002602,9.5067927202545199]
[null,null,null,"Most deprived",25.307822009416402,21.009627565239398,29.3208125283704,25.493229695274401,25.9918974061043,46.675486023237099,27.5193712395373,0,31.505931555332999,24.6330415087765,11.836457284876399,15.3989053859015,13.938460479443799,14.7110073819054,11.5042122616405,4.1053522594087797,13.558292534779399,24.154206687130699,27.6556725277187,14.3527807386043,28.911655180548301,29.4197963724631,28.784681417457499,7.45716007922156,9.4510136503837998,1.5380080919589501,8.0460701095055995,3.4966300266883801]

{"sheet":"CHB_PP","index":6,"n_rows":56,"n_cols":78,"rows_kept":56,"cut":false,"hidden":false,"merged":[]}
[]
[]
[]
[]
[]
[]
[null,null,null,null,"Key:"]
[null,"ⓘ You are currently viewing the category page for population profile",null,null,null,"Cluster similar to health board average"]
[null,"ⓘ You are currently viewing this information by clusters, by health board",null,null,null,"Cluster position lower than health board average"]
[null,null,null,null,null,"Cluster position higher than health board average"]
[null,null,null,null,null,"Primary care data exists, but no PHW access"]
[null,null,null,null,null,"No statistical comparison made, or no data available"]
[]
[null,null,"Compare your position to others, and use the checkbox to select indicators of interest for review."]
[null,null,"After selecting indicators, scroll right to click 'Review this indicator'; this will open a web page."]
[null,null,"When complete, click the 'Next' button at the top, for the next category page."]
[]
[]
[null,null,"Population"]
[null,null,"Indicator","Age band","Abertawe BM","Bridgend East Network","Bridgend North Network","Bridgend West Network","Afan","Neath","Upper Valleys","BayHealth","CityHealth","Cwmtawe","Llwchwr","Penderi","Aneurin Bevan","Blaenau Gwent East","Blaenau Gwent West","Caerphilly East","Caerphilly North","Caerphilly South","Monmouthshire North","Monmouthshire South","Newport Central","Newport East","Newport West","Torfaen North","Torfaen South","Betsi Cadwaladr","Anglesey","Conwy East","Conwy West","Central - South Denbighshire","North Denbighshire","North East Flintshire","Nort West Flintshire","South flintshire","Arfon","Dwyfor","Meirionnydd","South Wrexham","West - North Wrexham","Wrexham Town","Cardiff & Vale","Cardiff East","Cardiff North","Cardiff South East","Cardiff South West","Cardiff West","City - Cardiff South","Central Vale","Eastern Vale","Western Vale","Cwm Taf","North Merthyr Tydfil","South Merthyr Tydfil","North Cynon","North Rhondda","North Taf Ely","South Cynon","South Rhondda","South Taf Ely","Hywel Dda","Amman-Gwendraeth","Llanelli","Taf - Teifi - Tywi","North Ceredigion","South Ceredigion","North Pembrokeshire","South Pembrokeshire","Powys","Mid Powys","North Powys","South Powys"]
[null,null,"Population by age band, 2014","<16 ",91500,null,null,null,null,null,null,null,null,null,null,null,108300,null,null,null,null,null,null,null,null,null,null,null,null,123800,null,null,null,null,null,null,null,null,null,null,null,null,null,null,88900,null,null,null,null,null,null,null,null,null,55200,null,null,null,null,null,null,null,null,65300,null,null,null,null,null,null,null,21900]
[null,null,null,"16-64 ",329800,null,null,null,null,null,null,null,null,null,null,null,361600,null,null,null,null,null,null,null,null,null,null,null,null,418100,null,null,null,null,null,null,null,null,null,null,null,null,null,null,318700,null,null,null,null,null,null,null,null,null,186500,null,null,null,null,null,null,null,null,230600,null,null,null,null,null,null,null,77200]
[null,null,null,"65-84 ",88800,null,null,null,null,null,null,null,null,null,null,null,97300,null,null,null,null,null,null,null,null,null,null,null,null,132300,null,null,null,null,null,null,null,null,null,null,null,null,null,null,63900,null,null,null,null,null,null,null,null,null,47900,null,null,null,null,null,null,null,null,76600,null,null,null,null,null,null,null,29100]
[null,null,null,"85+ ",13000,null,null,null,null,null,null,null,null,null,null,null,13300,null,null,null,null,null,null,null,null,null,null,null,null,19800,null,null,null,null,null,null,null,null,null,null,null,null,null,null,10500,null,null,null,null,null,null,null,null,null,6300,null,null,null,null,null,null,null,null,11500,null,null,null,null,null,null,null,4500]
[null,null,"Population projection"]
[null,null,"Indicator","Projected to","Abertawe BM","Bridgend East Network","Bridgend North Network","Bridgend West Network","Afan","Neath","Upper Valleys","BayHealth","CityHealth","Cwmtawe","Llwchwr","Penderi","Aneurin Bevan","Blaenau Gwent East","Blaenau Gwent West","Caerphilly East","Caerphilly North","Caerphilly South","Monmouthshire North","Monmouthshire South","Newport Central","Newport East","Newport West","Torfaen North","Torfaen South","Betsi Cadwaladr","Anglesey","Conwy East","Conwy West","Central - South Denbighshire","North Denbighshire","North East Flintshire","Nort West Flintshire","South flintshire","Arfon","Dwyfor","Meirionnydd","South Wrexham","West - North Wrexham","Wrexham Town","Cardiff & Vale","Cardiff East","Cardiff North","Cardiff South East","Cardiff South West","Cardiff West","City - Cardiff South","Central Vale","Eastern Vale","Western Vale","Cwm Taf","North Merthyr Tydfil","South Merthyr Tydfil","North Cynon","North Rhondda","North Taf Ely","South Cynon","South Rhondda","South Taf Ely","Hywel Dda","Amman-Gwendraeth","Llanelli","Taf - Teifi - Tywi","North Ceredigion","South Ceredigion","North Pembrokeshire","South Pembrokeshire","Powys","Mid Powys","North Powys","South Powys"]
[null,null,"Population aged 0-18",2017]
[null,null,null,2020]
[null,null,null,2025]
[null,null,null,2030]
[null,null,null,2035]
[null,null,null,"Projected to","Abertawe BM","Bridgend East Network","Bridgend North Network","Bridgend West Network","Afan","Neath","Upper Valleys","BayHealth","CityHealth","Cwmtawe","Llwchwr","Penderi","Aneurin Bevan","Blaenau Gwent East","Blaenau Gwent West","Caerphilly East","Caerphilly North","Caerphilly South","Monmouthshire North","Monmouthshire South","Newport Central","Newport East","Newport West","Torfaen North","Torfaen South","Betsi Cadwaladr","Anglesey","Conwy East","Conwy West","Central - South Denbighshire","North Denbighshire","North East Flintshire","Nort West Flintshire","South flintshire","Arfon","Dwyfor","Meirionnydd","South Wrexham","West - North Wrexham","Wrexham Town","Cardiff & Vale","Cardiff East","Cardiff North","Cardiff South East","Cardiff South West","Cardiff West","City - Cardiff South","Central Vale","Eastern Vale","Western Vale","Cwm Taf","North Merthyr Tydfil","South Merthyr Tydfil","North Cynon","North Rhondda","North Taf Ely","South Cynon","South Rhondda","South Taf Ely","Hywel Dda","Amman-Gwendraeth","Llanelli","Taf - Teifi - Tywi","North Ceredigion","South Ceredigion","North Pembrokeshire","South Pembrokeshire","Powys","Mid Powys","North Powys","South Powys"]
[null,null,"Population aged 18+",2017]
[null,null,null,2020]
[null,null,null,2025]
[null,null,null,2030]
[null,null,null,2035]
[null,null,"Life expectancy"]
[null,null,"Indicator","Period","Abertawe BM","Bridgend East Network","Bridgend North Network","Bridgend West Network","Afan","Neath","Upper Valleys","BayHealth","CityHealth","Cwmtawe","Llwchwr","Penderi","Aneurin Bevan","Blaenau Gwent East","Blaenau Gwent West","Caerphilly East","Caerphilly North","Caerphilly South","Monmouthshire North","Monmouthshire South","Newport Central","Newport East","Newport West","Torfaen North","Torfaen South","Betsi Cadwaladr","Anglesey","Conwy East","Conwy West","Central - South Denbighshire","North Denbighshire","North East Flintshire","Nort West Flintshire","South flintshire","Arfon","Dwyfor","Meirionnydd","South Wrexham","West - North Wrexham","Wrexham Town","Cardiff and Vale","Cardiff East","Cardiff North","Cardiff South East","Cardiff South West","Cardiff West","City - Cardiff South","Central Vale","Eastern Vale","Western Vale","Cwm Taf","North Merthyr Tydfil","South Merthyr Tydfil","North Cynon","North Rhondda","North Taf Ely","South Cynon","South Rhondda","South Taf Ely","Hywel Dda","Amman-Gwendraeth","Llanelli","Taf - Teifi - Tywi","North Ceredigion","South Ceredigion","North Pembrokeshire","South Pembrokeshire","Powys","Mid Powys","North Powys","South Powys"]
[null,null,"Life expectancy at birth (M) (years)","2013-2015",77.654538588619403,null,null,null,null,null,null,null,null,null,null,null,78.281092408909103,null,null,null,null,null,null,null,null,null,null,null,null,78.814600292418106,null,null,null,null,null,null,null,null,null,null,null,null,null,null,78.588363966261397,null,null,null,null,null,null,null,null,null,76.848808841017998,null,null,null,null,null,null,null,null,79.051983190785705,null,null,null,null,null,null,null,80.292127330146897]
[null,null,"Life expectancy at birth (F) (years)","2013-2015",81.923648050140102,null,null,null,null,null,null,null,null,null,null,null,81.972762421397704,null,null,null,null,null,null,null,null,null,null,null,null,82.468546845252206,null,null,null,null,null,null,null,null,null,null,null,null,null,null,82.860622755936205,null,null,null,null,null,null,null,null,null,80.619726306969199,null,null,null,null,null,null,null,null,82.824022497989006,null,null,null,null,null,null,null,83.520143481262096]
[null,null,"The gap in life expectancy at birth between the most and least deprived (M) (years)","2013-2015",9.6274099999999994,null,null,null,null,null,null,null,null,null,null,null,8.4991830000000004,null,null,null,null,null,null,null,null,null,null,null,null,8.7729379999999999,null,null,null,null,null,null,null,null,null,null,null,null,null,null,10.61214,null,null,null,null,null,null,null,null,null,7.5326199999999996,null,null,null,null,null,null,null,null,4.8713870000000004,null,null,null,null,null,null,null,5.1600809999999999]
[null,null,"The gap in life expectancy at birth between the most and least deprived (F) (years)","2013-2015",6.8675879999999996,null,null,null,null,null,null,null,null,null,null,null,7.2568700000000002,null,null,null,null,null,null,null,null,null,null,null,null,6.1919000000000004,null,null,null,null,null,null,null,null,null,null,null,null,null,null,8.2920180000000006,null,null,null,null,null,null,null,null,null,3.896906,null,null,null,null,null,null,null,null,4.0948960000000003,null,null,null,null,null,null,null,5.2089379999999998]
[null,null,"Healthy life expectancy"]
[null,null,"Indicator","Period","Abertawe BM","Bridgend East Network","Bridgend North Network","Bridgend West Network","Afan","Neath","Upper Valleys","BayHealth","CityHealth","Cwmtawe","Llwchwr","Penderi","Aneurin Bevan","Blaenau Gwent East","Blaenau Gwent West","Caerphilly East","Caerphilly North","Caerphilly South","Monmouthshire North","Monmouthshire South","Newport Central","Newport East","Newport West","Torfaen North","Torfaen South","Betsi Cadwaladr","Anglesey","Conwy East","Conwy West","Central - South Denbighshire","North Denbighshire","North East Flintshire","Nort West Flintshire","South flintshire","Arfon","Dwyfor","Meirionnydd","South Wrexham","West - North Wrexham","Wrexham Town","Cardiff and Vale","Cardiff East","Cardiff North","Cardiff South East","Cardiff South West","Cardiff West","City - Cardiff South","Central Vale","Eastern Vale","Western Vale","Cwm Taf","North Merthyr Tydfil","South Merthyr Tydfil","North Cynon","North Rhondda","North Taf Ely","South Cynon","South Rhondda","South Taf Ely","Hywel Dda","Amman-Gwendraeth","Llanelli","Taf - Teifi - Tywi","North Ceredigion","South Ceredigion","North Pembrokeshire","South Pembrokeshire","Powys","Mid Powys","North Powys","South Powys"]
[null,null,"Healthy life expectancy at birth (M) (years)","2010-2014",63.945200565291202,null,null,null,null,null,null,null,null,null,null,null,63.815441416326301,null,null,null,null,null,null,null,null,null,null,null,null,67.569652577722096,null,null,null,null,null,null,null,null,null,null,null,null,null,null,65.712410345892806,null,null,null,null,null,null,null,null,null,61.186659488599503,null,null,null,null,null,null,null,null,66.185000775231003,null,null,null,null,null,null,null,68.172857711533595]
[null,null,"Healthy life expectancy at birth (F) (years)","2010-2014",64.955076623402405,null,null,null,null,null,null,null,null,null,null,null,65.272972014946603,null,null,null,null,null,null,null,null,null,null,null,null,69.216218010045097,null,null,null,null,null,null,null,null,null,null,null,null,null,null,67.618959669652,null,null,null,null,null,null,null,null,null,62.632552512874,null,null,null,null,null,null,null,null,67.635457427326699,null,null,null,null,null,null,null,68.682625252668501]
[null,null,"The gap in healthy life expectancy at birth between the most and least deprived (M) (years)","2010-2014",20.828880000000002,null,null,null,null,null,null,null,null,null,null,null,18.29871,null,null,null,null,null,null,null,null,null,null,null,null,13.32647,null,null,null,null,null,null,null,null,null,null,null,null,null,null,23.18956,null,null,null,null,null,null,null,null,null,14.78356,null,null,null,null,null,null,null,null,12.16854,null,null,null,null,null,null,null,10.40105]
[null,null,"The gap in healthy life expectancy at birth between the most and least deprived (F) (years)","2010-2014",18.29983,null,null,null,null,null,null,null,null,null,null,null,18.580870000000001,null,null,null,null,null,null,null,null,null,null,null,null,13.800929999999999,null,null,null,null,null,null,null,null,null,null,null,null,null,null,21.902439999999999,null,null,null,null,null,null,null,null,null,15.0085,null,null,null,null,null,null,null,null,12.15889,null,null,null,null,null,null,null,14.40537]
[null,null,"Deprivation"]
[null,null,"Indicator","Deprivation level","Abertawe BM","Bridgend East Network","Bridgend North Network","Bridgend West Network","Afan","Neath","Upper Valleys","BayHealth","CityHealth","Cwmtawe","Llwchwr","Penderi","Aneurin Bevan","Blaenau Gwent East","Blaenau Gwent West","Caerphilly East","Caerphilly North","Caerphilly South","Monmouthshire North","Monmouthshire South","Newport Central","Newport East","Newport West","Torfaen North","Torfaen South","Betsi Cadwaladr","Anglesey","Conwy East","Conwy West","Central - South Denbighshire","North Denbighshire","North East Flintshire","Nort West Flintshire","South flintshire","Arfon","Dwyfor","Meirionnydd","South Wrexham","West - North Wrexham","Wrexham Town","Cardiff and Vale","Cardiff East","Cardiff North","Cardiff South East","Cardiff South West","Cardiff West","City - Cardiff South","Central Vale","Eastern Vale","Western Vale","Cwm Taf","North Merthyr Tydfil","South Merthyr Tydfil","North Cynon","North Rhondda","North Taf Ely","South Cynon","South Rhondda","South Taf Ely","Hywel Dda","Amman-Gwendraeth","Llanelli","Taf - Teifi - Tywi","North Ceredigion","South Ceredigion","North Pembrokeshire","South Pembrokeshire","Powys","Mid Powys","North Powys","South Powys"]
[null,null,"Population estimates by deprivation fifth, 2015 (%)","Least deprived",23.837127425941901,null,null,null,null,null,null,null,null,null,null,null,17.9752453208981,null,null,null,null,null,null,null,null,null,null,null,null,20.042679845004798,null,null,null,null,null,null,null,null,null,null,null,null,null,null,34.676906954483897,null,null,null,null,null,null,null,null,null,11.878612229767301,null,null,null,null,null,null,null,null,7.5299625028377299,null,null,null,null,null,null,null,10.170232656323]
[null,null,null,"Next least deprived",13.286492370581501,null,null,null,null,null,null,null,null,null,null,null,14.130896252765201,null,null,null,null,null,null,null,null,null,null,null,null,28.4640295591045,null,null,null,null,null,null,null,null,null,null,null,null,null,null,15.705556655774499,null,null,null,null,null,null,null,null,null,8.9918614251773494,null,null,null,null,null,null,null,null,27.463996722586199,null,null,null,null,null,null,null,53.212406326804498,null,null,null,null,null," "]
[null,null,null,"Middle",16.4532053453506,null,null,null,null,null,null,null,null,null,null,null,20.079444609643701,null,null,null,null,null,null,null,null,null,null,null,null,21.719202906376498,null,null,null,null,null,null,null,null,null,null,null,null,null,null,12.306292702247701,null,null,null,null,null,null,null,null,null,15.9334085968962,null,null,null,null,null,null,null,null,37.806115925464901,null,null,null,null,null,null,null,23.613938269929601]
[null,null,null,"Next most deprived",21.115352848709499,null,null,null,null,null,null,null,null,null,null,null,21.822516410588701,null,null,null,null,null,null,null,null,null,null,null,null,17.937630404637801,null,null,null,null,null,null,null,null,null,null,null,null,null,null,13.157037000363101,null,null,null,null,null,null,null,null,null,34.284462567610802,null,null,null,null,null,null,null,null,19.742764769889501,null,null,null,null,null,null,null,9.5067927202545199]
[null,null,null,"Most deprived",25.307822009416402,null,null,null,null,null,null,null,null,null,null,null,25.9918974061043,null,null,null,null,null,null,null,null,null,null,null,null,11.836457284876399,null,null,null,null,null,null,null,null,null,null,null,null,null,null,24.154206687130699,null,null,null,null,null,null,null,null,null,28.911655180548301,null,null,null,null,null,null,null,null,7.45716007922156,null,null,null,null,null,null,null,3.4966300266883801]

{"sheet":"CLA_PP","index":7,"n_rows":56,"n_cols":93,"rows_kept":56,"cut":false,"hidden":false,"merged":[]}
[]
[]
[]
[]
[]
[]
[null,null,null,null,"Key:"]
[null,"ⓘ You are currently viewing the category page for population profile",null,null,null,"Primary care data exists, but no PHW access"]
[null,"ⓘ You are currently viewing this information by clusters, by local authority (PSB)",null,null,null,"No statistical comparison made, or no data available"]
[]
[]
[]
[]
[null,null,"Compare your position to others, and use the checkbox to select indicators of interest for review."]
[null,null,"After selecting indicators, scroll right to click 'Review this indicator'; this will open a web page."]
[null,null,"When complete, click the 'Next' button at the top, for the next category page."]
[]
[]
[null,null,"Population"]
[null,null,"Indicator","Age band","Bridgend","Bridgend East Network","Bridgend North Network","Bridgend West Network","Neath Port Talbot","Afan","Neath","Upper Valleys","Swansea","BayHealth","CityHealth","Cwmtawe","Llwchwr","Penderi","Blaenau Gwent","Blaenau Gwent East","Blaenau Gwent West","Caerphilly","Caerphilly East","Caerphilly North","Caerphilly South","Monmouthshire","Monmouthshire North","Monmouthshire South","Newport","Newport Central","Newport East","Newport West","Torfaen","Torfaen North","Torfaen South","Anglesey LA","Anglesey Cluster","Conwy","Conwy East","Conwy West","Denbighshire","Central - South Denbighshire","North Denbighshire","Flintshire","North East Flintshire","Nort West Flintshire","South flintshire","Gwynedd","Arfon","Dwyfor","Meirionnydd","Wrexham","South Wrexham","West - North Wrexham","Wrexham Town","Cardiff","Cardiff East","Cardiff North","Cardiff South East","Cardiff South West","Cardiff West","City - Cardiff South","Vale of Glamorgan","Central Vale","Eastern Vale","Western Vale","Merthyr Tydfil","North Merthyr Tydfil","South Merthyr Tydfil","Rhondda Cynon Taf","North Cynon","North Rhondda","North Taf Ely","South Cynon","South Rhondda","South Taf Ely","Carmarthenshire","Amman-Gwendraeth","Llanelli","Taf - Teifi - Tywi","Ceredigion","North Ceredigion","South Ceredigion","Pembrokeshire","North Pembrokeshire","South Pembrokeshire","Powys","Mid Powys","North Powys","South Powys"]
[null,null,"Population by age band, 2014","<16 ",25500,null,null,null,24500,null,null,null,41500,null,null,null,null,null,12200,null,null,34200,null,null,null,15600,null,null,29300,null,null,null,16900,null,null,12100,null,18900,null,null,17100,null,null,28400,null,null,null,20900,null,null,null,26300,null,null,null,65300,null,null,null,null,null,null,23700,null,null,null,11000,null,null,44200,null,null,null,null,null,null,32600,null,null,null,11000,null,null,21600,null,null,21900]
[null,null,null,"16-64 ",88300,null,null,null,87900,null,null,null,153500,null,null,null,null,null,44000,null,null,113100,null,null,null,55500,null,null,92100,null,null,null,56900,null,null,41100,null,66900,null,null,55900,null,null,95100,null,null,null,74100,null,null,null,85000,null,null,null,240200,null,null,null,null,null,null,78500,null,null,null,37500,null,null,149100,null,null,null,null,null,null,110700,null,null,null,47300,null,null,72600,null,null,77200]
[null,null,null,"65-84 ",24200,null,null,null,24500,null,null,null,40100,null,null,null,null,null,11900,null,null,29200,null,null,null,18500,null,null,22200,null,null,null,15500,null,null,14800,null,25800,null,null,19100,null,null,26900,null,null,null,23400,null,null,null,22300,null,null,null,41700,null,null,null,null,null,null,22200,null,null,null,9300,null,null,38500,null,null,null,null,null,null,36100,null,null,null,14800,null,null,25700,null,null,29100]
[null,null,null,"85+ ",3200,null,null,null,3600,null,null,null,6200,null,null,null,null,null,1500,null,null,3500,null,null,null,2800,null,null,3200,null,null,null,2300,null,null,2200,null,4600,null,null,2700,null,null,3400,null,null,null,3800,null,null,null,3200,null,null,null,7100,null,null,null,null,null,null,3300,null,null,null,1200,null,null,5100,null,null,null,null,null,null,5400,null,null,null,2300,null,null,3800,null,null,4500]
[null,null,"Population projection"]
[null,null,"Indicator","Projected to","Bridgend","Bridgend East Network","Bridgend North Network","Bridgend West Network","Neath Port Talbot","Afan","Neath","Upper Valleys","Swansea","BayHealth","CityHealth","Cwmtawe","Llwchwr","Penderi","Blaenau Gwent","Blaenau Gwent East","Blaenau Gwent West","Caerphilly","Caerphilly East","Caerphilly North","Caerphilly South","Monmouthshire","Monmouthshire North","Monmouthshire South","Newport","Newport Central","Newport East","Newport West","Torfaen","Torfaen North","Torfaen South","Anglesey LA","Anglesey Cluster","Conwy","Conwy East","Conwy West","Denbighshire","Central - South Denbighshire","North Denbighshire","Flintshire","North East Flintshire","Nort West Flintshire","South flintshire","Gwynedd","Arfon","Dwyfor","Meirionnydd","Wrexham","South Wrexham","West - North Wrexham","Wrexham Town","Cardiff","Cardiff East","Cardiff North","Cardiff South East","Cardiff South West","Cardiff West","City - Cardiff South","Vale of Glamorgan","Central Vale","Eastern Vale","Western Vale","Merthyr Tydfil","North Merthyr Tydfil","South Merthyr Tydfil","Rhondda Cynon Taf","North Cynon","North Rhondda","North Taf Ely","South Cynon","South Rhondda","South Taf Ely","Carmarthenshire","Amman-Gwendraeth","Llanelli","Taf - Teifi - Tywi","Ceredigion","North Ceredigion","South Ceredigion","Pembrokeshire","North Pembrokeshire","South Pembrokeshire","Powys","Mid Powys","North Powys","South Powys"]
[null,null,"Population aged 0-18",2017,29280,null,null,null,28360,null,null,null,47110,null,null,null,null,null,13630,null,null,38870,null,null,null,17390,null,null,34100,null,null,null,19450,null,null,13790,null,21700,null,null,19560,null,null,31940,null,null,null,22850,null,null,null,30590,null,null,null,76400,null,null,null,null,null,null,26580,null,null,null,12490,null,null,50280,null,null,null,null,null,null,37980,null,null,null,12780,null,null,24610,null,null,24540]
[null,null,null,2020,29760,null,null,null,28790,null,null,null,47860,null,null,null,null,null,13630,null,null,38980,null,null,null,17130,null,null,35230,null,null,null,19870,null,null,14040,null,21920,null,null,20010,null,null,32090,null,null,null,22840,null,null,null,31470,null,null,null,80820,null,null,null,null,null,null,26710,null,null,null,12710,null,null,51070,null,null,null,null,null,null,38730,null,null,null,13050,null,null,24840,null,null,24400]
[null,null,null,2025,30130,null,null,null,28910,null,null,null,49110,null,null,null,null,null,13280,null,null,38300,null,null,null,16710,null,null,37080,null,null,null,20110,null,null,14130,null,21860,null,null,20430,null,null,31690,null,null,null,23120,null,null,null,32130,null,null,null,87630,null,null,null,null,null,null,26700,null,null,null,12770,null,null,50970,null,null,null,null,null,null,39480,null,null,null,13520,null,null,24830,null,null,24150]
[null,null,null,2030,29480,null,null,null,28040,null,null,null,49180,null,null,null,null,null,12290,null,null,36440,null,null,null,16060,null,null,37590,null,null,null,19560,null,null,13370,null,20870,null,null,19870,null,null,30030,null,null,null,23360,null,null,null,31660,null,null,null,91180,null,null,null,null,null,null,25920,null,null,null,12170,null,null,49040,null,null,null,null,null,null,38900,null,null,null,13760,null,null,23840,null,null,23240]
[null,null,null,2035,28120,null,null,null,26530,null,null,null,48470,null,null,null,null,null,11230,null,null,34550,null,null,null,15360,null,null,37480,null,null,null,18540,null,null,12520,null,19570,null,null,19150,null,null,28620,null,null,null,23900,null,null,null,31390,null,null,null,93410,null,null,null,null,null,null,25120,null,null,null,11350,null,null,46960,null,null,null,null,null,null,38020,null,null,null,13790,null,null,22610,null,null,22020]
[null,null,null,"Projected to","Bridgend","Bridgend East Network","Bridgend North Network","Bridgend West Network","Neath Port Talbot","Afan","Neath","Upper Valleys","Swansea","BayHealth","CityHealth","Cwmtawe","Llwchwr","Penderi","Blaenau Gwent","Blaenau Gwent East","Blaenau Gwent West","Caerphilly","Caerphilly East","Caerphilly North","Caerphilly South","Monmouthshire","Monmouthshire North","Monmouthshire South","Newport","Newport Central","Newport East","Newport West","Torfaen","Torfaen North","Torfaen South","Anglesey LA","Anglesey Cluster","Conwy","Conwy East","Conwy West","Denbighshire","Central - South Denbighshire","North Denbighshire","Flintshire","North East Flintshire","Nort West Flintshire","South flintshire","Gwynedd","Arfon","Dwyfor","Meirionnydd","Wrexham","South Wrexham","West - North Wrexham","Wrexham Town","Cardiff","Cardiff East","Cardiff North","Cardiff South East","Cardiff South West","Cardiff West","City - Cardiff South","Vale of Glamorgan","Central Vale","Eastern Vale","Western Vale","Merthyr Tydfil","North Merthyr Tydfil","South Merthyr Tydfil","Rhondda Cynon Taf","North Cynon","North Rhondda","North Taf Ely","South Cynon","South Rhondda","South Taf Ely","Carmarthenshire","Amman-Gwendraeth","Llanelli","Taf - Teifi - Tywi","Ceredigion","North Ceredigion","South Ceredigion","Pembrokeshire","North Pembrokeshire","South Pembrokeshire","Powys","Mid Powys","North Powys","South Powys"]
[null,null,"Population aged 18+",2017,114440,null,null,null,112960,null,null,null,142550,null,null,null,null,null,55620,null,null,151900,null,null,null,74710,null,null,117640,null,null,null,72720,null,null,56430,null,94520,null,null,76850,null,null,122840,null,null,null,100650,null,null,null,112180,null,null,null,294830,null,null,null,null,null,null,102800,null,null,null,47840,null,null,185900,null,null,null,null,null,null,199550,null,null,null,63520,null,null,100010,null,null,110350]
[null,null,null,2020,115890,null,null,null,113210,null,null,null,143520,null,null,null,null,null,55350,null,null,154170,null,null,null,75160,null,null,119760,null,null,null,72770,null,null,56230,null,94690,null,null,77650,null,null,123470,null,null,null,101910,null,null,null,115050,null,null,null,304030,null,null,null,null,null,null,103890,null,null,null,48320,null,null,185870,null,null,null,null,null,null,202980,null,null,null,63850,null,null,100700,null,null,111280]
[null,null,null,2025,118100,null,null,null,113760,null,null,null,145170,null,null,null,null,null,54950,null,null,157960,null,null,null,75630,null,null,123260,null,null,null,72930,null,null,55860,null,95000,null,null,78990,null,null,124480,null,null,null,103960,null,null,null,120170,null,null,null,320490,null,null,null,null,null,null,105560,null,null,null,49080,null,null,186460,null,null,null,null,null,null,208470,null,null,null,64430,null,null,101710,null,null,112300]
[null,null,null,2030,120360,null,null,null,114630,null,null,null,146970,null,null,null,null,null,54740,null,null,162150,null,null,null,75750,null,null,127720,null,null,null,73310,null,null,55880,null,95590,null,null,80730,null,null,125810,null,null,null,106050,null,null,null,125900,null,null,null,340150,null,null,null,null,null,null,107400,null,null,null,50100,null,null,187830,null,null,null,null,null,null,214410,null,null,null,64990,null,null,102910,null,null,112990]
[null,null,null,2035,122750,null,null,null,115700,null,null,null,148020,null,null,null,null,null,54300,null,null,165900,null,null,null,75280,null,null,132530,null,null,null,73790,null,null,55750,null,95970,null,null,82230,null,null,126180,null,null,null,107570,null,null,null,131140,null,null,null,360640,null,null,null,null,null,null,108600,null,null,null,51070,null,null,188750,null,null,null,null,null,null,220460,null,null,null,65410,null,null,103760,null,null,112960]
[null,null,"Life expectancy"]
[null,null,"Indicator","Period","Bridgend","Bridgend East Network","Bridgend North Network","Bridgend West Network","Neath Port Talbot","Afan","Neath","Upper Valleys","Swansea","BayHealth","CityHealth","Cwmtawe","Llwchwr","Penderi","Blaenau Gwent","Blaenau Gwent East","Blaenau Gwent West","Caerphilly","Caerphilly East","Caerphilly North","Caerphilly South","Monmouthshire","Monmouthshire North","Monmouthshire South","Newport","Newport Central","Newport East","Newport West","Torfaen","Torfaen North","Torfaen South","Anglesey","Anglesey Cluster","Conwy","Conwy East","Conwy West","Denbighshire","Central - South Denbighshire","North Denbighshire","Flintshire","North East Flintshire","Nort West Flintshire","South flintshire","Gwynedd","Arfon","Dwyfor","Meirionnydd","Wrexham","South Wrexham","West - North Wrexham","Wrexham Town","Cardiff","Cardiff East","Cardiff North","Cardiff South East","Cardiff South West","Cardiff West","City - Cardiff South","Vale of Glamorgan","Central Vale","Eastern Vale","Western Vale","Merthyr Tydfil","North Merthyr Tydfil","South Merthyr Tydfil","Rhondda Cynon Taf","North Cynon","North Rhondda","North Taf Ely","South Cynon","South Rhondda","South Taf Ely","Carmarthenshire","Amman-Gwendraeth","Llanelli","Taf - Teifi - Tywi","Ceredigion","North Ceredigion","South Ceredigion","Pembrokeshire","North Pembrokeshire","South Pembrokeshire","Powys","Mid Powys","North Powys","South Powys"]
[null,null,"Life expectancy at birth (M) (years)","2013-2015",77.202759794232193,null,null,null,77.432208024473795,null,null,null,78.031397639411097,null,null,null,null,null,76.473907100153795,null,null,77.782819116243104,null,null,null,80.723492204069103,null,null,78.071655516766995,null,null,null,78.222959580189993,null,null,78.775400701150105,null,78.889948088249895,null,null,77.992449614299403,null,null,79.009877163649094,null,null,null,79.587398900881098,null,null,null,78.427642023663907,null,null,null,78.324657716736994,null,null,null,null,null,null,79.136697347913596,null,null,null,76.600646362001697,null,null,76.928854016227106,null,null,null,null,null,null,78.649684556559393,null,null,null,79.916938131032197,null,null,79.141769607585402,null,null,80.292127330146897]
[null,null,"Life expectancy at birth (F) (years)","2013-2015",81.816991591063797,null,null,null,81.138004945848294,null,null,null,82.468006634191596,null,null,null,null,null,80.579227259605105,null,null,81.151733396521607,null,null,null,84.086453933156207,null,null,82.285635745008406,null,null,null,81.964322486197901,null,null,82.625920482334294,null,82.542523432767297,null,null,81.824766954455797,null,null,82.444871112201298,null,null,null,83.667973378920607,null,null,null,81.638306110355302,null,null,null,82.627107529956902,null,null,null,null,null,null,83.243109813766694,null,null,null,80.550689768871294,null,null,80.644280484984094,null,null,null,null,null,null,82.302823735513201,null,null,null,83.712188926709203,null,null,83.150400312112495,null,null,83.520143481262096]
[null,null,"The gap in life expectancy at birth between the most and least deprived (M) (years)","2013-2015",9.2287289999999995,null,null,null,7.3757859999999997,null,null,null,10.71898,null,null,null,null,null,5.7673160000000001,null,null,7.6088180000000003,null,null,null,5.2928980000000001,null,null,9.3988800000000001,null,null,null,6.9345939999999997,null,null,7.225047,null,9.6763410000000007,null,null,12.135109999999999,null,null,9.795579,null,null,null,3.4185409999999998,null,null,null,8.2291070000000008,null,null,null,11.017250000000001,null,null,null,null,null,null,8.9706840000000003,null,null,null,7.991498,null,null,7.386565,null,null,null,null,null,null,6.3319140000000003,null,null,null,1.2176990000000001,null,null,4.6658480000000004,null,null,5.1600809999999999]
[null,null,"The gap in life expectancy at birth between the most and least deprived (F) (years)","2013-2015",5.3510900000000001,null,null,null,6.3387589999999996,null,null,null,7.1296059999999999,null,null,null,null,null,3.6830349999999998,null,null,6.5555979999999998,null,null,null,4.174849,null,null,6.6212150000000003,null,null,null,7.3699779999999997,null,null,4.1166530000000003,null,6.2511510000000001,null,null,7.2671609999999998,null,null,7.1348960000000003,null,null,null,2.6647129999999999,null,null,null,6.6272209999999996,null,null,null,8.8436369999999993,null,null,null,null,null,null,6.9654179999999997,null,null,null,4.6191269999999998,null,null,3.7770519999999999,null,null,null,null,null,null,4.3279730000000001,null,null,null,3.227716,null,null,3.406263,null,null,5.2089379999999998]
[null,null,"Healthy life expectancy"]
[null,null,"Indicator","Period","Bridgend","Bridgend East Network","Bridgend North Network","Bridgend West Network","Neath Port Talbot","Afan","Neath","Upper Valleys","Swansea","BayHealth","CityHealth","Cwmtawe","Llwchwr","Penderi","Blaenau Gwent","Blaenau Gwent East","Blaenau Gwent West","Caerphilly","Caerphilly East","Caerphilly North","Caerphilly South","Monmouthshire","Monmouthshire North","Monmouthshire South","Newport","Newport Central","Newport East","Newport West","Torfaen","Torfaen North","Torfaen South","Anglesey","Anglesey Cluster","Conwy","Conwy East","Conwy West","Denbighshire","Central - South Denbighshire","North Denbighshire","Flintshire","North East Flintshire","Nort West Flintshire","South flintshire","Gwynedd","Arfon","Dwyfor","Meirionnydd","Wrexham","South Wrexham","West - North Wrexham","Wrexham Town","Cardiff","Cardiff East","Cardiff North","Cardiff South East","Cardiff South West","Cardiff West","City - Cardiff South","Vale of Glamorgan","Central Vale","Eastern Vale","Western Vale","Merthyr Tydfil","North Merthyr Tydfil","South Merthyr Tydfil","Rhondda Cynon Taf","North Cynon","North Rhondda","North Taf Ely","South Cynon","South Rhondda","South Taf Ely","Carmarthenshire","Amman-Gwendraeth","Llanelli","Taf - Teifi - Tywi","Ceredigion","North Ceredigion","South Ceredigion","Pembrokeshire","North Pembrokeshire","South Pembrokeshire","Powys","Mid Powys","North Powys","South Powys"]
[null,null,"Healthy life expectancy at birth (M) (years)","2010-2014",63.429316058267197,null,null,null,61.887857414649702,null,null,null,65.496199032119407,null,null,null,null,null,59.643934124662401,null,null,61.535865486879104,null,null,null,69.825962681271506,null,null,65.446761897125796,null,null,null,63.085652243824498,null,null,67.7329276810121,null,67.295735922105706,null,null,67.492961585516497,null,null,67.721337871669107,null,null,null,68.157960992029601,null,null,null,66.810441143271504,null,null,null,65.321167371750505,null,null,null,null,null,null,66.628233756653103,null,null,null,61.065932537075398,null,null,61.220139740031101,null,null,null,null,null,null,65.005426995289596,null,null,null,67.864230236166406,null,null,66.855493549082993,null,null,68.172857711533595]
[null,null,"Healthy life expectancy at birth (F) (years)","2010-2014",64.309392986560994,null,null,null,62.422151667302998,null,null,null,66.822789610821104,null,null,null,null,null,59.312790459915099,null,null,63.705104120473301,null,null,null,70.733515617830903,null,null,67.189324725359995,null,null,null,64.371463044857407,null,null,70.917290703557001,null,69.099080741698401,null,null,67.664147575000996,null,null,68.869451432879202,null,null,null,71.108181746420897,null,null,null,67.849483090139998,null,null,null,67.067630768689298,null,null,null,null,null,null,68.712124053355396,null,null,null,61.470371375796802,null,null,62.936915529800203,null,null,null,null,null,null,65.957055835917103,null,null,null,69.711212535215793,null,null,69.046885034392204,null,null,68.682625252668501]
[null,null,"The gap in healthy life expectancy at birth between the most and least deprived (M) (years)","2010-2014",21.544049999999999,null,null,null,16.890339999999998,null,null,null,21.893409999999999,null,null,null,null,null,11.794449999999999,null,null,13.03796,null,null,null,10.067,null,null,18.15821,null,null,null,14.78548,null,null,12.666869999999999,null,14.63977,null,null,15.950710000000001,null,null,11.63358,null,null,null,9.1769300000000005,null,null,null,14.96532,null,null,null,24.36261,null,null,null,null,null,null,20.88212,null,null,null,15.480829999999999,null,null,15.122120000000001,null,null,null,null,null,null,10.60403,null,null,null,9.2937580000000004,null,null,11.948499999999999,null,null,10.40105]
[null,null,"The gap in healthy life expectancy at birth between the most and least deprived (F) (years)","2010-2014",16.16461,null,null,null,18.418600000000001,null,null,null,16.334299999999999,null,null,null,null,null,12.34524,null,null,14.579029999999999,null,null,null,11.144159999999999,null,null,18.418600000000001,null,null,null,12.475059999999999,null,null,6.8310009999999997,null,13.513350000000001,null,null,20.545760000000001,null,null,13.65122,null,null,null,7.0019419999999997,null,null,null,16.94312,null,null,null,21.776499999999999,null,null,null,null,null,null,23.412859999999998,null,null,null,15.182499999999999,null,null,13.34769,null,null,null,null,null,null,12.475059999999999,null,null,null,6.6689800000000004,null,null,11.940849999999999,null,null,14.40537]
[null,null,"Deprivation"]
[null,null,"Indicator","Period","Bridgend","Bridgend East Network","Bridgend North Network","Bridgend West Network","Neath Port Talbot","Afan","Neath","Upper Valleys","Swansea","BayHealth","CityHealth","Cwmtawe","Llwchwr","Penderi","Blaenau Gwent","Blaenau Gwent East","Blaenau Gwent West","Caerphilly","Caerphilly East","Caerphilly North","Caerphilly South","Monmouthshire","Monmouthshire North","Monmouthshire South","Newport","Newport Central","Newport East","Newport West","Torfaen","Torfaen North","Torfaen South","Anglesey","Anglesey Cluster","Conwy","Conwy East","Conwy West","Denbighshire","Central - South Denbighshire","North Denbighshire","Flintshire","North East Flintshire","Nort West Flintshire","South flintshire","Gwynedd","Arfon","Dwyfor","Meirionnydd","Wrexham","South Wrexham","West - North Wrexham","Wrexham Town","Cardiff","Cardiff East","Cardiff North","Cardiff South East","Cardiff South West","Cardiff West","City - Cardiff South","Vale of Glamorgan","Central Vale","Eastern Vale","Western Vale","Merthyr Tydfil","North Merthyr Tydfil","South Merthyr Tydfil","Rhondda Cynon Taf","North Cynon","North Rhondda","North Taf Ely","South Cynon","South Rhondda","South Taf Ely","Carmarthenshire","Amman-Gwendraeth","Llanelli","Taf - Teifi - Tywi","Ceredigion","North Ceredigion","South Ceredigion","Pembrokeshire","North Pembrokeshire","South Pembrokeshire","Powys","Mid Powys","North Powys","South Powys"]
[null,null,"Population estimates by deprivation fifth, 2015 (%)","Least deprived",22.6008501534217,null,null,null,10.987857467090301,null,null,null,32.036207309123597,null,null,null,null,null,0,null,null,11.700450700472899,null,null,null,38.168822180890203,null,null,25.336843316257099,null,null,null,11.717627074349901,null,null,14.052787264750901,null,22.004336677623101,null,null,19.922695926751199,null,null,29.304100626971501,null,null,null,10.4823219169163,null,null,null,19.678441531830199,null,null,null,29.610538694142701,null,null,null,null,null,null,48.858862624616002,null,null,null,5.8593486615872203,null,null,13.3826992009637,null,null,null,null,null,null,4.4154427056605599,null,null,null,20.538034886525001,null,null,4.3356767964750897,null,null,10.170232656323]
[null,null,null,"Next least deprived",15.815809475551101,null,null,null,12.3787165229233,null,null,null,12.3317738115867,null,null,null,null,null,1.75572299551363,null,null,12.064563397793099,null,null,null,27.198408235650302,null,null,10.2078243745305,null,null,null,20.709743455725398,null,null,18.052558624730299,null,30.342976131063999,null,null,24.2282793507303,null,null,28.591456053584601,null,null,null,40.306354994139902,null,null,null,24.3415515891311,null,null,null,16.842871542166002,null,null,null,null,null,null,12.521944949526601,null,null,null,7.5854628818016296,null,null,9.34329074895434,null,null,null,null,null,null,23.019289877540899,null,null,null,25.925082393290602,null,null,35.058802565930201,null,null,53.212406326804498,null,null,null,null,null," "]
[null,null,null,"Middle",14.7531176983926,null,null,null,17.156292555606001,null,null,null,17.040869371488,null,null,null,null,null,23.918670194409302,null,null,22.833640460913401,null,null,null,23.543405856654701,null,null,14.371079184402699,null,null,null,17.465917505117801,null,null,37.536975378327803,null,15.5569705209176,null,null,24.372960471428101,null,null,11.5379622778665,null,null,null,31.667534835264998,null,null,null,19.555497010545398,null,null,null,12.807705230149001,null,null,null,null,null,null,10.9027211737413,null,null,null,22.0130132829883,null,null,14.4142436534112,null,null,null,null,null,null,37.380552389492401,null,null,null,44.874199512338897,null,null,34.171094408086603,null,null,23.613938269929601]
[null,null,null,"Next most deprived",25.820595107395199,null,null,null,30.15632092601,null,null,null,13.0979198125273,null,null,null,null,null,27.650120786839999,null,null,25.881974201283299,null,null,null,11.0893637268048,null,null,18.578321569476699,null,null,null,25.473670456030298,null,null,14.9587733462896,null,18.1572561909515,null,null,16.765056869184999,null,null,19.0622687799369,null,null,null,13.438435994270099,null,null,null,22.866217333713902,null,null,null,13.0832120058237,null,null,null,null,null,null,13.3636905135118,null,null,null,35.122378801159698,null,null,34.075084979213301,null,null,null,null,null,null,25.733701376922401,null,null,null,7.1246751158865003,null,null,18.388356120002602,null,null,9.5067927202545199]
[null,null,null,"Most deprived",21.009627565239398,null,null,null,29.3208125283704,null,null,null,25.493229695274401,null,null,null,null,null,46.675486023237099,null,null,27.5193712395373,null,null,null,0,null,null,31.505931555332999,null,null,null,24.6330415087765,null,null,15.3989053859015,null,13.938460479443799,null,null,14.7110073819054,null,null,11.5042122616405,null,null,null,4.1053522594087797,null,null,null,13.558292534779399,null,null,null,27.6556725277187,null,null,null,null,null,null,14.3527807386043,null,null,null,29.4197963724631,null,null,28.784681417457499,null,null,null,null,null,null,9.4510136503837998,null,null,null,1.5380080919589501,null,null,8.0460701095055995,null,null,3.4966300266883801]

{"sheet":"HB_LTC","index":8,"n_rows":42,"n_cols":12,"rows_kept":42,"cut":false,"hidden":false,"merged":[[8,1,8,5]]}
[]
[]
[]
[]
[]
[]
[null,null,null,null,null,null,null,"Key:"]
[null,"ⓘ You are currently viewing the category page for long-term condition prevention & prevalence",null,null,null,null,null,null,"Primary care data exists, but no PHW access"]
[null,"ⓘ You are currently viewing this information by health board",null,null,null,null,null,null,"No statistical comparison made, or no data available"]
[]
[]
[]
[]
[null,null,"Compare your position to others, and use the checkbox to select indicators of interest for review."]
[null,null,"After selecting indicators, scroll right to click 'Review this indicator'; this will open a web page."]
[null,null,"When complete, click the 'Next' button at the top, for the next category page."]
[]
[]
[null,null,"Behavioural risk factors"]
[null,null,"Indicator","Period","Wales","Abertawe BM","Aneurin Bevan","Betsi Cadwaladr","Cardiff and Vale","Cwm Taf","Hywel Dda","Powys"]
[null,null,"Prevalence of smoking (%)","2013/14",20.45283989226062,20.758862475155336,21.738213851376432,20.438051392454426,19.456008456153821,22.094508323021696,18.948325244135766,18.108636587743661]
[null,null,"Prevalence of healthy eating (%)",2014,32.810722701789899,32.508257985239489,32.176633739327379,33.553247733877647,32.679921644749626,31.330925123576808,33.462423613736647,34.774028841969887]
[null,null,"Prevalence of physical activity (%)",2014,29.312818441242584,29.045988301695015,29.177950174347405,29.153931910014425,30.03398942008355,29.174991056822012,29.438454389445333,29.069355106041122]
[null,null,"Prevalence of alcohol misuse (%)",2014,26.563294730636795,26.587898851681707,26.623846731701335,26.118502749782728,28.170853178250926,26.710798586051553,25.572633279110963,25.148621972806385]
[null,null,"Prevalence of substance misuse"]
[null,null,"Clinical risk factors"]
[null,null,"Indicator","Period","Wales","Abertawe BM","Aneurin Bevan","Betsi Cadwaladr","Cardiff and Vale","Cwm Taf","Hywel Dda","Powys"]
[null,null,"Prevalence of hypertension (%)","2017-2018",15.6602091345417,15.275658750665908,16.106384884033311,16.593996038710678,12.410852998849842,16.833063515278653,16.564054260594045,17.345841043074142]
[null,null,"Prevalence of obesity in children (%)","2016-2017",12.3517727081201,12.2,11.837620080570201,12.7037135987176,9.9564641302290404,14.3579072532699,13.2715231788079,11.342155009451799]
[null,null,"Prevalence of obesity in adults (%)","2017-2018",9.6663991802723199,9.9679639340578898,11.079723536068123,8.4004708436418483,7.7791850359109436,12.300771668778522,9.6730705270934827,9.8469526801210616]
[null,null,"Prevalence of high fasting glucose"]
[null,null,"Prevalence of high cholesterol"]
[null,null,"Long-term condition prevalence"]
[null,null,"Indicator","Period","Wales","Abertawe BM","Aneurin Bevan","Betsi Cadwaladr","Cardiff and Vale","Cwm Taf","Hywel Dda","Powys"]
[null,null,"Prevalence of coronary heart disease (%)",2018,3.656341980684656,3.7809080992538204,3.6731603669904014,3.8507679403410093,2.7345848663934471,3.7449877360365083,4.1053425307900691,4.0449244803993283]
[null,null,"Prevalence of heart failure (%)",2018,1.0271972697200553,1.0489637202425173,0.98732466602082425,1.1042270199403692,0.84332044819339735,0.88502493509708557,1.1968203271579707,1.2385788258244044]
[null,null,"Prevalence of stroke and TIA (%)",2018,2.0924904613196413,2.2869184856073264,2.0177959409624133,2.0866549660611957,1.6969205614636689,2.0400850822646479,2.3438789266700013,2.5495933559963855]
[null,null,"Prevalence of diabetes (%)",2018,6.0251903480840783,6.2100681672398608,6.2100681672398608,5.9071141090975736,4.9443249460317586,6.363580100131272,6.3659467295627827,6.2725016853851994]
[null,null,"Prevalence of chronic obstructive pulmonary disease (%)",2018,2.2876740350761007,2.2282098579758571,2.2110601854490097,2.6357375963009173,1.6346607031678826,2.7638706567165152,2.3377856538970287,2.3143566131646516]
[null,null,"Prevalence of asthma (%)",2018,7.0531303490186827,7.4152258288969666,6.9140405578123856,7.2102514220464782,6.6953592161076534,7.0655413570816661,6.9404915747809586,7.0470616922701774]
[null,null,"Prevalence of dementia (%)",2018,0.67758749760546544,0.70395993317363625,0.65175802079178102,0.73995756768377352,0.63152055642081451,0.54691088186529513,0.70275745981613547,0.75663037709597369]
[null,null,"Prevalence of multi-morbidity"]

{"sheet":"LA_LTC","index":9,"n_rows":42,"n_cols":30,"rows_kept":42,"cut":false,"hidden":false,"merged":[[8,1,8,6]]}
[]
[]
[]
[]
[]
[]
[null,null,null,null,null,null,null,null,"Key:"]
[null,"ⓘ You are currently viewing the category page for long-term condition prevention & prevalence",null,null,null,null,null,null,null,"Primary care data exists, but no PHW access"]
[null,"ⓘ You are currently viewing this information by local authority",null,null,null,null,null,null,null,"No statistical comparison made, or no data available"]
[]
[]
[]
[]
[null,null,"Compare your position to others, and use the checkbox to select indicators of interest for review."]
[null,null,"After selecting indicators, scroll right to click 'Review this indicator'; this will open a web page."]
[null,null,"When complete, click the 'Next' button at the top, for the next category page."]
[]
[]
[null,null,"Behavioural risk factors"]
[null,null,"Indicator","Period","Wales","Bridgend","Neath Port Talbot","Swansea","Blaenau Gwent","Caerphilly","Monmouthshire","Newport","Torfaen","Anglesey","Conwy","Denbighshire","Flintshire","Gwynedd","Wrexham","Cardiff","Vale of Glamorgan","Merthyr Tydfil","Rhondda Cynon Taf","Carmarthenshire","Ceredigion","Pembrokeshire","Powys"]
[null,null,"Prevalence of smoking (%)","2013/14",20.5]
[null,null,"Prevalence of healthy eating (%)",2014,32.799999999999997]
[null,null,"Prevalence of physical activity (%)",2014,29.3]
[null,null,"Prevalence of alcohol misuse (%)",2014,26.6]
[null,null,"Prevalence of substance misuse"]
[null,null,"Clinical risk factors",null,null,null,null,null,null,null,null,null,null,null,null,null,null,null,null,null,null,null,null,null,null,null,null,null,null," "]
[null,null,"Indicator","Period","Wales","Bridgend","Neath Port Talbot","Swansea","Blaenau Gwent","Caerphilly","Monmouthshire","Newport","Torfaen","Anglesey","Conwy","Denbighshire","Flintshire","Gwynedd","Wrexham","Cardiff","Vale of Glamorgan","Merthyr Tydfil","Rhondda Cynon Taf","Carmarthenshire","Ceredigion","Pembrokeshire","Powys"]
[null,null,"Prevalence of hypertension (%)","2017-2018",15.6602091345417]
[null,null,"Prevalence of obesity in children (%)","2016-2017",12.3517727081201,13.5429262394196,11.819389110225799,13.492063492063499,15.1388888888889,13.554987212276201,7.9768786127167601,10.8180839612487,11.363636363636401,14.1558441558442,14.4375553587245,12.130479102956199,10.9208972845336,12.9992169146437,12.782874617737001,10.6629694983615,7.8267477203647404,17.495987158908498,13.6446552353156,14.0157480314961,10.8562691131498,13.404605263157899,11.342155009451799]
[null,null,"Prevalence of obesity in adults (%)","2017-2018",9.6663991802723199]
[null,null,"Prevalence of high fasting glucose"]
[null,null,"Prevalence of high cholesterol"]
[null,null,"Long-term condition prevalence"]
[null,null,"Indicator","Period","Wales","Bridgend","Neath Port Talbot","Swansea","Blaenau Gwent","Caerphilly","Monmouthshire","Newport","Torfaen","Anglesey","Conwy","Denbighshire","Flintshire","Gwynedd","Wrexham","Cardiff","Vale of Glamorgan","Merthyr Tydfil","Rhondda Cynon Taf","Carmarthenshire","Ceredigion","Pembrokeshire","Powys"]
[null,null,"Prevalence of coronary heart disease (%)",2018,3.656341980684656]
[null,null,"Prevalence of heart failure (%)",2018,1.0271972697200553]
[null,null,"Prevalence of stroke and TIA (%)",2018,2.0924904613196413]
[null,null,"Prevalence of diabetes (%)",2018,6.0251903480840783]
[null,null,"Prevalence of chronic obstructive pulmonary disease (%)",2018,2.2876740350761007]
[null,null,"Prevalence of asthma (%)",2018,7.0531303490186827]
[null,null,"Prevalence of dementia (%)",2018,0.67758749760546544]
[null,null,"Prevalence of multi-morbidity"]

{"sheet":"RPB_LTC","index":10,"n_rows":42,"n_cols":36,"rows_kept":42,"cut":false,"hidden":false,"merged":[[8,1,8,6]]}
[]
[]
[]
[]
[]
[]
[null,null,null,null,null,null,null,null,"Key:"]
[null,"ⓘ You are currently viewing the category page for long-term condition prevention & prevalence",null,null,null,null,null,null,null,"Primary care data exists, but no PHW access"]
[null,"ⓘ You are currently viewing this information by regional partnership board",null,null,null,null,null,null,null,"No statistical comparison made, or no data available"]
[]
[]
[]
[]
[null,null,"Compare your position to others, and use the checkbox to select indicators of interest for review."]
[null,null,"After selecting indicators, scroll right to click 'Review this indicator'; this will open a web page."]
[null,null,"When complete, click the 'Next' button at the top, for the next category page."]
[]
[]
[null,null,"Behavioural risk factors"]
[null,null,"Indicator","Period","Abertawe BM","Bridgend","Neath Port Talbot","Swansea","Aneurin Bevan","Blaenau Gwent","Caerphilly","Monmouthshire","Newport","Torfaen","Betsi Cadwaladr","Anglesey","Conwy","Denbighshire","Flintshire","Gwynedd","Wrexham","Cardiff & Vale","Cardiff","Vale of Glamorgan","Cwm Taf","Merthyr Tydfil","Rhondda Cynon Taf","Hywel Dda","Carmarthenshire","Ceredigion","Pembrokeshire","Powys","Powys LA"]
[null,null,"Prevalence of smoking (%)","2013/14",20.758862475155336,null,null,null,21.738213851376432,null,null,null,null,null,20.438051392454426,null,null,null,null,null,null,19.456008456153821,null,null,22.094508323021696,null,null,18.948325244135766,null,null,null,18.108636587743661]
[null,null,"Prevalence of healthy eating (%)",2014,32.508257985239489,null,null,null,32.176633739327379,null,null,null,null,null,33.553247733877647,null,null,null,null,null,null,32.679921644749626,null,null,31.330925123576808,null,null,33.462423613736647,null,null,null,34.774028841969887]
[null,null,"Prevalence of physical activity (%)",2014,29.045988301695015,null,null,null,29.177950174347405,null,null,null,null,null,29.153931910014425,null,null,null,null,null,null,30.03398942008355,null,null,29.174991056822012,null,null,29.438454389445333,null,null,null,29.069355106041122]
[null,null,"Prevalence of alcohol misuse (%)",2014,26.587898851681707,null,null,null,26.623846731701335,null,null,null,null,null,26.118502749782728,null,null,null,null,null,null,28.170853178250926,null,null,26.710798586051553,null,null,25.572633279110963,null,null,null,25.148621972806385]
[null,null,"Prevalence of substance misuse"]
[null,null,"Clinical risk factors"]
[null,null,"Indicator","Period","Abertawe BM","Bridgend","Neath Port Talbot","Swansea","Aneurin Bevan","Blaenau Gwent","Caerphilly","Monmouthshire","Newport","Torfaen","Betsi Cadwaladr","Anglesey","Conwy","Denbighshire","Flintshire","Gwynedd","Wrexham","Cardiff & Vale","Cardiff","Vale of Glamorgan","Cwm Taf","Merthyr Tydfil","Rhondda Cynon Taf","Hywel Dda","Carmarthenshire","Ceredigion","Pembrokeshire","Powys","Powys LA"]
[null,null,"Prevalence of hypertension (%)","2017-2018",15.275658750665908,null,null,null,16.106384884033311,null,null,null,null,null,16.593996038710678,null,null,null,null,null,null,12.410852998849842,null,null,16.833063515278653,null,null,16.564054260594045,null,null,null,17.345841043074142,null,null,null," "]
[null,null,"Prevalence of obesity in children (%)","2016-2017",12.2,13.5429262394196,11.819389110225799,13.492063492063499,11.837620080570201,15.1388888888889,13.554987212276201,7.9768786127167601,10.8180839612487,11.363636363636401,12.7037135987176,14.1558441558442,14.4375553587245,12.130479102956199,10.9208972845336,12.9992169146437,12.782874617737001,9.9564641302290404,10.6629694983615,7.8267477203647404,14.3579072532699,17.495987158908498,13.6446552353156,13.2715231788079,14.0157480314961,10.8562691131498,13.404605263157899,11.342155009451799,11.342155009451799]
[null,null,"Prevalence of obesity in adults (%)","2017-2018",9.9679639340578898,null,null,null,11.079723536068123,null,null,null,null,null,8.4004708436418483,null,null,null,null,null,null,7.7791850359109436,null,null,12.300771668778522,null,null,9.6730705270934827,null,null,null,9.8469526801210616]
[null,null,"Prevalence of high fasting glucose"]
[null,null,"Prevalence of high cholesterol"]
[null,null,"Long-term condition prevalence"]
[null,null,"Indicator","Period","Abertawe BM","Bridgend","Neath Port Talbot","Swansea","Aneurin Bevan","Blaenau Gwent","Caerphilly","Monmouthshire","Newport","Torfaen","Betsi Cadwaladr","Anglesey","Conwy","Denbighshire","Flintshire","Gwynedd","Wrexham","Cardiff & Vale","Cardiff","Vale of Glamorgan","Cwm Taf","Merthyr Tydfil","Rhondda Cynon Taf","Hywel Dda","Carmarthenshire","Ceredigion","Pembrokeshire","Powys","Powys LA"]
[null,null,"Prevalence of coronary heart disease (%)",2018,3.7809080992538204,null,null,null,3.6731603669904014,null,null,null,null,null,3.8507679403410093,null,null,null,null,null,null,2.7345848663934471,null,null,3.7449877360365083,null,null,4.1053425307900691,null,null,null,4.0449244803993283]
[null,null,"Prevalence of heart failure (%)",2018,1.0489637202425173,null,null,null,0.98732466602082425,null,null,null,null,null,1.1042270199403692,null,null,null,null,null,null,0.84332044819339735,null,null,0.88502493509708557,null,null,1.1968203271579707,null,null,null,1.2385788258244044]
[null,null,"Prevalence of stroke and TIA (%)",2018,2.2869184856073264,null,null,null,2.0177959409624133,null,null,null,null,null,2.0866549660611957,null,null,null,null,null,null,1.6969205614636689,null,null,2.0400850822646479,null,null,2.3438789266700013,null,null,null,2.5495933559963855]
[null,null,"Prevalence of diabetes (%)",2018,6.2100681672398608,null,null,null,6.2100681672398608,null,null,null,null,null,5.9071141090975736,null,null,null,null,null,null,4.9443249460317586,null,null,6.363580100131272,null,null,6.3659467295627827,null,null,null,6.2725016853851994]
[null,null,"Prevalence of chronic obstructive pulmonary disease (%)",2018,2.2282098579758571,null,null,null,2.2110601854490097,null,null,null,null,null,2.6357375963009173,null,null,null,null,null,null,1.6346607031678826,null,null,2.7638706567165152,null,null,2.3377856538970287,null,null,null,2.3143566131646516]
[null,null,"Prevalence of asthma (%)",2018,7.4152258288969666,null,null,null,6.9140405578123856,null,null,null,null,null,7.2102514220464782,null,null,null,null,null,null,6.6953592161076534,null,null,7.0655413570816661,null,null,6.9404915747809586,null,null,null,7.0470616922701774]
[null,null,"Prevalence of dementia (%)",2018,0.70395993317363625,null,null,null,0.65175802079178102,null,null,null,null,null,0.73995756768377352,null,null,null,null,null,null,0.63152055642081451,null,null,0.54691088186529513,null,null,0.70275745981613547,null,null,null,0.75663037709597369]
[null,null,"Prevalence of multi-morbidity"]

{"sheet":"CHB_LTC","index":11,"n_rows":42,"n_cols":80,"rows_kept":42,"cut":false,"hidden":false,"merged":[[8,1,8,6]]}
[]
[]
[]
[]
[]
[]
[null,null,null,null,null,null,null,null,"Key:"]
[null,"ⓘ You are currently viewing the category page for long-term condition prevention & prevalence",null,null,null,null,null,null,null,"Cluster similar to health board average"]
[null,"ⓘ You are currently viewing this information by clusters, by health board",null,null,null,null,null,null,null,"Cluster position lower than health board average"]
[null,null,null,null,null,null,null,null,null,"Cluster position higher than health board average"]
[null,null,null,null,null,null,null,null,null,"Primary care data exists, but no PHW access"]
[null,null,null,null,null,null,null,null,null,"No statistical comparison made, or no data available"]
[]
[null,null,"Compare your position to others, and use the checkbox to select indicators of interest for review."]
[null,null,"After selecting indicators, scroll right to click 'Review this indicator'; this will open a web page."]
[null,null,"When complete, click the 'Next' button at the top, for the next category page."]
[]
[]
[null,null,"Behavioural risk factors"]
[null,null,"Indicator","Period","Abertawe BM","Bridgend East Network","Bridgend North Network","Bridgend West Network","Afan","Neath","Upper Valleys","BayHealth","CityHealth","Cwmtawe","Llwchwr","Penderi","Aneurin Bevan","Blaenau Gwent East","Blaenau Gwent West","Caerphilly East","Caerphilly North","Caerphilly South","Monmouthshire North","Monmouthshire South","Newport Central","Newport East","Newport West","Torfaen North","Torfaen South","Betsi Cadwaladr","Anglesey","Conwy East","Conwy West","Central - South Denbighshire","North Denbighshire","North East Flintshire","Nort West Flintshire","South flintshire","Arfon","Dwyfor","Meirionnydd","South Wrexham","West - North Wrexham","Wrexham Town","Cardiff & Vale","Cardiff East","Cardiff North","Cardiff South East","Cardiff South West","Cardiff West","City - Cardiff South","Central Vale","Eastern Vale","Western Vale","Cwm Taf","North Merthyr Tydfil","South Merthyr Tydfil","North Cynon","North Rhondda","North Taf Ely","South Cynon","South Rhondda","South Taf Ely","Hywel Dda","Amman-Gwendraeth","Llanelli","Taf - Teifi - Tywi","North Ceredigion","South Ceredigion","North Pembrokeshire","South Pembrokeshire","Powys","Mid Powys","North Powys","South Powys"]
[null,null,"Prevalence of smoking (%)","2013/14",20.758862475155336,18.500973608757256,24.482289758796121,21.777551609482579,23.835344970302685,20.313909395521851,21.219830136221102,13.128152648828086,28.793169572863736,19.816865749996136,16.948119911907956,25.215076138382948,21.738213851376432,25.868733083536071,23.708879196402492,19.21496916611423,23.194506604876899,22.856946379705402,15.264880044480474,16.971390855116308,19.534201163800681,25.370139145687904,24.63291752076999,22.583187362790117,22.796164694997231,20.438051392454426,21.700690670764068,20.930142236526411,19.094004392808237,17.203689654301392,24.260325507595343,19.166522165652637,21.234102864388589,16.471780279349552,19.760188158287502,19.799728029463356,20.06664280106116,21.177662596069936,20.778973280032062,23.219182022652429,19.456008456153821,24.914874579250775,13.909932314311115,22.191320215738777,23.798820745875943,15.132835612472123,22.824009581921906,23.233234210272084,14.509987787975398,14.240754747480125,22.094508323021696,25.369941071901032,21.103224636649351,22.835939704781218,23.526408409260078,20.913323514393646,25.452660722913055,25.397773657221727,16.474052867625328,18.948325244135766,19.314855661043385,20.71308109447196,16.752941292566355,16.775200881273815,18.626384930995645,20.30746229269776,19.446424591818293,18.108636587743661,18.148546954316462,19.035198458905995,16.772588848993777]
[null,null,"Prevalence of healthy eating (%)",2014,32.508257985239489,33.923833599418536,30.947893351568752,32.803264576864805,30.385881756704386,32.467866947418507,32.626480300922587,34.305867973329669,30.875102465161198,32.520762891791911,34.022395662662078,31.142685726973891,32.176633739327379,29.743578162384242,30.588733632961606,32.879812780470282,30.668489457257188,32.218830347779047,34.921549991325861,35.021985240073342,33.00440829761942,31.242600221142425,31.437376702717128,31.999356663130946,32.380874752967827,33.553247733877647,33.245998451950413,32.830093849617548,34.270622926796051,34.871606938106268,32.008286319808903,33.533358871207305,32.685502245759068,35.115046471880397,33.305427466720019,34.793741955430036,34.778398712055484,33.327441214373508,33.573250325176851,32.807540326796911,32.679921644749626,30.749221982966997,34.413080495575208,30.842004886352807,31.109449324739806,34.238095667367155,29.959267060570976,32.133736001546062,35.712835076355354,35.586460014288093,31.330925123576808,30.722045763971657,31.434762422622107,30.729207581991218,29.959190849454799,31.939586135256516,30.083124314941244,29.980089002802067,33.952438604688794,33.462423613736647,32.99380519698839,32.126274299305535,34.215128104888336,33.655515328076952,33.91304246234629,33.671764004615326,33.800415473928766,34.774028841969887,35.003416009513238,34.609976042235616,34.863949455573817]
[null,null,"Prevalence of physical activity (%)",2014,29.045988301695015,29.39119036516955,29.095849817583229,28.393893703976747,28.180262155741932,28.505911772980845,29.651684721191529,28.997552108890247,30.057627874218891,28.990899233919354,29.156677768248773,29.050406904756485,29.177950174347405,28.656122164777031,28.887148940788975,29.731239948834787,29.032739164293165,29.300807138455053,28.640120014362893,29.245734495505292,29.238569665396653,29.543462049375592,29.209565080471528,28.93891250409369,29.494101209613593,29.153931910014425,28.809719833443069,27.767960364170762,28.606282274926702,28.843556594975905,28.356840232817408,29.5199120711954,29.397862588148715,28.912896280944633,30.674626469552656,28.953603291251433,28.863280556980524,29.645787893705634,29.853928031353906,29.86415494337389,30.03398942008355,29.975588751496701,29.850984123116454,32.404416858456258,30.290239527432277,29.080114620970605,31.712194663891385,29.200666312520518,28.464311580200309,28.346894126705013,29.174991056822012,29.250682804289674,29.674457871680083,28.739037507148524,28.363512400242683,30.249130933138936,28.896529368219802,28.784917278113532,29.22058225777004,29.438454389445333,29.11788129656291,28.990036117988023,29.508651264864444,30.931124636498371,29.393901452518328,29.366343139285345,29.00543267336143,29.069355106041122,28.819809778290921,29.389152349256243,28.771870793973953]
[null,null,"Prevalence of alcohol misuse (%)",2014,26.587898851681707,27.354931666106957,26.358361889507304,25.515972863436708,25.845674175976541,26.124452974439976,25.912005309105684,27.021234258312838,27.503016101196298,26.653450268727607,26.635825944768609,26.448629630077029,26.623846731701335,26.271643879073341,25.992457694729371,26.795202167784147,26.478731393795108,26.840485934391513,25.520021391699245,27.231474903540477,27.26289073360827,26.944559416102194,27.169267136536739,26.208186797867803,26.593284209427431,26.118502749782728,25.002091207921463,24.962458790033267,25.222811259766626,26.116445763635344,25.223928738842471,27.448029902829308,26.741850536787819,26.704155701734777,27.609182923871238,24.420375311693572,24.34561028861555,26.550806987426252,27.157038533542533,27.18425095059192,28.170853178250926,27.497310539364772,28.453116479641,29.762400187477461,28.397037010461094,27.723154246041489,29.848825955754815,27.168675098011981,26.803146416742113,26.987276588373003,26.710798586051553,26.504379186679085,26.831644723396451,26.150590150413617,25.81058808547715,27.385351492206865,26.397587894016176,26.323452328598982,27.599411056478878,25.572633279110963,25.458998358151486,25.741551498017223,25.2678044650952,27.708487557474225,24.674532386458523,25.346445359940446,25.021416302161683,25.148621972806385,24.191476962950819,25.50145948588596,25.242017641014968]
[null,null,"Prevalence of substance misuse"]
[null,null,"Clinical risk factors",null,null,null,null,null,null,null,null,null,null,null,null,null,null,null,null,null,null,null,null,null,null,null,null,null,null,null,null,null,null,null,null,null,null,null,null,null,null,null,null,null,null,null,null,null,null,null,null,null,null,null,null,null,null,null,null,null,null,null,null,null,null,null,null,null,null,null,null,null,null,null,null,null,null," "]
[null,null,"Indicator","Period","Abertawe BM","Bridgend East Network","Bridgend North Network","Bridgend West Network","Afan","Neath","Upper Valleys","BayHealth","CityHealth","Cwmtawe","Llwchwr","Penderi","Aneurin Bevan","Blaenau Gwent East","Blaenau Gwent West","Caerphilly East","Caerphilly North","Caerphilly South","Monmouthshire North","Monmouthshire South","Newport Central","Newport East","Newport West","Torfaen North","Torfaen South","Betsi Cadwaladr","Anglesey","Conwy East","Conwy West","Central - South Denbighshire","North Denbighshire","North East Flintshire","Nort West Flintshire","South flintshire","Arfon","Dwyfor","Meirionnydd","South Wrexham","West - North Wrexham","Wrexham Town","Cardiff & Vale","Cardiff East","Cardiff North","Cardiff South East","Cardiff South West","Cardiff West","City - Cardiff South","Central Vale","Eastern Vale","Western Vale","Cwm Taf","North Merthyr Tydfil","South Merthyr Tydfil","North Cynon","North Rhondda","North Taf Ely","South Cynon","South Rhondda","South Taf Ely","Hywel Dda","Amman-Gwendraeth","Llanelli","Taf - Teifi - Tywi","North Ceredigion","South Ceredigion","North Pembrokeshire","South Pembrokeshire","Powys","Mid Powys","North Powys","South Powys"]
[null,null,"Prevalence of hypertension (%)","2017-2018",15.275658750665908,15.1849157947742,18.42902634372286,17.26312744105309,17.012115162546728,15.840356965790777,17.493827942014306,12.296585993062159,13.001182101815786,14.788666541986162,15.222644839977303,13.884963625896269,16.106384884033311,19.299157141207711,17.48000312654699,15.772244365973053,16.647189260457868,15.65397409583127,17.487964823168191,15.772378300852106,15.364066152304961,13.309042862004764,14.096978498527573,17.552728964024993,16.132478632478634,16.593996038710678,17.465883967370587,17.745962098573969,17.595518978627531,17.071312958202416,17.185327418393697,15.355148159474641,16.825227693634726,16.044308752152812,13.098556604737372,19.168405843634613,18.802464013277582,17.112869731155637,16.2700119474313,15.630845176343547,12.410852998849842,13.431384465783397,12.324420957507416,8.1920772044517083,12.116272751969573,13.118405005567633,9.5155408925160607,15.264812195505264,14.495233439256905,14.489839119390346,16.833063515278653,17.396823431065979,16.547443719755943,17.634625310295672,18.488009221513117,15.588956401236542,18.289085545722713,17.530559143408023,14.547138740222312,16.564054260594045,16.133514119754263,15.572757431861056,16.143844804457743,15.122755902138053,18.125220495154295,16.875841802375412,18.088730915854804,17.345841043074142,18.594873185948732,15.824339874972788,18.682618985011835]
[null,null,"Prevalence of obesity in children (%)","2016-2017",12.2,null,null,null,null,null,null,null,null,null,null,null,11.8,null,null,null,null,null,null,null,null,null,null,null,null,12.7037135987176,null,null,null,null,null,null,null,null,null,null,null,null,null,null,9.9564641302290404,null,null,null,null,null,null,null,null,null,14.3579072532699,null,null,null,null,null,null,null,null,13.2715231788079,null,null,null,null,null,null,null,11.342155009451799]
[null,null,"Prevalence of obesity in adults (%)","2017-2018",9.9679639340578898,8.5464107872209478,10.153430473801023,8.0225661796615064,13.30319221811207,13.949288193214818,10.843831107172248,6.1382478603860005,8.8134410790070348,11.768281279221995,9.3575976632273523,10.854660595593238,11.079723536068123,13.16245237270523,12.084104114014748,11.278662685843322,12.384633824763275,10.397055701040413,11.415412607558469,10.033324896650637,9.3393557004516783,10.712498248283318,10.972608818427529,12.131200582394694,9.5586952729809873,8.4004708436418483,9.3192040863002212,7.775087944925672,7.6305660731608107,6.3386651432923919,7.0598556578163274,9.5205137697371605,9.0240251668062008,9.1533583842179418,6.2318481005268618,8.4202921817306162,9.3581436915514988,9.0830854427419503,10.009557945041816,9.7745810756088627,7.7791850359109436,9.5869002760943935,7.2382767223935716,7.3889018600669303,8.0216728545986893,6.8349329232727074,6.6628630962716748,9.9984284142699984,6.6351611939487771,6.3434942139429866,12.300771668778522,13.198551038731848,11.950347149168945,10.742989161157126,11.892378194495207,12.542372881355931,15.496241316966412,15.366616124744951,8.5261424454508035,9.6730705270934827,11.905120607978038,10.337930137253625,10.225982870704778,8.8307125412399845,8.3570257538340211,8.1716052406024247,9.5710786570655078,9.8469526801210616,9.0872100908721016,10.173234223867135,9.8781663598913134]
[null,null,"Prevalence of high fasting glucose"]
[null,null,"Prevalence of high cholesterol",null,null,null,null,null,null,null,null,null,null,null,null,null,null,null,null,null,null,null,null,null,null,null,null,null,null,null,null,null,null,null,null,null,null,null,null,null,null,null,null,null,null,null,null,null,null,null,null,null,null,null,null,null,null,null,null,null,null,null,null,null,null,null,null,null,null,null,null,null,null,null,null,null,null,null,null," "]
[null,null,"Long-term condition prevalence"]
[null,null,"Indicator","Period","Abertawe BM","Bridgend East Network","Bridgend North Network","Bridgend West Network","Afan","Neath","Upper Valleys","BayHealth","CityHealth","Cwmtawe","Llwchwr","Penderi","Aneurin Bevan","Blaenau Gwent East","Blaenau Gwent West","Caerphilly East","Caerphilly North","Caerphilly South","Monmouthshire North","Monmouthshire South","Newport Central","Newport East","Newport West","Torfaen North","Torfaen South","Betsi Cadwaladr","Anglesey","Conwy East","Conwy West","Central - South Denbighshire","North Denbighshire","North East Flintshire","Nort West Flintshire","South flintshire","Arfon","Dwyfor","Meirionnydd","South Wrexham","West - North Wrexham","Wrexham Town","Cardiff & Vale","Cardiff East","Cardiff North","Cardiff South East","Cardiff South West","Cardiff West","City - Cardiff South","Central Vale","Eastern Vale","Western Vale","Cwm Taf","North Merthyr Tydfil","South Merthyr Tydfil","North Cynon","North Rhondda","North Taf Ely","South Cynon","South Rhondda","South Taf Ely","Hywel Dda","Amman-Gwendraeth","Llanelli","Taf - Teifi - Tywi","North Ceredigion","South Ceredigion","North Pembrokeshire","South Pembrokeshire","Powys","Mid Powys","North Powys","South Powys"]
[null,null,"Prevalence of coronary heart disease (%)",2018,3.7809080992538204,3.7109047166116489,4.3365820708289107,4.9038044264429335,4.0318634646624778,3.7839082087966567,4.1273659555611824,3.1220283138904144,3.4435982404123795,3.6375537684682997,3.679576354886839,3.5458209033338566,3.6731603669904014,4.4076896432282648,3.9759255881816524,3.4448266977857931,3.9479204123217064,3.7033760351051028,3.9232781168265043,3.4569307348350629,3.2865252464893935,3.1550919901503471,3.1344547984993345,4.0747406523629452,3.8854003139717421,3.8507679403410093,4.1198444766333768,4.4842455649279422,4.1383734393090714,3.8750833095306101,4.6265642587565381,3.5828679038774167,3.7039855899738692,3.832002505088461,2.7846290809848364,4.0014448547118313,4.3088315087293738,3.7061982002207632,3.6606929510155317,3.399602769046838,2.7345848663934471,2.8981229054159652,2.6334400722943636,1.7931356525799673,2.6442090011772166,3.0666171765911945,1.9844715104308783,3.3239038189533243,3.3569624378717506,3.3834321196725941,3.7449877360365083,4.1704077525619994,3.1874605512308016,3.952122299505985,4.4083330990469234,3.3940944462210854,3.9299647920829766,3.8580333576683326,3.2647179909427746,4.1053425307900691,4.6267932171613184,4.3599167371365386,4.0174732569738243,3.3656112087064574,4.2252059684147181,3.771274641851353,4.268955229378073,4.0449244803993283,4.489353044893531,3.9436444499735637,3.9004294854939081]
[null,null,"Prevalence of heart failure (%)",2018,1.0489637202425173,1.0071056901471493,1.2949917977419667,1.4523361782149573,0.91206231773432767,0.88533182236702324,1.1964297018421219,0.92683122831924791,0.90498614421642165,1.1665419861604638,1.1074453106940971,0.96038101219448369,0.98732466602082425,1.3624292806835239,1.3053333680727444,0.70927360077595747,0.93941028407047833,0.8068511571944228,1.6413327773776583,0.97654602210410868,0.84184256313819228,0.70068667293948073,0.77453709306547258,1.1223231077227964,0.96589918018489451,1.1042270199403692,1.2289395441030724,1.0723607065854674,1.3612041180336076,1.2805864990954965,1.1189829835132095,0.95607526275974186,0.93107035035644525,1.0744480976984498,0.79977816372101174,1.288328784716648,1.4809613481855033,1.0551720267160578,1.0609318996415771,1.0123604388823542,0.84332044819339735,0.81786452273871746,0.91055537001748421,0.56035489143123984,0.77877388390835822,0.97035897979744423,0.55565202292064586,0.90051862329090049,0.98047203889296297,1.2948066610217328,0.88502493509708557,1.0093191739682343,0.7574163686092994,0.95362154988079728,0.94464280693862634,0.86344739366805245,1.3845275478161576,0.80118305535276402,0.67311650885137919,1.1968203271579707,1.2370478247041297,1.0505431600858648,1.1625907199119458,1.6196066669523117,1.0646024861477164,1.0790375903024367,1.2504834343173907,1.2385788258244044,1.6512952665129526,0.99835163126302373,1.3103690069243579]
[null,null,"Prevalence of stroke and TIA (%)",2018,2.2869184856073264,2.4772002461813907,2.4876966129499181,3.2344857514827137,2.1548940167929067,2.2876974289963878,2.3232259289738559,1.9809008478094907,2.0967773191481114,2.1507387319992519,2.1497467795826593,2.1248757000052336,2.0177959409624133,2.1648770349844129,2.1364737760871262,1.712562326659897,2.0136641495864795,2.0012031990940615,2.6268905651794854,2.1492449168986756,1.8541626390621977,1.6035715000700685,1.8475936907499293,2.1738690825261373,2.1062271062271063,2.0866549660611957,2.4990470381947092,2.3319589968604606,2.4658134368057074,2.1993716081119681,2.1187843474806329,1.7705097458513737,1.6312758454473959,2.2056521058399876,1.6024752258497643,2.3880237598330392,2.4927388209760299,1.9569325176329724,1.8494623655913978,1.9013093195009545,1.6969205614636689,1.5627984510930906,1.6953814117046149,1.1284924896879136,1.5756587883727247,1.9725330081128374,1.1361099397216778,2.0163444915920161,2.1592112767864418,2.4767146486028793,2.0400850822646479,2.2601318926282548,1.7076933866330037,1.892496374763438,2.3897213866006917,2.01684255409871,1.998287182415073,2.2088691712996762,1.8114450391107453,2.3438789266700013,2.2196555014312258,2.3824237299160869,2.5693942833556909,1.8145593213076825,2.3948367817046092,2.3080690584057795,2.6482992320300558,2.5495933559963855,2.8482300284823006,2.3559232419991911,2.6295030239284776]
[null,null,"Prevalence of diabetes (%)",2018,6.2100681672398608,6.0971856990992004,7.127279745247515,6.5412990018805157,7.4569901943514765,6.5549968128054399,6.8304108375007919,4.276549294831443,6.1992519814739451,6.255844398728259,5.8251203059659158,6.4086460459517447,6.2100681672398608,7.6665512065581334,7.1233162241734194,6.1409757058636316,7.056814095649047,6.1186212753910398,6.3037792350555328,5.7601451109423776,5.7189054289179069,6.2301055033933253,6.3758118520311431,7.1707346666397038,6.3884528170242456,5.9071141090975736,6.3947548982236802,6.7046185270643415,5.8124980442469569,5.724554889079311,6.864530225782957,5.4901897664536685,6.1521678463607072,5.7597463597933301,4.6016433398035579,6.0683897896933692,6.8941304139669981,5.8109296364894956,5.5961768219832742,5.4860294259434239,4.9443249460317586,5.4298563961867714,4.2836375066302574,4.0983734142734844,5.3427510640224583,4.6449970836205532,5.4126460447002209,5.7095709570957096,5.2255628887259293,5.1651143099068584,6.363580100131272,6.4305396451902528,5.978680131846553,6.6188217366726478,6.8795861564845797,6.2061613900437056,7.0844038443239121,6.6790213586417329,5.4466858789625361,6.3659467295627827,6.9803645859488768,6.7342093280426711,6.2446255976335427,5.2037362354856675,6.4104426505073988,6.2614791233010889,6.488148953019393,6.2725016853851994,6.7475925674759258,6.0429819923490804,6.2888947322289415]
[null,null,"Prevalence of chronic obstructive pulmonary disease (%)",2018,2.2282098579758571,1.9037095059587086,3.124577824954164,2.4475625632865614,2.763587967040495,2.2434308378780368,2.6492371969361272,1.303188995888191,2.5405499680251147,1.994108846081915,1.8114190850442347,2.5017009472968024,2.2110601854490097,3.394527190855559,2.764388629790782,2.0611369595198763,2.5695193575452477,2.096751362446033,1.95405784466093,1.5671138108495737,1.7469551310216349,1.763728453884807,2.2267941425632336,2.5944874724474731,2.2828362114076399,2.6357375963009173,2.9564687047343141,2.6723909672050534,2.483024063585443,2.7420736932305059,3.6400052969608687,2.2083085193709864,2.6460664180429765,2.1508532957570066,2.4825230957836513,2.5204687750842831,3.0800165969806259,2.4115545078670184,2.6905615292712066,2.2831138278794421,1.6346607031678826,2.1740262897428329,1.1462978606368976,1.4833839209276987,2.073711853662954,1.5147498099934602,1.1311487609456006,2.2269369794122267,1.4883619870175724,1.4253457521874118,2.7638706567165152,3.2911235641970342,2.4405638544077424,2.9591761496301028,3.4552559813320589,2.4304445155100733,3.9965743648301459,2.8546826154508529,1.6220666941128035,2.3377856538970287,2.651534173655401,2.2604566447667991,1.7731228287414442,1.8809717640001715,2.3574823085064436,2.8575364270846086,2.4346673051069079,2.3143566131646516,2.8889190288891902,2.0635710509128229,2.2964326408975371]
[null,null,"Prevalence of asthma (%)",2018,7.4152258288969666,7.3350864432384046,7.9687349223197907,8.1296108780558374,7.7368719785489208,8.0582902471846456,7.3400012660631768,6.4771037863466514,7.1701257678817116,6.8426220310454466,7.9517515287788676,6.9869681268644994,6.9140405578123856,6.9420390255166842,7.5089236861989015,6.3849779488656164,6.9714131607335483,6.5910538608535632,6.9121716386793528,7.2660929722433139,6.9790330234274762,6.3462192949090115,6.5109524385816284,7.9088390527997419,7.0098552241409386,7.2102514220464782,8.1375314477395744,7.5197639671672283,6.7606471195669178,7.1693801770922594,7.586241144143548,6.7295465885496304,6.9716112337316378,7.2236574291529676,6.7660065091434491,7.3968534275164544,7.0441415850116496,7.5489700847505201,7.4838709677419359,6.643012784666114,6.6953592161076534,6.7599715223393346,7.1439797261458065,5.2906840999299556,7.3364725768963748,7.1477809003658725,5.7028750031007363,6.9275498978469265,6.789972568510823,6.5022579734688115,7.0655413570816661,6.7927799622279323,6.9254505926081773,6.4688966991913883,6.9358148949928307,7.0013857797676158,7.3793890950613754,7.4820763370210219,7.391930835734871,6.9404915747809586,7.7369892365121613,7.6042412021075911,6.6659787431637598,6.1956382021509064,6.9043517961275862,6.2369903269254321,7.1253614247039536,7.0470616922701774,6.7408110674081101,7.0739899853823909,7.2070295380839688]
[null,null,"Prevalence of dementia (%)",2018,0.70395993317363625,0.63223857214793266,0.62723149667084821,0.88528858672067123,0.8279020609476837,0.65691621219633123,0.87041843387985063,0.74869748067985487,0.68213088386334131,0.62184402468674016,0.74390064513417531,0.52860208300622813,0.65175802079178102,0.63214409421544859,0.68784033766707486,0.49255111164997045,0.58881697231211794,0.61752424092292446,0.89647852621204649,0.80570319750274189,0.67312255048419123,0.4104021941502673,0.78865625882447854,0.62890538108430571,0.67155067155067161,0.73995756768377352,0.75474574979034836,1.1328819457578394,0.84801451951059237,0.72122250785489861,1.0792557769979474,0.40077902428817458,0.63678108430372682,0.61844371379364327,0.64799544651848395,0.81072403275004012,0.6543040439181641,0.60429178125760041,0.59737156511350065,0.80603173991014088,0.63152055642081451,0.7067321884387644,0.67186609826532817,0.3953615067320414,0.60068218177427635,0.62216094879544692,0.54076848659241439,0.60506050605060502,0.94244819250930234,0.74442562799887102,0.54691088186529513,0.73376884733273484,0.45935900133249175,0.49647307493794091,0.35705248952739743,0.68009807056816973,0.51860310210295935,0.57093652309017051,0.51255660765747224,0.70275745981613547,0.69803645859488772,0.77245820594548886,0.6724452240910811,0.6448433951754573,0.67238051756697859,0.62293375780580384,0.83426950772574082,0.75663037709597369,0.85107825851078267,0.54427269617143037,0.99482864405294069]
[null,null,"Prevalence of multi-morbidity"]

{"sheet":"CLA_LTC","index":12,"n_rows":43,"n_cols":94,"rows_kept":43,"cut":false,"hidden":false,"merged":[[7,1,7,5],[8,1,8,5]]}
[]
[]
[]
[]
[]
[]
[null,null,null,null,null,null,null,"Key:"]
[null,"ⓘ You are currently viewing the category page for long-term condition prevention & prevalence",null,null,null,null,null,null,"Primary care data exists, but no PHW access"]
[null,"ⓘ You are currently viewing this information by clusters, by local authority (PSB)",null,null,null,null,null,null,"No statistical comparison made, or no data available"]
[]
[]
[]
[]
[null,null,"Compare your position to others, and use the checkbox to select indicators of interest for review."]
[null,null,"After selecting indicators, scroll right to click 'Review this indicator'; this will open a web page."]
[null,null,"When complete, click the 'Next' button at the top, for the next category page."]
[]
[]
[null,null,"Behavioural risk factors"]
[null,null,"Indicator","Period","Bridgend","Bridgend East Network","Bridgend North Network","Bridgend West Network","Neath Port Talbot","Afan","Neath","Upper Valleys","Swansea","BayHealth","CityHealth","Cwmtawe","Llwchwr","Penderi","Blaenau Gwent","Blaenau Gwent East","Blaenau Gwent West","Caerphilly","Caerphilly East","Caerphilly North","Caerphilly South","Monmouthshire","Monmouthshire North","Monmouthshire South","Newport","Newport Central","Newport East","Newport West","Torfaen","Torfaen North","Torfaen South","Anglesey LA","Anglesey Cluster","Conwy","Conwy East","Conwy West","Denbighshire","Central - South Denbighshire","North Denbighshire","Flintshire","North East Flintshire","Nort West Flintshire","South flintshire","Gwynedd","Arfon","Dwyfor","Meirionnydd","Wrexham","South Wrexham","West - North Wrexham","Wrexham Town","Cardiff","Cardiff East","Cardiff North","Cardiff South East","Cardiff South West","Cardiff West","City - Cardiff South","Vale of Glamorgan","Central Vale","Eastern Vale","Western Vale","Merthyr Tydfil","North Merthyr Tydfil","South Merthyr Tydfil","Rhondda Cynon Taf","North Cynon","North Rhondda","North Taf Ely","South Cynon","South Rhondda","South Taf Ely","Carmarthenshire","Amman-Gwendraeth","Llanelli","Taf - Teifi - Tywi","Ceredigion","North Ceredigion","South Ceredigion","Pembrokeshire","North Pembrokeshire","South Pembrokeshire","Powys","Mid Powys","North Powys","South Powys"]
[null,null,"Prevalence of smoking (%)","2013/14",null,18.500973608757256,24.482289758796121,21.777551609482579,null,23.835344970302685,20.313909395521851,21.219830136221102,null,13.128152648828086,28.793169572863736,19.816865749996136,16.948119911907956,25.215076138382948,null,25.868733083536071,23.708879196402492,null,19.21496916611423,23.194506604876899,22.856946379705402,null,15.264880044480474,16.971390855116308,null,19.534201163800681,25.370139145687904,24.63291752076999,null,22.583187362790117,22.796164694997231,null,21.700690670764068,null,20.930142236526411,19.094004392808237,null,17.203689654301392,24.260325507595343,null,19.166522165652637,21.234102864388589,16.471780279349552,null,null,null,null,null,null,null,null,null,24.914874579250775,13.909932314311115,22.191320215738777,23.798820745875943,15.132835612472123,22.824009581921906,null,23.233234210272084,14.509987787975398,14.240754747480125,null,25.369941071901032,21.103224636649351,null,22.835939704781218,23.526408409260078,20.913323514393646,25.452660722913055,25.397773657221727,16.474052867625328,null,19.314855661043385,20.71308109447196,16.752941292566355,null,16.775200881273815,18.626384930995645,null,20.30746229269776,19.446424591818293,null,18.148546954316462,19.035198458905995,16.772588848993777]
[null,null,"Prevalence of healthy eating (%)",2014,null,33.923833599418536,30.947893351568752,32.803264576864805,null,30.385881756704386,32.467866947418507,32.626480300922587,null,34.305867973329669,30.875102465161198,32.520762891791911,34.022395662662078,31.142685726973891,null,29.743578162384242,30.588733632961606,null,32.879812780470282,30.668489457257188,32.218830347779047,null,34.921549991325861,35.021985240073342,null,33.00440829761942,31.242600221142425,31.437376702717128,null,31.999356663130946,32.380874752967827,null,33.245998451950413,null,32.830093849617548,34.270622926796051,null,34.871606938106268,32.008286319808903,null,33.533358871207305,32.685502245759068,35.115046471880397,null,null,null,null,null,null,null,null,null,30.749221982966997,34.413080495575208,30.842004886352807,31.109449324739806,34.238095667367155,29.959267060570976,null,32.133736001546062,35.712835076355354,35.586460014288093,null,30.722045763971657,31.434762422622107,null,30.729207581991218,29.959190849454799,31.939586135256516,30.083124314941244,29.980089002802067,33.952438604688794,null,32.99380519698839,32.126274299305535,34.215128104888336,null,33.655515328076952,33.91304246234629,null,33.671764004615326,33.800415473928766,null,35.003416009513238,34.609976042235616,34.863949455573817]
[null,null,"Prevalence of physical activity (%)",2014,null,29.39119036516955,29.095849817583229,28.393893703976747,null,28.180262155741932,28.505911772980845,29.651684721191529,null,28.997552108890247,30.057627874218891,28.990899233919354,29.156677768248773,29.050406904756485,null,28.656122164777031,28.887148940788975,null,29.731239948834787,29.032739164293165,29.300807138455053,null,28.640120014362893,29.245734495505292,null,29.238569665396653,29.543462049375592,29.209565080471528,null,28.93891250409369,29.494101209613593,null,28.809719833443069,null,27.767960364170762,28.606282274926702,null,28.843556594975905,28.356840232817408,null,29.5199120711954,29.397862588148715,28.912896280944633,null,null,null,null,null,null,null,null,null,29.975588751496701,29.850984123116454,32.404416858456258,30.290239527432277,29.080114620970605,31.712194663891385,null,29.200666312520518,28.464311580200309,28.346894126705013,null,29.250682804289674,29.674457871680083,null,28.739037507148524,28.363512400242683,30.249130933138936,28.896529368219802,28.784917278113532,29.22058225777004,null,29.11788129656291,28.990036117988023,29.508651264864444,null,30.931124636498371,29.393901452518328,null,29.366343139285345,29.00543267336143,null,28.819809778290921,29.389152349256243,28.771870793973953]
[null,null,"Prevalence of alcohol misuse (%)",2014,null,27.354931666106957,26.358361889507304,25.515972863436708,null,25.845674175976541,26.124452974439976,25.912005309105684,null,27.021234258312838,27.503016101196298,26.653450268727607,26.635825944768609,26.448629630077029,null,26.271643879073341,25.992457694729371,null,26.795202167784147,26.478731393795108,26.840485934391513,null,25.520021391699245,27.231474903540477,null,27.26289073360827,26.944559416102194,27.169267136536739,null,26.208186797867803,26.593284209427431,null,25.002091207921463,null,24.962458790033267,25.222811259766626,null,26.116445763635344,25.223928738842471,null,27.448029902829308,26.741850536787819,26.704155701734777,null,null,null,null,null,null,null,null,null,27.497310539364772,28.453116479641,29.762400187477461,28.397037010461094,27.723154246041489,29.848825955754815,null,27.168675098011981,26.803146416742113,26.987276588373003,null,26.504379186679085,26.831644723396451,null,26.150590150413617,25.81058808547715,27.385351492206865,26.397587894016176,26.323452328598982,27.599411056478878,null,25.458998358151486,25.741551498017223,25.2678044650952,null,27.708487557474225,24.674532386458523,null,25.346445359940446,25.021416302161683,null,24.191476962950819,25.50145948588596,25.242017641014968]
[null,null,"Prevalence of substance misuse"]
[null,null,"Clinical risk factors"]
[null,null,"Indicator","Period","Bridgend","Bridgend East Network","Bridgend North Network","Bridgend West Network","Neath Port Talbot","Afan","Neath","Upper Valleys","Swansea","BayHealth","CityHealth","Cwmtawe","Llwchwr","Penderi","Blaenau Gwent","Blaenau Gwent East","Blaenau Gwent West","Caerphilly","Caerphilly East","Caerphilly North","Caerphilly South","Monmouthshire","Monmouthshire North","Monmouthshire South","Newport","Newport Central","Newport East","Newport West","Torfaen","Torfaen North","Torfaen South","Anglesey","Anglesey","Conwy","Conwy East","Conwy West","Denbighshire","Central - South Denbighshire","North Denbighshire","Flintshire","North East Flintshire","Nort West Flintshire","South flintshire","Gwynedd","Arfon","Dwyfor","Meirionnydd","Wrexham","South Wrexham","West - North Wrexham","Wrexham Town","Cardiff","Cardiff East","Cardiff North","Cardiff South East","Cardiff South West","Cardiff West","City - Cardiff South","Vale of Glamorgan","Central Vale","Eastern Vale","Western Vale","Merthyr Tydfil","North Merthyr Tydfil","South Merthyr Tydfil","Rhondda Cynon Taf","North Cynon","North Rhondda","North Taf Ely","South Cynon","South Rhondda","South Taf Ely","Carmarthenshire","Amman-Gwendraeth","Llanelli","Taf - Teifi - Tywi","Ceredigion","North Ceredigion","South Ceredigion","Pembrokeshire","North Pembrokeshire","South Pembrokeshire","Powys","Mid Powys","North Powys","South Powys"]
[null,null,"Prevalence of hypertension (%)","2017-2018",null,15.1849157947742,18.42902634372286,17.26312744105309,null,17.012115162546728,15.840356965790777,17.493827942014306,null,12.296585993062159,13.001182101815786,14.788666541986162,15.222644839977303,13.884963625896269,null,19.299157141207711,17.48000312654699,null,15.772244365973053,16.647189260457868,15.65397409583127,null,17.487964823168191,15.772378300852106,null,15.364066152304961,13.309042862004764,14.096978498527573,null,17.552728964024993,16.132478632478634,null,17.465883967370587,null,17.745962098573969,17.595518978627531,null,17.071312958202416,17.185327418393697,null,15.355148159474641,16.825227693634726,16.044308752152812,null,null,null,null,null,null,null,null,null,13.431384465783397,12.324420957507416,8.1920772044517083,12.116272751969573,13.118405005567633,9.5155408925160607,null,15.264812195505264,14.495233439256905,14.489839119390346,null,17.396823431065979,16.547443719755943,null,17.634625310295672,18.488009221513117,15.588956401236542,18.289085545722713,17.530559143408023,14.547138740222312,null,16.133514119754263,15.572757431861056,16.143844804457743,null,15.122755902138053,18.125220495154295,null,16.875841802375412,18.088730915854804,null,18.594873185948732,15.824339874972788,18.682618985011835]
[null,null,"Prevalence of obesity in children (%)","2016-2017",13.5429262394196,null,null,null,11.819389110225799,null,null,null,13.492063492063499,null,null,null,null,null,15.1388888888889,null,null,13.554987212276201,null,null,null,7.9768786127167601,null,null,10.8180839612487,null,null,null,11.363636363636401,null,null,14.1558441558442,null,14.4375553587245,null,null,12.130479102956199,null,null,10.9208972845336,null,null,null,12.9992169146437,null,null,null,12.782874617737001,null,null,null,10.6629694983615,null,null,null,null,null,null,7.8267477203647404,null,null,null,17.495987158908498,null,null,13.6446552353156,null,null,null,null,null,null,14.0157480314961,null,null,null,10.8562691131498,null,null,13.404605263157899,null,null,11.342155009451799]
[null,null,"Prevalence of obesity in adults (%)","2017-2018",null,8.5464107872209478,10.153430473801023,8.0225661796615064,null,13.30319221811207,13.949288193214818,10.843831107172248,null,6.1382478603860005,8.8134410790070348,11.768281279221995,9.3575976632273523,10.854660595593238,null,13.16245237270523,12.084104114014748,null,11.278662685843322,12.384633824763275,10.397055701040413,null,11.415412607558469,10.033324896650637,null,9.3393557004516783,10.712498248283318,10.972608818427529,null,12.131200582394694,9.5586952729809873,null,9.3192040863002212,null,7.775087944925672,7.6305660731608107,null,6.3386651432923919,7.0598556578163274,null,9.5205137697371605,9.0240251668062008,9.1533583842179418,null,null,null,null,null,null,null,null,null,9.5869002760943935,7.2382767223935716,7.3889018600669303,8.0216728545986893,6.8349329232727074,6.6628630962716748,null,9.9984284142699984,6.6351611939487771,6.3434942139429866,null,13.198551038731848,11.950347149168945,null,10.742989161157126,11.892378194495207,12.542372881355931,15.496241316966412,15.366616124744951,8.5261424454508035,null,11.905120607978038,10.337930137253625,10.225982870704778,null,8.8307125412399845,8.3570257538340211,null,8.1716052406024247,9.5710786570655078,null,9.0872100908721016,10.173234223867135,9.8781663598913134]
[null,null,"Prevalence of high fasting glucose"]
[null,null,"Prevalence of high cholesterol"]
[null,null,"Long-term condition prevalence"]
[null,null,"Indicator","Period","Bridgend","Bridgend East Network","Bridgend North Network","Bridgend West Network","Neath Port Talbot","Afan","Neath","Upper Valleys","Swansea","BayHealth","CityHealth","Cwmtawe","Llwchwr","Penderi","Blaenau Gwent","Blaenau Gwent East","Blaenau Gwent West","Caerphilly","Caerphilly East","Caerphilly North","Caerphilly South","Monmouthshire","Monmouthshire North","Monmouthshire South","Newport","Newport Central","Newport East","Newport West","Torfaen","Torfaen North","Torfaen South","Anglesey LA","Anglesey","Conwy","Conwy East","Conwy West","Denbighshire","Central - South Denbighshire","North Denbighshire","Flintshire","North East Flintshire","Nort West Flintshire","South flintshire","Gwynedd","Arfon","Dwyfor","Meirionnydd","Wrexham","South Wrexham","West - North Wrexham","Wrexham Town","Cardiff","Cardiff East","Cardiff North","Cardiff South East","Cardiff South West","Cardiff West","City - Cardiff South","Vale of Glamorgan","Central Vale","Eastern Vale","Western Vale","Merthyr Tydfil","North Merthyr Tydfil","South Merthyr Tydfil","Rhondda Cynon Taf","North Cynon","North Rhondda","North Taf Ely","South Cynon","South Rhondda","South Taf Ely","Carmarthenshire","Amman-Gwendraeth","Llanelli","Taf - Teifi - Tywi","Ceredigion","North Ceredigion","South Ceredigion","Pembrokeshire","North Pembrokeshire","South Pembrokeshire","Powys","Mid Powys","North Powys","South Powys"]
[null,null,"Prevalence of coronary heart disease (%)",2018,null,3.7109047166116489,4.3365820708289107,4.9038044264429335,null,4.0318634646624778,3.7839082087966567,4.1273659555611824,null,3.1220283138904144,3.4435982404123795,3.6375537684682997,3.679576354886839,3.5458209033338566,null,4.4076896432282648,3.9759255881816524,null,3.4448266977857931,3.9479204123217064,3.7033760351051028,null,3.9232781168265043,3.4569307348350629,null,3.2865252464893935,3.1550919901503471,3.1344547984993345,null,4.0747406523629452,3.8854003139717421,null,4.1198444766333768,null,4.4842455649279422,4.1383734393090714,null,3.8750833095306101,4.6265642587565381,null,3.5828679038774167,3.7039855899738692,3.832002505088461,null,2.7846290809848364,4.0014448547118313,4.3088315087293738,null,3.7061982002207632,3.6606929510155317,3.399602769046838,null,2.8981229054159652,2.6334400722943636,1.7931356525799673,2.6442090011772166,3.0666171765911945,1.9844715104308783,null,3.3239038189533243,3.3569624378717506,3.3834321196725941,null,4.1704077525619994,3.1874605512308016,null,3.952122299505985,4.4083330990469234,3.3940944462210854,3.9299647920829766,3.8580333576683326,3.2647179909427746,null,4.6267932171613184,4.3599167371365386,4.0174732569738243,null,3.3656112087064574,4.2252059684147181,null,3.771274641851353,4.268955229378073,null,4.489353044893531,3.9436444499735637,3.9004294854939081]
[null,null,"Prevalence of heart failure (%)",2018,null,1.0071056901471493,1.2949917977419667,1.4523361782149573,null,0.91206231773432767,0.88533182236702324,1.1964297018421219,null,0.92683122831924791,0.90498614421642165,1.1665419861604638,1.1074453106940971,0.96038101219448369,null,1.3624292806835239,1.3053333680727444,null,0.70927360077595747,0.93941028407047833,0.8068511571944228,null,1.6413327773776583,0.97654602210410868,null,0.84184256313819228,0.70068667293948073,0.77453709306547258,null,1.1223231077227964,0.96589918018489451,null,1.2289395441030724,null,1.0723607065854674,1.3612041180336076,null,1.2805864990954965,1.1189829835132095,null,0.95607526275974186,0.93107035035644525,1.0744480976984498,null,0.79977816372101174,1.288328784716648,1.4809613481855033,null,1.0551720267160578,1.0609318996415771,1.0123604388823542,null,0.81786452273871746,0.91055537001748421,0.56035489143123984,0.77877388390835822,0.97035897979744423,0.55565202292064586,null,0.90051862329090049,0.98047203889296297,1.2948066610217328,null,1.0093191739682343,0.7574163686092994,null,0.95362154988079728,0.94464280693862634,0.86344739366805245,1.3845275478161576,0.80118305535276402,0.67311650885137919,null,1.2370478247041297,1.0505431600858648,1.1625907199119458,null,1.6196066669523117,1.0646024861477164,null,1.0790375903024367,1.2504834343173907,null,1.6512952665129526,0.99835163126302373,1.3103690069243579]
[null,null,"Prevalence of stroke and TIA (%)",2018,null,2.4772002461813907,2.4876966129499181,3.2344857514827137,null,2.1548940167929067,2.2876974289963878,2.3232259289738559,null,1.9809008478094907,2.0967773191481114,2.1507387319992519,2.1497467795826593,2.1248757000052336,null,2.1648770349844129,2.1364737760871262,null,1.712562326659897,2.0136641495864795,2.0012031990940615,null,2.6268905651794854,2.1492449168986756,null,1.8541626390621977,1.6035715000700685,1.8475936907499293,null,2.1738690825261373,2.1062271062271063,null,2.4990470381947092,null,2.3319589968604606,2.4658134368057074,null,2.1993716081119681,2.1187843474806329,null,1.7705097458513737,1.6312758454473959,2.2056521058399876,null,1.6024752258497643,2.3880237598330392,2.4927388209760299,null,1.9569325176329724,1.8494623655913978,1.9013093195009545,null,1.5627984510930906,1.6953814117046149,1.1284924896879136,1.5756587883727247,1.9725330081128374,1.1361099397216778,null,2.0163444915920161,2.1592112767864418,2.4767146486028793,null,2.2601318926282548,1.7076933866330037,null,1.892496374763438,2.3897213866006917,2.01684255409871,1.998287182415073,2.2088691712996762,1.8114450391107453,null,2.2196555014312258,2.3824237299160869,2.5693942833556909,null,1.8145593213076825,2.3948367817046092,null,2.3080690584057795,2.6482992320300558,null,2.8482300284823006,2.3559232419991911,2.6295030239284776]
[null,null,"Prevalence of diabetes (%)",2018,null,6.0971856990992004,7.127279745247515,6.5412990018805157,null,7.4569901943514765,6.5549968128054399,6.8304108375007919,null,4.276549294831443,6.1992519814739451,6.255844398728259,5.8251203059659158,6.4086460459517447,null,7.6665512065581334,7.1233162241734194,null,6.1409757058636316,7.056814095649047,6.1186212753910398,null,6.3037792350555328,5.7601451109423776,null,5.7189054289179069,6.2301055033933253,6.3758118520311431,null,7.1707346666397038,6.3884528170242456,null,6.3947548982236802,null,6.7046185270643415,5.8124980442469569,null,5.724554889079311,6.864530225782957,null,5.4901897664536685,6.1521678463607072,5.7597463597933301,null,4.6016433398035579,6.0683897896933692,6.8941304139669981,null,5.8109296364894956,5.5961768219832742,5.4860294259434239,null,5.4298563961867714,4.2836375066302574,4.0983734142734844,5.3427510640224583,4.6449970836205532,5.4126460447002209,null,5.7095709570957096,5.2255628887259293,5.1651143099068584,null,6.4305396451902528,5.978680131846553,null,6.6188217366726478,6.8795861564845797,6.2061613900437056,7.0844038443239121,6.6790213586417329,5.4466858789625361,null,6.9803645859488768,6.7342093280426711,6.2446255976335427,null,5.2037362354856675,6.4104426505073988,null,6.2614791233010889,6.488148953019393,null,6.7475925674759258,6.0429819923490804,6.2888947322289415]
[null,null,"Prevalence of chronic obstructive pulmonary disease (%)",2018,null,1.9037095059587086,3.124577824954164,2.4475625632865614,null,2.763587967040495,2.2434308378780368,2.6492371969361272,null,1.303188995888191,2.5405499680251147,1.994108846081915,1.8114190850442347,2.5017009472968024,null,3.394527190855559,2.764388629790782,null,2.0611369595198763,2.5695193575452477,2.096751362446033,null,1.95405784466093,1.5671138108495737,null,1.7469551310216349,1.763728453884807,2.2267941425632336,null,2.5944874724474731,2.2828362114076399,null,2.9564687047343141,null,2.6723909672050534,2.483024063585443,null,2.7420736932305059,3.6400052969608687,null,2.2083085193709864,2.6460664180429765,2.1508532957570066,null,2.4825230957836513,2.5204687750842831,3.0800165969806259,null,2.4115545078670184,2.6905615292712066,2.2831138278794421,null,2.1740262897428329,1.1462978606368976,1.4833839209276987,2.073711853662954,1.5147498099934602,1.1311487609456006,null,2.2269369794122267,1.4883619870175724,1.4253457521874118,null,3.2911235641970342,2.4405638544077424,null,2.9591761496301028,3.4552559813320589,2.4304445155100733,3.9965743648301459,2.8546826154508529,1.6220666941128035,null,2.651534173655401,2.2604566447667991,1.7731228287414442,null,1.8809717640001715,2.3574823085064436,null,2.8575364270846086,2.4346673051069079,null,2.8889190288891902,2.0635710509128229,2.2964326408975371]
[null,null,"Prevalence of asthma (%)",2018,null,7.3350864432384046,7.9687349223197907,8.1296108780558374,null,7.7368719785489208,8.0582902471846456,7.3400012660631768,null,6.4771037863466514,7.1701257678817116,6.8426220310454466,7.9517515287788676,6.9869681268644994,null,6.9420390255166842,7.5089236861989015,null,6.3849779488656164,6.9714131607335483,6.5910538608535632,null,6.9121716386793528,7.2660929722433139,null,6.9790330234274762,6.3462192949090115,6.5109524385816284,null,7.9088390527997419,7.0098552241409386,null,8.1375314477395744,null,7.5197639671672283,6.7606471195669178,null,7.1693801770922594,7.586241144143548,null,6.7295465885496304,6.9716112337316378,7.2236574291529676,null,6.7660065091434491,7.3968534275164544,7.0441415850116496,null,7.5489700847505201,7.4838709677419359,6.643012784666114,null,6.7599715223393346,7.1439797261458065,5.2906840999299556,7.3364725768963748,7.1477809003658725,5.7028750031007363,null,6.9275498978469265,6.789972568510823,6.5022579734688115,null,6.7927799622279323,6.9254505926081773,null,6.4688966991913883,6.9358148949928307,7.0013857797676158,7.3793890950613754,7.4820763370210219,7.391930835734871,null,7.7369892365121613,7.6042412021075911,6.6659787431637598,null,6.1956382021509064,6.9043517961275862,null,6.2369903269254321,7.1253614247039536,null,6.7408110674081101,7.0739899853823909,7.2070295380839688]
[null,null,"Prevalence of dementia (%)",2018,null,0.63223857214793266,0.62723149667084821,0.88528858672067123,null,0.8279020609476837,0.65691621219633123,0.87041843387985063,null,0.74869748067985487,0.68213088386334131,0.62184402468674016,0.74390064513417531,0.52860208300622813,null,0.63214409421544859,0.68784033766707486,null,0.49255111164997045,0.58881697231211794,0.61752424092292446,null,0.89647852621204649,0.80570319750274189,null,0.67312255048419123,0.4104021941502673,0.78865625882447854,null,0.62890538108430571,0.67155067155067161,null,0.75474574979034836,null,1.1328819457578394,0.84801451951059237,null,0.72122250785489861,1.0792557769979474,null,0.40077902428817458,0.63678108430372682,0.61844371379364327,null,0.64799544651848395,0.81072403275004012,0.6543040439181641,null,0.60429178125760041,0.59737156511350065,0.80603173991014088,null,0.7067321884387644,0.67186609826532817,0.3953615067320414,0.60068218177427635,0.62216094879544692,0.54076848659241439,null,0.60506050605060502,0.94244819250930234,0.74442562799887102,null,0.73376884733273484,0.45935900133249175,null,0.49647307493794091,0.35705248952739743,0.68009807056816973,0.51860310210295935,0.57093652309017051,0.51255660765747224,null,0.69803645859488772,0.77245820594548886,0.6724452240910811,null,0.6448433951754573,0.67238051756697859,null,0.62293375780580384,0.83426950772574082,null,0.85107825851078267,0.54427269617143037,0.99482864405294069]
[null,null,"Prevalence of multi-morbidity"]
[null,null,null,null,null,null,null,null,null,null,null,null,null,null,null,null,null,null,null,null,null,null,null,null,null,null,null,null,null,null,null,null,null,null,null,null,null,null,null,null,null,null,null,null,null,null,null,null,null,null,null,null,null,null,null,null,null,null,null,null,null,null,null,null,null,null,null,null,null,null,null,null,null,null,null,null,null,null,null,null,null,null,null,null,null,null,null,null,null,null,null,null,null," "]

{"sheet":"LTC data","index":13,"n_rows":606,"n_cols":173,"rows_kept":606,"cut":false,"hidden":false,"merged":[[0,22,0,24],[1,26,1,28],[0,4,0,6],[0,7,0,9],[1,11,1,13],[0,19,0,21]]}
[null,null,null,null,null,null,null,null,null,null,null,null,"Chosen level of confidence:",1.96,null,null,null,null,null,null,null,null,null,null,null,null,null,"Chosen level of confidence:",1.96,null,null,null,"Chosen level of confidence:",0.95,null,null,null,null,null,null,null,null,null,null,null,null,null,null,null,null,null,null,null,null,null,null,null,null,null,null,null,null,null,null,null,null,null,null,null,null,null,null,null,null,null,null,null,null,null,null,null,null,null,null,null,null,null,null,null,"Year","LHB","Cluster","Practice","List size","Asthma","Chronic obstructive pulmonary disease","Coronary heart disease","Dementia","Diabetes","Heart failure","Stroke and transient ischaemic attack",null,null,null,null,null,null,null,null,null,null,null,null,null,null,null,null,null,null,null,null,null,null,null,null,null,null,null,null,null,null,null,null,null,null,null,null,null,null,null,null,null,null,null,null,null,null,null,null,null,null,null,null,null,null,null,null,null,null,null,null,null,null,null,null,null,null,"Indicator","Period","Area","GP cluster","GP practice","Percentage"]
["Hypertension prevalence","numerator","denominator","proportion",null,null,null,null,null,null,null,"As percentage for outputs",null,null,null,"Prevalence of adult obesity","numerator","denominator","proportion",null,null,null,null,null,null,null,"As percentage for outputs",null,null,null,"Prevalence of child obesity","n","%","LCL","UCL",null,null,null,null,null,null,null,null,null,null,null,null,null,null,null,null,null,null,null,null,null,null,null,null,null,null,null,null,null,null,null,null,null,null,null,null,null,null,null,null,null,null,null,null,null,null,null,null,null,null,null,null,null,null,2018,"Abertawe Bro Morgannwg","Afan","W00141",4383,360,128,164,21,293,22,61,null,null,null,null,null,null,null,null,null,null,null,null,null,null,null,null,null,null,null,null,null,null,null,null,null,null,null,null,null,null,null,null,null,null,null,null,null,null,null,null,null,null,null,null,null,null,null,null,null,null,null,null,null,null,null,null,null,null,null,null,null,null,null,null,null,null,"Smoking","2013/14","Abertawe Bro Morgannwg UHB","-","-",20.758862475155336]
["Clusters","r","n","p","q","A","B","C","LCL","UCL",null,"%","% LCL","% UCL",null,"Clusters","r","n","p","q","A","B","C","LCL","UCL",null,"%","% LCL","% UCL",null,"Wales",4104,12.3517727081201,12,12.7,null,null,null,null,null,null,null,null,null,null,null,null,null,null,null,null,null,null,null,null,null,null,null,null,null,null,null,null,null,null,null,null,null,null,null,null,null,null,null,null,null,null,null,null,null,null,null,null,null,null,null,null,null,null,2018,"Abertawe Bro Morgannwg","Afan","W98017",2752,317,132,132,40,214,50,88,null,null,null,null,null,null,null,null,null,null,null,null,null,null,null,null,null,null,null,null,null,null,null,null,null,null,null,null,null,null,null,null,null,null,null,null,null,null,null,null,null,null,null,null,null,null,null,null,null,null,null,null,null,null,null,null,null,null,null,null,null,null,null,null,null,null,"Smoking","2013/14","Abertawe Bro Morgannwg UHB","Bay Health","-",13.128152648828086]
["Bridgend East Network",10856,71492,{"$f":"B4/C4","v":0.1518491579477424},{"$f":"1-D4","v":0.84815084205225766},{"$f":"2*B4+$N$1^2","v":21715.8416},{"$f":"$N$1*(SQRT($N$1^2+(4*B4*E4)))","v":376.16655668558451},{"$f":"2*(C4+$N$1^2)","v":142991.6832},{"$f":"(F4-G4)/H4","v":0.14923717635708211},{"$f":"(F4+G4)/H4","v":0.15449855307868413},null,{"$f":"D4*100","v":15.184915794774239},{"$f":"I4*100","v":14.923717635708211},15.449855307868413,null,"Bridgend East Network",6110,71492,{"$f":"Q4/R4","v":8.5464107872209483E-2},{"$f":"1-S4","v":0.91453589212779052},{"$f":"2*Q4+$AC$1^2","v":12223.8416},{"$f":"$AC$1*(SQRT($AC$1^2+(4*Q4*T4)))","v":293.05178307582781},{"$f":"2*(R4+$AC$1^2)","v":142991.6832},{"$f":"(U4-V4)/W4","v":8.3436949268138785E-2},{"$f":"(U4+V4)/W4","v":8.7535813992542941E-2},null,{"$f":"S4*100","v":8.5464107872209478},{"$f":"X4*100","v":8.3436949268138783},8.7535813992542941,null,"Betsi Cadwaladr UHB",951,12.7037135987176,12,13.5,null,null,null,null,null,null,null,null,null,null,null,null,null,null,null,null,null,null,null,null,null,null,null,null,null,null,null,null,null,null,null,null,null,null,null,null,null,null,null,null,null,null,null,null,null,null,null,null,null,null,null,null,null,null,2018,"Abertawe Bro Morgannwg","Afan","W98019",5802,561,223,254,40,474,74,144,null,null,null,null,null,null,null,null,null,null,null,null,null,null,null,null,null,null,null,null,null,null,null,null,null,null,null,null,null,null,null,null,null,null,null,null,null,null,null,null,null,null,null,null,null,null,null,null,null,null,null,null,null,null,null,null,null,null,null,null,null,null,null,null,null,null,"Smoking","2013/14","Abertawe Bro Morgannwg UHB","City Health","-",28.793169572863736]
["Bridgend North Network",9549,51815,0.1842902634372286,0.81570973656277146,19101.8416,345.9868630229804,103637.6832,0.18097524141659913,0.18765209586451831,null,18.42902634372286,18.097524141659914,18.765209586451832,null,"Bridgend North Network",5261,51815,0.10153430473801023,0.89846569526198983,10525.8416,269.53494767785509,103637.6832,9.8963102373964926E-2,0.1041645877672211,null,10.153430473801023,9.8963102373964933,10.416458776722109,null,"Isle of Anglesey",109,14.1558441558442,11.9,16.8,null,null,null,null,null,null,null,null,null,null,null,null,null,null,null,null,null,null,null,null,null,null,null,null,null,null,null,null,null,null,null,null,null,null,null,null,null,null,null,null,null,null,null,null,null,null,null,null,null,null,null,null,null,null,2018,"Abertawe Bro Morgannwg","Afan","W98031",11046,795,210,462,132,785,129,245,null,null,null,null,null,null,null,null,null,null,null,null,null,null,null,null,null,null,null,null,null,null,null,null,null,null,null,null,null,null,null,null,null,null,null,null,null,null,null,null,null,null,null,null,null,null,null,null,null,null,null,null,null,null,null,null,null,null,null,null,null,null,null,null,null,null,"Smoking","2013/14","Abertawe Bro Morgannwg UHB","Cwmtawe","-",19.816865749996136]
["Bridgend West Network",5967,34565,0.17263127441053089,0.82736872558946906,11937.8416,275.45830755315126,69137.683199999999,0.16868345528313636,0.17665185384102011,null,17.26312744105309,16.868345528313636,17.66518538410201,null,"Bridgend West Network",2773,34565,8.0225661796615069E-2,0.91977433820338494,5549.8415999999997,198.00830092096248,69137.683199999999,7.7408340160855099E-2,8.3136281617850957E-2,null,8.0225661796615064,7.7408340160855102,8.3136281617850951,null,"Gwynedd",166,12.9992169146437,11.3,15,null,null,null,null,null,null,null,null,null,null,null,null,null,null,null,null,null,null,null,null,null,null,null,null,null,null,null,null,null,null,null,null,null,null,null,null,null,null,null,null,null,null,null,null,null,null,null,null,null,null,null,null,null,null,2018,"Abertawe Bro Morgannwg","Afan","W98032",8720,682,220,343,43,605,59,158,null,null,null,null,null,null,null,null,null,null,null,null,null,null,null,null,null,null,null,null,null,null,null,null,null,null,null,null,null,null,null,null,null,null,null,null,null,null,null,null,null,null,null,null,null,null,null,null,null,null,null,null,null,null,null,null,null,null,null,null,null,null,null,null,null,null,"Smoking","2013/14","Abertawe Bro Morgannwg UHB","Llwchwr","-",16.948119911907956]
["Afan",8692,51093,0.17012115162546729,0.82987884837453274,17387.8416,332.95242574298476,102193.6832,0.16688789991920963,0.17340400571591283,null,17.012115162546728,16.688789991920963,17.340400571591282,null,"Afan",6797,51093,0.1330319221811207,0.8669680778188793,13597.8416,300.94119624690802,102193.6832,0.13011469972884873,0.13600432395656042,null,13.30319221811207,13.011469972884873,13.600432395656043,null,"Conwy",163,14.4375553587245,12.5,16.600000000000001,null,null,null,null,null,null,null,null,null,null,null,null,null,null,null,null,null,null,null,null,null,null,null,null,null,null,null,null,null,null,null,null,null,null,null,null,null,null,null,null,null,null,null,null,null,null,null,null,null,null,null,null,null,null,2018,"Abertawe Bro Morgannwg","Afan","W98035",9335,635,240,337,80,742,55,201,null,null,null,null,null,null,null,null,null,null,null,null,null,null,null,null,null,null,null,null,null,null,null,null,null,null,null,null,null,null,null,null,null,null,null,null,null,null,null,null,null,null,null,null,null,null,null,null,null,null,null,null,null,null,null,null,null,null,null,null,null,null,null,null,null,null,"Smoking","2013/14","Abertawe Bro Morgannwg UHB","Penderi","-",25.215076138382948]
["Neath",8946,56476,0.15840356965790778,0.84159643034209219,17895.8416,340.15758080120639,112959.6832,0.15541548561282434,0.16143812256018442,null,15.840356965790777,15.541548561282434,16.143812256018442,null,"Neath",7878,56476,0.13949288193214818,0.86050711806785185,15759.8416,322.77660562769296,112959.6832,0.1366599529766768,0.14237485224841434,null,13.949288193214818,13.66599529766768,14.237485224841434,null,"Denbighshire",119,12.130479102956199,10.199999999999999,14.3,null,null,null,null,null,null,null,null,null,null,null,null,null,null,null,null,null,null,null,null,null,null,null,null,null,null,null,null,null,null,null,null,null,null,null,null,null,null,null,null,null,null,null,null,null,null,null,null,null,null,null,null,null,null,2018,"Abertawe Bro Morgannwg","Afan","W98041",6773,383,200,269,48,515,53,145,null,null,null,null,null,null,null,null,null,null,null,null,null,null,null,null,null,null,null,null,null,null,null,null,null,null,null,null,null,null,null,null,null,null,null,null,null,null,null,null,null,null,null,null,null,null,null,null,null,null,null,null,null,null,null,null,null,null,null,null,null,null,null,null,null,null,"Smoking","2013/14","Abertawe Bro Morgannwg UHB","Upper Valleys","-",21.219830136221102]
["Upper Valleys",5527,31594,0.17493827942014306,0.82506172057985694,11057.8416,264.7401110242551,63195.683199999999,0.17078858780303122,0.17916701169589153,null,17.493827942014306,17.078858780303122,17.916701169589153,null,"Upper Valleys",3426,31594,0.10843831107172248,0.89156168892827747,6855.8415999999997,216.68243663817535,63195.683199999999,0.10505716256520864,0.11191467009313344,null,10.843831107172248,10.505716256520865,11.191467009313344,null,"Flintshire",185,10.9208972845336,9.5,12.5,null,null,null,null,null,null,null,null,null,null,null,null,null,null,null,null,null,null,null,null,null,null,null,null,null,null,null,null,null,null,null,null,null,null,null,null,null,null,null,null,null,null,null,null,null,null,null,null,null,null,null,null,null,null,2018,"Abertawe Bro Morgannwg","Afan","W98627",2282,220,59,99,19,182,24,59,null,null,null,null,null,null,null,null,null,null,null,null,null,null,null,null,null,null,null,null,null,null,null,null,null,null,null,null,null,null,null,null,null,null,null,null,null,null,null,null,null,null,null,null,null,null,null,null,null,null,null,null,null,null,null,null,null,null,null,null,null,null,null,null,null,null,"Smoking","2013/14","Abertawe Bro Morgannwg UHB","Afan","-",23.835344970302685]
["BayHealth",9181,74663,0.12296585993062159,0.87703414006937841,18365.8416,351.77519209208316,149333.6832,0.12062962636354448,0.12534089021981668,null,12.296585993062159,12.062962636354447,12.534089021981668,null,"Bay Health",4583,74663,6.1382478603860008E-2,0.93861752139613996,9169.8415999999997,257.13062138411732,149333.6832,5.9683192616894365E-2,6.3126898228035661E-2,null,6.1382478603860005,5.9683192616894365,6.3126898228035664,null,"Wrexham",209,12.782874617737001,11.3,14.5,null,null,null,null,null,null,null,null,null,null,null,null,null,null,null,null,null,null,null,null,null,null,null,null,null,null,null,null,null,null,null,null,null,null,null,null,null,null,null,null,null,null,null,null,null,null,null,null,null,null,null,null,null,null,null,2018,"Abertawe Bro Morgannwg","Afan",{"$f":"SUM(CP2:CP9)","v":51093},{"$f":"SUM(CQ2:CQ9)","v":3953},1412,2060,423,3810,466,1101,null,null,null,null,null,null,null,null,null,null,null,null,null,null,null,null,null,null,null,null,null,null,null,null,null,null,null,null,null,null,null,null,null,null,null,null,null,null,null,null,null,null,null,null,null,null,null,null,null,null,null,null,null,null,null,null,null,null,null,null,null,null,null,null,null,null,"Smoking","2013/14","Abertawe Bro Morgannwg UHB","Neath","-",20.313909395521851]
["CityHealth",6709,51603,0.13001182101815786,0.86998817898184211,13421.8416,299.5072682527682,103213.6832,0.12713754538068101,0.13294118030517846,null,13.001182101815786,12.7137545380681,13.294118030517845,null,"City Health",4548,51603,8.8134410790070339E-2,0.91186558920992966,9099.8415999999997,252.47128457003043,103213.6832,8.5718967109100985E-2,9.0611172807851414E-2,null,8.8134410790070348,8.5718967109100994,9.0611172807851421,null,"Powys THB",120,11.342155009451799,9.6,13.4,null,null,null,null,null,null,null,null,null,null,null,null,null,null,null,null,null,null,null,null,null,null,null,null,null,null,null,null,null,null,null,null,null,null,null,null,null,null,null,null,null,null,null,null,null,null,null,null,null,null,null,null,null,null,null,null,null,null,null,null,null,null,null,null,null,null,null,null,null,null,null,null,null,null,null,null,null,null,null,null,null,null,null,null,null,null,null,null,null,null,null,null,null,null,null,null,null,null,null,null,null,null,null,null,null,null,null,null,null,null,null,null,null,null,null,null,null,null,null,null,null,null,null,null,null,null,null,null,null,null,null,null,"Smoking","2013/14","Abertawe Bro Morgannwg UHB","Bridgend East Network","-",18.500973608757256]
["Cwmtawe",6326,42776,0.14788666541986162,0.85211333458013838,12655.8416,287.83130481901702,85559.683199999999,0.1445541852494959,0.15128238465496116,null,14.788666541986162,14.455418524949589,15.128238465496116,null,"Cwmtawe",5034,42776,0.11768281279221994,0.88231718720778007,10071.8416,261.27748723947781,85559.683199999999,0.11466339923007711,0.12077088998898348,null,11.768281279221995,11.466339923007711,12.077088998898349,null,"Hywel Dda UHB",501,13.2715231788079,12.2,14.4,null,null,null,null,null,null,null,null,null,null,null,null,null,null,null,null,null,null,null,null,null,null,null,null,null,null,null,null,null,null,null,null,null,null,null,null,null,null,null,null,null,null,null,null,null,null,null,null,null,null,null,null,null,null,2018,"Abertawe Bro Morgannwg","Bay Health","W98016",8849,593,170,358,74,503,95,199,null,null,null,null,null,null,null,null,null,null,null,null,null,null,null,null,null,null,null,null,null,null,null,null,null,null,null,null,null,null,null,null,null,null,null,null,null,null,null,null,null,null,null,null,null,null,null,null,null,null,null,null,null,null,null,null,null,null,null,null,null,null,null,null,null,null,"Smoking","2013/14","Abertawe Bro Morgannwg UHB","Bridgend North Network","-",24.482289758796121]
["Llwchwr",7244,47587,0.15222644839977303,0.84777355160022694,14491.8416,307.21978114134458,95181.683199999999,0.14902680160691523,0.15548224073790434,null,15.222644839977303,14.902680160691522,15.548224073790434,null,"Llwchwr",4453,47587,9.3575976632273516E-2,0.90642402336772654,8909.8415999999997,249.07479421714754,95181.683199999999,9.0991948393941119E-2,9.6225619113837521E-2,null,9.3575976632273523,9.0991948393941122,9.6225619113837517,null,"Ceredigion",71,10.8562691131498,8.6999999999999993,13.5,null,null,null,null,null,null,null,null,null,null,null,null,null,null,null,null,null,null,null,null,null,null,null,null,null,null,null,null,null,null,null,null,null,null,null,null,null,null,null,null,null,null,null,null,null,null,null,null,null,null,null,null,null,null,2018,"Abertawe Bro Morgannwg","Bay Health","W98021",21375,1593,290,710,171,994,214,446,null,null,null,null,null,null,null,null,null,null,null,null,null,null,null,null,null,null,null,null,null,null,null,null,null,null,null,null,null,null,null,null,null,null,null,null,null,null,null,null,null,null,null,null,null,null,null,null,null,null,null,null,null,null,null,null,null,null,null,null,null,null,null,null,null,null,"Smoking","2013/14","Abertawe Bro Morgannwg UHB","Bridgend West Network","-",21.777551609482579]
["Penderi",5306,38214,0.13884963625896268,0.86115036374103737,10615.8416,265.00545958154294,76435.683199999999,0.13541890000949788,0.1423529770920075,null,13.884963625896269,13.541890000949788,14.235297709200751,null,"Penderi",4148,38214,0.10854660595593238,0.89145339404406765,8299.8415999999997,238.40269122596411,76435.683199999999,0.10546695694052534,0.11170495158504665,null,10.854660595593238,10.546695694052534,11.170495158504664,null,"Pembrokeshire",163,13.404605263157899,11.6,15.4,null,null,null,null,null,null,null,null,null,null,null,null,null,null,null,null,null,null,null,null,null,null,null,null,null,null,null,null,null,null,null,null,null,null,null,null,null,null,null,null,null,null,null,null,null,null,null,null,null,null,null,null,null,null,2018,"Abertawe Bro Morgannwg","Bay Health","W98023",7401,528,153,236,34,345,39,141,null,null,null,null,null,null,null,null,null,null,null,null,null,null,null,null,null,null,null,null,null,null,null,null,null,null,null,null,null,null,null,null,null,null,null,null,null,null,null,null,null,null,null,null,null,null,null,null,null,null,null,null,null,null,null,null,null,null,null,null,null,null,null,null,null,null,"Smoking","2013/14","Aneurin Bevan UHB","-","-",21.738213851376432]
["ABMU",{"$f":"SUM(B4:B14)","v":84303},{"$f":"SUM(C4:C14)","v":551878},{"$f":"B15/C15","v":0.15275658750665908},{"$f":"1-D15","v":0.8472434124933409},168609.84160000001,1047.6461034529584,1103763.6832000001,{"$f":"(F15-G15)/H15","v":0.15180984666097688},{"$f":"(F15+G15)/H15","v":0.15370816261284012},null,{"$f":"D15*100","v":15.275658750665908},{"$f":"I15*100","v":15.180984666097688},{"$f":"J15*100","v":15.370816261284013},null,"ABMU",{"$f":"SUM(Q4:Q14)","v":55011},{"$f":"SUM(R4:R14)","v":551878},{"$f":"Q15/R15","v":9.9679639340578899E-2},{"$f":"1-S15","v":0.90032036065942112},{"$f":"2*Q15+$N$1^2","v":110025.8416},{"$f":"$N$1*(SQRT($N$1^2+(4*Q15*T15)))","v":872.3958349586967},{"$f":"2*(R15+$N$1^2)","v":1103763.6832000001},{"$f":"(U15-V15)/W15","v":9.8892043130633503E-2},{"$f":"(U15+V15)/W15","v":0.10047280873877432},null,{"$f":"S15*100","v":9.9679639340578898},{"$f":"X15*100","v":9.8892043130633507},{"$f":"Y15*100","v":10.047280873877432},null,"Carmarthenshire",267,14.0157480314961,12.5,15.6,null,null,null,null,null,null,null,null,null,null,null,null,null,null,null,null,null,null,null,null,null,null,null,null,null,null,null,null,null,null,null,null,null,null,null,null,null,null,null,null,null,null,null,null,null,null,null,null,null,null,null,null,null,null,2018,"Abertawe Bro Morgannwg","Bay Health","W98033",7686,477,103,341,63,430,89,245,null,null,null,null,null,null,null,null,null,null,null,null,null,null,null,null,null,null,null,null,null,null,null,null,null,null,null,null,null,null,null,null,null,null,null,null,null,null,null,null,null,null,null,null,null,null,null,null,null,null,null,null,null,null,null,null,null,null,null,null,null,null,null,null,null,null,"Smoking","2013/14","Aneurin Bevan UHB","Caerphilly North","-",23.194506604876899]
["Blaenau Gwent East",6686,34644,{"$f":"B16/C16","v":0.19299157141207712},{"$f":"1-D16","v":0.80700842858792288},13375.8416,287.96979427429437,69295.683199999999,{"$f":"(F16-G16)/H16","v":0.18886994400432874},{"$f":"(F16+G16)/H16","v":0.19718127830326804},null,{"$f":"D16*100","v":19.299157141207711},{"$f":"I16*100","v":18.886994400432876},19.718127830326804,null,"Blaenau Gwent East",4560,34644,{"$f":"Q16/R16","v":0.1316245237270523},{"$f":"1-S16","v":0.86837547627294764},{"$f":"2*Q16+$AC$1^2","v":9123.8415999999997},{"$f":"$AC$1*(SQRT($AC$1^2+(4*Q16*T16)))","v":246.70327991208148},{"$f":"2*(R16+$AC$1^2)","v":69295.683199999999},{"$f":"(U16-V16)/W16","v":0.12810521392027951},{"$f":"(U16+V16)/W16","v":0.1352255212329313},null,{"$f":"S16*100","v":13.16245237270523},{"$f":"X16*100","v":12.810521392027951},13.52255212329313,null,"ABM UHB",759,13.0726834309335,12.2,14,null,null,null,null,null,null,null,null,null,null,null,null,null,null,null,null,null,null,null,null,null,null,null,null,null,null,null,null,null,null,null,null,null,null,null,null,null,null,null,null,null,null,null,null,null,null,null,null,null,null,null,null,null,null,2018,"Abertawe Bro Morgannwg","Bay Health","W98045",6394,361,102,254,91,308,77,159,null,null,null,null,null,null,null,null,null,null,null,null,null,null,null,null,null,null,null,null,null,null,null,null,null,null,null,null,null,null,null,null,null,null,null,null,null,null,null,null,null,null,null,null,null,null,null,null,null,null,null,null,null,null,null,null,null,null,null,null,null,null,null,null,null,null,"Smoking","2013/14","Aneurin Bevan UHB","Caerphilly East","-",19.21496916611423]
["Blaenau Gwent West",6709,38381,0.17480003126546989,0.82519996873453016,13421.8416,291.69718000492117,76769.683199999999,0.17103293738738626,0.17863221793267633,null,17.48000312654699,17.103293738738625,17.863221793267634,null,"Blaenau Gwent West",4638,38381,0.12084104114014747,0.87915895885985251,9279.8415999999997,250.34347812570769,76769.683199999999,0.11761801984190411,0.12413995578564153,null,12.084104114014748,11.761801984190411,12.413995578564153,null,"Swansea",357,13.492063492063499,12.2,14.8,null,null,null,null,null,null,null,null,null,null,null,null,null,null,null,null,null,null,null,null,null,null,null,null,null,null,null,null,null,null,null,null,null,null,null,null,null,null,null,null,null,null,null,null,null,null,null,null,null,null,null,null,null,null,2018,"Abertawe Bro Morgannwg","Bay Health","W98049",9301,589,110,285,79,381,117,195,null,null,null,null,null,null,null,null,null,null,null,null,null,null,null,null,null,null,null,null,null,null,null,null,null,null,null,null,null,null,null,null,null,null,null,null,null,null,null,null,null,null,null,null,null,null,null,null,null,null,null,null,null,null,null,null,null,null,null,null,null,null,null,null,null,null,"Smoking","2013/14","Aneurin Bevan UHB","Caerphilly South","-",22.856946379705402]
["Caerphilly East",10407,65983,0.15772244365973054,0.84227755634026946,20817.8416,367.0288888651985,131973.6832,0.15496129391298827,0.16052344660837048,null,15.772244365973053,15.496129391298826,16.052344660837047,null,"Caerphilly East",7442,65983,0.11278662685843323,0.88721337314156679,14887.8416,318.54920300467057,131973.6832,0.11039543675473724,0.11522290228090466,null,11.278662685843322,11.039543675473725,11.522290228090466,null,"Neath Port Talbot",178,11.819389110225799,10.3,13.5,null,null,null,null,null,null,null,null,null,null,null,null,null,null,null,null,null,null,null,null,null,null,null,null,null,null,null,null,null,null,null,null,null,null,null,null,null,null,null,null,null,null,null,null,null,null,null,null,null,null,null,null,null,null,2018,"Abertawe Bro Morgannwg","Bay Health","W98053",9959,424,2,4,1,53,3,1,null,null,null,null,null,null,null,null,null,null,null,null,null,null,null,null,null,null,null,null,null,null,null,null,null,null,null,null,null,null,null,null,null,null,null,null,null,null,null,null,null,null,null,null,null,null,null,null,null,null,null,null,null,null,null,null,null,null,null,null,null,null,null,null,null,null,"Smoking","2013/14","Aneurin Bevan UHB","Blaenau Gwent East","-",25.868733083536071]
["Caerphilly North",11111,66744,0.16647189260457868,0.83352810739542127,22225.8416,377.26392819245706,133495.6832,0.16366505004565979,0.16931712686416259,null,16.647189260457868,16.36650500456598,16.931712686416258,null,"Caerphilly North",8266,66744,0.12384633824763275,0.87615366175236731,16535.8416,333.62047908245637,133495.6832,0.12136887674969811,0.12636709798180543,null,12.384633824763275,12.136887674969811,12.636709798180542,null,"Bridgend",224,13.5429262394196,12,15.3,null,null,null,null,null,null,null,null,null,null,null,null,null,null,null,null,null,null,null,null,null,null,null,null,null,null,null,null,null,null,null,null,null,null,null,null,null,null,null,null,null,null,null,null,null,null,null,null,null,null,null,null,null,null,2018,"Abertawe Bro Morgannwg","Bay Health","W98055",3698,271,43,143,46,179,58,93,null,null,null,null,null,null,null,null,null,null,null,null,null,null,null,null,null,null,null,null,null,null,null,null,null,null,null,null,null,null,null,null,null,null,null,null,null,null,null,null,null,null,null,null,null,null,null,null,null,null,null,null,null,null,null,null,null,null,null,null,null,null,null,null,null,null,"Smoking","2013/14","Aneurin Bevan UHB","Blaenau Gwent West","-",23.708879196402492]
["Caerphilly South",8847,56516,0.15653974095831269,0.84346025904168731,17697.8416,338.64474366147971,113039.6832,0.1535672815503655,0.15955888970203236,null,15.65397409583127,15.356728155036551,15.955888970203237,null,"Caerphilly South",5876,56516,0.10397055701040413,0.89602944298959586,11755.8416,284.46425835213512,113039.6832,0.10148097567959094,0.10651397383208638,null,10.397055701040413,10.148097567959095,10.651397383208639,null,"Cardiff and Vale UHB",526,9.9564641302290404,9.1999999999999993,10.8,null,null,null,null,null,null,null,null,null,null,null,null,null,null,null,null,null,null,null,null,null,null,null,null,null,null,null,null,null,null,null,null,null,null,null,null,null,null,null,null,null,null,null,null,null,null,null,null,null,null,null,null,null,null,null,2018,"Abertawe Bro Morgannwg","Bay Health",{"$f":"SUM(CP12:CP19)","v":74663},{"$f":"SUM(CQ12:CQ19)","v":4836},{"$f":"SUM(CR12:CR19)","v":973},{"$f":"SUM(CS12:CS19)","v":2331},{"$f":"SUM(CT12:CT19)","v":559},{"$f":"SUM(CU12:CU19)","v":3193},{"$f":"SUM(CV12:CV19)","v":692},{"$f":"SUM(CW12:CW19)","v":1479},null,null,null,null,null,null,null,null,null,null,null,null,null,null,null,null,null,null,null,null,null,null,null,null,null,null,null,null,null,null,null,null,null,null,null,null,null,null,null,null,null,null,null,null,null,null,null,null,null,null,null,null,null,null,null,null,null,null,null,null,null,null,null,null,null,null,"Smoking","2013/14","Aneurin Bevan UHB","Torfaen North","-",22.583187362790117]
["Monmouthshire North",9227,52762,0.17487964823168189,0.82512035176831811,18457.8416,342.06005995883066,105531.6832,0.17166201647432044,0.17814462055276714,null,17.487964823168191,17.166201647432043,17.814462055276714,null,"Monmouthshire North",6023,52762,0.1141541260755847,0.88584587392441527,12049.8416,286.35888695803641,105531.6832,0.11146873011347898,0.11689570480534169,null,11.415412607558469,11.146873011347898,11.689570480534169,null,"Vale of Glamorgan",103,7.8267477203647404,6.5,9.4,null,null,null,null,null,null,null,null,null,null,null,null,null,null,null,null,null,null,null,null,null,null,null,null,null,null,null,null,null,null,null,null,null,null,null,null,null,null,null,null,null,null,null,null,null,null,null,null,null,null,null,null,null,null,null,null,null,null,null,null,null,null,null,null,null,null,null,null,null,null,null,null,null,null,null,null,null,null,null,null,null,null,null,null,null,null,null,null,null,null,null,null,null,null,null,null,null,null,null,null,null,null,null,null,null,null,null,null,null,null,null,null,null,null,null,null,null,null,null,null,null,null,null,null,null,null,null,null,null,null,null,null,"Smoking","2013/14","Aneurin Bevan UHB","Torfaen South","-",22.796164694997231]
["Monmouthshire South",7478,47412,0.15772378300852105,0.84227621699147892,14959.8416,311.1280552676933,94831.683199999999,0.15447066898346803,0.16103235901719914,null,15.772378300852106,15.447066898346803,16.103235901719913,null,"Monmouthshire South",4757,47412,0.10033324896650637,0.89966675103349358,9517.8415999999997,256.47332490794571,94831.683199999999,9.7661118758799528E-2,0.10307014064375424,null,10.033324896650637,9.7661118758799521,10.307014064375423,null,"Cardiff",423,10.6629694983615,9.6999999999999993,11.7,null,null,null,null,null,null,null,null,null,null,null,null,null,null,null,null,null,null,null,null,null,null,null,null,null,null,null,null,null,null,null,null,null,null,null,null,null,null,null,null,null,null,null,null,null,null,null,null,null,null,null,null,null,null,2018,"Abertawe Bro Morgannwg","Bridgend East Network","W95010",18094,1280,266,674,139,1146,132,447,null,null,null,null,null,null,null,null,null,null,null,null,null,null,null,null,null,null,null,null,null,null,null,null,null,null,null,null,null,null,null,null,null,null,null,null,null,null,null,null,null,null,null,null,null,null,null,null,null,null,null,null,null,null,null,null,null,null,null,null,null,null,null,null,null,null,"Smoking","2013/14","Aneurin Bevan UHB","Monmouthshire North","-",15.264880044480474]
["Newport North",8742,56899,0.15364066152304962,0.84635933847695033,17487.8416,337.20736222049874,113805.6832,0.15070103491790734,0.15662705465152463,null,15.364066152304961,15.070103491790734,15.662705465152463,null,"Newport North",5314,56899,9.3393557004516778E-2,0.90660644299548321,10631.8416,272.11314774174684,113805.6832,9.1029974610778067E-2,9.581204067444804E-2,null,9.3393557004516783,9.1029974610778073,9.5812040674448049,null,"Cwm Taf UHB",483,14.3579072532699,13.2,15.6,null,null,null,null,null,null,null,null,null,null,null,null,null,null,null,null,null,null,null,null,null,null,null,null,null,null,null,null,null,null,null,null,null,null,null,null,null,null,null,null,null,null,null,null,null,null,null,null,null,null,null,null,null,null,2018,"Abertawe Bro Morgannwg","Bridgend East Network","W95017",7770,561,171,302,42,520,54,194,null,null,null,null,null,null,null,null,null,null,null,null,null,null,null,null,null,null,null,null,null,null,null,null,null,null,null,null,null,null,null,null,null,null,null,null,null,null,null,null,null,null,null,null,null,null,null,null,null,null,null,null,null,null,null,null,null,null,null,null,null,null,null,null,null,null,"Smoking","2013/14","Aneurin Bevan UHB","Monmouthshire South","-",16.971390855116308]
["Newport East",6648,49951,{"$f":"B24/C24","v":0.13309042862004763},{"$f":"1-D24","v":0.86690957137995239},13299.8416,297.61488918143272,99909.683199999999,{"$f":"(F24-G24)/H24","v":0.13013980521578281},{"$f":"(F24+G24)/H24","v":0.1360974837840486},null,{"$f":"D24*100","v":13.309042862004764},{"$f":"I24*100","v":13.013980521578281},13.609748378404859,null,"Newport East",5351,49951,0.10712498248283317,0.8928750175171668,10705.8416,270.98329772389968,99909.683199999999,0.10444291251917512,0.10986747776739923,null,10.712498248283318,10.444291251917512,10.986747776739923,null,"Rhondda Cynon Taf",374,13.6446552353156,12.4,15,null,null,null,null,null,null,null,null,null,null,null,null,null,null,null,null,null,null,null,null,null,null,null,null,null,null,null,null,null,null,null,null,null,null,null,null,null,null,null,null,null,null,null,null,null,null,null,null,null,null,null,null,null,null,2018,"Abertawe Bro Morgannwg","Bridgend East Network","W95018",11739,787,203,426,61,675,137,269,null,null,null,null,null,null,null,null,null,null,null,null,null,null,null,null,null,null,null,null,null,null,null,null,null,null,null,null,null,null,null,null,null,null,null,null,null,null,null,null,null,null,null,null,null,null,null,null,null,null,null,null,null,null,null,null,null,null,null,null,null,null,null,null,null,null,"Smoking","2013/14","Aneurin Bevan UHB","Newport Central","-",19.534201163800681]
["Newport West",6989,49578,0.14096978498527574,0.85903021501472421,13981.8416,303.7613684156031,99163.683199999999,0.13793437063040029,0.14406083464652514,null,14.096978498527573,13.793437063040029,14.406083464652514,null,"Newport West",5440,49578,0.10972608818427529,0.89027391181572468,10883.8416,272.82891580647538,99163.683199999999,0.10700502786683022,0.11250762532998045,null,10.972608818427529,10.700502786683023,11.250762532998044,null,"Merthyr Tydfil",109,17.495987158908498,14.7,20.7,null,null,null,null,null,null,null,null,null,null,null,null,null,null,null,null,null,null,null,null,null,null,null,null,null,null,null,null,null,null,null,null,null,null,null,null,null,null,null,null,null,null,null,null,null,null,null,null,null,null,null,null,null,null,2018,"Abertawe Bro Morgannwg","Bridgend East Network","W95035",19100,1542,408,713,125,1118,218,461,null,null,null,null,null,null,null,null,null,null,null,null,null,null,null,null,null,null,null,null,null,null,null,null,null,null,null,null,null,null,null,null,null,null,null,null,null,null,null,null,null,null,null,null,null,null,null,null,null,null,null,null,null,null,null,null,null,null,null,null,null,null,null,null,null,null,"Smoking","2013/14","Aneurin Bevan UHB","Newport East","-",25.370139145687904]
["Torfaen North",8680,49451,0.17552728964024994,0.82447271035975001,17363.8416,331.63717857432312,98909.683199999999,0.17219956500098946,0.178905423676196,null,17.552728964024993,17.219956500098945,17.890542367619599,null,"Torfaen North",5999,49451,0.12131200582394694,0.87868799417605303,12001.8416,284.63113459635383,98909.683199999999,0.11846373465488612,0.1242191091619668,null,12.131200582394694,11.846373465488611,12.42191091619668,null,"Aneurin Bevan UHB",764,11.837620080570201,11.1,12.6,null,null,null,null,null,null,null,null,null,null,null,null,null,null,null,null,null,null,null,null,null,null,null,null,null,null,null,null,null,null,null,null,null,null,null,null,null,null,null,null,null,null,null,null,null,null,null,null,null,null,null,null,null,null,2018,"Abertawe Bro Morgannwg","Bridgend East Network","W95070",14789,1074,313,538,85,900,179,400,null,null,null,null,null,null,null,null,null,null,null,null,null,null,null,null,null,null,null,null,null,null,null,null,null,null,null,null,null,null,null,null,null,null,null,null,null,null,null,null,null,null,null,null,null,null,null,null,null,null,null,null,null,null,null,null,null,null,null,null,null,null,null,null,null,null,"Smoking","2013/14","Aneurin Bevan UHB","Newport West","-",24.63291752076999]
["Torfaen South",7399,45864,0.16132478632478633,0.83867521367521369,14801.8416,308.81834404234428,91735.683199999999,0.15798675880965865,0.164719544423062,null,16.132478632478634,15.798675880965865,16.471954442306199,null,"Torfaen South",4384,45864,9.5586952729809868E-2,0.90441304727019012,8771.8415999999997,246.86376077967884,91735.683199999999,9.2929790696978432E-2,9.8311856915234475E-2,null,9.5586952729809873,9.2929790696978429,9.8311856915234479,null,"Caerphilly",265,13.554987212276201,12.1,15.1,null,null,null,null,null,null,null,null,null,null,null,null,null,null,null,null,null,null,null,null,null,null,null,null,null,null,null,null,null,null,null,null,null,null,null,null,null,null,null,null,null,null,null,null,null,null,null,null,null,null,null,null,null,null,null,2018,"Abertawe Bro Morgannwg","Bridgend East Network",{"$f":"SUM(CP22:CP26)","v":71492},{"$f":"SUM(CQ22:CQ26)","v":5244},1361,2653,452,4359,720,1771,null,null,null,null,null,null,null,null,null,null,null,null,null,null,null,null,null,null,null,null,null,null,null,null,null,null,null,null,null,null,null,null,null,null,null,null,null,null,null,null,null,null,null,null,null,null,null,null,null,null,null,null,null,null,null,null,null,null,null,null,null,null,null,null,null,null,"Smoking","2013/14","Betsi Cadwaladr UHB","-","-",20.438051392454426]
["Aneurin Bevan",{"$f":"SUM(B16:B27)","v":98923},{"$f":"SUM(C16:C27)","v":614185},{"$f":"B28/C28","v":0.16106384884033312},{"$f":"1-D28","v":0.83893615115966691},197849.84160000001,1129.2800966735115,1228377.6832000001,{"$f":"(F28-G28)/H28","v":0.16014664235095613},{"$f":"(F28+G28)/H28","v":0.16198529525407901},null,{"$f":"D28*100","v":16.106384884033311},{"$f":"I28*100","v":16.014664235095612},{"$f":"J28*100","v":16.198529525407899},null,"Aneurin Bevan",{"$f":"SUM(Q16:Q27)","v":68050},{"$f":"SUM(R16:R27)","v":614185},{"$f":"Q28/R28","v":0.11079723536068123},{"$f":"1-S28","v":0.8892027646393188},{"$f":"2*Q28+$N$1^2","v":136103.84160000001},{"$f":"$N$1*(SQRT($N$1^2+(4*Q28*T28)))","v":964.28182333399525},{"$f":"2*(R28+$N$1^2)","v":1228377.6832000001},{"$f":"(U28-V28)/W28","v":0.11001466537931484},{"$f":"(U28+V28)/W28","v":0.11158467407700133},null,{"$f":"S28*100","v":11.079723536068123},{"$f":"X28*100","v":11.001466537931485},{"$f":"Y28*100","v":11.158467407700133},null,"Blaenau Gwent",109,15.1388888888889,12.7,17.899999999999999,null,null,null,null,null,null,null,null,null,null,null,null,null,null,null,null,null,null,null,null,null,null,null,null,null,null,null,null,null,null,null,null,null,null,null,null,null,null,null,null,null,null,null,null,null,null,null,null,null,null,null,null,null,null,null,null,null,null,null,null,null,null,null,null,null,null,null,null,null,null,null,null,null,null,null,null,null,null,null,null,null,null,null,null,null,null,null,null,null,null,null,null,null,null,null,null,null,null,null,null,null,null,null,null,null,null,null,null,null,null,null,null,null,null,null,null,null,null,null,null,null,null,null,null,null,null,null,null,null,null,null,null,"Smoking","2013/14","Betsi Cadwaladr UHB","Anglesey","-",21.700690670764068]
["Anglesey",11455,65585,{"$f":"B29/C29","v":0.17465883967370588},{"$f":"1-D29","v":0.82534116032629412},22913.8416,381.17325726200272,131177.6832,{"$f":"(F29-G29)/H29","v":0.17177211697193626},{"$f":"(F29+G29)/H29","v":0.17758367344958567},null,{"$f":"D29*100","v":17.465883967370587},{"$f":"I29*100","v":17.177211697193627},17.758367344958568,null,"Anglesey",6112,65585,{"$f":"Q29/R29","v":9.3192040863002215E-2},{"$f":"1-S29","v":0.90680795913699774},{"$f":"2*Q29+$AC$1^2","v":12227.8416},{"$f":"$AC$1*(SQRT($AC$1^2+(4*Q29*T29)))","v":291.85895685838432},{"$f":"2*(R29+$AC$1^2)","v":131177.6832},{"$f":"(U29-V29)/W29","v":9.0990954802452367E-2},{"$f":"(U29+V29)/W29","v":9.544078117136913E-2},null,{"$f":"S29*100","v":9.3192040863002212},{"$f":"X29*100","v":9.0990954802452375},9.5440781171369125,null,"Torfaen",120,11.363636363636401,9.6,13.4,null,null,null,null,null,null,null,null,null,null,null,null,null,null,null,null,null,null,null,null,null,null,null,null,null,null,null,null,null,null,null,null,null,null,null,null,null,null,null,null,null,null,null,null,null,null,null,null,null,null,null,null,null,null,2018,"Abertawe Bro Morgannwg","Bridgend North Network","W95009",9225,713,303,517,39,678,150,239,null,null,null,null,null,null,null,null,null,null,null,null,null,null,null,null,null,null,null,null,null,null,null,null,null,null,null,null,null,null,null,null,null,null,null,null,null,null,null,null,null,null,null,null,null,null,null,null,null,null,null,null,null,null,null,null,null,null,null,null,null,null,null,null,null,null,"Smoking","2013/14","Betsi Cadwaladr UHB","Arfon","-",19.760188158287502]
["Conwy East",9383,52874,0.1774596209857397,0.82254037901426025,18769.8416,344.39953653742771,105755.6832,0.1742264955030102,0.18073961188818105,null,17.745962098573969,17.422649550301021,18.073961188818107,null,"Conwy East",4111,52874,7.7750879449256724E-2,0.92224912055074326,8225.8415999999997,241.40092473110622,105755.6832,7.5498927657335527E-2,8.006418443459222E-2,null,7.775087944925672,7.5498927657335528,8.0064184434592214,null,"Monmouthshire",69,7.9768786127167601,6.4,10,null,null,null,null,null,null,null,null,null,null,null,null,null,null,null,null,null,null,null,null,null,null,null,null,null,null,null,null,null,null,null,null,null,null,null,null,null,null,null,null,null,null,null,null,null,null,null,null,null,null,null,null,null,null,2018,"Abertawe Bro Morgannwg","Bridgend North Network","W95012",6541,665,329,310,34,479,104,178,null,null,null,null,null,null,null,null,null,null,null,null,null,null,null,null,null,null,null,null,null,null,null,null,null,null,null,null,null,null,null,null,null,null,null,null,null,null,null,null,null,null,null,null,null,null,null,null,null,null,null,null,null,null,null,null,null,null,null,null,null,null,null,null,null,null,"Smoking","2013/14","Betsi Cadwaladr UHB","Dwyfor","-",19.799728029463356]
["Conwy West",11246,63914,0.17595518978627531,0.82404481021372467,22495.8416,377.38360048250684,127835.6832,0.17302256651543044,0.17892676463970669,null,17.595518978627531,17.302256651543043,17.89267646397067,null,"Conwy West",4877,63914,7.6305660731608105E-2,0.92369433926839184,9757.8415999999997,263.13152033109264,127835.6832,7.4272768306908113E-2,7.8389483041704372E-2,null,7.6305660731608107,7.4272768306908112,7.8389483041704375,null,"Newport",201,10.8180839612487,9.5,12.3,null,null,null,null,null,null,null,null,null,null,null,null,null,null,null,null,null,null,null,null,null,null,null,null,null,null,null,null,null,null,null,null,null,null,null,null,null,null,null,null,null,null,null,null,null,null,null,null,null,null,null,null,null,null,2018,"Abertawe Bro Morgannwg","Bridgend North Network","W95031",7626,642,302,359,28,599,92,187,null,null,null,null,null,null,null,null,null,null,null,null,null,null,null,null,null,null,null,null,null,null,null,null,null,null,null,null,null,null,null,null,null,null,null,null,null,null,null,null,null,null,null,null,null,null,null,null,null,null,null,null,null,null,null,null,null,null,null,null,null,null,null,null,null,null,"Smoking","2013/14","Betsi Cadwaladr UHB","Meirionnydd","-",20.06664280106116]
["Central & South Denbighshire",7172,42012,0.17071312958202417,0.82928687041797589,14347.8416,302.33864572260205,84031.683199999999,0.16714532447063249,0.17434114952635629,null,17.071312958202416,16.714532447063249,17.434114952635628,null,"Central & South Denbighshire",2663,42012,6.3386651432923921E-2,0.93661334856707612,5329.8415999999997,195.81024864061237,84031.683199999999,6.1096376460056286E-2,6.5756767426510529E-2,null,6.3386651432923919,6.1096376460056288,6.5756767426510532,null,null,null,null,null,null,null,null,null,null,null,null,null,null,null,null,null,null,null,null,null,null,null,null,null,null,null,null,null,null,null,null,null,null,null,null,null,null,null,null,null,null,null,null,null,null,null,null,null,null,null,null,null,null,null,null,null,null,null,null,2018,"Abertawe Bro Morgannwg","Bridgend North Network","W95037",10442,763,247,388,98,728,143,269,null,null,null,null,null,null,null,null,null,null,null,null,null,null,null,null,null,null,null,null,null,null,null,null,null,null,null,null,null,null,null,null,null,null,null,null,null,null,null,null,null,null,null,null,null,null,null,null,null,null,null,null,null,null,null,null,null,null,null,null,null,null,null,null,null,null,"Smoking","2013/14","Betsi Cadwaladr UHB","Conwy East","-",20.930142236526411]
["North Denbighshire",10382,60412,0.17185327418393698,0.82814672581606308,20767.8416,363.50005295203891,120831.6832,0.16886582232968481,0.17488245709509442,null,17.185327418393697,16.886582232968479,17.488245709509442,null,"North Denbighshire",4265,60412,7.0598556578163274E-2,0.92940144342183673,8533.8415999999997,246.8310903259586,120831.6832,6.8583092531761078E-2,7.2668628440706512E-2,null,7.0598556578163274,6.8583092531761078,7.2668628440706513,null,null,null,null,null,null,null,null,null,null,null,null,null,null,null,null,null,null,null,null,null,null,null,null,null,null,null,null,null,null,null,null,null,null,null,null,null,null,null,null,null,null,null,null,null,null,null,null,null,null,null,null,null,null,null,null,null,null,null,null,2018,"Abertawe Bro Morgannwg","Bridgend North Network","W95064",6128,474,158,250,32,449,94,150,null,null,null,null,null,null,null,null,null,null,null,null,null,null,null,null,null,null,null,null,null,null,null,null,null,null,null,null,null,null,null,null,null,null,null,null,null,null,null,null,null,null,null,null,null,null,null,null,null,null,null,null,null,null,null,null,null,null,null,null,null,null,null,null,null,null,"Smoking","2013/14","Betsi Cadwaladr UHB","Conwy West","-",19.094004392808237]
["North East Flintshire",9540,62129,0.15355148159474641,0.84644851840525359,19083.8416,352.27867438535441,124265.6832,0.15073801908341053,0.15640778510913425,null,15.355148159474641,15.073801908341053,15.640778510913425,null,"North East Flintshire",5915,62129,9.52051376973716E-2,0.9047948623026284,11833.8416,286.7988914595997,124265.6832,9.2922216425237514E-2,9.7538114943221899E-2,null,9.5205137697371605,9.2922216425237512,9.7538114943221892,null,null,null,null,null,null,null,null,null,null,null,null,null,null,null,null,null,null,null,null,null,null,null,null,null,null,null,null,null,null,null,null,null,null,null,null,null,null,null,null,null,null,null,null,null,null,null,null,null,null,null,null,null,null,null,null,null,null,null,null,2018,"Abertawe Bro Morgannwg","Bridgend North Network","W95067",4331,276,122,142,40,270,29,88,null,null,null,null,null,null,null,null,null,null,null,null,null,null,null,null,null,null,null,null,null,null,null,null,null,null,null,null,null,null,null,null,null,null,null,null,null,null,null,null,null,null,null,null,null,null,null,null,null,null,null,null,null,null,null,null,null,null,null,null,null,null,null,null,null,null,"Smoking","2013/14","Betsi Cadwaladr UHB","Central & South Denbighshire","-",17.203689654301392]
["North West Flintshire",6632,39417,{"$f":"B35/C35","v":0.16825227693634726},{"$f":"1-D35","v":0.83174772306365274},13267.8416,291.16685778167982,78841.683199999999,{"$f":"(F35-G35)/H35","v":0.16459154872810122},{"$f":"(F35+G35)/H35","v":0.17197766343199633},null,{"$f":"D35*100","v":16.825227693634726},{"$f":"I35*100","v":16.459154872810121},17.197766343199632,null,"North West Flintshire",3557,39417,9.0240251668062002E-2,0.90975974833193796,7117.8415999999997,223.02615387990571,78841.683199999999,8.7451398375524458E-2,9.3108967946030685E-2,null,9.0240251668062008,8.7451398375524452,9.3108967946030692,null,null,null,null,null,null,null,null,null,null,null,null,null,null,null,null,null,null,null,null,null,null,null,null,null,null,null,null,null,null,null,null,null,null,null,null,null,null,null,null,null,null,null,null,null,null,null,null,null,null,null,null,null,null,null,null,null,null,null,null,2018,"Abertawe Bro Morgannwg","Bridgend North Network","W95079",4398,308,71,139,19,260,31,86,null,null,null,null,null,null,null,null,null,null,null,null,null,null,null,null,null,null,null,null,null,null,null,null,null,null,null,null,null,null,null,null,null,null,null,null,null,null,null,null,null,null,null,null,null,null,null,null,null,null,null,null,null,null,null,null,null,null,null,null,null,null,null,null,null,null,"Smoking","2013/14","Betsi Cadwaladr UHB","North Denbighshire","-",24.260325507595343]
["South Flintshire",8198,51096,0.16044308752152811,0.83955691247847186,{"$f":"2*B36+$N$1^2","v":16399.8416},{"$f":"$N$1*(SQRT($N$1^2+(4*B36*E36)))","v":325.23359012121659},{"$f":"2*(C36+$N$1^2)","v":102199.6832},0.15728628021695065,0.16365094945931513,null,16.044308752152812,15.728628021695066,16.365094945931514,null,"South Flintshire",4677,51096,9.1533583842179425E-2,0.90846641615782053,9357.8415999999997,255.54845985422554,102199.6832,8.9063809741298433E-2,9.4064773577049857E-2,null,9.1533583842179418,8.9063809741298439,9.4064773577049863,null,null,null,null,null,null,null,null,null,null,null,null,null,null,null,null,null,null,null,null,null,null,null,null,null,null,null,null,null,null,null,null,null,null,null,null,null,null,null,null,null,null,null,null,null,null,null,null,null,null,null,null,null,null,null,null,null,null,null,null,2018,"Abertawe Bro Morgannwg","Bridgend North Network","W95645",3124,288,87,142,35,230,28,92,null,null,null,null,null,null,null,null,null,null,null,null,null,null,null,null,null,null,null,null,null,null,null,null,null,null,null,null,null,null,null,null,null,null,null,null,null,null,null,null,null,null,null,null,null,null,null,null,null,null,null,null,null,null,null,null,null,null,null,null,null,null,null,null,null,null,"Smoking","2013/14","Betsi Cadwaladr UHB","South Wrexham","-",21.177662596069936]
["Arfon",8975,68519,{"$f":"B37/C37","v":0.13098556604737371},{"$f":"1-D37","v":0.86901443395262623},17953.8416,346.21312494851992,137045.6832,{"$f":"(F37-G37)/H37","v":0.12847999341471764},{"$f":"(F37+G37)/H37","v":0.13353251483479431},null,{"$f":"D37*100","v":13.098556604737372},{"$f":"I37*100","v":12.847999341471764},13.353251483479431,null,"Arfon",4270,68519,6.2318481005268614E-2,0.9376815189947314,8543.8415999999997,248.07315085216766,137045.6832,6.0532869445010233E-2,6.4153168093748228E-2,null,6.2318481005268618,6.0532869445010231,6.415316809374823,null,null,null,null,null,null,null,null,null,null,null,null,null,null,null,null,null,null,null,null,null,null,null,null,null,null,null,null,null,null,null,null,null,null,null,null,null,null,null,null,null,null,null,null,null,null,null,null,null,null,null,null,null,null,null,null,null,null,null,null,null,2018,"Abertawe Bro Morgannwg","Bridgend North Network",{"$f":"SUM(CP29:CP36)","v":51815},{"$f":"SUM(CQ29:CQ36)","v":4129},1619,2247,325,3693,671,1289,null,null,null,null,null,null,null,null,null,null,null,null,null,null,null,null,null,null,null,null,null,null,null,null,null,null,null,null,null,null,null,null,null,null,null,null,null,null,null,null,null,null,null,null,null,null,null,null,null,null,null,null,null,null,null,null,null,null,null,null,null,null,null,null,null,null,"Smoking","2013/14","Betsi Cadwaladr UHB","Deeside, Hawarden & Saltney","-",19.166522165652637]
["Dwyfor",4776,24916,0.19168405843634612,0.80831594156365383,9555.8415999999997,243.59188276677708,49839.683199999999,0.18684407924232596,0.19661909654286841,null,19.168405843634613,18.684407924232595,19.661909654286841,null,"Dwyfor",2098,24916,8.4202921817306153E-2,0.91579707818269385,4199.8415999999997,171.86876315580844,49839.683199999999,8.0818588285974324E-2,8.7715452476146732E-2,null,8.4202921817306162,8.0818588285974329,8.7715452476146734,null,null,null,null,null,null,null,null,null,null,null,null,null,null,null,null,null,null,null,null,null,null,null,null,null,null,null,null,null,null,null,null,null,null,null,null,null,null,null,null,null,null,null,null,null,null,null,null,null,null,null,null,null,null,null,null,null,null,null,null,null,null,null,null,null,null,null,null,null,null,null,null,null,null,null,null,null,null,null,null,null,null,null,null,null,null,null,null,null,null,null,null,null,null,null,null,null,null,null,null,null,null,null,null,null,null,null,null,null,null,null,null,null,null,null,null,null,null,null,null,null,null,null,null,null,null,null,null,null,null,null,null,null,null,null,null,null,null,"Smoking","2013/14","Betsi Cadwaladr UHB","Holywell & Flint","-",21.234102864388589]
["Meirionnydd",5891,31331,0.18802464013277584,0.81197535986722413,11785.8416,271.14125257737368,62669.683199999999,0.18373637394456505,0.19238940165214324,null,18.802464013277582,18.373637394456505,19.238940165214323,null,"Meirionnydd",2932,31331,9.3581436915514987E-2,0.90641856308448499,5867.8415999999997,202.1207509875598,62669.683199999999,9.0406087277180303E-2,9.6856439047509971E-2,null,9.3581436915514988,9.0406087277180305,9.6856439047509966,null,null,null,null,null,null,null,null,null,null,null,null,null,null,null,null,null,null,null,null,null,null,null,null,null,null,null,null,null,null,null,null,null,null,null,null,null,null,null,null,null,null,null,null,null,null,null,null,null,null,null,null,null,null,null,null,null,null,null,null,2018,"Abertawe Bro Morgannwg","Bridgend West Network","W95034",10910,891,234,465,70,711,98,290,null,null,null,null,null,null,null,null,null,null,null,null,null,null,null,null,null,null,null,null,null,null,null,null,null,null,null,null,null,null,null,null,null,null,null,null,null,null,null,null,null,null,null,null,null,null,null,null,null,null,null,null,null,null,null,null,null,null,null,null,null,null,null,null,null,null,"Smoking","2013/14","Betsi Cadwaladr UHB","Mold, Buckley & Caergwle","-",16.471780279349552]
["South Wrexham",9147,53451,0.17112869731155639,0.82887130268844356,18297.8416,341.34729331742642,106909.6832,0.16795947541150857,0.17434518871829777,null,17.112869731155637,16.795947541150859,17.434518871829777,null,"South Wrexham",4855,53451,9.0830854427419505E-2,0.90916914557258055,9713.8415999999997,260.465537937759,106909.6832,8.8423946073972109E-2,9.329657370023671E-2,null,9.0830854427419503,8.8423946073972104,9.3296573700236713,null,null,null,null,null,null,null,null,null,null,null,null,null,null,null,null,null,null,null,null,null,null,null,null,null,null,null,null,null,null,null,null,null,null,null,null,null,null,null,null,null,null,null,null,null,null,null,null,null,null,null,null,null,null,null,null,null,null,null,null,2018,"Abertawe Bro Morgannwg","Bridgend West Network","W95041",15210,1231,430,869,201,1098,300,616,null,null,null,null,null,null,null,null,null,null,null,null,null,null,null,null,null,null,null,null,null,null,null,null,null,null,null,null,null,null,null,null,null,null,null,null,null,null,null,null,null,null,null,null,null,null,null,null,null,null,null,null,null,null,null,null,null,null,null,null,null,null,null,null,null,null,"Smoking","2013/14","Betsi Cadwaladr UHB","West & North Wrexham","-",20.778973280032062]
["West & North Wrexham",6809,41850,0.16270011947431301,0.83729988052568705,13621.8416,296.00893849082399,83707.683199999999,0.15919485705595512,0.16626730075944599,null,16.2700119474313,15.919485705595513,16.6267300759446,null,"North & West Wrexham",4189,41850,0.10009557945041817,0.89990442054958186,8381.8415999999997,240.71034480410626,83707.683199999999,9.7256678765610532E-2,0.10300789145247909,null,10.009557945041816,9.7256678765610527,10.300789145247908,null,null,null,null,null,null,null,null,null,null,null,null,null,null,null,null,null,null,null,null,null,null,null,null,null,null,null,null,null,null,null,null,null,null,null,null,null,null,null,null,null,null,null,null,null,null,null,null,null,null,null,null,null,null,null,null,null,null,null,null,2018,"Abertawe Bro Morgannwg","Bridgend West Network","W95063",8445,688,182,361,35,452,104,212,null,null,null,null,null,null,null,null,null,null,null,null,null,null,null,null,null,null,null,null,null,null,null,null,null,null,null,null,null,null,null,null,null,null,null,null,null,null,null,null,null,null,null,null,null,null,null,null,null,null,null,null,null,null,null,null,null,null,null,null,null,null,null,null,null,null,"Smoking","2013/14","Betsi Cadwaladr UHB","Wrexham Town","-",23.219182022652429]
["Wrexham Town",8106,51859,0.15630845176343547,0.84369154823656456,16215.8416,324.19902766149983,103725.6832,0.15320836732110818,0.15945945225320529,null,15.630845176343547,15.320836732110818,15.945945225320528,null,"Central Wrexham",5069,51859,9.7745810756088625E-2,0.90225418924391132,10141.8416,265.12901628061462,103725.6832,9.5219547165338758E-2,0.10033166613339418,null,9.7745810756088627,9.5219547165338767,10.033166613339418,null,null,null,null,null,null,null,null,null,null,null,null,null,null,null,null,null,null,null,null,null,null,null,null,null,null,null,null,null,null,null,null,null,null,null,null,null,null,null,null,null,null,null,null,null,null,null,null,null,null,null,null,null,null,null,null,null,null,null,null,null,2018,"Abertawe Bro Morgannwg","Bridgend West Network",{"$f":"SUM(CP39:CP41)","v":34565},{"$f":"SUM(CQ39:CQ41)","v":2810},846,1695,306,2261,502,1118,null,null,null,null,null,null,null,null,null,null,null,null,null,null,null,null,null,null,null,null,null,null,null,null,null,null,null,null,null,null,null,null,null,null,null,null,null,null,null,null,null,null,null,null,null,null,null,null,null,null,null,null,null,null,null,null,null,null,null,null,null,null,null,null,null,null,"Smoking","2013/14","Cardiff & Vale UHB","-","-",19.456008456153821]
["Betsi Cadwaladr",{"$f":"SUM(B29:B42)","v":117712},{"$f":"SUM(C29:C42)","v":709365},{"$f":"B43/C43","v":0.16593996038710679},{"$f":"1-D43","v":0.83406003961289321},235427.84160000001,1228.279540078134,1418737.6832000001,{"$f":"(F43-G43)/H43","v":0.16507601428593807},{"$f":"(F43+G43)/H43","v":0.1668075247048447},null,{"$f":"D43*100","v":16.593996038710678},{"$f":"I43*100","v":16.507601428593809},{"$f":"J43*100","v":16.680752470484471},null,"Betsi Cadwaladr",{"$f":"SUM(Q29:Q42)","v":59590},{"$f":"SUM(R29:R42)","v":709365},{"$f":"Q43/R43","v":8.4004708436418482E-2},{"$f":"1-S43","v":0.9159952915635815},{"$f":"2*Q43+$N$1^2","v":119183.8416},{"$f":"$N$1*(SQRT($N$1^2+(4*Q43*T43)))","v":915.84757753008296},{"$f":"2*(R43+$N$1^2)","v":1418737.6832000001},{"$f":"(U43-V43)/W43","v":8.3361424330192849E-2},{"$f":"(U43+V43)/W43","v":8.4652498202939158E-2},null,{"$f":"S43*100","v":8.4004708436418483},{"$f":"X43*100","v":8.336142433019285},{"$f":"Y43*100","v":8.4652498202939164},null,null,null,null,null,null,null,null,null,null,null,null,null,null,null,null,null,null,null,null,null,null,null,null,null,null,null,null,null,null,null,null,null,null,null,null,null,null,null,null,null,null,null,null,null,null,null,null,null,null,null,null,null,null,null,null,null,null,null,null,null,null,null,null,null,null,null,null,null,null,null,null,null,null,null,null,null,null,null,null,null,null,null,null,null,null,null,null,null,null,null,null,null,null,null,null,null,null,null,null,null,null,null,null,null,null,null,null,null,null,null,null,null,null,null,null,null,null,null,null,null,null,null,null,null,null,null,null,null,null,null,null,null,null,null,null,null,null,"Smoking","2013/14","Cardiff & Vale UHB","Cardiff North","-",13.909932314311115]
["Cardiff East",7735,57589,{"$f":"B44/C44","v":0.13431384465783397},{"$f":"1-D44","v":0.86568615534216597},15473.8416,320.79501034108165,115185.6832,{"$f":"(F44-G44)/H44","v":0.13155321189829014},{"$f":"(F44+G44)/H44","v":0.13712326195015426},null,{"$f":"D44*100","v":13.431384465783397},{"$f":"I44*100","v":13.155321189829014},13.712326195015425,null,"Cardiff East",5521,57589,{"$f":"Q44/R44","v":9.5869002760943928E-2},{"$f":"1-S44","v":0.9041309972390561},{"$f":"2*Q44+$AC$1^2","v":11045.8416},{"$f":"$AC$1*(SQRT($AC$1^2+(4*Q44*T44)))","v":276.98254089038488},{"$f":"2*(R44+$AC$1^2)","v":115185.6832},{"$f":"(U44-V44)/W44","v":9.3491298223333491E-2},{"$f":"(U44+V44)/W44","v":9.8300620583464879E-2},null,{"$f":"S44*100","v":9.5869002760943935},{"$f":"X44*100","v":9.3491298223333494},9.8300620583464884,null,null,null,null,null,null,null,null,null,null,null,null,null,null,null,null,null,null,null,null,null,null,null,null,null,null,null,null,null,null,null,null,null,null,null,null,null,null,null,null,null,null,null,null,null,null,null,null,null,null,null,null,null,null,null,null,null,null,null,null,2018,"Abertawe Bro Morgannwg","City Health","W98015",4986,392,219,153,11,244,40,73,null,null,null,null,null,null,null,null,null,null,null,null,null,null,null,null,null,null,null,null,null,null,null,null,null,null,null,null,null,null,null,null,null,null,null,null,null,null,null,null,null,null,null,null,null,null,null,null,null,null,null,null,null,null,null,null,null,null,null,null,null,null,null,null,null,null,"Smoking","2013/14","Cardiff & Vale UHB","Cardiff East","-",24.914874579250775]
["Cardiff North",12547,101806,0.12324420957507416,0.8767557904249258,25097.8416,411.16325393175038,203619.6832,0.12123915506645995,0.12527769640460648,null,12.324420957507416,12.123915506645995,12.527769640460647,null,"Cardiff North",7369,101806,7.2382767223935718E-2,0.92761723277606434,14741.8416,324.11957165241535,203619.6832,7.0807113545040545E-2,7.3990691542596493E-2,null,7.2382767223935716,7.0807113545040545,7.3990691542596494,null,null,null,null,null,null,null,null,null,null,null,null,null,null,null,null,null,null,null,null,null,null,null,null,null,null,null,null,null,null,null,null,null,null,null,null,null,null,null,null,null,null,null,null,null,null,null,null,null,null,null,null,null,null,null,null,null,null,null,null,2018,"Abertawe Bro Morgannwg","City Health","W98020",4392,274,116,187,25,347,92,114,null,null,null,null,null,null,null,null,null,null,null,null,null,null,null,null,null,null,null,null,null,null,null,null,null,null,null,null,null,null,null,null,null,null,null,null,null,null,null,null,null,null,null,null,null,null,null,null,null,null,null,null,null,null,null,null,null,null,null,null,null,null,null,null,null,null,"Smoking","2013/14","Cardiff & Vale UHB","Cardiff South East","-",22.191320215738777]
["Cardiff South East",5263,64245,8.1920772044517087E-2,0.91807922795548291,10529.8416,272.51222493565194,128497.6832,7.982501411406262E-2,8.4066525994265173E-2,null,8.1920772044517083,7.982501411406262,8.4066525994265167,null,"Cardiff South East",4747,64245,7.3889018600669307E-2,0.92611098139933068,9497.8415999999997,259.94090846178091,128497.6832,7.1891573929468475E-2,7.5937419768684053E-2,null,7.3889018600669303,7.1891573929468473,7.5937419768684054,null,null,null,null,null,null,null,null,null,null,null,null,null,null,null,null,null,null,null,null,null,null,null,null,null,null,null,null,null,null,null,null,null,null,null,null,null,null,null,null,null,null,null,null,null,null,null,null,null,null,null,null,null,null,null,null,null,null,null,null,2018,"Abertawe Bro Morgannwg","City Health","W98024",6119,505,139,273,93,413,57,181,null,null,null,null,null,null,null,null,null,null,null,null,null,null,null,null,null,null,null,null,null,null,null,null,null,null,null,null,null,null,null,null,null,null,null,null,null,null,null,null,null,null,null,null,null,null,null,null,null,null,null,null,null,null,null,null,null,null,null,null,null,null,null,null,null,null,"Smoking","2013/14","Cardiff & Vale UHB","Cardiff South West","-",23.798820745875943]
["Cardiff South West",8028,66258,0.12116272751969573,0.8788372724803043,16059.8416,329.28620715583935,132523.6832,0.11869995621163176,0.12366942580687224,null,12.116272751969573,11.869995621163177,12.366942580687223,null,"Cardiff South West",5315,66258,8.0216728545986896E-2,0.91978327145401306,10633.8416,274.10888323181553,132523.6832,7.8172689338355056E-2,8.2309442507494515E-2,null,8.0216728545986893,7.8172689338355053,8.2309442507494524,null,null,null,null,null,null,null,null,null,null,null,null,null,null,null,null,null,null,null,null,null,null,null,null,null,null,null,null,null,null,null,null,null,null,null,null,null,null,null,null,null,null,null,null,null,null,null,null,null,null,null,null,null,null,null,null,null,null,null,null,2018,"Abertawe Bro Morgannwg","City Health","W98027",10467,821,200,315,27,574,88,257,null,null,null,null,null,null,null,null,null,null,null,null,null,null,null,null,null,null,null,null,null,null,null,null,null,null,null,null,null,null,null,null,null,null,null,null,null,null,null,null,null,null,null,null,null,null,null,null,null,null,null,null,null,null,null,null,null,null,null,null,null,null,null,null,null,null,"Smoking","2013/14","Cardiff & Vale UHB","Cardiff West","-",15.132835612472123]
["Cardiff West",7422,56577,0.13118405005567632,0.86881594994432365,14847.8416,314.80583502138569,113161.6832,0.12842717918302063,0.13399100301665878,null,13.118405005567633,12.842717918302062,13.399100301665879,null,"Cardiff West",3867,56577,6.8349329232727074E-2,0.93165067076727293,7737.8415999999997,235.31931883363271,113161.6832,6.6299140035824128E-2,7.0458132941889934E-2,null,6.8349329232727074,6.6299140035824129,7.045813294188993,null,null,null,null,null,null,null,null,null,null,null,null,null,null,null,null,null,null,null,null,null,null,null,null,null,null,null,null,null,null,null,null,null,null,null,null,null,null,null,null,null,null,null,null,null,null,null,null,null,null,null,null,null,null,null,null,null,null,null,null,2018,"Abertawe Bro Morgannwg","City Health","W98039",4316,303,95,158,14,260,39,75,null,null,null,null,null,null,null,null,null,null,null,null,null,null,null,null,null,null,null,null,null,null,null,null,null,null,null,null,null,null,null,null,null,null,null,null,null,null,null,null,null,null,null,null,null,null,null,null,null,null,null,null,null,null,null,null,null,null,null,null,null,null,null,null,null,null,"Smoking","2013/14","Cardiff & Vale UHB","City & Cardiff South","-",22.824009581921906]
["City & Cardiff South",3836,40313,9.5155408925160612E-2,0.90484459107483939,7675.8415999999997,230.97896905161232,80633.683199999999,9.232943771751688E-2,9.805853156229892E-2,null,9.5155408925160607,9.2329437717516871,9.8058531562298921,null,"City & Cardiff South",2686,40313,6.6628630962716748E-2,0.93337136903728324,5375.8415999999997,196.31318894882924,80633.683199999999,6.4235294798627898E-2,6.9104554918171329E-2,null,6.6628630962716748,6.4235294798627898,6.9104554918171326,null,null,null,null,null,null,null,null,null,null,null,null,null,null,null,null,null,null,null,null,null,null,null,null,null,null,null,null,null,null,null,null,null,null,null,null,null,null,null,null,null,null,null,null,null,null,null,null,null,null,null,null,null,null,null,null,null,null,null,null,2018,"Abertawe Bro Morgannwg","City Health","W98056",5248,402,117,183,64,349,40,93,null,null,null,null,null,null,null,null,null,null,null,null,null,null,null,null,null,null,null,null,null,null,null,null,null,null,null,null,null,null,null,null,null,null,null,null,null,null,null,null,null,null,null,null,null,null,null,null,null,null,null,null,null,null,null,null,null,null,null,null,null,null,null,null,null,null,"Smoking","2013/14","Cardiff & Vale UHB","Central Vale","-",23.233234210272084]
["Central Vale",9713,63630,0.15264812195505265,0.84735187804494738,19429.8416,355.64769397748961,127267.6832,0.14987460623485688,0.15546357721374385,null,15.264812195505264,14.987460623485688,15.546357721374385,null,"Central Vale",6362,63630,9.9984284142699983E-2,0.9000157158573,12727.8416,296.65000827416782,127267.6832,9.7677519376150879E-2,0.10233934712087356,null,9.9984284142699984,9.7677519376150883,10.233934712087356,null,null,null,null,null,null,null,null,null,null,null,null,null,null,null,null,null,null,null,null,null,null,null,null,null,null,null,null,null,null,null,null,null,null,null,null,null,null,null,null,null,null,null,null,null,null,null,null,null,null,null,null,null,null,null,null,null,null,null,null,2018,"Abertawe Bro Morgannwg","City Health","W98057",7816,531,214,246,73,446,63,137,null,null,null,null,null,null,null,null,null,null,null,null,null,null,null,null,null,null,null,null,null,null,null,null,null,null,null,null,null,null,null,null,null,null,null,null,null,null,null,null,null,null,null,null,null,null,null,null,null,null,null,null,null,null,null,null,null,null,null,null,null,null,null,null,null,null,"Smoking","2013/14","Cardiff & Vale UHB","Eastern Vale","-",14.509987787975398]
["Eastern Vale",5337,36819,0.14495233439256905,0.85504766560743095,10677.8416,264.83508950619131,73645.683199999999,0.14139330450931042,0.14858544607141605,null,14.495233439256905,14.139330450931043,14.858544607141605,null,"Eastern Vale",2443,36819,6.635161193948777E-2,0.9336483880605122,4889.8415999999997,187.25390766188548,73645.683199999999,6.3854220478439597E-2,6.8939485480418283E-2,null,6.6351611939487771,6.3854220478439601,6.8939485480418288,null,null,null,null,null,null,null,null,null,null,null,null,null,null,null,null,null,null,null,null,null,null,null,null,null,null,null,null,null,null,null,null,null,null,null,null,null,null,null,null,null,null,null,null,null,null,null,null,null,null,null,null,null,null,null,null,null,null,null,null,2018,"Abertawe Bro Morgannwg","City Health","W98608",6780,391,181,213,39,485,36,122,null,null,null,null,null,null,null,null,null,null,null,null,null,null,null,null,null,null,null,null,null,null,null,null,null,null,null,null,null,null,null,null,null,null,null,null,null,null,null,null,null,null,null,null,null,null,null,null,null,null,null,null,null,null,null,null,null,null,null,null,null,null,null,null,null,null,"Smoking","2013/14","Cardiff & Vale UHB","Western Vale","-",14.240754747480125]
["Western Vale",4107,28344,0.14489839119390346,0.85510160880609654,8217.8415999999997,232.33607878777397,56695.683199999999,0.14084856325026571,0.14904446338496144,null,14.489839119390346,14.084856325026571,14.904446338496143,null,"Western Vale",1798,28344,6.3434942139429865E-2,0.93656505786057009,3599.8416000000002,160.90653987065093,56695.683199999999,6.0656029983766895E-2,6.6332177823913263E-2,null,6.3434942139429866,6.065602998376689,6.6332177823913261,null,null,null,null,null,null,null,null,null,null,null,null,null,null,null,null,null,null,null,null,null,null,null,null,null,null,null,null,null,null,null,null,null,null,null,null,null,null,null,null,null,null,null,null,null,null,null,null,null,null,null,null,null,null,null,null,null,null,null,null,2018,"Abertawe Bro Morgannwg","City Health","W98610",1479,81,30,49,6,81,12,30,null,null,null,null,null,null,null,null,null,null,null,null,null,null,null,null,null,null,null,null,null,null,null,null,null,null,null,null,null,null,null,null,null,null,null,null,null,null,null,null,null,null,null,null,null,null,null,null,null,null,null,null,null,null,null,null,null,null,null,null,null,null,null,null,null,null,"Smoking","2013/14","Cwm Taf UHB","-","-",22.094508323021696]
["Cardiff & Vale",{"$f":"SUM(B44:B52)","v":63988},{"$f":"SUM(C44:C52)","v":515581},{"$f":"B53/C53","v":0.12410852998849842},{"$f":"1-D53","v":0.87589147001150158},127979.8416,928.03467722524556,1031169.6832,{"$f":"(F53-G53)/H53","v":0.12321134823174634},{"$f":"(F53+G53)/H53","v":0.12501131324690332},null,{"$f":"D53*100","v":12.410852998849842},{"$f":"I53*100","v":12.321134823174635},{"$f":"J53*100","v":12.501131324690332},null,"Cardiff & Vale",{"$f":"SUM(Q44:Q52)","v":40108},{"$f":"SUM(R44:R52)","v":515581},{"$f":"Q53/R53","v":7.7791850359109432E-2},{"$f":"1-S53","v":0.9222081496408906},{"$f":"2*Q53+$N$1^2","v":80219.8416},{"$f":"$N$1*(SQRT($N$1^2+(4*Q53*T53)))","v":753.91378844121198},{"$f":"2*(R53+$N$1^2)","v":1031169.6832},{"$f":"(U53-V53)/W53","v":7.7063871355250099E-2},{"$f":"(U53+V53)/W53","v":7.8526121071711127E-2},null,{"$f":"S53*100","v":7.7791850359109436},{"$f":"X53*100","v":7.7063871355250102},{"$f":"Y53*100","v":7.8526121071711126},null,null,null,null,null,null,null,null,null,null,null,null,null,null,null,null,null,null,null,null,null,null,null,null,null,null,null,null,null,null,null,null,null,null,null,null,null,null,null,null,null,null,null,null,null,null,null,null,null,null,null,null,null,null,null,null,null,null,null,null,null,2018,"Abertawe Bro Morgannwg","City Health",{"$f":"SUM(CP44:CP52)","v":51603},{"$f":"SUM(CQ44:CQ52)","v":3700},1311,1777,352,3199,467,1082,null,null,null,null,null,null,null,null,null,null,null,null,null,null,null,null,null,null,null,null,null,null,null,null,null,null,null,null,null,null,null,null,null,null,null,null,null,null,null,null,null,null,null,null,null,null,null,null,null,null,null,null,null,null,null,null,null,null,null,null,null,null,null,null,null,null,"Smoking","2013/14","Cwm Taf UHB","North Cynon","-",22.835939704781218]
["North Merthyr Tydfil",5619,32299,{"$f":"B54/C54","v":0.17396823431065978},{"$f":"1-D54","v":0.82603176568934022},11241.8416,267.0907725522132,64605.683199999999,{"$f":"(F54-G54)/H54","v":0.16987283910415774},{"$f":"(F54+G54)/H54","v":0.17814117586101486},null,{"$f":"D54*100","v":17.396823431065979},{"$f":"I54*100","v":16.987283910415773},17.814117586101485,null,"North Merthyr Tydfil",4263,32299,{"$f":"Q54/R54","v":0.13198551038731848},{"$f":"1-S54","v":0.86801448961268157},{"$f":"2*Q54+$AC$1^2","v":8529.8415999999997},{"$f":"$AC$1*(SQRT($AC$1^2+(4*Q54*T54)))","v":238.48637512169267},{"$f":"2*(R54+$AC$1^2)","v":64605.683199999999},{"$f":"(U54-V54)/W54","v":0.12833786153473117},{"$f":"(U54+V54)/W54","v":0.1357206911345176},null,{"$f":"S54*100","v":13.198551038731848},{"$f":"X54*100","v":12.833786153473117},13.572069113451759,null,null,null,null,null,null,null,null,null,null,null,null,null,null,null,null,null,null,null,null,null,null,null,null,null,null,null,null,null,null,null,null,null,null,null,null,null,null,null,null,null,null,null,null,null,null,null,null,null,null,null,null,null,null,null,null,null,null,null,null,null,null,null,null,null,null,null,null,null,null,null,null,null,null,null,null,null,null,null,null,null,null,null,null,null,null,null,null,null,null,null,null,null,null,null,null,null,null,null,null,null,null,null,null,null,null,null,null,null,null,null,null,null,null,null,null,null,null,null,null,null,null,null,null,null,null,null,null,null,null,null,null,null,null,null,null,null,null,"Smoking","2013/14","Cwm Taf UHB","North Rhondda","-",23.526408409260078]
["South Merthyr Tydfil",4719,28518,0.16547443719755944,0.83452556280244061,9441.8415999999997,246.02759858983217,57043.683199999999,0.16120652604371397,0.1698324626869436,null,16.547443719755943,16.120652604371397,16.983246268694359,null,"South Merthyr Tydfil",3408,28518,0.11950347149168945,0.88049652850831051,6819.8415999999997,214.76780181089461,57043.683199999999,0.1157897496736169,0.12331969128197694,null,11.950347149168945,11.57897496736169,12.331969128197693,null,null,null,null,null,null,null,null,null,null,null,null,null,null,null,null,null,null,null,null,null,null,null,null,null,null,null,null,null,null,null,null,null,null,null,null,null,null,null,null,null,null,null,null,null,null,null,null,null,null,null,null,null,null,null,null,null,null,null,null,2018,"Abertawe Bro Morgannwg","Cwmtawe","W98005",10793,783,216,345,49,608,144,190,null,null,null,null,null,null,null,null,null,null,null,null,null,null,null,null,null,null,null,null,null,null,null,null,null,null,null,null,null,null,null,null,null,null,null,null,null,null,null,null,null,null,null,null,null,null,null,null,null,null,null,null,null,null,null,null,null,null,null,null,null,null,null,null,null,null,"Smoking","2013/14","Cwm Taf UHB","North Taf Ely","-",20.913323514393646]
["North Cynon",7175,40687,0.17634625310295671,0.82365374689704329,14353.8416,301.3732108344185,81381.683199999999,0.17267360217447039,0.18008001597630288,null,17.634625310295672,17.267360217447038,18.008001597630287,null,"North Cynon",4371,40687,0.10742989161157127,0.89257010838842876,8745.8415999999997,244.87874301384986,81381.683199999999,0.10445793847854637,0.11047596940110781,null,10.742989161157126,10.445793847854636,11.047596940110781,null,null,null,null,null,null,null,null,null,null,null,null,null,null,null,null,null,null,null,null,null,null,null,null,null,null,null,null,null,null,null,null,null,null,null,null,null,null,null,null,null,null,null,null,null,null,null,null,null,null,null,null,null,null,null,null,null,null,null,null,2018,"Abertawe Bro Morgannwg","Cwmtawe","W98022",10983,692,214,421,77,718,126,241,null,null,null,null,null,null,null,null,null,null,null,null,null,null,null,null,null,null,null,null,null,null,null,null,null,null,null,null,null,null,null,null,null,null,null,null,null,null,null,null,null,null,null,null,null,null,null,null,null,null,null,null,null,null,null,null,null,null,null,null,null,null,null,null,null,null,"Smoking","2013/14","Cwm Taf UHB","South Cynon","-",25.452660722913055]
["North Rhondda",6576,35569,0.18488009221513116,0.81511990778486887,13155.8416,287.022949120519,71145.683199999999,0.18087982393399071,0.18894842166784503,null,18.488009221513117,18.08798239339907,18.894842166784503,null,"North Rhondda",4230,35569,0.11892378194495207,0.88107621805504799,8463.8415999999997,239.34201320784072,71145.683199999999,0.11560082378676433,0.12232904684802916,null,11.892378194495207,11.560082378676432,12.232904684802916,null,null,null,null,null,null,null,null,null,null,null,null,null,null,null,null,null,null,null,null,null,null,null,null,null,null,null,null,null,null,null,null,null,null,null,null,null,null,null,null,null,null,null,null,null,null,null,null,null,null,null,null,null,null,null,null,null,null,null,null,2018,"Abertawe Bro Morgannwg","Cwmtawe","W98026",6564,462,144,251,41,476,79,163,null,null,null,null,null,null,null,null,null,null,null,null,null,null,null,null,null,null,null,null,null,null,null,null,null,null,null,null,null,null,null,null,null,null,null,null,null,null,null,null,null,null,null,null,null,null,null,null,null,null,null,null,null,null,null,null,null,null,null,null,null,null,null,null,null,null,"Smoking","2013/14","Cwm Taf UHB","South Rhondda","-",25.397773657221727]
["North Taf Ely",7312,46905,0.15588956401236542,0.84411043598763458,14627.8416,307.99068323537574,93817.683199999999,0.15263488106221562,0.15920060881694609,null,15.588956401236542,15.263488106221562,15.920060881694608,null,"North Taf Ely",5883,46905,0.12542372881355932,0.87457627118644066,11769.8416,281.20618304142869,93817.683199999999,0.12245703608420135,0.12845177339703726,null,12.542372881355931,12.245703608420135,12.845177339703726,null,null,null,null,null,null,null,null,null,null,null,null,null,null,null,null,null,null,null,null,null,null,null,null,null,null,null,null,null,null,null,null,null,null,null,null,null,null,null,null,null,null,null,null,null,null,null,null,null,null,null,null,null,null,null,null,null,null,null,null,2018,"Abertawe Bro Morgannwg","Cwmtawe","W98029",7599,452,156,322,58,494,91,190,null,null,null,null,null,null,null,null,null,null,null,null,null,null,null,null,null,null,null,null,null,null,null,null,null,null,null,null,null,null,null,null,null,null,null,null,null,null,null,null,null,null,null,null,null,null,null,null,null,null,null,null,null,null,null,null,null,null,null,null,null,null,null,null,null,null,"Smoking","2013/14","Cwm Taf UHB","South Taf Ely","-",16.474052867625328]
["South Cynon",3844,21018,0.18289085545722714,0.81710914454277284,7691.8415999999997,219.72738035076725,42043.683199999999,0.17772263633765636,0.18817497369856423,null,18.289085545722713,17.772263633765636,18.817497369856422,null,"South Cynon",3257,21018,0.15496241316966411,0.84503758683033592,6517.8415999999997,205.68788808764683,42043.683199999999,0.15013322410136401,0.15991770882926942,null,15.496241316966412,15.013322410136402,15.991770882926943,null,null,null,null,null,null,null,null,null,null,null,null,null,null,null,null,null,null,null,null,null,null,null,null,null,null,null,null,null,null,null,null,null,null,null,null,null,null,null,null,null,null,null,null,null,null,null,null,null,null,null,null,null,null,null,null,null,null,null,null,2018,"Abertawe Bro Morgannwg","Cwmtawe","W98044",6837,538,123,217,41,380,59,136,null,null,null,null,null,null,null,null,null,null,null,null,null,null,null,null,null,null,null,null,null,null,null,null,null,null,null,null,null,null,null,null,null,null,null,null,null,null,null,null,null,null,null,null,null,null,null,null,null,null,null,null,null,null,null,null,null,null,null,null,null,null,null,null,null,null,"Smoking","2013/14","Cwm Taf UHB","North Merthyr Tydfil","-",25.369941071901032]
["South Rhondda",9365,53421,0.17530559143408023,0.8246944085659198,18733.8416,344.51924263670458,106849.6832,0.17210460346374987,0.17855327476194804,null,17.530559143408023,17.210460346374987,17.855327476194805,null,"South Rhondda",8209,53421,0.1536661612474495,0.84633383875255053,16421.8416,326.76238934075201,106849.6832,0.15063291465761919,0.15674921523155952,null,15.366616124744951,15.063291465761919,15.674921523155952,null,null,null,null,null,null,null,null,null,null,null,null,null,null,null,null,null,null,null,null,null,null,null,null,null,null,null,null,null,null,null,null,null,null,null,null,null,null,null,null,null,null,null,null,null,null,null,null,null,null,null,null,null,null,null,null,null,null,null,null,null,2018,"Abertawe Bro Morgannwg","Cwmtawe",{"$f":"SUM(CP55:CP59)","v":42776},{"$f":"SUM(CQ55:CQ59)","v":2927},853,1556,266,2676,499,920,null,null,null,null,null,null,null,null,null,null,null,null,null,null,null,null,null,null,null,null,null,null,null,null,null,null,null,null,null,null,null,null,null,null,null,null,null,null,null,null,null,null,null,null,null,null,null,null,null,null,null,null,null,null,null,null,null,null,null,null,null,null,null,null,null,null,"Smoking","2013/14","Cwm Taf UHB","South Merthyr Tydfil","-",21.103224636649351]
["South Taf Ely",7067,48580,0.14547138740222312,0.8545286125977769,14137.8416,304.6501864542069,97167.683199999999,0.14236411693662562,0.1486347241266138,null,14.547138740222312,14.236411693662562,14.86347241266138,null,"South Taf Ely",4142,48580,8.5261424454508031E-2,0.91473857554549198,8287.8415999999997,241.32073925777746,97167.683199999999,8.2810669100549489E-2,8.7777767858293207E-2,null,8.5261424454508035,8.2810669100549497,8.777776785829321,null,null,null,null,null,null,null,null,null,null,null,null,null,null,null,null,null,null,null,null,null,null,null,null,null,null,null,null,null,null,null,null,null,null,null,null,null,null,null,null,null,null,null,null,null,null,null,null,null,null,null,null,null,null,null,null,null,null,null,null,null,null,null,null,null,null,null,null,null,null,null,null,null,null,null,null,null,null,null,null,null,null,null,null,null,null,null,null,null,null,null,null,null,null,null,null,null,null,null,null,null,null,null,null,null,null,null,null,null,null,null,null,null,null,null,null,null,null,null,null,null,null,null,null,null,null,null,null,null,null,null,null,null,null,null,null,null,null,"Smoking","2013/14","Hywel Dda UHB","-","-",18.948325244135766]
["Cwm Taf",{"$f":"SUM(B54:B61)","v":51677},{"$f":"SUM(C54:C61)","v":306997},{"$f":"B62/C62","v":0.16833063515278651},{"$f":"1-D62","v":0.83166936484721354},103357.8416,812.6712919333421,614001.68319999997,{"$f":"(F62-G62)/H62","v":0.16701122018693951},{"$f":"(F62+G62)/H62","v":0.16965835068892096},null,{"$f":"D62*100","v":16.833063515278653},{"$f":"I62*100","v":16.701122018693951},{"$f":"J62*100","v":16.965835068892098},null,"Cwm Taf",{"$f":"SUM(Q54:Q61)","v":37763},{"$f":"SUM(R54:R61)","v":306997},{"$f":"Q62/R62","v":0.12300771668778522},{"$f":"1-S62","v":0.87699228331221479},{"$f":"2*Q62+$N$1^2","v":75529.8416},{"$f":"$N$1*(SQRT($N$1^2+(4*Q62*T62)))","v":713.38421314664129},{"$f":"2*(R62+$N$1^2)","v":614001.68319999997},{"$f":"(U62-V62)/W62","v":0.12185057375890491},{"$f":"(U62+V62)/W62","v":0.12417429446738468},null,{"$f":"S62*100","v":12.300771668778522},{"$f":"X62*100","v":12.185057375890491},{"$f":"Y62*100","v":12.417429446738467},null,null,null,null,null,null,null,null,null,null,null,null,null,null,null,null,null,null,null,null,null,null,null,null,null,null,null,null,null,null,null,null,null,null,null,null,null,null,null,null,null,null,null,null,null,null,null,null,null,null,null,null,null,null,null,null,null,null,null,null,2018,"Abertawe Bro Morgannwg","Llwchwr","W98008",8462,749,180,324,48,482,101,146,null,null,null,null,null,null,null,null,null,null,null,null,null,null,null,null,null,null,null,null,null,null,null,null,null,null,null,null,null,null,null,null,null,null,null,null,null,null,null,null,null,null,null,null,null,null,null,null,null,null,null,null,null,null,null,null,null,null,null,null,null,null,null,null,null,null,"Smoking","2013/14","Hywel Dda UHB","North Ceredigion","-",16.775200881273815]
["Amman/Gwendraeth",9638,59739,{"$f":"B63/C63","v":0.16133514119754264},{"$f":"1-D63","v":0.83866485880245734},19279.8416,352.45165164478863,119485.6832,{"$f":"(F63-G63)/H63","v":0.15840717851254008},{"$f":"(F63+G63)/H63","v":0.16430665771717148},null,{"$f":"D63*100","v":16.133514119754263},{"$f":"I63*100","v":15.840717851254007},16.430665771717148,null,"Amman/Gwendraeth",7112,59739,{"$f":"Q63/R63","v":0.11905120607978038},{"$f":"1-S63","v":0.88094879392021963},{"$f":"2*Q63+$AC$1^2","v":14227.8416},{"$f":"$AC$1*(SQRT($AC$1^2+(4*Q63*T63)))","v":310.30627452902394},{"$f":"2*(R63+$AC$1^2)","v":119485.6832},{"$f":"(U63-V63)/W63","v":0.11647868558591441},{"$f":"(U63+V63)/W63","v":0.12167271831382911},null,{"$f":"S63*100","v":11.905120607978038},{"$f":"X63*100","v":11.647868558591441},12.167271831382912,null,null,null,null,null,null,null,null,null,null,null,null,null,null,null,null,null,null,null,null,null,null,null,null,null,null,null,null,null,null,null,null,null,null,null,null,null,null,null,null,null,null,null,null,null,null,null,null,null,null,null,null,null,null,null,null,null,null,null,null,2018,"Abertawe Bro Morgannwg","Llwchwr","W98012",14066,1059,230,574,141,918,162,363,null,null,null,null,null,null,null,null,null,null,null,null,null,null,null,null,null,null,null,null,null,null,null,null,null,null,null,null,null,null,null,null,null,null,null,null,null,null,null,null,null,null,null,null,null,null,null,null,null,null,null,null,null,null,null,null,null,null,null,null,null,null,null,null,null,null,"Smoking","2013/14","Hywel Dda UHB","South Ceredigion","-",18.626384930995645]
["Llanelli",9576,61492,0.15572757431861056,0.84427242568138938,19155.8416,352.4887268018951,122991.6832,0.15288312497212905,0.15861503655559284,null,15.572757431861056,15.288312497212905,15.861503655559284,null,"Llanelli",6357,61492,0.10337930137253626,0.89662069862746374,12717.8416,295.97371140559807,122991.6832,0.10099762492391356,0.1058105310278866,null,10.337930137253625,10.099762492391356,10.58105310278866,null,null,null,null,null,null,null,null,null,null,null,null,null,null,null,null,null,null,null,null,null,null,null,null,null,null,null,null,null,null,null,null,null,null,null,null,null,null,null,null,null,null,null,null,null,null,null,null,null,null,null,null,null,null,null,null,null,null,null,null,2018,"Abertawe Bro Morgannwg","Llwchwr","W98013",9070,713,152,311,66,489,86,179,null,null,null,null,null,null,null,null,null,null,null,null,null,null,null,null,null,null,null,null,null,null,null,null,null,null,null,null,null,null,null,null,null,null,null,null,null,null,null,null,null,null,null,null,null,null,null,null,null,null,null,null,null,null,null,null,null,null,null,null,null,null,null,null,null,null,"Smoking","2013/14","Hywel Dda UHB","North Pembrokeshire","-",20.30746229269776]
["Taf / Teifi / Tywi",9387,58146,0.16143844804457744,0.83856155195542259,18777.8416,347.81110265781024,116299.6832,0.15847016939545874,0.16445146002476652,null,16.143844804457743,15.847016939545874,16.445146002476651,null,"Taf / Teifi / Tywi",5946,58146,0.10225982870704778,0.89774017129295225,11895.8416,286.42631414172774,116299.6832,9.9823275235355682E-2,0.10474893463976115,null,10.225982870704778,9.9823275235355684,10.474893463976114,null,null,null,null,null,null,null,null,null,null,null,null,null,null,null,null,null,null,null,null,null,null,null,null,null,null,null,null,null,null,null,null,null,null,null,null,null,null,null,null,null,null,null,null,null,null,null,null,null,null,null,null,null,null,null,null,null,null,null,null,2018,"Abertawe Bro Morgannwg","Llwchwr","W98034",11092,924,227,395,78,626,140,244,null,null,null,null,null,null,null,null,null,null,null,null,null,null,null,null,null,null,null,null,null,null,null,null,null,null,null,null,null,null,null,null,null,null,null,null,null,null,null,null,null,null,null,null,null,null,null,null,null,null,null,null,null,null,null,null,null,null,null,null,null,null,null,null,null,null,"Smoking","2013/14","Hywel Dda UHB","South Pembrokeshire","-",19.446424591818293]
["North Ceredigion",7059,46678,0.15122755902138052,0.84877244097861948,14121.8416,303.45066779185566,93363.683199999999,0.1480060603715358,0.15450646089969014,null,15.122755902138053,14.80060603715358,15.450646089969014,null,"North Ceredigion",4122,46678,8.8307125412399851E-2,0.91169287458760018,8247.8415999999997,240.33655320020563,93363.683199999999,8.5766807524574981E-2,9.0915202381392404E-2,null,8.8307125412399845,8.5766807524574986,9.0915202381392408,null,null,null,null,null,null,null,null,null,null,null,null,null,null,null,null,null,null,null,null,null,null,null,null,null,null,null,null,null,null,null,null,null,null,null,null,null,null,null,null,null,null,null,null,null,null,null,null,null,null,null,null,null,null,null,null,null,null,null,null,2018,"Abertawe Bro Morgannwg","Llwchwr","W98787",4897,339,73,147,21,257,38,91,null,null,null,null,null,null,null,null,null,null,null,null,null,null,null,null,null,null,null,null,null,null,null,null,null,null,null,null,null,null,null,null,null,null,null,null,null,null,null,null,null,null,null,null,null,null,null,null,null,null,null,null,null,null,null,null,null,null,null,null,null,null,null,null,null,null,"Smoking","2013/14","Hywel Dda UHB","Taf / Teifi / Tywi","-",16.752941292566355]
["South Ceredigion",8734,48187,0.18125220495154296,0.81874779504845707,17471.8416,331.51019912471776,96381.683199999999,0.17783805835085564,0.18471717040032681,null,18.125220495154295,17.783805835085566,18.471717040032683,null,"South Ceredigion",4027,48187,8.3570257538340215E-2,0.91642974246165976,8057.8415999999997,238.16776014117565,96381.683199999999,8.113236436878106E-2,8.6074543260738323E-2,null,8.3570257538340211,8.1132364368781058,8.6074543260738317,null,null,null,null,null,null,null,null,null,null,null,null,null,null,null,null,null,null,null,null,null,null,null,null,null,null,null,null,null,null,null,null,null,null,null,null,null,null,null,null,null,null,null,null,null,null,null,null,null,null,null,null,null,null,null,null,null,null,null,null,null,2018,"Abertawe Bro Morgannwg","Llwchwr",{"$f":"SUM(CP62:CP66)","v":47587},{"$f":"SUM(CQ62:CQ66)","v":3784},862,1751,354,2772,527,1023,null,null,null,null,null,null,null,null,null,null,null,null,null,null,null,null,null,null,null,null,null,null,null,null,null,null,null,null,null,null,null,null,null,null,null,null,null,null,null,null,null,null,null,null,null,null,null,null,null,null,null,null,null,null,null,null,null,null,null,null,null,null,null,null,null,null,"Smoking","2013/14","Hywel Dda UHB","Amman/Gwendraeth","-",19.314855661043385]
["North Pembrokeshire",11026,65336,0.16875841802375413,0.83124158197624587,{"$f":"2*B68+$N$1^2","v":22055.8416},{"$f":"$N$1*(SQRT($N$1^2+(4*B68*E68)))","v":375.30248859475324},{"$f":"2*(C68+$N$1^2)","v":130679.6832},0.16590596625662196,0.17164981992085784,null,16.875841802375412,16.590596625662197,17.164981992085785,null,"North Pembrokeshire",5339,65336,8.1716052406024239E-2,0.9182839475939758,10681.8416,274.50297577154384,130679.6832,7.9640066224375847E-2,8.3841223880251517E-2,null,8.1716052406024247,7.9640066224375845,8.3841223880251512,null,null,null,null,null,null,null,null,null,null,null,null,null,null,null,null,null,null,null,null,null,null,null,null,null,null,null,null,null,null,null,null,null,null,null,null,null,null,null,null,null,null,null,null,null,null,null,null,null,null,null,null,null,null,null,null,null,null,null,null,null,null,null,null,null,null,null,null,null,null,null,null,null,null,null,null,null,null,null,null,null,null,null,null,null,null,null,null,null,null,null,null,null,null,null,null,null,null,null,null,null,null,null,null,null,null,null,null,null,null,null,null,null,null,null,null,null,null,null,null,null,null,null,null,null,null,null,null,null,null,null,null,null,null,null,null,null,null,"Smoking","2013/14","Hywel Dda UHB","Llanelli","-",20.71308109447196]
["South Pembrokeshire",9822,54299,0.18088730915854803,0.819112690841452,19647.8416,351.62826629420408,108605.6832,0.17767222455726697,0.18414754437357292,null,18.088730915854804,17.767222455726696,18.414754437357292,null,"South Pembrokeshire",5197,54299,9.5710786570655071E-2,0.90428921342934498,10397.8416,268.75742535101028,108605.6832,9.3264771015675443E-2,9.8214004194496982E-2,null,9.5710786570655078,9.3264771015675443,9.8214004194496987,null,null,null,null,null,null,null,null,null,null,null,null,null,null,null,null,null,null,null,null,null,null,null,null,null,null,null,null,null,null,null,null,null,null,null,null,null,null,null,null,null,null,null,null,null,null,null,null,null,null,null,null,null,null,null,null,null,null,null,null,2018,"Abertawe Bro Morgannwg","Neath","W00144",5548,477,124,197,24,361,35,108,null,null,null,null,null,null,null,null,null,null,null,null,null,null,null,null,null,null,null,null,null,null,null,null,null,null,null,null,null,null,null,null,null,null,null,null,null,null,null,null,null,null,null,null,null,null,null,null,null,null,null,null,null,null,null,null,null,null,null,null,null,null,null,null,null,null,"Smoking","2013/14","Powys THB","-","-",18.108636587743661]
["Hywel dda",{"$f":"SUM(B63:B69)","v":65242},{"$f":"SUM(C63:C69)","v":393877},{"$f":"B70/C70","v":0.16564054260594044},{"$f":"1-D70","v":0.83435945739405959},130487.8416,914.5977477390054,787761.68319999997,{"$f":"(F70-G70)/H70","v":0.1644827955149025},{"$f":"(F70+G70)/H70","v":0.16680481184863374},null,{"$f":"D70*100","v":16.564054260594045},{"$f":"I70*100","v":16.448279551490248},{"$f":"J70*100","v":16.680481184863375},null,"Hywel dda",{"$f":"SUM(Q63:Q69)","v":38100},{"$f":"SUM(R63:R69)","v":393877},{"$f":"Q70/R70","v":9.673070527093483E-2},{"$f":"1-S70","v":0.90326929472906514},{"$f":"2*Q70+$N$1^2","v":76203.8416},{"$f":"$N$1*(SQRT($N$1^2+(4*Q70*T70)))","v":727.21568647791923},{"$f":"2*(R70+$N$1^2)","v":787761.68319999997},{"$f":"(U70-V70)/W70","v":9.5811496704086049E-2},{"$f":"(U70+V70)/W70","v":9.7657780172771325E-2},null,{"$f":"S70*100","v":9.6730705270934827},{"$f":"X70*100","v":9.581149670408605},{"$f":"Y70*100","v":9.7657780172771318},null,null,null,null,null,null,null,null,null,null,null,null,null,null,null,null,null,null,null,null,null,null,null,null,null,null,null,null,null,null,null,null,null,null,null,null,null,null,null,null,null,null,null,null,null,null,null,null,null,null,null,null,null,null,null,null,null,null,null,null,2018,"Abertawe Bro Morgannwg","Neath","W98002",9661,828,216,422,75,668,94,255,null,null,null,null,null,null,null,null,null,null,null,null,null,null,null,null,null,null,null,null,null,null,null,null,null,null,null,null,null,null,null,null,null,null,null,null,null,null,null,null,null,null,null,null,null,null,null,null,null,null,null,null,null,null,null,null,null,null,null,null,null,null,null,null,null,null,"Smoking","2013/14","Powys tHB","North Powys","-",19.035198458905995]
["Mid Powys",5484,29492,{"$f":"B71/C71","v":0.18594873185948732},{"$f":"1-D71","v":0.81405126814051265},10971.8416,261.94335080165899,58991.683199999999,{"$f":"(F71-G71)/H71","v":0.18154929081932589},{"$f":"(F71+G71)/H71","v":0.19042997828550956},null,{"$f":"D71*100","v":18.594873185948732},{"$f":"I71*100","v":18.15492908193259},19.042997828550956,null,"Mid Powys",2680,29492,{"$f":"Q71/R71","v":9.0872100908721012E-2},{"$f":"1-S71","v":0.909127899091279},{"$f":"2*Q71+$AC$1^2","v":5363.8415999999997},{"$f":"$AC$1*(SQRT($AC$1^2+(4*Q71*T71)))","v":193.53144290475873},{"$f":"2*(R71+$AC$1^2)","v":58991.683199999999},{"$f":"(U71-V71)/W71","v":8.7644730182834335E-2},{"$f":"(U71+V71)/W71","v":9.4206042978355942E-2},null,{"$f":"S71*100","v":9.0872100908721016},{"$f":"X71*100","v":8.7644730182834341},9.4206042978355935,null,null,null,null,null,null,null,null,null,null,null,null,null,null,null,null,null,null,null,null,null,null,null,null,null,null,null,null,null,null,null,null,null,null,null,null,null,null,null,null,null,null,null,null,null,null,null,null,null,null,null,null,null,null,null,null,null,null,null,null,2018,"Abertawe Bro Morgannwg","Neath","W98006",10135,887,264,396,75,670,123,288,null,null,null,null,null,null,null,null,null,null,null,null,null,null,null,null,null,null,null,null,null,null,null,null,null,null,null,null,null,null,null,null,null,null,null,null,null,null,null,null,null,null,null,null,null,null,null,null,null,null,null,null,null,null,null,null,null,null,null,null,null,null,null,null,null,null,"Smoking","2013/14","Powys tHB","Mid Powys","-",18.148546954316462]
["North Powys",10176,64306,0.15824339874972787,0.84175660125027219,20355.8416,362.82084221454727,128619.6832,0.1554429326862582,0.16108469502290415,null,15.824339874972788,15.54429326862582,16.108469502290415,null,"North Powys",6542,64306,0.10173234223867135,0.89826765776132866,{"$f":"2*Q72+$AC$1^2","v":13087.8416},{"$f":"$AC$1*(SQRT($AC$1^2+(4*Q72*T72)))","v":300.52437615231031},{"$f":"2*(R72+$AC$1^2)","v":128619.6832},9.9419598196053477E-2,0.10409266795762338,null,10.173234223867135,9.9419598196053478,10.409266795762338,null,null,null,null,null,null,null,null,null,null,null,null,null,null,null,null,null,null,null,null,null,null,null,null,null,null,null,null,null,null,null,null,null,null,null,null,null,null,null,null,null,null,null,null,null,null,null,null,null,null,null,null,null,null,null,null,null,null,null,null,2018,"Abertawe Bro Morgannwg","Neath","W98010",8691,661,200,322,64,528,69,183,null,null,null,null,null,null,null,null,null,null,null,null,null,null,null,null,null,null,null,null,null,null,null,null,null,null,null,null,null,null,null,null,null,null,null,null,null,null,null,null,null,null,null,null,null,null,null,null,null,null,null,null,null,null,null,null,null,null,null,null,null,null,null,null,null,null,"Smoking","2013/14","Powys tHB","South Powys","-",16.772588848993777]
["South Powys",8526,45636,0.18682618985011834,0.81317381014988166,17055.8416,326.42281109619802,91279.683199999999,0.18327647733229424,0.19042862334447935,null,18.682618985011835,18.327647733229423,19.042862334447936,null,"South Powys",4508,45636,9.8781663598913133E-2,0.90121833640108684,{"$f":"2*Q73+$AC$1^2","v":9019.8415999999997},{"$f":"$AC$1*(SQRT($AC$1^2+(4*Q73*T73)))","v":249.88739912658113},{"$f":"2*(R73+$AC$1^2)","v":91279.683199999999},9.6077833461120282E-2,0.10155303649352039,null,9.8781663598913134,9.6077833461120274,10.155303649352039,null,null,null,null,null,null,null,null,null,null,null,null,null,null,null,null,null,null,null,null,null,null,null,null,null,null,null,null,null,null,null,null,null,null,null,null,null,null,null,null,null,null,null,null,null,null,null,null,null,null,null,null,null,null,null,null,null,null,null,null,2018,"Abertawe Bro Morgannwg","Neath","W98036",8604,592,154,337,54,551,51,191,null,null,null,null,null,null,null,null,null,null,null,null,null,null,null,null,null,null,null,null,null,null,null,null,null,null,null,null,null,null,null,null,null,null,null,null,null,null,null,null,null,null,null,null,null,null,null,null,null,null,null,null,null,null,null,null,null,null,null,null,null,null,null,null,null,null,"Smoking","2013/14","Wales","-","-",20.45283989226062]
["Powys",{"$f":"SUM(B71:B73)","v":24186},{"$f":"SUM(C71:C73)","v":139434},{"$f":"B74/C74","v":0.17345841043074142},{"$f":"1-D74","v":0.82654158956925861},48375.8416,554.25660702636048,278875.68320000003,{"$f":"(F74-G74)/H74","v":0.171479938459452},{"$f":"(F74+G74)/H74","v":0.17545487525326969},null,{"$f":"D74*100","v":17.345841043074142},{"$f":"I74*100","v":17.147993845945201},{"$f":"J74*100","v":17.545487525326969},null,"Powys",{"$f":"SUM(Q71:Q73)","v":13730},{"$f":"SUM(R71:R73)","v":139434},{"$f":"Q74/R74","v":9.8469526801210613E-2},{"$f":"1-S74","v":0.90153047319878943},{"$f":"2*Q74+$N$1^2","v":27463.8416},{"$f":"$N$1*(SQRT($N$1^2+(4*Q74*T74)))","v":436.14248010772644},{"$f":"2*(R74+$N$1^2)","v":278875.68320000003},{"$f":"(U74-V74)/W74","v":9.6916657665376077E-2},{"$f":"(U74+V74)/W74","v":0.10004452076984718},null,{"$f":"S74*100","v":9.8469526801210616},{"$f":"X74*100","v":9.6916657665376071},{"$f":"Y74*100","v":10.004452076984718},null,null,null,null,null,null,null,null,null,null,null,null,null,null,null,null,null,null,null,null,null,null,null,null,null,null,null,null,null,null,null,null,null,null,null,null,null,null,null,null,null,null,null,null,null,null,null,null,null,null,null,null,null,null,null,null,null,null,null,null,2018,"Abertawe Bro Morgannwg","Neath","W98040",6209,515,166,270,65,488,93,152,null,null,null,null,null,null,null,null,null,null,null,null,null,null,null,null,null,null,null,null,null,null,null,null,null,null,null,null,null,null,null,null,null,null,null,null,null,null,null,null,null,null,null,null,null,null,null,null,null,null,null,null,null,null,null,null,null,null,null,null,null,null,null,null,null,null,"Fruit and vegetable consumption",2014,"Abertawe Bro Morgannwg UHB","-","-",32.508257985239489]
["Wales",506031,3231317,0.15660209134541736,0.84339790865458264,1012065.8416,2560.8926699659005,6462641.6831999999,0.15620623862751032,0.15699876056992995,null,15.660209134541736,15.620623862751032,15.699876056992995,null,"Wales",312352,3231317,{"$f":"Q75/R75","v":9.6663991802723156E-2},{"$f":"1-S75","v":0.90333600819727689},{"$f":"2*Q75+$AC$1^2","v":624707.84160000004},{"$f":"$AC$1*(SQRT($AC$1^2+(4*Q75*T75)))","v":2082.2535575508814},{"$f":"2*(R75+$AC$1^2)","v":6462641.6831999999},{"$f":"(U75-V75)/W75","v":9.6342272798598666E-2},{"$f":"(U75+V75)/W75","v":9.6986669829912886E-2},null,{"$f":"S75*100","v":9.6663991802723164},{"$f":"X75*100","v":9.634227279859866},{"$f":"Y75*100","v":9.6986669829912877},null,null,null,null,null,null,null,null,null,null,null,null,null,null,null,null,null,null,null,null,null,null,null,null,null,null,null,null,null,null,null,null,null,null,null,null,null,null,null,null,null,null,null,null,null,null,null,null,null,null,null,null,null,null,null,null,null,null,null,null,2018,"Abertawe Bro Morgannwg","Neath","W98048",5079,362,83,127,10,283,20,75,null,null,null,null,null,null,null,null,null,null,null,null,null,null,null,null,null,null,null,null,null,null,null,null,null,null,null,null,null,null,null,null,null,null,null,null,null,null,null,null,null,null,null,null,null,null,null,null,null,null,null,null,null,null,null,null,null,null,null,null,null,null,null,null,null,null,"Fruit and vegetable consumption",2014,"Abertawe Bro Morgannwg UHB","Bay Health","-",34.305867973329669]
[null,null,null,null,null,null,null,null,null,null,null,null,null,null,null,null,null,null,null,null,null,null,null,null,null,null,null,null,null,null,null,null,null,null,null,null,null,null,null,null,null,null,null,null,null,null,null,null,null,null,null,null,null,null,null,null,null,null,null,null,null,null,null,null,null,null,null,null,null,null,null,null,null,null,null,null,null,null,null,null,null,null,null,null,null,null,null,null,null,2018,"Abertawe Bro Morgannwg","Neath","W98785",2549,229,60,66,4,153,15,40,null,null,null,null,null,null,null,null,null,null,null,null,null,null,null,null,null,null,null,null,null,null,null,null,null,null,null,null,null,null,null,null,null,null,null,null,null,null,null,null,null,null,null,null,null,null,null,null,null,null,null,null,null,null,null,null,null,null,null,null,null,null,null,null,null,null,"Fruit and vegetable consumption",2014,"Abertawe Bro Morgannwg UHB","City Health","-",30.875102465161198]
[null,null,null,null,null,null,null,null,null,null,null,null,null,null,null,null,null,null,null,null,null,null,null,null,null,null,null,null,null,null,null,null,null,null,null,null,null,null,null,null,null,null,null,null,null,null,null,null,null,null,null,null,null,null,null,null,null,null,null,null,null,null,null,null,null,null,null,null,null,null,null,null,null,null,null,null,null,null,null,null,null,null,null,null,null,null,null,null,null,null,2018,"Abertawe Bro Morgannwg","Neath",{"$f":"SUM(CP69:CP76)","v":56476},{"$f":"SUM(CQ69:CQ76)","v":4551},1267,2137,371,3702,500,1292,null,null,null,null,null,null,null,null,null,null,null,null,null,null,null,null,null,null,null,null,null,null,null,null,null,null,null,null,null,null,null,null,null,null,null,null,null,null,null,null,null,null,null,null,null,null,null,null,null,null,null,null,null,null,null,null,null,null,null,null,null,null,null,null,null,null,"Fruit and vegetable consumption",2014,"Abertawe Bro Morgannwg UHB","Cwmtawe","-",32.520762891791911]
[null,null,null,null,null,null,null,null,null,null,null,null,null,null,null,null,null,null,null,null,null,null,null,null,null,null,null,null,null,null,null,null,null,null,null,null,null,null,null,null,null,null,null,null,null,null,null,null,null,null,null,null,null,null,null,null,null,null,null,null,null,null,null,null,null,null,null,null,null,null,null,null,null,null,null,null,null,null,null,null,null,null,null,null,null,null,null,null,null,null,null,null,null,null,null,null,null,null,null,null,null,null,null,null,null,null,null,null,null,null,null,null,null,null,null,null,null,null,null,null,null,null,null,null,null,null,null,null,null,null,null,null,null,null,null,null,null,null,null,null,null,null,null,null,null,null,null,null,null,null,null,null,null,null,null,null,null,null,null,null,null,null,null,null,null,null,null,"Fruit and vegetable consumption",2014,"Abertawe Bro Morgannwg UHB","Llwchwr","-",34.022395662662078]
["Health boards",null,null,null,null,null,null,null,null,null,null,null,null,null,null,null,null,null,null,null,null,null,null,null,null,null,null,null,null,null,null,null,null,null,null,null,null,null,null,null,null,null,null,null,null,null,null,null,null,null,null,null,null,null,null,null,null,null,null,null,null,null,null,null,null,null,null,null,null,null,null,null,null,null,null,null,null,null,null,null,null,null,null,null,null,null,null,null,null,2018,"Abertawe Bro Morgannwg","Penderi","W98003",8375,712,203,309,34,540,60,183,null,null,null,null,null,null,null,null,null,null,null,null,null,null,null,null,null,null,null,null,null,null,null,null,null,null,null,null,null,null,null,null,null,null,null,null,null,null,null,null,null,null,null,null,null,null,null,null,null,null,null,null,null,null,null,null,null,null,null,null,null,null,null,null,null,null,"Fruit and vegetable consumption",2014,"Abertawe Bro Morgannwg UHB","Penderi","-",31.142685726973891]
["Indicator","Period","Wales","ABM","AB","BC","CV","CT","HD","Powys",null,null,null,null,null,null,null,null,null,null,null,null,null,null,null,null,null,null,null,null,null,null,null,null,null,null,null,null,null,null,null,null,null,null,null,null,null,null,null,null,null,null,null,null,null,null,null,null,null,null,null,null,null,null,null,null,null,null,null,null,null,null,null,null,null,null,null,null,null,null,null,null,null,null,null,null,null,null,null,2018,"Abertawe Bro Morgannwg","Penderi","W98004",8205,525,164,244,73,480,91,175,null,null,null,null,null,null,null,null,null,null,null,null,null,null,null,null,null,null,null,null,null,null,null,null,null,null,null,null,null,null,null,null,null,null,null,null,null,null,null,null,null,null,null,null,null,null,null,null,null,null,null,null,null,null,null,null,null,null,null,null,null,null,null,null,null,null,"Fruit and vegetable consumption",2014,"Abertawe Bro Morgannwg UHB","Upper Valleys","-",32.626480300922587]
["Hypertension","2017-18",{"$f":"$L$75","v":15.660209134541736},{"$f":"$L$15","v":15.275658750665908},{"$f":"$L$28","v":16.106384884033311},{"$f":"$L$43","v":16.593996038710678},{"$f":"$L$53","v":12.410852998849842},{"$f":"$L$62","v":16.833063515278653},{"$f":"$L$70","v":16.564054260594045},{"$f":"$L$74","v":17.345841043074142},null,null,null,null,null,null,null,null,null,null,null,null,null,null,null,null,null,null,null,null,null,null,null,null,null,null,null,null,null,null,null,null,null,null,null,null,null,null,null,null,null,null,null,null,null,null,null,null,null,null,null,null,null,null,null,null,null,null,null,null,null,null,null,null,null,null,null,null,null,null,null,null,null,null,null,null,null,null,null,2018,"Abertawe Bro Morgannwg","Penderi","W98007",6491,482,150,279,30,455,70,144,null,null,null,null,null,null,null,null,null,null,null,null,null,null,null,null,null,null,null,null,null,null,null,null,null,null,null,null,null,null,null,null,null,null,null,null,null,null,null,null,null,null,null,null,null,null,null,null,null,null,null,null,null,null,null,null,null,null,null,null,null,null,null,null,null,null,"Fruit and vegetable consumption",2014,"Abertawe Bro Morgannwg UHB","Afan","-",30.385881756704386]
["Adult obesity","2017-18",{"$f":"$AA$75","v":9.6663991802723164},{"$f":"$AA$15","v":9.9679639340578898},{"$f":"$AA$28","v":11.079723536068123},{"$f":"$AA$43","v":8.4004708436418483},{"$f":"$AA$53","v":7.7791850359109436},{"$f":"$AA$62","v":12.300771668778522},{"$f":"$AA$70","v":9.6730705270934827},{"$f":"$AA$74","v":9.8469526801210616},null,null,null,null,null,null,null,null,null,null,null,null,null,null,null,null,null,null,null,null,null,null,null,null,null,null,null,null,null,null,null,null,null,null,null,null,null,null,null,null,null,null,null,null,null,null,null,null,null,null,null,null,null,null,null,null,null,null,null,null,null,null,null,null,null,null,null,null,null,null,null,null,null,null,null,null,null,null,null,2018,"Abertawe Bro Morgannwg","Penderi","W98028",7749,512,167,274,36,499,80,139,null,null,null,null,null,null,null,null,null,null,null,null,null,null,null,null,null,null,null,null,null,null,null,null,null,null,null,null,null,null,null,null,null,null,null,null,null,null,null,null,null,null,null,null,null,null,null,null,null,null,null,null,null,null,null,null,null,null,null,null,null,null,null,null,null,null,"Fruit and vegetable consumption",2014,"Abertawe Bro Morgannwg UHB","Neath","-",32.467866947418507]
["Child obesity","2016-17",{"$f":"$AG$3","v":12.3517727081201},{"$f":"$AH$16","v":12.2},{"$f":"$AG$26","v":11.837620080570201},{"$f":"$AG$4","v":12.7037135987176},{"$f":"$AG$20","v":9.9564641302290404},{"$f":"$AG$23","v":14.3579072532699},{"$f":"$AG$12","v":13.2715231788079},{"$f":"$AG$11","v":11.342155009451799},null,null,null,null,null,null,null,null,null,null,null,null,null,null,null,null,null,null,null,null,null,null,null,null,null,null,null,null,null,null,null,null,null,null,null,null,null,null,null,null,null,null,null,null,null,null,null,null,null,null,null,null,null,null,null,null,null,null,null,null,null,null,null,null,null,null,null,null,null,null,null,null,null,null,null,null,null,null,null,2018,"Abertawe Bro Morgannwg","Penderi","W98043",5280,337,160,204,26,342,52,142,null,null,null,null,null,null,null,null,null,null,null,null,null,null,null,null,null,null,null,null,null,null,null,null,null,null,null,null,null,null,null,null,null,null,null,null,null,null,null,null,null,null,null,null,null,null,null,null,null,null,null,null,null,null,null,null,null,null,null,null,null,null,null,null,null,null,"Fruit and vegetable consumption",2014,"Abertawe Bro Morgannwg UHB","Bridgend East Network","-",33.923833599418536]
[null,null,null,null,null,null,null,null,null,null,null,null,null,null,null,null,null,null,null,null,null,null,null,null,null,null,null,null,null,null,null,null,null,null,null,null,null,null,null,null,null,null,null,null,null,null,null,null,null,null,null,null,null,null,null,null,null,null,null,null,null,null,null,null,null,null,null,null,null,null,null,null,null,null,null,null,null,null,null,null,null,null,null,null,null,null,null,null,null,2018,"Abertawe Bro Morgannwg","Penderi","W98612",2114,102,112,45,3,133,14,29,null,null,null,null,null,null,null,null,null,null,null,null,null,null,null,null,null,null,null,null,null,null,null,null,null,null,null,null,null,null,null,null,null,null,null,null,null,null,null,null,null,null,null,null,null,null,null,null,null,null,null,null,null,null,null,null,null,null,null,null,null,null,null,null,null,null,"Fruit and vegetable consumption",2014,"Abertawe Bro Morgannwg UHB","Bridgend North Network","-",30.947893351568752]
[null,null,null,null,null,null,null,null,null,null,null,null,null,null,null,null,null,null,null,null,null,null,null,null,null,null,null,null,null,null,null,null,null,null,null,null,null,null,null,null,null,null,null,null,null,null,null,null,null,null,null,null,null,null,null,null,null,null,null,null,null,null,null,null,null,null,null,null,null,null,null,null,null,null,null,null,null,null,null,null,null,null,null,null,null,null,null,null,null,null,2018,"Abertawe Bro Morgannwg","Penderi",{"$f":"SUM(CP79:CP84)","v":38214},{"$f":"SUM(CQ79:CQ84)","v":2670},956,1355,202,2449,367,812,null,null,null,null,null,null,null,null,null,null,null,null,null,null,null,null,null,null,null,null,null,null,null,null,null,null,null,null,null,null,null,null,null,null,null,null,null,null,null,null,null,null,null,null,null,null,null,null,null,null,null,null,null,null,null,null,null,null,null,null,null,null,null,null,null,null,"Fruit and vegetable consumption",2014,"Abertawe Bro Morgannwg UHB","Bridgend West Network","-",32.803264576864805]
["Local authorities",null,null,null,null,null,null,null,null,null,null,null,null,null,null,null,null,null,null,null,null,null,null,null,null,null,null,null,null,null,null,null,null,null,null,null,null,null,null,null,null,null,null,null,null,null,null,null,null,null,null,null,null,null,null,null,null,null,null,null,null,null,null,null,null,null,null,null,null,null,null,null,null,null,null,null,null,null,null,null,null,null,null,null,null,null,null,null,null,null,null,null,null,null,null,null,null,null,null,null,null,null,null,null,null,null,null,null,null,null,null,null,null,null,null,null,null,null,null,null,null,null,null,null,null,null,null,null,null,null,null,null,null,null,null,null,null,null,null,null,null,null,null,null,null,null,null,null,null,null,null,null,null,null,null,null,null,null,null,null,null,null,null,null,null,null,null,"Fruit and vegetable consumption",2014,"Aneurin Bevan UHB","-","-",32.176633739327379]
[null,null,null,null,null,null,null,null,null,null,null,null,null,null,null,null,null,null,null,null,null,null,null,null,null,null,null,null,null,null,null,null,null,null,null,null,null,null,null,null,null,null,null,null,null,null,null,null,null,null,null,null,null,null,null,null,null,null,null,null,null,null,null,null,null,null,null,null,null,null,null,null,null,null,null,null,null,null,null,null,null,null,null,null,null,null,null,null,null,2018,"Abertawe Bro Morgannwg","Upper Valleys","W00143",3289,235,98,131,13,207,39,83,null,null,null,null,null,null,null,null,null,null,null,null,null,null,null,null,null,null,null,null,null,null,null,null,null,null,null,null,null,null,null,null,null,null,null,null,null,null,null,null,null,null,null,null,null,null,null,null,null,null,null,null,null,null,null,null,null,null,null,null,null,null,null,null,null,null,"Fruit and vegetable consumption",2014,"Aneurin Bevan UHB","Caerphilly North","-",30.668489457257188]
["Indicator","Period","Wales","Bridgend","Neath Port Talbot","Swansea","Blaenau Gwent","Caerphilly","Monmouthshire","Newport","Torfaen","Anglesey","Conwy","Denbighshire","Flintshire","Gwynedd","Wrexham","Cardiff","Vale of Glamorgan","Merthyr Tydfil","Rhondda Cynon Taf","Carmarthenshire","Ceredigion","Pembrokeshire","Powys",null,null,null,null,null,null,null,null,null,null,null,null,null,null,null,null,null,null,null,null,null,null,null,null,null,null,null,null,null,null,null,null,null,null,null,null,null,null,null,null,null,null,null,null,null,null,null,null,null,null,null,null,null,null,null,null,null,null,null,null,null,null,null,null,2018,"Abertawe Bro Morgannwg","Upper Valleys","W98001",12689,790,293,497,131,748,114,257,null,null,null,null,null,null,null,null,null,null,null,null,null,null,null,null,null,null,null,null,null,null,null,null,null,null,null,null,null,null,null,null,null,null,null,null,null,null,null,null,null,null,null,null,null,null,null,null,null,null,null,null,null,null,null,null,null,null,null,null,null,null,null,null,null,null,"Fruit and vegetable consumption",2014,"Aneurin Bevan UHB","Caerphilly East","-",32.879812780470282]
["Hypertension",null,null,null,null,null,null,null,null,null,null,null,null,null,null,null,null,null,null,null,null,null,null,null,null,null,null,null,null,null,null,null,null,null,null,null,null,null,null,null,null,null,null,null,null,null,null,null,null,null,null,null,null,null,null,null,null,null,null,null,null,null,null,null,null,null,null,null,null,null,null,null,null,null,null,null,null,null,null,null,null,null,null,null,null,null,null,null,null,2018,"Abertawe Bro Morgannwg","Upper Valleys","W98030",6067,422,159,273,56,500,94,147,null,null,null,null,null,null,null,null,null,null,null,null,null,null,null,null,null,null,null,null,null,null,null,null,null,null,null,null,null,null,null,null,null,null,null,null,null,null,null,null,null,null,null,null,null,null,null,null,null,null,null,null,null,null,null,null,null,null,null,null,null,null,null,null,null,null,"Fruit and vegetable consumption",2014,"Aneurin Bevan UHB","Caerphilly South","-",32.218830347779047]
["Child obesity","2016-17",12.3517727081201,{"$f":"$AG$19","v":13.5429262394196},{"$f":"$AG$18","v":11.819389110225799},{"$f":"$AG$17","v":13.492063492063499},{"$f":"$AG$28","v":15.1388888888889},{"$f":"$AG$27","v":13.554987212276201},{"$f":"$AG$30","v":7.9768786127167601},{"$f":"$AG$31","v":10.8180839612487},{"$f":"$AG$29","v":11.363636363636401},{"$f":"$AG$5","v":14.1558441558442},{"$f":"$AG$7","v":14.4375553587245},{"$f":"$AG$8","v":12.130479102956199},{"$f":"$AG$9","v":10.9208972845336},{"$f":"$AG$6","v":12.9992169146437},{"$f":"$AG$10","v":12.782874617737001},{"$f":"$AG$22","v":10.6629694983615},{"$f":"$AG$21","v":7.8267477203647404},{"$f":"$AG$25","v":17.495987158908498},{"$f":"$AG$24","v":13.6446552353156},{"$f":"$AG$15","v":14.0157480314961},{"$f":"$AG$13","v":10.8562691131498},{"$f":"$AG$14","v":13.404605263157899},{"$f":"$AG$11","v":11.342155009451799},null,null,null,null,null,null,null,null,null,null,null,null,null,null,null,null,null,null,null,null,null,null,null,null,null,null,null,null,null,null,null,null,null,null,null,null,null,null,null,null,null,null,null,null,null,null,null,null,null,null,null,null,null,null,null,null,null,null,null,null,null,null,null,null,2018,"Abertawe Bro Morgannwg","Upper Valleys","W98046",9549,872,287,403,75,703,131,247,null,null,null,null,null,null,null,null,null,null,null,null,null,null,null,null,null,null,null,null,null,null,null,null,null,null,null,null,null,null,null,null,null,null,null,null,null,null,null,null,null,null,null,null,null,null,null,null,null,null,null,null,null,null,null,null,null,null,null,null,null,null,null,null,null,null,"Fruit and vegetable consumption",2014,"Aneurin Bevan UHB","Blaenau Gwent East","-",29.743578162384242]
["Adult obesity",null,null,null,null,null,null,null,null,null,null,null,null,null,null,null,null,null,null,null,null,null,null,null,null,null,null,null,null,null,null,null,null,null,null,null,null,null,null,null,null,null,null,null,null,null,null,null,null,null,null,null,null,null,null,null,null,null,null,null,null,null,null,null,null,null,null,null,null,null,null,null,null,null,null,null,null,null,null,null,null,null,null,null,null,null,null,null,null,null,2018,"Abertawe Bro Morgannwg","Upper Valleys",{"$f":"SUM(CP87:CP90)","v":31594},{"$f":"SUM(CQ87:CQ90)","v":2319},837,1304,275,2158,378,734,null,null,null,null,null,null,null,null,null,null,null,null,null,null,null,null,null,null,null,null,null,null,null,null,null,null,null,null,null,null,null,null,null,null,null,null,null,null,null,null,null,null,null,null,null,null,null,null,null,null,null,null,null,null,null,null,null,null,null,null,null,null,null,null,null,null,"Fruit and vegetable consumption",2014,"Aneurin Bevan UHB","Blaenau Gwent West","-",30.588733632961606]
[null,null,null,null,null,null,null,null,null,null,null,null,null,null,null,null,null,null,null,null,null,null,null,null,null,null,null,null,null,null,null,null,null,null,null,null,null,null,null,null,null,null,null,null,null,null,null,null,null,null,null,null,null,null,null,null,null,null,null,null,null,null,null,null,null,null,null,null,null,null,null,null,null,null,null,null,null,null,null,null,null,null,null,null,null,null,null,null,null,null,null,null,null,null,null,null,null,null,null,null,null,null,null,null,null,null,null,null,null,null,null,null,null,null,null,null,null,null,null,null,null,null,null,null,null,null,null,null,null,null,null,null,null,null,null,null,null,null,null,null,null,null,null,null,null,null,null,null,null,null,null,null,null,null,null,null,null,null,null,null,null,null,null,null,null,null,null,"Fruit and vegetable consumption",2014,"Aneurin Bevan UHB","Torfaen North","-",31.999356663130946]
[null,null,null,null,null,null,null,null,null,null,null,null,null,null,null,null,null,null,null,null,null,null,null,null,null,null,null,null,null,null,null,null,null,null,null,null,null,null,null,null,null,null,null,null,null,null,null,null,null,null,null,null,null,null,null,null,null,null,null,null,null,null,null,null,null,null,null,null,null,null,null,null,null,null,null,null,null,null,null,null,null,null,null,null,null,null,null,null,null,2018,"Aneurin Bevan","Blaenau Gwent East","W93007",4946,367,141,184,33,320,51,100,null,null,null,null,null,null,null,null,null,null,null,null,null,null,null,null,null,null,null,null,null,null,null,null,null,null,null,null,null,null,null,null,null,null,null,null,null,null,null,null,null,null,null,null,null,null,null,null,null,null,null,null,null,null,null,null,null,null,null,null,null,null,null,null,null,null,"Fruit and vegetable consumption",2014,"Aneurin Bevan UHB","Torfaen South","-",32.380874752967827]
["Regional Partnership Boards",null,null,null,null,null,null,null,null,null,null,null,null,null,null,null,null,null,null,null,null,null,null,null,null,null,null,null,null,null,null,null,null,null,null,null,null,null,null,null,null,null,null,null,null,null,null,null,null,null,null,null,null,null,null,null,null,null,null,null,null,null,null,null,null,null,null,null,null,null,null,null,null,null,null,null,null,null,null,null,null,null,null,null,null,null,null,null,null,2018,"Aneurin Bevan","Blaenau Gwent East","W93009",5265,312,192,228,5,395,52,89,null,null,null,null,null,null,null,null,null,null,null,null,null,null,null,null,null,null,null,null,null,null,null,null,null,null,null,null,null,null,null,null,null,null,null,null,null,null,null,null,null,null,null,null,null,null,null,null,null,null,null,null,null,null,null,null,null,null,null,null,null,null,null,null,null,null,"Fruit and vegetable consumption",2014,"Aneurin Bevan UHB","Monmouthshire North","-",34.921549991325861]
[null,null,null,null,null,null,null,null,null,null,null,null,null,null,null,null,null,null,null,null,null,null,null,null,null,null,null,null,null,null,null,null,null,null,null,null,null,null,null,null,null,null,null,null,null,null,null,null,null,null,null,null,null,null,null,null,null,null,null,null,null,null,null,null,null,null,null,null,null,null,null,null,null,null,null,null,null,null,null,null,null,null,null,null,null,null,null,null,null,2018,"Aneurin Bevan","Blaenau Gwent East","W93068",10333,705,312,462,102,840,102,258,null,null,null,null,null,null,null,null,null,null,null,null,null,null,null,null,null,null,null,null,null,null,null,null,null,null,null,null,null,null,null,null,null,null,null,null,null,null,null,null,null,null,null,null,null,null,null,null,null,null,null,null,null,null,null,null,null,null,null,null,null,null,null,null,null,null,"Fruit and vegetable consumption",2014,"Aneurin Bevan UHB","Monmouthshire South","-",35.021985240073342]
["Indicator","Period","ABM","Bridgend","Neath","Swansea","AB","Blaenau","Caerphilly","Monmouthshire","Newport","Torfaen","BC","Anglesey","Conwy","Denbighshire","Flintshire","Gwynedd","Wrexham","CV","Cardiff","Vale","CT","Merthyr","Rhondda","HD","Carmarthenshire","Ceredigion","Pembrokeshire","Powys HB","Powys LA",null,null,null,null,null,null,null,null,null,null,null,null,null,null,null,null,null,null,null,null,null,null,null,null,null,null,null,null,null,null,null,null,null,null,null,null,null,null,null,null,null,null,null,null,null,null,null,null,null,null,null,null,null,null,null,null,null,null,2018,"Aneurin Bevan","Blaenau Gwent East","W93075",7773,532,298,337,34,576,91,149,null,null,null,null,null,null,null,null,null,null,null,null,null,null,null,null,null,null,null,null,null,null,null,null,null,null,null,null,null,null,null,null,null,null,null,null,null,null,null,null,null,null,null,null,null,null,null,null,null,null,null,null,null,null,null,null,null,null,null,null,null,null,null,null,null,null,"Fruit and vegetable consumption",2014,"Aneurin Bevan UHB","Newport Central","-",33.00440829761942]
["Child obesity","2016-17",{"$f":"$AH$16","v":12.2},{"$f":"$AG$19","v":13.5429262394196},{"$f":"$AG$18","v":11.819389110225799},{"$f":"$AG$17","v":13.492063492063499},{"$f":"$AG$26","v":11.837620080570201},{"$f":"$AG$28","v":15.1388888888889},{"$f":"$AG$27","v":13.554987212276201},{"$f":"$AG$30","v":7.9768786127167601},{"$f":"$AG$31","v":10.8180839612487},{"$f":"$AG$29","v":11.363636363636401},{"$f":"$AG$4","v":12.7037135987176},{"$f":"$AG$5","v":14.1558441558442},{"$f":"$AG$7","v":14.4375553587245},{"$f":"$AG$8","v":12.130479102956199},{"$f":"$AG$9","v":10.9208972845336},{"$f":"$AG$6","v":12.9992169146437},{"$f":"$AG$10","v":12.782874617737001},{"$f":"$AG$20","v":9.9564641302290404},{"$f":"$AG$22","v":10.6629694983615},{"$f":"$AG$21","v":7.8267477203647404},{"$f":"$AG$23","v":14.3579072532699},{"$f":"$AG$25","v":17.495987158908498},{"$f":"$AG$24","v":13.6446552353156},{"$f":"$AG$12","v":13.2715231788079},{"$f":"$AG$15","v":14.0157480314961},{"$f":"$AG$13","v":10.8562691131498},{"$f":"$AG$14","v":13.404605263157899},{"$f":"$AG$11","v":11.342155009451799},{"$f":"$AG$11","v":11.342155009451799},null,null,null,null,null,null,null,null,null,null,null,null,null,null,null,null,null,null,null,null,null,null,null,null,null,null,null,null,null,null,null,null,null,null,null,null,null,null,null,null,null,null,null,null,null,null,null,null,null,null,null,null,null,null,null,null,null,null,2018,"Aneurin Bevan","Blaenau Gwent East","W93115",6327,489,233,316,45,525,176,154,null,null,null,null,null,null,null,null,null,null,null,null,null,null,null,null,null,null,null,null,null,null,null,null,null,null,null,null,null,null,null,null,null,null,null,null,null,null,null,null,null,null,null,null,null,null,null,null,null,null,null,null,null,null,null,null,null,null,null,null,null,null,null,null,null,null,"Fruit and vegetable consumption",2014,"Aneurin Bevan UHB","Newport East","-",31.242600221142425]
[null,null,null,null,null,null,null,null,null,null,null,null,null,null,null,null,null,null,null,null,null,null,null,null,null,null,null,null,null,null,null,null,null,null,null,null,null,null,null,null,null,null,null,null,null,null,null,null,null,null,null,null,null,null,null,null,null,null,null,null,null,null,null,null,null,null,null,null,null,null,null,null,null,null,null,null,null,null,null,null,null,null,null,null,null,null,null,null,null,null,2018,"Aneurin Bevan","Blaenau Gwent East",{"$f":"SUM(CP93:CP97)","v":34644},{"$f":"SUM(CQ93:CQ97)","v":2405},1176,1527,219,2656,472,750,null,null,null,null,null,null,null,null,null,null,null,null,null,null,null,null,null,null,null,null,null,null,null,null,null,null,null,null,null,null,null,null,null,null,null,null,null,null,null,null,null,null,null,null,null,null,null,null,null,null,null,null,null,null,null,null,null,null,null,null,null,null,null,null,null,null,"Fruit and vegetable consumption",2014,"Aneurin Bevan UHB","Newport West","-",31.437376702717128]
[null,null,null,null,null,null,null,null,null,null,null,null,null,null,null,null,null,null,null,null,null,null,null,null,null,null,null,null,null,null,null,null,null,null,null,null,null,null,null,null,null,null,null,null,null,null,null,null,null,null,null,null,null,null,null,null,null,null,null,null,null,null,null,null,null,null,null,null,null,null,null,null,null,null,null,null,null,null,null,null,null,null,null,null,null,null,null,null,null,null,null,null,null,null,null,null,null,null,null,null,null,null,null,null,null,null,null,null,null,null,null,null,null,null,null,null,null,null,null,null,null,null,null,null,null,null,null,null,null,null,null,null,null,null,null,null,null,null,null,null,null,null,null,null,null,null,null,null,null,null,null,null,null,null,null,null,null,null,null,null,null,null,null,null,null,null,null,"Fruit and vegetable consumption",2014,"Betsi Cadwaladr UHB","-","-",33.553247733877647]
[null,null,null,null,null,null,null,null,null,null,null,null,null,null,null,null,null,null,null,null,null,null,null,null,null,null,null,null,null,null,null,null,null,null,null,null,null,null,null,null,null,null,null,null,null,null,null,null,null,null,null,null,null,null,null,null,null,null,null,null,null,null,null,null,null,null,null,null,null,null,null,null,null,null,null,null,null,null,null,null,null,null,null,null,null,null,null,null,null,2018,"Aneurin Bevan","Blaenau Gwent West","W93032",8596,655,201,337,57,545,78,179,null,null,null,null,null,null,null,null,null,null,null,null,null,null,null,null,null,null,null,null,null,null,null,null,null,null,null,null,null,null,null,null,null,null,null,null,null,null,null,null,null,null,null,null,null,null,null,null,null,null,null,null,null,null,null,null,null,null,null,null,null,null,null,null,null,null,"Fruit and vegetable consumption",2014,"Betsi Cadwaladr UHB","Anglesey","-",33.245998451950413]
[null,null,null,null,null,null,null,null,null,null,null,null,null,null,null,null,null,null,null,null,null,null,null,null,null,null,null,null,null,null,null,null,null,null,null,null,null,null,null,null,null,null,null,null,null,null,null,null,null,null,null,null,null,null,null,null,null,null,null,null,null,null,null,null,null,null,null,null,null,null,null,null,null,null,null,null,null,null,null,null,null,null,null,null,null,null,null,null,null,2018,"Aneurin Bevan","Blaenau Gwent West","W93035",7085,600,242,269,49,487,61,115,null,null,null,null,null,null,null,null,null,null,null,null,null,null,null,null,null,null,null,null,null,null,null,null,null,null,null,null,null,null,null,null,null,null,null,null,null,null,null,null,null,null,null,null,null,null,null,null,null,null,null,null,null,null,null,null,null,null,null,null,null,null,null,null,null,null,"Fruit and vegetable consumption",2014,"Betsi Cadwaladr UHB","Arfon","-",33.305427466720019]
["Clusters, by health board",null,null,null,null,null,null,null,null,null,null,null,null,null,null,null,null,null,null,null,null,null,null,null,null,null,null,null,null,null,null,null,null,null,null,null,null,null,null,null,null,null,null,null,null,null,null,null,null,null,null,null,null,null,null,null,null,null,null,null,null,null,null,null,null,null,null,null,null,null,null,null,null,null,null,null,null,null,null,null,null,null,null,null,null,null,null,null,null,2018,"Aneurin Bevan","Blaenau Gwent West","W93063",5592,407,169,293,44,438,139,153,null,null,null,null,null,null,null,null,null,null,null,null,null,null,null,null,null,null,null,null,null,null,null,null,null,null,null,null,null,null,null,null,null,null,null,null,null,null,null,null,null,null,null,null,null,null,null,null,null,null,null,null,null,null,null,null,null,null,null,null,null,null,null,null,null,null,"Fruit and vegetable consumption",2014,"Betsi Cadwaladr UHB","Dwyfor","-",34.793741955430036]
[null,null,null,null,null,null,null,null,null,null,null,null,null,null,null,null,null,null,null,null,null,null,null,null,null,null,null,null,null,null,null,null,null,null,null,null,null,null,null,null,null,null,null,null,null,null,null,null,null,null,null,null,null,null,null,null,null,null,null,null,null,null,null,null,null,null,null,null,null,null,null,null,null,null,null,null,null,null,null,null,null,null,null,null,null,null,null,null,null,2018,"Aneurin Bevan","Blaenau Gwent West","W93065",6715,541,172,277,33,520,80,152,null,null,null,null,null,null,null,null,null,null,null,null,null,null,null,null,null,null,null,null,null,null,null,null,null,null,null,null,null,null,null,null,null,null,null,null,null,null,null,null,null,null,null,null,null,null,null,null,null,null,null,null,null,null,null,null,null,null,null,null,null,null,null,null,null,null,"Fruit and vegetable consumption",2014,"Betsi Cadwaladr UHB","Meirionnydd","-",34.778398712055484]
["Indicator","Period","ABM","Bridgend East Network","Bridgend North Network","Bridgend West Network","Afan","Neath","Upper Valleys","BayHealth","CityHealth","Cwmtawe","Llwchwr","Penderi","AB","Blaenau Gwent East","Blaenau Gwent West","Caerphilly East","Caerphilly North","Caerphilly South","Monmouthshire North","Monmouthshire South","Newport Central","Newport East","Newport West","Torfaen North","Torfaen South","BC","Anglesey","Conwy East","Conwy West","Central - South Denbighshire","North Denbighshire","Deeside Hawarden - Saltney","Holywell - Flint","Mold Buckley - Caergwle","Arfon","Dwyfor","Meirionnydd","South Wrexham","West - North Wrexham","Wrexham Town","CV","Cardiff East","Cardiff North","Cardiff South East","Cardiff South West","Cardiff West","City - Cardiff South","Central Vale","Eastern Vale","Western Vale","CT","North Merthyr Tydfil","South Merthyr Tydfil","North Cynon","North Rhondda","North Taf Ely","South Cynon","South Rhondda","South Taf Ely","HD","Amman-Gwendraeth","Llanelli","Taf - Teifi - Tywi","North Ceredigion","South Ceredigion","North Pembrokeshire","South Pembrokeshire","Powys","Mid Powys","North Powys","South Powys",null,null,null,null,null,null,null,null,null,null,null,null,null,null,null,null,2018,"Aneurin Bevan","Blaenau Gwent West","W93619",3499,309,101,132,23,252,54,93,null,null,null,null,null,null,null,null,null,null,null,null,null,null,null,null,null,null,null,null,null,null,null,null,null,null,null,null,null,null,null,null,null,null,null,null,null,null,null,null,null,null,null,null,null,null,null,null,null,null,null,null,null,null,null,null,null,null,null,null,null,null,null,null,null,null,"Fruit and vegetable consumption",2014,"Betsi Cadwaladr UHB","Conwy East","-",32.830093849617548]
["Hypertension","2017-18",{"$f":"$L$15","v":15.275658750665908},15.1849157947742,18.42902634372286,17.26312744105309,17.012115162546728,15.840356965790777,17.493827942014306,12.296585993062159,13.001182101815786,14.788666541986162,15.222644839977303,13.884963625896269,{"$f":"$L$28","v":16.106384884033311},19.299157141207711,17.48000312654699,15.772244365973053,16.647189260457868,15.65397409583127,17.487964823168191,15.772378300852106,15.364066152304961,13.309042862004764,14.096978498527573,17.552728964024993,16.132478632478634,{"$f":"$L$43","v":16.593996038710678},17.465883967370587,17.745962098573969,17.595518978627531,17.071312958202416,17.185327418393697,15.355148159474641,16.825227693634726,16.044308752152812,13.098556604737372,19.168405843634613,18.802464013277582,17.112869731155637,16.2700119474313,15.630845176343547,{"$f":"$L$53","v":12.410852998849842},13.431384465783397,12.324420957507416,8.1920772044517083,12.116272751969573,13.118405005567633,9.5155408925160607,15.264812195505264,14.495233439256905,14.489839119390346,{"$f":"$L$62","v":16.833063515278653},17.396823431065979,16.547443719755943,17.634625310295672,18.488009221513117,15.588956401236542,18.289085545722713,17.530559143408023,14.547138740222312,{"$f":"$L$70","v":16.564054260594045},16.133514119754263,15.572757431861056,16.143844804457743,15.122755902138053,18.125220495154295,16.875841802375412,18.088730915854804,{"$f":"$L$74","v":17.345841043074142},18.594873185948732,15.824339874972788,18.682618985011835,null,null,null,null,null,null,null,null,null,null,null,null,null,null,null,null,2018,"Aneurin Bevan","Blaenau Gwent West","W93623",6894,370,176,218,58,492,89,128,null,null,null,null,null,null,null,null,null,null,null,null,null,null,null,null,null,null,null,null,null,null,null,null,null,null,null,null,null,null,null,null,null,null,null,null,null,null,null,null,null,null,null,null,null,null,null,null,null,null,null,null,null,null,null,null,null,null,null,null,null,null,null,null,null,null,"Fruit and vegetable consumption",2014,"Betsi Cadwaladr UHB","Conwy West","-",34.270622926796051]
["Adult obesity","2017-18",{"$f":"$AA$15","v":9.9679639340578898},8.5464107872209478,10.153430473801023,8.0225661796615064,13.30319221811207,13.949288193214818,10.843831107172248,6.1382478603860005,8.8134410790070348,11.768281279221995,9.3575976632273523,10.854660595593238,11.079723536068123,13.16245237270523,12.084104114014748,11.278662685843322,12.384633824763275,10.397055701040413,11.415412607558469,10.033324896650637,9.3393557004516783,10.712498248283318,10.972608818427529,12.131200582394694,9.5586952729809873,{"$f":"AA43","v":8.4004708436418483},9.3192040863002212,7.775087944925672,7.6305660731608107,6.3386651432923919,7.0598556578163274,9.5205137697371605,9.0240251668062008,9.1533583842179418,6.2318481005268618,8.4202921817306162,9.3581436915514988,9.0830854427419503,10.009557945041816,9.7745810756088627,7.7791850359109436,9.5869002760943935,7.2382767223935716,7.3889018600669303,8.0216728545986893,6.8349329232727074,6.6628630962716748,9.9984284142699984,6.6351611939487771,6.3434942139429866,12.300771668778522,13.198551038731848,11.950347149168945,10.742989161157126,11.892378194495207,12.542372881355931,15.496241316966412,15.366616124744951,8.5261424454508035,{"$f":"AA70","v":9.6730705270934827},11.905120607978038,10.337930137253625,10.225982870704778,8.8307125412399845,8.3570257538340211,8.1716052406024247,9.5710786570655078,9.8469526801210616,9.0872100908721016,10.173234223867135,9.8781663598913134,null,null,null,null,null,null,null,null,null,null,null,null,null,null,null,null,null,2018,"Aneurin Bevan","Blaenau Gwent West",{"$f":"SUM(CP100:CP105)","v":38381},{"$f":"SUM(CQ100:CQ105)","v":2882},1061,1526,264,2734,501,820,null,null,null,null,null,null,null,null,null,null,null,null,null,null,null,null,null,null,null,null,null,null,null,null,null,null,null,null,null,null,null,null,null,null,null,null,null,null,null,null,null,null,null,null,null,null,null,null,null,null,null,null,null,null,null,null,null,null,null,null,null,null,null,null,null,null,"Fruit and vegetable consumption",2014,"Betsi Cadwaladr UHB","Central & South Denbighshire","-",34.871606938106268]
["Child obesity",null,null,null,null,null,null,null,null,null,null,null,null,null,null,null,null,null,null,null,null,null,null,null,null,null,null,null,null,null,null,null,null,null,null,null,null,null,null,null,null,null,null,null,null,null,null,null,null,null,null,null,null,null,null,null,null,null,null,null,null,null,null,null,null,null,null,null,null,null,null,null,null,null,null,null,null,null,null,null,null,null,null,null,null,null,null,null,null,null,null,null,null,null,null,null,null,null,null,null,null,null,null,null,null,null,null,null,null,null,null,null,null,null,null,null,null,null,null,null,null,null,null,null,null,null,null,null,null,null,null,null,null,null,null,null,null,null,null,null,null,null,null,null,null,null,null,null,null,null,null,null,null,null,null,null,null,null,null,null,null,null,null,null,null,null,null,"Fruit and vegetable consumption",2014,"Betsi Cadwaladr UHB","North Denbighshire","-",32.008286319808903]
[null,"Significance testing by the comparison of the confidence intervals",null,null,null,null,null,null,null,null,null,null,null,null,null,null,null,null,null,null,null,null,null,null,null,null,null,null,null,null,null,null,null,null,null,null,null,null,null,null,null,null,null,null,null,null,null,null,null,null,null,null,null,null,null,null,null,null,null,null,null,null,null,null,null,null,null,null,null,null,null,null,null,null,null,null,null,null,null,null,null,null,null,null,null,null,null,null,null,2018,"Aneurin Bevan","Caerphilly East","W93001",7279,508,166,287,34,411,68,145,null,null,null,null,null,null,null,null,null,null,null,null,null,null,null,null,null,null,null,null,null,null,null,null,null,null,null,null,null,null,null,null,null,null,null,null,null,null,null,null,null,null,null,null,null,null,null,null,null,null,null,null,null,null,null,null,null,null,null,null,null,null,null,null,null,null,"Fruit and vegetable consumption",2014,"Betsi Cadwaladr UHB","South Wrexham","-",33.327441214373508]
[null,null,null,null,null,null,null,null,null,null,null,null,null,null,null,null,null,null,null,null,null,null,null,null,null,null,null,null,null,null,null,null,null,null,null,null,null,null,null,null,null,null,null,null,null,null,null,null,null,null,null,null,null,null,null,null,null,null,null,null,null,null,null,null,null,null,null,null,null,null,null,null,null,null,null,null,null,null,null,null,null,null,null,null,null,null,null,null,null,2018,"Aneurin Bevan","Caerphilly East","W93011",13083,782,260,412,54,804,65,168,null,null,null,null,null,null,null,null,null,null,null,null,null,null,null,null,null,null,null,null,null,null,null,null,null,null,null,null,null,null,null,null,null,null,null,null,null,null,null,null,null,null,null,null,null,null,null,null,null,null,null,null,null,null,null,null,null,null,null,null,null,null,null,null,null,null,"Fruit and vegetable consumption",2014,"Betsi Cadwaladr UHB","Deeside, Hawarden & Saltney","-",33.533358871207305]
["Clusters, by local authority (PSB)",null,null,null,null,null,null,null,null,null,null,null,null,null,null,null,null,null,null,null,null,null,null,null,null,null,null,null,null,null,null,null,null,null,null,null,null,null,null,null,null,null,null,null,null,null,null,null,null,null,null,null,null,null,null,null,null,null,null,null,null,null,null,null,null,null,null,null,null,null,null,null,null,null,null,null,null,null,null,null,null,null,null,null,null,null,null,null,null,2018,"Aneurin Bevan","Caerphilly East","W93012",7626,469,137,238,44,412,59,128,null,null,null,null,null,null,null,null,null,null,null,null,null,null,null,null,null,null,null,null,null,null,null,null,null,null,null,null,null,null,null,null,null,null,null,null,null,null,null,null,null,null,null,null,null,null,null,null,null,null,null,null,null,null,null,null,null,null,null,null,null,null,null,null,null,null,"Fruit and vegetable consumption",2014,"Betsi Cadwaladr UHB","Holywell & Flint","-",32.685502245759068]
[null,null,null,null,null,null,null,null,null,null,null,null,null,null,null,null,null,null,null,null,null,null,null,null,null,null,null,null,null,null,null,null,null,null,null,null,null,null,null,null,null,null,null,null,null,null,null,null,null,null,null,null,null,null,null,null,null,null,null,null,null,null,null,null,null,null,null,null,null,null,null,null,null,null,null,null,null,null,null,null,null,null,null,null,null,null,null,null,null,2018,"Aneurin Bevan","Caerphilly East","W93014",6008,393,124,201,27,425,52,114,null,null,null,null,null,null,null,null,null,null,null,null,null,null,null,null,null,null,null,null,null,null,null,null,null,null,null,null,null,null,null,null,null,null,null,null,null,null,null,null,null,null,null,null,null,null,null,null,null,null,null,null,null,null,null,null,null,null,null,null,null,null,null,null,null,null,"Fruit and vegetable consumption",2014,"Betsi Cadwaladr UHB","Mold, Buckley & Caergwle","-",35.115046471880397]
["Indicator","Period","Bridgend","Bridgend East Network","Bridgend North Network","Bridgend West Network","Neath Port Talbot","Afan","Neath","Upper Valleys","Swansea","BayHealth","CityHealth","Cwmtawe","Llwchwr","Penderi","Blaenau Gwent","Blaenau Gwent East","Blaenau Gwent West","Caerphilly","Caerphilly East","Caerphilly North","Caerphilly South","Monmouthshire","Monmouthshire North","Monmouthshire South","Newport","Newport Central","Newport East","Newport West","Torfaen","Torfaen North","Torfaen South","Anglesey LA","Anglesey Cluster","Conwy","Conwy East","Conwy West","Denbighshire","Central - South Denbighshire","North Denbighshire","Flintshire","Deeside Hawarden - Saltney","Holywell - Flint","Mold Buckley - Caergwle","Gwynedd","Arfon","Dwyfor","Meirionnydd","Wrexham","South Wrexham","West - North Wrexham","Wrexham Town","Cardiff","Cardiff East","Cardiff North","Cardiff South East","Cardiff South West","Cardiff West","City - Cardiff South","Vale of Glamorgan","Central Vale","Eastern Vale","Western Vale","Merthyr Tydfil","North Merthyr Tydfil","South Merthyr Tydfil","Rhondda Cynon Taf","North Cynon","North Rhondda","North Taf Ely","South Cynon","South Rhondda","South Taf Ely","Carmarthenshire","Amman-Gwendraeth","Llanelli","Taf - Teifi - Tywi","Ceredigion","North Ceredigion","South Ceredigion","Pembrokeshire","North Pembrokeshire","South Pembrokeshire","Powys","Mid Powys","North Powys","South Powys",null,2018,"Aneurin Bevan","Caerphilly East","W93059",8469,609,116,228,37,417,51,147,null,null,null,null,null,null,null,null,null,null,null,null,null,null,null,null,null,null,null,null,null,null,null,null,null,null,null,null,null,null,null,null,null,null,null,null,null,null,null,null,null,null,null,null,null,null,null,null,null,null,null,null,null,null,null,null,null,null,null,null,null,null,null,null,null,null,"Fruit and vegetable consumption",2014,"Betsi Cadwaladr UHB","West & North Wrexham","-",33.573250325176851]
["Hypertension",null,null,null,null,null,null,null,null,null,null,null,null,null,null,null,null,null,null,null,null,null,null,null,null,null,null,null,null,null,null,null,null,null,null,null,null,null,null,null,null,null,null,null,null,null,null,null,null,null,null,null,null,null,null,null,null,null,null,null,null,null,null,null,null,null,null,null,null,null,null,null,null,null,null,null,null,null,null,null,null,null,null,null,null,null,null,null,null,2018,"Aneurin Bevan","Caerphilly East","W93064",14068,848,328,574,65,1003,86,263,null,null,null,null,null,null,null,null,null,null,null,null,null,null,null,null,null,null,null,null,null,null,null,null,null,null,null,null,null,null,null,null,null,null,null,null,null,null,null,null,null,null,null,null,null,null,null,null,null,null,null,null,null,null,null,null,null,null,null,null,null,null,null,null,null,null,"Fruit and vegetable consumption",2014,"Betsi Cadwaladr UHB","Wrexham Town","-",32.807540326796911]
["Adult obesity",null,null,null,null,null,null,null,null,null,null,null,null,null,null,null,null,null,null,null,null,null,null,null,null,null,null,null,null,null,null,null,null,null,null,null,null,null,null,null,null,null,null,null,null,null,null,null,null,null,null,null,null,null,null,null,null,null,null,null,null,null,null,null,null,null,null,null,null,null,null,null,null,null,null,null,null,null,null,null,null,null,null,null,null,null,null,null,null,2018,"Aneurin Bevan","Caerphilly East","W93067",9450,604,229,333,64,580,87,165,null,null,null,null,null,null,null,null,null,null,null,null,null,null,null,null,null,null,null,null,null,null,null,null,null,null,null,null,null,null,null,null,null,null,null,null,null,null,null,null,null,null,null,null,null,null,null,null,null,null,null,null,null,null,null,null,null,null,null,null,null,null,null,null,null,null,"Fruit and vegetable consumption",2014,"Cardiff & Vale UHB","-","-",32.679921644749626]
["Child obesity",null,null,null,null,null,null,null,null,null,null,null,null,null,null,null,null,null,null,null,null,null,null,null,null,null,null,null,null,null,null,null,null,null,null,null,null,null,null,null,null,null,null,null,null,null,null,null,null,null,null,null,null,null,null,null,null,null,null,null,null,null,null,null,null,null,null,null,null,null,null,null,null,null,null,null,null,null,null,null,null,null,null,null,null,null,null,null,null,null,2018,"Aneurin Bevan","Caerphilly East",{"$f":"SUM(CP108:CP114)","v":65983},{"$f":"SUM(CQ108:CQ114)","v":4213},1360,2273,325,4052,468,1130,null,null,null,null,null,null,null,null,null,null,null,null,null,null,null,null,null,null,null,null,null,null,null,null,null,null,null,null,null,null,null,null,null,null,null,null,null,null,null,null,null,null,null,null,null,null,null,null,null,null,null,null,null,null,null,null,null,null,null,null,null,null,null,null,null,null,"Fruit and vegetable consumption",2014,"Cardiff & Vale UHB","Cardiff North","-",34.413080495575208]
[null,null,null,null,null,null,null,null,null,null,null,null,null,null,null,null,null,null,null,null,null,null,null,null,null,null,null,null,null,null,null,null,null,null,null,null,null,null,null,null,null,null,null,null,null,null,null,null,null,null,null,null,null,null,null,null,null,null,null,null,null,null,null,null,null,null,null,null,null,null,null,null,null,null,null,null,null,null,null,null,null,null,null,null,null,null,null,null,null,null,null,null,null,null,null,null,null,null,null,null,null,null,null,null,null,null,null,null,null,null,null,null,null,null,null,null,null,null,null,null,null,null,null,null,null,null,null,null,null,null,null,null,null,null,null,null,null,null,null,null,null,null,null,null,null,null,null,null,null,null,null,null,null,null,null,null,null,null,null,null,null,null,null,null,null,null,null,"Fruit and vegetable consumption",2014,"Cardiff & Vale UHB","Cardiff East","-",30.749221982966997]
[null,null,null,null,null,null,null,null,null,null,null,null,null,null,null,null,null,null,null,null,null,null,null,null,null,null,null,null,null,null,null,null,null,null,null,null,null,null,null,null,null,null,null,null,null,null,null,null,null,null,null,null,null,null,null,null,null,null,null,null,null,null,null,null,null,null,null,null,null,null,null,null,null,null,null,null,null,null,null,null,null,null,null,null,null,null,null,null,null,2018,"Aneurin Bevan","Caerphilly North","W93010",3078,205,77,105,15,172,38,59,null,null,null,null,null,null,null,null,null,null,null,null,null,null,null,null,null,null,null,null,null,null,null,null,null,null,null,null,null,null,null,null,null,null,null,null,null,null,null,null,null,null,null,null,null,null,null,null,null,null,null,null,null,null,null,null,null,null,null,null,null,null,null,null,null,null,"Fruit and vegetable consumption",2014,"Cardiff & Vale UHB","Cardiff South East","-",30.842004886352807]
[null,null,null,null,null,null,null,null,null,null,null,null,null,null,null,null,null,null,null,null,null,null,null,null,null,null,null,null,null,null,null,null,null,null,null,null,null,null,null,null,null,null,null,null,null,null,null,null,null,null,null,null,null,null,null,null,null,null,null,null,null,null,null,null,null,null,null,null,null,null,null,null,null,null,null,null,null,null,null,null,null,null,null,null,null,null,null,null,null,2018,"Aneurin Bevan","Caerphilly North","W93614",3672,199,70,111,17,233,21,68,null,null,null,null,null,null,null,null,null,null,null,null,null,null,null,null,null,null,null,null,null,null,null,null,null,null,null,null,null,null,null,null,null,null,null,null,null,null,null,null,null,null,null,null,null,null,null,null,null,null,null,null,null,null,null,null,null,null,null,null,null,null,null,null,null,null,"Fruit and vegetable consumption",2014,"Cardiff & Vale UHB","Cardiff South West","-",31.109449324739806]
[null,null,null,null,null,null,null,null,null,null,null,null,null,null,null,null,null,null,null,null,null,null,null,null,null,null,null,null,null,null,null,null,null,null,null,null,null,null,null,null,null,null,null,null,null,null,null,null,null,null,null,null,null,null,null,null,null,null,null,null,null,null,null,null,null,null,null,null,null,null,null,null,null,null,null,null,null,null,null,null,null,null,null,null,null,null,null,null,null,2018,"Aneurin Bevan","Caerphilly North","W93642",1657,99,35,80,10,126,13,22,null,null,null,null,null,null,null,null,null,null,null,null,null,null,null,null,null,null,null,null,null,null,null,null,null,null,null,null,null,null,null,null,null,null,null,null,null,null,null,null,null,null,null,null,null,null,null,null,null,null,null,null,null,null,null,null,null,null,null,null,null,null,null,null,null,null,"Fruit and vegetable consumption",2014,"Cardiff & Vale UHB","Cardiff West","-",34.238095667367155]
[null,null,null,null,null,null,null,null,null,null,null,null,null,null,null,null,null,null,null,null,null,null,null,null,null,null,null,null,null,null,null,null,null,null,null,null,null,null,null,null,null,null,null,null,null,null,null,null,null,null,null,null,null,null,null,null,null,null,null,null,null,null,null,null,null,null,null,null,null,null,null,null,null,null,null,null,null,null,null,null,null,null,null,null,null,null,null,null,null,2018,"Aneurin Bevan","Caerphilly North","W95013",5834,424,197,281,24,493,47,140,null,null,null,null,null,null,null,null,null,null,null,null,null,null,null,null,null,null,null,null,null,null,null,null,null,null,null,null,null,null,null,null,null,null,null,null,null,null,null,null,null,null,null,null,null,null,null,null,null,null,null,null,null,null,null,null,null,null,null,null,null,null,null,null,null,null,"Fruit and vegetable consumption",2014,"Cardiff & Vale UHB","City & Cardiff South","-",29.959267060570976]
[null,null,null,null,null,null,null,null,null,null,null,null,null,null,null,null,null,null,null,null,null,null,null,null,null,null,null,null,null,null,null,null,null,null,null,null,null,null,null,null,null,null,null,null,null,null,null,null,null,null,null,null,null,null,null,null,null,null,null,null,null,null,null,null,null,null,null,null,null,null,null,null,null,null,null,null,null,null,null,null,null,null,null,null,null,null,null,null,null,2018,"Aneurin Bevan","Caerphilly North","W95043",5662,365,147,255,54,436,72,150,null,null,null,null,null,null,null,null,null,null,null,null,null,null,null,null,null,null,null,null,null,null,null,null,null,null,null,null,null,null,null,null,null,null,null,null,null,null,null,null,null,null,null,null,null,null,null,null,null,null,null,null,null,null,null,null,null,null,null,null,null,null,null,null,null,null,"Fruit and vegetable consumption",2014,"Cardiff & Vale UHB","Central Vale","-",32.133736001546062]
[null,null,null,null,null,null,null,null,null,null,null,null,null,null,null,null,null,null,null,null,null,null,null,null,null,null,null,null,null,null,null,null,null,null,null,null,null,null,null,null,null,null,null,null,null,null,null,null,null,null,null,null,null,null,null,null,null,null,null,null,null,null,null,null,null,null,null,null,null,null,null,null,null,null,null,null,null,null,null,null,null,null,null,null,null,null,null,null,null,2018,"Aneurin Bevan","Caerphilly North","W95050",8314,661,175,298,28,589,63,138,null,null,null,null,null,null,null,null,null,null,null,null,null,null,null,null,null,null,null,null,null,null,null,null,null,null,null,null,null,null,null,null,null,null,null,null,null,null,null,null,null,null,null,null,null,null,null,null,null,null,null,null,null,null,null,null,null,null,null,null,null,null,null,null,null,null,"Fruit and vegetable consumption",2014,"Cardiff & Vale UHB","Eastern Vale","-",35.712835076355354]
[null,null,null,null,null,null,null,null,null,null,null,null,null,null,null,null,null,null,null,null,null,null,null,null,null,null,null,null,null,null,null,null,null,null,null,null,null,null,null,null,null,null,null,null,null,null,null,null,null,null,null,null,null,null,null,null,null,null,null,null,null,null,null,null,null,null,null,null,null,null,null,null,null,null,null,null,null,null,null,null,null,null,null,null,null,null,null,null,null,2018,"Aneurin Bevan","Caerphilly North","W95065",13821,954,304,481,74,860,85,259,null,null,null,null,null,null,null,null,null,null,null,null,null,null,null,null,null,null,null,null,null,null,null,null,null,null,null,null,null,null,null,null,null,null,null,null,null,null,null,null,null,null,null,null,null,null,null,null,null,null,null,null,null,null,null,null,null,null,null,null,null,null,null,null,null,null,"Fruit and vegetable consumption",2014,"Cardiff & Vale UHB","Western Vale","-",35.586460014288093]
[null,null,null,null,null,null,null,null,null,null,null,null,null,null,null,null,null,null,null,null,null,null,null,null,null,null,null,null,null,null,null,null,null,null,null,null,null,null,null,null,null,null,null,null,null,null,null,null,null,null,null,null,null,null,null,null,null,null,null,null,null,null,null,null,null,null,null,null,null,null,null,null,null,null,null,null,null,null,null,null,null,null,null,null,null,null,null,null,null,2018,"Aneurin Bevan","Caerphilly North","W95068",8984,603,222,328,46,609,80,157,null,null,null,null,null,null,null,null,null,null,null,null,null,null,null,null,null,null,null,null,null,null,null,null,null,null,null,null,null,null,null,null,null,null,null,null,null,null,null,null,null,null,null,null,null,null,null,null,null,null,null,null,null,null,null,null,null,null,null,null,null,null,null,null,null,null,"Fruit and vegetable consumption",2014,"Cwm Taf UHB","-","-",31.330925123576808]
[null,null,null,null,null,null,null,null,null,null,null,null,null,null,null,null,null,null,null,null,null,null,null,null,null,null,null,null,null,null,null,null,null,null,null,null,null,null,null,null,null,null,null,null,null,null,null,null,null,null,null,null,null,null,null,null,null,null,null,null,null,null,null,null,null,null,null,null,null,null,null,null,null,null,null,null,null,null,null,null,null,null,null,null,null,null,null,null,null,2018,"Aneurin Bevan","Caerphilly North","W95078",2729,218,59,115,7,233,24,50,null,null,null,null,null,null,null,null,null,null,null,null,null,null,null,null,null,null,null,null,null,null,null,null,null,null,null,null,null,null,null,null,null,null,null,null,null,null,null,null,null,null,null,null,null,null,null,null,null,null,null,null,null,null,null,null,null,null,null,null,null,null,null,null,null,null,"Fruit and vegetable consumption",2014,"Cwm Taf UHB","North Cynon","-",30.729207581991218]
[null,null,null,null,null,null,null,null,null,null,null,null,null,null,null,null,null,null,null,null,null,null,null,null,null,null,null,null,null,null,null,null,null,null,null,null,null,null,null,null,null,null,null,null,null,null,null,null,null,null,null,null,null,null,null,null,null,null,null,null,null,null,null,null,null,null,null,null,null,null,null,null,null,null,null,null,null,null,null,null,null,null,null,null,null,null,null,null,null,2018,"Aneurin Bevan","Caerphilly North","W95081",12993,925,429,581,118,959,184,301,null,null,null,null,null,null,null,null,null,null,null,null,null,null,null,null,null,null,null,null,null,null,null,null,null,null,null,null,null,null,null,null,null,null,null,null,null,null,null,null,null,null,null,null,null,null,null,null,null,null,null,null,null,null,null,null,null,null,null,null,null,null,null,null,null,null,"Fruit and vegetable consumption",2014,"Cwm Taf UHB","North Rhondda","-",29.959190849454799]
[null,null,null,null,null,null,null,null,null,null,null,null,null,null,null,null,null,null,null,null,null,null,null,null,null,null,null,null,null,null,null,null,null,null,null,null,null,null,null,null,null,null,null,null,null,null,null,null,null,null,null,null,null,null,null,null,null,null,null,null,null,null,null,null,null,null,null,null,null,null,null,null,null,null,null,null,null,null,null,null,null,null,null,null,null,null,null,null,null,null,2018,"Aneurin Bevan","Caerphilly North",{"$f":"SUM(CP117:CP126)","v":66744},{"$f":"SUM(CQ117:CQ126)","v":4653},1715,2635,393,4710,627,1344,null,null,null,null,null,null,null,null,null,null,null,null,null,null,null,null,null,null,null,null,null,null,null,null,null,null,null,null,null,null,null,null,null,null,null,null,null,null,null,null,null,null,null,null,null,null,null,null,null,null,null,null,null,null,null,null,null,null,null,null,null,null,null,null,null,null,"Fruit and vegetable consumption",2014,"Cwm Taf UHB","North Taf Ely","-",31.939586135256516]
[null,null,null,null,null,null,null,null,null,null,null,null,null,null,null,null,null,null,null,null,null,null,null,null,null,null,null,null,null,null,null,null,null,null,null,null,null,null,null,null,null,null,null,null,null,null,null,null,null,null,null,null,null,null,null,null,null,null,null,null,null,null,null,null,null,null,null,null,null,null,null,null,null,null,null,null,null,null,null,null,null,null,null,null,null,null,null,null,null,null,null,null,null,null,null,null,null,null,null,null,null,null,null,null,null,null,null,null,null,null,null,null,null,null,null,null,null,null,null,null,null,null,null,null,null,null,null,null,null,null,null,null,null,null,null,null,null,null,null,null,null,null,null,null,null,null,null,null,null,null,null,null,null,null,null,null,null,null,null,null,null,null,null,null,null,null,null,"Fruit and vegetable consumption",2014,"Cwm Taf UHB","South Cynon","-",30.083124314941244]
[null,null,null,null,null,null,null,null,null,null,null,null,null,null,null,null,null,null,null,null,null,null,null,null,null,null,null,null,null,null,null,null,null,null,null,null,null,null,null,null,null,null,null,null,null,null,null,null,null,null,null,null,null,null,null,null,null,null,null,null,null,null,null,null,null,null,null,null,null,null,null,null,null,null,null,null,null,null,null,null,null,null,null,null,null,null,null,null,null,2018,"Aneurin Bevan","Caerphilly South","W00005",8015,534,216,321,36,546,51,151,null,null,null,null,null,null,null,null,null,null,null,null,null,null,null,null,null,null,null,null,null,null,null,null,null,null,null,null,null,null,null,null,null,null,null,null,null,null,null,null,null,null,null,null,null,null,null,null,null,null,null,null,null,null,null,null,null,null,null,null,null,null,null,null,null,null,"Fruit and vegetable consumption",2014,"Cwm Taf UHB","South Rhondda","-",29.980089002802067]
[null,null,null,null,null,null,null,null,null,null,null,null,null,null,null,null,null,null,null,null,null,null,null,null,null,null,null,null,null,null,null,null,null,null,null,null,null,null,null,null,null,null,null,null,null,null,null,null,null,null,null,null,null,null,null,null,null,null,null,null,null,null,null,null,null,null,null,null,null,null,null,null,null,null,null,null,null,null,null,null,null,null,null,null,null,null,null,null,null,2018,"Aneurin Bevan","Caerphilly South","W95008",10390,610,212,383,61,586,75,243,null,null,null,null,null,null,null,null,null,null,null,null,null,null,null,null,null,null,null,null,null,null,null,null,null,null,null,null,null,null,null,null,null,null,null,null,null,null,null,null,null,null,null,null,null,null,null,null,null,null,null,null,null,null,null,null,null,null,null,null,null,null,null,null,null,null,"Fruit and vegetable consumption",2014,"Cwm Taf UHB","South Taf Ely","-",33.952438604688794]
[null,null,null,null,null,null,null,null,null,null,null,null,null,null,null,null,null,null,null,null,null,null,null,null,null,null,null,null,null,null,null,null,null,null,null,null,null,null,null,null,null,null,null,null,null,null,null,null,null,null,null,null,null,null,null,null,null,null,null,null,null,null,null,null,null,null,null,null,null,null,null,null,null,null,null,null,null,null,null,null,null,null,null,null,null,null,null,null,null,2018,"Aneurin Bevan","Caerphilly South","W95046",12631,850,211,513,95,789,152,290,null,null,null,null,null,null,null,null,null,null,null,null,null,null,null,null,null,null,null,null,null,null,null,null,null,null,null,null,null,null,null,null,null,null,null,null,null,null,null,null,null,null,null,null,null,null,null,null,null,null,null,null,null,null,null,null,null,null,null,null,null,null,null,null,null,null,"Fruit and vegetable consumption",2014,"Cwm Taf UHB","North Merthyr Tydfil","-",30.722045763971657]
[null,null,null,null,null,null,null,null,null,null,null,null,null,null,null,null,null,null,null,null,null,null,null,null,null,null,null,null,null,null,null,null,null,null,null,null,null,null,null,null,null,null,null,null,null,null,null,null,null,null,null,null,null,null,null,null,null,null,null,null,null,null,null,null,null,null,null,null,null,null,null,null,null,null,null,null,null,null,null,null,null,null,null,null,null,null,null,null,null,2018,"Aneurin Bevan","Caerphilly South","W95049",8693,524,193,292,58,477,41,141,null,null,null,null,null,null,null,null,null,null,null,null,null,null,null,null,null,null,null,null,null,null,null,null,null,null,null,null,null,null,null,null,null,null,null,null,null,null,null,null,null,null,null,null,null,null,null,null,null,null,null,null,null,null,null,null,null,null,null,null,null,null,null,null,null,null,"Fruit and vegetable consumption",2014,"Cwm Taf UHB","South Merthyr Tydfil","-",31.434762422622107]
[null,null,null,null,null,null,null,null,null,null,null,null,null,null,null,null,null,null,null,null,null,null,null,null,null,null,null,null,null,null,null,null,null,null,null,null,null,null,null,null,null,null,null,null,null,null,null,null,null,null,null,null,null,null,null,null,null,null,null,null,null,null,null,null,null,null,null,null,null,null,null,null,null,null,null,null,null,null,null,null,null,null,null,null,null,null,null,null,null,2018,"Aneurin Bevan","Caerphilly South","W95059",9751,730,151,293,69,589,63,173,null,null,null,null,null,null,null,null,null,null,null,null,null,null,null,null,null,null,null,null,null,null,null,null,null,null,null,null,null,null,null,null,null,null,null,null,null,null,null,null,null,null,null,null,null,null,null,null,null,null,null,null,null,null,null,null,null,null,null,null,null,null,null,null,null,null,"Fruit and vegetable consumption",2014,"Hywel Dda UHB","-","-",33.462423613736647]
[null,null,null,null,null,null,null,null,null,null,null,null,null,null,null,null,null,null,null,null,null,null,null,null,null,null,null,null,null,null,null,null,null,null,null,null,null,null,null,null,null,null,null,null,null,null,null,null,null,null,null,null,null,null,null,null,null,null,null,null,null,null,null,null,null,null,null,null,null,null,null,null,null,null,null,null,null,null,null,null,null,null,null,null,null,null,null,null,null,2018,"Aneurin Bevan","Caerphilly South","W95073",3003,239,91,102,5,170,18,56,null,null,null,null,null,null,null,null,null,null,null,null,null,null,null,null,null,null,null,null,null,null,null,null,null,null,null,null,null,null,null,null,null,null,null,null,null,null,null,null,null,null,null,null,null,null,null,null,null,null,null,null,null,null,null,null,null,null,null,null,null,null,null,null,null,null,"Fruit and vegetable consumption",2014,"Hywel Dda UHB","North Ceredigion","-",33.655515328076952]
[null,null,null,null,null,null,null,null,null,null,null,null,null,null,null,null,null,null,null,null,null,null,null,null,null,null,null,null,null,null,null,null,null,null,null,null,null,null,null,null,null,null,null,null,null,null,null,null,null,null,null,null,null,null,null,null,null,null,null,null,null,null,null,null,null,null,null,null,null,null,null,null,null,null,null,null,null,null,null,null,null,null,null,null,null,null,null,null,null,2018,"Aneurin Bevan","Caerphilly South","W95636",4033,238,111,189,25,301,56,77,null,null,null,null,null,null,null,null,null,null,null,null,null,null,null,null,null,null,null,null,null,null,null,null,null,null,null,null,null,null,null,null,null,null,null,null,null,null,null,null,null,null,null,null,null,null,null,null,null,null,null,null,null,null,null,null,null,null,null,null,null,null,null,null,null,null,"Fruit and vegetable consumption",2014,"Hywel Dda UHB","South Ceredigion","-",33.91304246234629]
[null,null,null,null,null,null,null,null,null,null,null,null,null,null,null,null,null,null,null,null,null,null,null,null,null,null,null,null,null,null,null,null,null,null,null,null,null,null,null,null,null,null,null,null,null,null,null,null,null,null,null,null,null,null,null,null,null,null,null,null,null,null,null,null,null,null,null,null,null,null,null,null,null,null,null,null,null,null,null,null,null,null,null,null,null,null,null,null,null,null,2018,"Aneurin Bevan","Caerphilly South",{"$f":"SUM(CP129:CP135)","v":56516},{"$f":"SUM(CQ129:CQ135)","v":3725},1185,2093,349,3458,456,1131,null,null,null,null,null,null,null,null,null,null,null,null,null,null,null,null,null,null,null,null,null,null,null,null,null,null,null,null,null,null,null,null,null,null,null,null,null,null,null,null,null,null,null,null,null,null,null,null,null,null,null,null,null,null,null,null,null,null,null,null,null,null,null,null,null,null,"Fruit and vegetable consumption",2014,"Hywel Dda UHB","North Pembrokeshire","-",33.671764004615326]
[null,null,null,null,null,null,null,null,null,null,null,null,null,null,null,null,null,null,null,null,null,null,null,null,null,null,null,null,null,null,null,null,null,null,null,null,null,null,null,null,null,null,null,null,null,null,null,null,null,null,null,null,null,null,null,null,null,null,null,null,null,null,null,null,null,null,null,null,null,null,null,null,null,null,null,null,null,null,null,null,null,null,null,null,null,null,null,null,null,null,null,null,null,null,null,null,null,null,null,null,null,null,null,null,null,null,null,null,null,null,null,null,null,null,null,null,null,null,null,null,null,null,null,null,null,null,null,null,null,null,null,null,null,null,null,null,null,null,null,null,null,null,null,null,null,null,null,null,null,null,null,null,null,null,null,null,null,null,null,null,null,null,null,null,null,null,null,"Fruit and vegetable consumption",2014,"Hywel Dda UHB","South Pembrokeshire","-",33.800415473928766]
[null,null,null,null,null,null,null,null,null,null,null,null,null,null,null,null,null,null,null,null,null,null,null,null,null,null,null,null,null,null,null,null,null,null,null,null,null,null,null,null,null,null,null,null,null,null,null,null,null,null,null,null,null,null,null,null,null,null,null,null,null,null,null,null,null,null,null,null,null,null,null,null,null,null,null,null,null,null,null,null,null,null,null,null,null,null,null,null,null,2018,"Aneurin Bevan","Monmouthshire North","W93004",8723,580,236,340,95,629,141,237,null,null,null,null,null,null,null,null,null,null,null,null,null,null,null,null,null,null,null,null,null,null,null,null,null,null,null,null,null,null,null,null,null,null,null,null,null,null,null,null,null,null,null,null,null,null,null,null,null,null,null,null,null,null,null,null,null,null,null,null,null,null,null,null,null,null,"Fruit and vegetable consumption",2014,"Hywel Dda UHB","Taf / Teifi / Tywi","-",34.215128104888336]
[null,null,null,null,null,null,null,null,null,null,null,null,null,null,null,null,null,null,null,null,null,null,null,null,null,null,null,null,null,null,null,null,null,null,null,null,null,null,null,null,null,null,null,null,null,null,null,null,null,null,null,null,null,null,null,null,null,null,null,null,null,null,null,null,null,null,null,null,null,null,null,null,null,null,null,null,null,null,null,null,null,null,null,null,null,null,null,null,null,2018,"Aneurin Bevan","Monmouthshire North","W93019",4581,334,65,144,27,255,51,99,null,null,null,null,null,null,null,null,null,null,null,null,null,null,null,null,null,null,null,null,null,null,null,null,null,null,null,null,null,null,null,null,null,null,null,null,null,null,null,null,null,null,null,null,null,null,null,null,null,null,null,null,null,null,null,null,null,null,null,null,null,null,null,null,null,null,"Fruit and vegetable consumption",2014,"Hywel Dda UHB","Amman/Gwendraeth","-",32.99380519698839]
[null,null,null,null,null,null,null,null,null,null,null,null,null,null,null,null,null,null,null,null,null,null,null,null,null,null,null,null,null,null,null,null,null,null,null,null,null,null,null,null,null,null,null,null,null,null,null,null,null,null,null,null,null,null,null,null,null,null,null,null,null,null,null,null,null,null,null,null,null,null,null,null,null,null,null,null,null,null,null,null,null,null,null,null,null,null,null,null,null,2018,"Aneurin Bevan","Monmouthshire North","W93033",10200,801,207,458,73,683,199,280,null,null,null,null,null,null,null,null,null,null,null,null,null,null,null,null,null,null,null,null,null,null,null,null,null,null,null,null,null,null,null,null,null,null,null,null,null,null,null,null,null,null,null,null,null,null,null,null,null,null,null,null,null,null,null,null,null,null,null,null,null,null,null,null,null,null,"Fruit and vegetable consumption",2014,"Hywel Dda UHB","Llanelli","-",32.126274299305535]
[null,null,null,null,null,null,null,null,null,null,null,null,null,null,null,null,null,null,null,null,null,null,null,null,null,null,null,null,null,null,null,null,null,null,null,null,null,null,null,null,null,null,null,null,null,null,null,null,null,null,null,null,null,null,null,null,null,null,null,null,null,null,null,null,null,null,null,null,null,null,null,null,null,null,null,null,null,null,null,null,null,null,null,null,null,null,null,null,null,2018,"Aneurin Bevan","Monmouthshire North","W93036",13525,984,294,530,149,884,253,391,null,null,null,null,null,null,null,null,null,null,null,null,null,null,null,null,null,null,null,null,null,null,null,null,null,null,null,null,null,null,null,null,null,null,null,null,null,null,null,null,null,null,null,null,null,null,null,null,null,null,null,null,null,null,null,null,null,null,null,null,null,null,null,null,null,null,"Fruit and vegetable consumption",2014,"Powys THB","-","-",34.774028841969887]
[null,null,null,null,null,null,null,null,null,null,null,null,null,null,null,null,null,null,null,null,null,null,null,null,null,null,null,null,null,null,null,null,null,null,null,null,null,null,null,null,null,null,null,null,null,null,null,null,null,null,null,null,null,null,null,null,null,null,null,null,null,null,null,null,null,null,null,null,null,null,null,null,null,null,null,null,null,null,null,null,null,null,null,null,null,null,null,null,null,2018,"Aneurin Bevan","Monmouthshire North","W93037",4826,260,65,208,26,310,82,142,null,null,null,null,null,null,null,null,null,null,null,null,null,null,null,null,null,null,null,null,null,null,null,null,null,null,null,null,null,null,null,null,null,null,null,null,null,null,null,null,null,null,null,null,null,null,null,null,null,null,null,null,null,null,null,null,null,null,null,null,null,null,null,null,null,null,"Fruit and vegetable consumption",2014,"Powys tHB","North Powys","-",34.609976042235616]
[null,null,null,null,null,null,null,null,null,null,null,null,null,null,null,null,null,null,null,null,null,null,null,null,null,null,null,null,null,null,null,null,null,null,null,null,null,null,null,null,null,null,null,null,null,null,null,null,null,null,null,null,null,null,null,null,null,null,null,null,null,null,null,null,null,null,null,null,null,null,null,null,null,null,null,null,null,null,null,null,null,null,null,null,null,null,null,null,null,2018,"Aneurin Bevan","Monmouthshire North","W93038",2733,156,31,102,12,139,32,51,null,null,null,null,null,null,null,null,null,null,null,null,null,null,null,null,null,null,null,null,null,null,null,null,null,null,null,null,null,null,null,null,null,null,null,null,null,null,null,null,null,null,null,null,null,null,null,null,null,null,null,null,null,null,null,null,null,null,null,null,null,null,null,null,null,null,"Fruit and vegetable consumption",2014,"Powys tHB","Mid Powys","-",35.003416009513238]
[null,null,null,null,null,null,null,null,null,null,null,null,null,null,null,null,null,null,null,null,null,null,null,null,null,null,null,null,null,null,null,null,null,null,null,null,null,null,null,null,null,null,null,null,null,null,null,null,null,null,null,null,null,null,null,null,null,null,null,null,null,null,null,null,null,null,null,null,null,null,null,null,null,null,null,null,null,null,null,null,null,null,null,null,null,null,null,null,null,2018,"Aneurin Bevan","Monmouthshire North","W93072",4400,332,89,140,74,218,57,97,null,null,null,null,null,null,null,null,null,null,null,null,null,null,null,null,null,null,null,null,null,null,null,null,null,null,null,null,null,null,null,null,null,null,null,null,null,null,null,null,null,null,null,null,null,null,null,null,null,null,null,null,null,null,null,null,null,null,null,null,null,null,null,null,null,null,"Fruit and vegetable consumption",2014,"Powys tHB","South Powys","-",34.863949455573817]
[null,null,null,null,null,null,null,null,null,null,null,null,null,null,null,null,null,null,null,null,null,null,null,null,null,null,null,null,null,null,null,null,null,null,null,null,null,null,null,null,null,null,null,null,null,null,null,null,null,null,null,null,null,null,null,null,null,null,null,null,null,null,null,null,null,null,null,null,null,null,null,null,null,null,null,null,null,null,null,null,null,null,null,null,null,null,null,null,null,2018,"Aneurin Bevan","Monmouthshire North","W93126",3774,200,44,148,17,208,51,89,null,null,null,null,null,null,null,null,null,null,null,null,null,null,null,null,null,null,null,null,null,null,null,null,null,null,null,null,null,null,null,null,null,null,null,null,null,null,null,null,null,null,null,null,null,null,null,null,null,null,null,null,null,null,null,null,null,null,null,null,null,null,null,null,null,null,"Fruit and vegetable consumption",2014,"Wales","-","-",32.810722701789899]
[null,null,null,null,null,null,null,null,null,null,null,null,null,null,null,null,null,null,null,null,null,null,null,null,null,null,null,null,null,null,null,null,null,null,null,null,null,null,null,null,null,null,null,null,null,null,null,null,null,null,null,null,null,null,null,null,null,null,null,null,null,null,null,null,null,null,null,null,null,null,null,null,null,null,null,null,null,null,null,null,null,null,null,null,null,null,null,null,null,null,2018,"Aneurin Bevan","Monmouthshire North",{"$f":"SUM(CP138:CP145)","v":52762},{"$f":"SUM(CQ138:CQ145)","v":3647},1031,2070,473,3326,866,1386,null,null,null,null,null,null,null,null,null,null,null,null,null,null,null,null,null,null,null,null,null,null,null,null,null,null,null,null,null,null,null,null,null,null,null,null,null,null,null,null,null,null,null,null,null,null,null,null,null,null,null,null,null,null,null,null,null,null,null,null,null,null,null,null,null,null,"Physical activity",2014,"Abertawe Bro Morgannwg UHB","-","-",29.045988301695015]
[null,null,null,null,null,null,null,null,null,null,null,null,null,null,null,null,null,null,null,null,null,null,null,null,null,null,null,null,null,null,null,null,null,null,null,null,null,null,null,null,null,null,null,null,null,null,null,null,null,null,null,null,null,null,null,null,null,null,null,null,null,null,null,null,null,null,null,null,null,null,null,null,null,null,null,null,null,null,null,null,null,null,null,null,null,null,null,null,null,null,null,null,null,null,null,null,null,null,null,null,null,null,null,null,null,null,null,null,null,null,null,null,null,null,null,null,null,null,null,null,null,null,null,null,null,null,null,null,null,null,null,null,null,null,null,null,null,null,null,null,null,null,null,null,null,null,null,null,null,null,null,null,null,null,null,null,null,null,null,null,null,null,null,null,null,null,null,"Physical activity",2014,"Abertawe Bro Morgannwg UHB","Bay Health","-",28.997552108890247]
[null,null,null,null,null,null,null,null,null,null,null,null,null,null,null,null,null,null,null,null,null,null,null,null,null,null,null,null,null,null,null,null,null,null,null,null,null,null,null,null,null,null,null,null,null,null,null,null,null,null,null,null,null,null,null,null,null,null,null,null,null,null,null,null,null,null,null,null,null,null,null,null,null,null,null,null,null,null,null,null,null,null,null,null,null,null,null,null,null,2018,"Aneurin Bevan","Monmouthshire South","W93020",8666,571,138,346,86,468,96,175,null,null,null,null,null,null,null,null,null,null,null,null,null,null,null,null,null,null,null,null,null,null,null,null,null,null,null,null,null,null,null,null,null,null,null,null,null,null,null,null,null,null,null,null,null,null,null,null,null,null,null,null,null,null,null,null,null,null,null,null,null,null,null,null,null,null,"Physical activity",2014,"Abertawe Bro Morgannwg UHB","City Health","-",30.057627874218891]
[null,null,null,null,null,null,null,null,null,null,null,null,null,null,null,null,null,null,null,null,null,null,null,null,null,null,null,null,null,null,null,null,null,null,null,null,null,null,null,null,null,null,null,null,null,null,null,null,null,null,null,null,null,null,null,null,null,null,null,null,null,null,null,null,null,null,null,null,null,null,null,null,null,null,null,null,null,null,null,null,null,null,null,null,null,null,null,null,null,2018,"Aneurin Bevan","Monmouthshire South","W93021",8343,632,112,248,93,467,97,173,null,null,null,null,null,null,null,null,null,null,null,null,null,null,null,null,null,null,null,null,null,null,null,null,null,null,null,null,null,null,null,null,null,null,null,null,null,null,null,null,null,null,null,null,null,null,null,null,null,null,null,null,null,null,null,null,null,null,null,null,null,null,null,null,null,null,"Physical activity",2014,"Abertawe Bro Morgannwg UHB","Cwmtawe","-",28.990899233919354]
[null,null,null,null,null,null,null,null,null,null,null,null,null,null,null,null,null,null,null,null,null,null,null,null,null,null,null,null,null,null,null,null,null,null,null,null,null,null,null,null,null,null,null,null,null,null,null,null,null,null,null,null,null,null,null,null,null,null,null,null,null,null,null,null,null,null,null,null,null,null,null,null,null,null,null,null,null,null,null,null,null,null,null,null,null,null,null,null,null,2018,"Aneurin Bevan","Monmouthshire South","W93022",9081,652,168,293,74,467,78,206,null,null,null,null,null,null,null,null,null,null,null,null,null,null,null,null,null,null,null,null,null,null,null,null,null,null,null,null,null,null,null,null,null,null,null,null,null,null,null,null,null,null,null,null,null,null,null,null,null,null,null,null,null,null,null,null,null,null,null,null,null,null,null,null,null,null,"Physical activity",2014,"Abertawe Bro Morgannwg UHB","Llwchwr","-",29.156677768248773]
[null,null,null,null,null,null,null,null,null,null,null,null,null,null,null,null,null,null,null,null,null,null,null,null,null,null,null,null,null,null,null,null,null,null,null,null,null,null,null,null,null,null,null,null,null,null,null,null,null,null,null,null,null,null,null,null,null,null,null,null,null,null,null,null,null,null,null,null,null,null,null,null,null,null,null,null,null,null,null,null,null,null,null,null,null,null,null,null,null,2018,"Aneurin Bevan","Monmouthshire South","W93023",19406,1426,289,705,117,1236,167,427,null,null,null,null,null,null,null,null,null,null,null,null,null,null,null,null,null,null,null,null,null,null,null,null,null,null,null,null,null,null,null,null,null,null,null,null,null,null,null,null,null,null,null,null,null,null,null,null,null,null,null,null,null,null,null,null,null,null,null,null,null,null,null,null,null,null,"Physical activity",2014,"Abertawe Bro Morgannwg UHB","Penderi","-",29.050406904756485]
[null,null,null,null,null,null,null,null,null,null,null,null,null,null,null,null,null,null,null,null,null,null,null,null,null,null,null,null,null,null,null,null,null,null,null,null,null,null,null,null,null,null,null,null,null,null,null,null,null,null,null,null,null,null,null,null,null,null,null,null,null,null,null,null,null,null,null,null,null,null,null,null,null,null,null,null,null,null,null,null,null,null,null,null,null,null,null,null,null,2018,"Aneurin Bevan","Monmouthshire South","W93643",1916,164,36,47,12,93,25,38,null,null,null,null,null,null,null,null,null,null,null,null,null,null,null,null,null,null,null,null,null,null,null,null,null,null,null,null,null,null,null,null,null,null,null,null,null,null,null,null,null,null,null,null,null,null,null,null,null,null,null,null,null,null,null,null,null,null,null,null,null,null,null,null,null,null,"Physical activity",2014,"Abertawe Bro Morgannwg UHB","Upper Valleys","-",29.651684721191529]
[null,null,null,null,null,null,null,null,null,null,null,null,null,null,null,null,null,null,null,null,null,null,null,null,null,null,null,null,null,null,null,null,null,null,null,null,null,null,null,null,null,null,null,null,null,null,null,null,null,null,null,null,null,null,null,null,null,null,null,null,null,null,null,null,null,null,null,null,null,null,null,null,null,null,null,null,null,null,null,null,null,null,null,null,null,null,null,null,null,null,2018,"Aneurin Bevan","Monmouthshire South",{"$f":"SUM(CP148:CP152)","v":47412},{"$f":"SUM(CQ148:CQ152)","v":3445},743,1639,382,2731,463,1019,null,null,null,null,null,null,null,null,null,null,null,null,null,null,null,null,null,null,null,null,null,null,null,null,null,null,null,null,null,null,null,null,null,null,null,null,null,null,null,null,null,null,null,null,null,null,null,null,null,null,null,null,null,null,null,null,null,null,null,null,null,null,null,null,null,null,"Physical activity",2014,"Abertawe Bro Morgannwg UHB","Afan","-",28.180262155741932]
[null,null,null,null,null,null,null,null,null,null,null,null,null,null,null,null,null,null,null,null,null,null,null,null,null,null,null,null,null,null,null,null,null,null,null,null,null,null,null,null,null,null,null,null,null,null,null,null,null,null,null,null,null,null,null,null,null,null,null,null,null,null,null,null,null,null,null,null,null,null,null,null,null,null,null,null,null,null,null,null,null,null,null,null,null,null,null,null,null,null,null,null,null,null,null,null,null,null,null,null,null,null,null,null,null,null,null,null,null,null,null,null,null,null,null,null,null,null,null,null,null,null,null,null,null,null,null,null,null,null,null,null,null,null,null,null,null,null,null,null,null,null,null,null,null,null,null,null,null,null,null,null,null,null,null,null,null,null,null,null,null,null,null,null,null,null,null,"Physical activity",2014,"Abertawe Bro Morgannwg UHB","Neath","-",28.505911772980845]
[null,null,null,null,null,null,null,null,null,null,null,null,null,null,null,null,null,null,null,null,null,null,null,null,null,null,null,null,null,null,null,null,null,null,null,null,null,null,null,null,null,null,null,null,null,null,null,null,null,null,null,null,null,null,null,null,null,null,null,null,null,null,null,null,null,null,null,null,null,null,null,null,null,null,null,null,null,null,null,null,null,null,null,null,null,null,null,null,null,2018,"Aneurin Bevan","Newport East","W93040",6107,398,101,197,18,395,44,106,null,null,null,null,null,null,null,null,null,null,null,null,null,null,null,null,null,null,null,null,null,null,null,null,null,null,null,null,null,null,null,null,null,null,null,null,null,null,null,null,null,null,null,null,null,null,null,null,null,null,null,null,null,null,null,null,null,null,null,null,null,null,null,null,null,null,"Physical activity",2014,"Abertawe Bro Morgannwg UHB","Bridgend East Network","-",29.39119036516955]
[null,null,null,null,null,null,null,null,null,null,null,null,null,null,null,null,null,null,null,null,null,null,null,null,null,null,null,null,null,null,null,null,null,null,null,null,null,null,null,null,null,null,null,null,null,null,null,null,null,null,null,null,null,null,null,null,null,null,null,null,null,null,null,null,null,null,null,null,null,null,null,null,null,null,null,null,null,null,null,null,null,null,null,null,null,null,null,null,null,2018,"Aneurin Bevan","Newport East","W93044",9405,483,144,246,23,538,44,111,null,null,null,null,null,null,null,null,null,null,null,null,null,null,null,null,null,null,null,null,null,null,null,null,null,null,null,null,null,null,null,null,null,null,null,null,null,null,null,null,null,null,null,null,null,null,null,null,null,null,null,null,null,null,null,null,null,null,null,null,null,null,null,null,null,null,"Physical activity",2014,"Abertawe Bro Morgannwg UHB","Bridgend North Network","-",29.095849817583229]
[null,null,null,null,null,null,null,null,null,null,null,null,null,null,null,null,null,null,null,null,null,null,null,null,null,null,null,null,null,null,null,null,null,null,null,null,null,null,null,null,null,null,null,null,null,null,null,null,null,null,null,null,null,null,null,null,null,null,null,null,null,null,null,null,null,null,null,null,null,null,null,null,null,null,null,null,null,null,null,null,null,null,null,null,null,null,null,null,null,2018,"Aneurin Bevan","Newport East","W93047",6862,447,129,250,35,442,52,126,null,null,null,null,null,null,null,null,null,null,null,null,null,null,null,null,null,null,null,null,null,null,null,null,null,null,null,null,null,null,null,null,null,null,null,null,null,null,null,null,null,null,null,null,null,null,null,null,null,null,null,null,null,null,null,null,null,null,null,null,null,null,null,null,null,null,"Physical activity",2014,"Abertawe Bro Morgannwg UHB","Bridgend West Network","-",28.393893703976747]
[null,null,null,null,null,null,null,null,null,null,null,null,null,null,null,null,null,null,null,null,null,null,null,null,null,null,null,null,null,null,null,null,null,null,null,null,null,null,null,null,null,null,null,null,null,null,null,null,null,null,null,null,null,null,null,null,null,null,null,null,null,null,null,null,null,null,null,null,null,null,null,null,null,null,null,null,null,null,null,null,null,null,null,null,null,null,null,null,null,2018,"Aneurin Bevan","Newport East","W93052",5508,319,138,175,27,395,24,81,null,null,null,null,null,null,null,null,null,null,null,null,null,null,null,null,null,null,null,null,null,null,null,null,null,null,null,null,null,null,null,null,null,null,null,null,null,null,null,null,null,null,null,null,null,null,null,null,null,null,null,null,null,null,null,null,null,null,null,null,null,null,null,null,null,null,"Physical activity",2014,"Aneurin Bevan UHB","-","-",29.177950174347405]
[null,null,null,null,null,null,null,null,null,null,null,null,null,null,null,null,null,null,null,null,null,null,null,null,null,null,null,null,null,null,null,null,null,null,null,null,null,null,null,null,null,null,null,null,null,null,null,null,null,null,null,null,null,null,null,null,null,null,null,null,null,null,null,null,null,null,null,null,null,null,null,null,null,null,null,null,null,null,null,null,null,null,null,null,null,null,null,null,null,2018,"Aneurin Bevan","Newport East","W93053",13293,876,222,433,69,839,107,234,null,null,null,null,null,null,null,null,null,null,null,null,null,null,null,null,null,null,null,null,null,null,null,null,null,null,null,null,null,null,null,null,null,null,null,null,null,null,null,null,null,null,null,null,null,null,null,null,null,null,null,null,null,null,null,null,null,null,null,null,null,null,null,null,null,null,"Physical activity",2014,"Aneurin Bevan UHB","Caerphilly North","-",29.032739164293165]
[null,null,null,null,null,null,null,null,null,null,null,null,null,null,null,null,null,null,null,null,null,null,null,null,null,null,null,null,null,null,null,null,null,null,null,null,null,null,null,null,null,null,null,null,null,null,null,null,null,null,null,null,null,null,null,null,null,null,null,null,null,null,null,null,null,null,null,null,null,null,null,null,null,null,null,null,null,null,null,null,null,null,null,null,null,null,null,null,null,2018,"Aneurin Bevan","Newport East","W93125",4209,268,35,132,14,206,23,48,null,null,null,null,null,null,null,null,null,null,null,null,null,null,null,null,null,null,null,null,null,null,null,null,null,null,null,null,null,null,null,null,null,null,null,null,null,null,null,null,null,null,null,null,null,null,null,null,null,null,null,null,null,null,null,null,null,null,null,null,null,null,null,null,null,null,"Physical activity",2014,"Aneurin Bevan UHB","Caerphilly East","-",29.731239948834787]
[null,null,null,null,null,null,null,null,null,null,null,null,null,null,null,null,null,null,null,null,null,null,null,null,null,null,null,null,null,null,null,null,null,null,null,null,null,null,null,null,null,null,null,null,null,null,null,null,null,null,null,null,null,null,null,null,null,null,null,null,null,null,null,null,null,null,null,null,null,null,null,null,null,null,null,null,null,null,null,null,null,null,null,null,null,null,null,null,null,2018,"Aneurin Bevan","Newport East","W93640",4567,379,112,143,19,297,56,95,null,null,null,null,null,null,null,null,null,null,null,null,null,null,null,null,null,null,null,null,null,null,null,null,null,null,null,null,null,null,null,null,null,null,null,null,null,null,null,null,null,null,null,null,null,null,null,null,null,null,null,null,null,null,null,null,null,null,null,null,null,null,null,null,null,null,"Physical activity",2014,"Aneurin Bevan UHB","Caerphilly South","-",29.300807138455053]
[null,null,null,null,null,null,null,null,null,null,null,null,null,null,null,null,null,null,null,null,null,null,null,null,null,null,null,null,null,null,null,null,null,null,null,null,null,null,null,null,null,null,null,null,null,null,null,null,null,null,null,null,null,null,null,null,null,null,null,null,null,null,null,null,null,null,null,null,null,null,null,null,null,null,null,null,null,null,null,null,null,null,null,null,null,null,null,null,null,null,2018,"Aneurin Bevan","Newport East",{"$f":"SUM(CP155:CP161)","v":49951},{"$f":"SUM(CQ155:CQ161)","v":3170},881,1576,205,3112,350,801,null,null,null,null,null,null,null,null,null,null,null,null,null,null,null,null,null,null,null,null,null,null,null,null,null,null,null,null,null,null,null,null,null,null,null,null,null,null,null,null,null,null,null,null,null,null,null,null,null,null,null,null,null,null,null,null,null,null,null,null,null,null,null,null,null,null,"Physical activity",2014,"Aneurin Bevan UHB","Blaenau Gwent East","-",28.656122164777031]
[null,null,null,null,null,null,null,null,null,null,null,null,null,null,null,null,null,null,null,null,null,null,null,null,null,null,null,null,null,null,null,null,null,null,null,null,null,null,null,null,null,null,null,null,null,null,null,null,null,null,null,null,null,null,null,null,null,null,null,null,null,null,null,null,null,null,null,null,null,null,null,null,null,null,null,null,null,null,null,null,null,null,null,null,null,null,null,null,null,null,null,null,null,null,null,null,null,null,null,null,null,null,null,null,null,null,null,null,null,null,null,null,null,null,null,null,null,null,null,null,null,null,null,null,null,null,null,null,null,null,null,null,null,null,null,null,null,null,null,null,null,null,null,null,null,null,null,null,null,null,null,null,null,null,null,null,null,null,null,null,null,null,null,null,null,null,null,"Physical activity",2014,"Aneurin Bevan UHB","Blaenau Gwent West","-",28.887148940788975]
[null,null,null,null,null,null,null,null,null,null,null,null,null,null,null,null,null,null,null,null,null,null,null,null,null,null,null,null,null,null,null,null,null,null,null,null,null,null,null,null,null,null,null,null,null,null,null,null,null,null,null,null,null,null,null,null,null,null,null,null,null,null,null,null,null,null,null,null,null,null,null,null,null,null,null,null,null,null,null,null,null,null,null,null,null,null,null,null,null,2018,"Aneurin Bevan","Newport North","W93018",9437,610,127,299,58,427,100,180,null,null,null,null,null,null,null,null,null,null,null,null,null,null,null,null,null,null,null,null,null,null,null,null,null,null,null,null,null,null,null,null,null,null,null,null,null,null,null,null,null,null,null,null,null,null,null,null,null,null,null,null,null,null,null,null,null,null,null,null,null,null,null,null,null,null,"Physical activity",2014,"Aneurin Bevan UHB","Torfaen North","-",28.93891250409369]
[null,null,null,null,null,null,null,null,null,null,null,null,null,null,null,null,null,null,null,null,null,null,null,null,null,null,null,null,null,null,null,null,null,null,null,null,null,null,null,null,null,null,null,null,null,null,null,null,null,null,null,null,null,null,null,null,null,null,null,null,null,null,null,null,null,null,null,null,null,null,null,null,null,null,null,null,null,null,null,null,null,null,null,null,null,null,null,null,null,2018,"Aneurin Bevan","Newport North","W93043",6388,420,101,232,44,428,50,109,null,null,null,null,null,null,null,null,null,null,null,null,null,null,null,null,null,null,null,null,null,null,null,null,null,null,null,null,null,null,null,null,null,null,null,null,null,null,null,null,null,null,null,null,null,null,null,null,null,null,null,null,null,null,null,null,null,null,null,null,null,null,null,null,null,null,"Physical activity",2014,"Aneurin Bevan UHB","Torfaen South","-",29.494101209613593]
[null,null,null,null,null,null,null,null,null,null,null,null,null,null,null,null,null,null,null,null,null,null,null,null,null,null,null,null,null,null,null,null,null,null,null,null,null,null,null,null,null,null,null,null,null,null,null,null,null,null,null,null,null,null,null,null,null,null,null,null,null,null,null,null,null,null,null,null,null,null,null,null,null,null,null,null,null,null,null,null,null,null,null,null,null,null,null,null,null,2018,"Aneurin Bevan","Newport North","W93045",8165,575,151,249,62,561,72,167,null,null,null,null,null,null,null,null,null,null,null,null,null,null,null,null,null,null,null,null,null,null,null,null,null,null,null,null,null,null,null,null,null,null,null,null,null,null,null,null,null,null,null,null,null,null,null,null,null,null,null,null,null,null,null,null,null,null,null,null,null,null,null,null,null,null,"Physical activity",2014,"Aneurin Bevan UHB","Monmouthshire North","-",28.640120014362893]
[null,null,null,null,null,null,null,null,null,null,null,null,null,null,null,null,null,null,null,null,null,null,null,null,null,null,null,null,null,null,null,null,null,null,null,null,null,null,null,null,null,null,null,null,null,null,null,null,null,null,null,null,null,null,null,null,null,null,null,null,null,null,null,null,null,null,null,null,null,null,null,null,null,null,null,null,null,null,null,null,null,null,null,null,null,null,null,null,null,2018,"Aneurin Bevan","Newport North","W93049",12146,825,221,380,59,691,98,197,null,null,null,null,null,null,null,null,null,null,null,null,null,null,null,null,null,null,null,null,null,null,null,null,null,null,null,null,null,null,null,null,null,null,null,null,null,null,null,null,null,null,null,null,null,null,null,null,null,null,null,null,null,null,null,null,null,null,null,null,null,null,null,null,null,null,"Physical activity",2014,"Aneurin Bevan UHB","Monmouthshire South","-",29.245734495505292]
[null,null,null,null,null,null,null,null,null,null,null,null,null,null,null,null,null,null,null,null,null,null,null,null,null,null,null,null,null,null,null,null,null,null,null,null,null,null,null,null,null,null,null,null,null,null,null,null,null,null,null,null,null,null,null,null,null,null,null,null,null,null,null,null,null,null,null,null,null,null,null,null,null,null,null,null,null,null,null,null,null,null,null,null,null,null,null,null,null,2018,"Aneurin Bevan","Newport North","W93051",9242,739,211,306,38,553,83,171,null,null,null,null,null,null,null,null,null,null,null,null,null,null,null,null,null,null,null,null,null,null,null,null,null,null,null,null,null,null,null,null,null,null,null,null,null,null,null,null,null,null,null,null,null,null,null,null,null,null,null,null,null,null,null,null,null,null,null,null,null,null,null,null,null,null,"Physical activity",2014,"Aneurin Bevan UHB","Newport Central","-",29.238569665396653]
[null,null,null,null,null,null,null,null,null,null,null,null,null,null,null,null,null,null,null,null,null,null,null,null,null,null,null,null,null,null,null,null,null,null,null,null,null,null,null,null,null,null,null,null,null,null,null,null,null,null,null,null,null,null,null,null,null,null,null,null,null,null,null,null,null,null,null,null,null,null,null,null,null,null,null,null,null,null,null,null,null,null,null,null,null,null,null,null,null,2018,"Aneurin Bevan","Newport North","W93061",11521,802,183,404,122,594,76,231,null,null,null,null,null,null,null,null,null,null,null,null,null,null,null,null,null,null,null,null,null,null,null,null,null,null,null,null,null,null,null,null,null,null,null,null,null,null,null,null,null,null,null,null,null,null,null,null,null,null,null,null,null,null,null,null,null,null,null,null,null,null,null,null,null,null,"Physical activity",2014,"Aneurin Bevan UHB","Newport East","-",29.543462049375592]
[null,null,null,null,null,null,null,null,null,null,null,null,null,null,null,null,null,null,null,null,null,null,null,null,null,null,null,null,null,null,null,null,null,null,null,null,null,null,null,null,null,null,null,null,null,null,null,null,null,null,null,null,null,null,null,null,null,null,null,null,null,null,null,null,null,null,null,null,null,null,null,null,null,null,null,null,null,null,null,null,null,null,null,null,null,null,null,null,null,null,2018,"Aneurin Bevan","Newport North",{"$f":"SUM(CP164:CP169)","v":56899},{"$f":"SUM(CQ164:CQ169)","v":3971},994,1870,383,3254,479,1055,null,null,null,null,null,null,null,null,null,null,null,null,null,null,null,null,null,null,null,null,null,null,null,null,null,null,null,null,null,null,null,null,null,null,null,null,null,null,null,null,null,null,null,null,null,null,null,null,null,null,null,null,null,null,null,null,null,null,null,null,null,null,null,null,null,null,"Physical activity",2014,"Aneurin Bevan UHB","Newport West","-",29.209565080471528]
[null,null,null,null,null,null,null,null,null,null,null,null,null,null,null,null,null,null,null,null,null,null,null,null,null,null,null,null,null,null,null,null,null,null,null,null,null,null,null,null,null,null,null,null,null,null,null,null,null,null,null,null,null,null,null,null,null,null,null,null,null,null,null,null,null,null,null,null,null,null,null,null,null,null,null,null,null,null,null,null,null,null,null,null,null,null,null,null,null,null,null,null,null,null,null,null,null,null,null,null,null,null,null,null,null,null,null,null,null,null,null,null,null,null,null,null,null,null,null,null,null,null,null,null,null,null,null,null,null,null,null,null,null,null,null,null,null,null,null,null,null,null,null,null,null,null,null,null,null,null,null,null,null,null,null,null,null,null,null,null,null,null,null,null,null,null,null,"Physical activity",2014,"Betsi Cadwaladr UHB","-","-",29.153931910014425]
[null,null,null,null,null,null,null,null,null,null,null,null,null,null,null,null,null,null,null,null,null,null,null,null,null,null,null,null,null,null,null,null,null,null,null,null,null,null,null,null,null,null,null,null,null,null,null,null,null,null,null,null,null,null,null,null,null,null,null,null,null,null,null,null,null,null,null,null,null,null,null,null,null,null,null,null,null,null,null,null,null,null,null,null,null,null,null,null,null,2018,"Aneurin Bevan","Newport West","W93039",4594,204,106,115,18,400,31,53,null,null,null,null,null,null,null,null,null,null,null,null,null,null,null,null,null,null,null,null,null,null,null,null,null,null,null,null,null,null,null,null,null,null,null,null,null,null,null,null,null,null,null,null,null,null,null,null,null,null,null,null,null,null,null,null,null,null,null,null,null,null,null,null,null,null,"Physical activity",2014,"Betsi Cadwaladr UHB","Anglesey","-",28.809719833443069]
[null,null,null,null,null,null,null,null,null,null,null,null,null,null,null,null,null,null,null,null,null,null,null,null,null,null,null,null,null,null,null,null,null,null,null,null,null,null,null,null,null,null,null,null,null,null,null,null,null,null,null,null,null,null,null,null,null,null,null,null,null,null,null,null,null,null,null,null,null,null,null,null,null,null,null,null,null,null,null,null,null,null,null,null,null,null,null,null,null,2018,"Aneurin Bevan","Newport West","W93046",6477,473,113,172,25,375,54,105,null,null,null,null,null,null,null,null,null,null,null,null,null,null,null,null,null,null,null,null,null,null,null,null,null,null,null,null,null,null,null,null,null,null,null,null,null,null,null,null,null,null,null,null,null,null,null,null,null,null,null,null,null,null,null,null,null,null,null,null,null,null,null,null,null,null,"Physical activity",2014,"Betsi Cadwaladr UHB","Arfon","-",30.674626469552656]
[null,null,null,null,null,null,null,null,null,null,null,null,null,null,null,null,null,null,null,null,null,null,null,null,null,null,null,null,null,null,null,null,null,null,null,null,null,null,null,null,null,null,null,null,null,null,null,null,null,null,null,null,null,null,null,null,null,null,null,null,null,null,null,null,null,null,null,null,null,null,null,null,null,null,null,null,null,null,null,null,null,null,null,null,null,null,null,null,null,2018,"Aneurin Bevan","Newport West","W93048",17172,1189,449,490,191,1106,144,345,null,null,null,null,null,null,null,null,null,null,null,null,null,null,null,null,null,null,null,null,null,null,null,null,null,null,null,null,null,null,null,null,null,null,null,null,null,null,null,null,null,null,null,null,null,null,null,null,null,null,null,null,null,null,null,null,null,null,null,null,null,null,null,null,null,null,"Physical activity",2014,"Betsi Cadwaladr UHB","Dwyfor","-",28.953603291251433]
[null,null,null,null,null,null,null,null,null,null,null,null,null,null,null,null,null,null,null,null,null,null,null,null,null,null,null,null,null,null,null,null,null,null,null,null,null,null,null,null,null,null,null,null,null,null,null,null,null,null,null,null,null,null,null,null,null,null,null,null,null,null,null,null,null,null,null,null,null,null,null,null,null,null,null,null,null,null,null,null,null,null,null,null,null,null,null,null,null,2018,"Aneurin Bevan","Newport West","W93054",15395,1039,304,599,87,973,118,309,null,null,null,null,null,null,null,null,null,null,null,null,null,null,null,null,null,null,null,null,null,null,null,null,null,null,null,null,null,null,null,null,null,null,null,null,null,null,null,null,null,null,null,null,null,null,null,null,null,null,null,null,null,null,null,null,null,null,null,null,null,null,null,null,null,null,"Physical activity",2014,"Betsi Cadwaladr UHB","Meirionnydd","-",28.863280556980524]
[null,null,null,null,null,null,null,null,null,null,null,null,null,null,null,null,null,null,null,null,null,null,null,null,null,null,null,null,null,null,null,null,null,null,null,null,null,null,null,null,null,null,null,null,null,null,null,null,null,null,null,null,null,null,null,null,null,null,null,null,null,null,null,null,null,null,null,null,null,null,null,null,null,null,null,null,null,null,null,null,null,null,null,null,null,null,null,null,null,2018,"Aneurin Bevan","Newport West","W93116",5940,323,132,178,70,307,37,104,null,null,null,null,null,null,null,null,null,null,null,null,null,null,null,null,null,null,null,null,null,null,null,null,null,null,null,null,null,null,null,null,null,null,null,null,null,null,null,null,null,null,null,null,null,null,null,null,null,null,null,null,null,null,null,null,null,null,null,null,null,null,null,null,null,null,"Physical activity",2014,"Betsi Cadwaladr UHB","Conwy East","-",27.767960364170762]
[null,null,null,null,null,null,null,null,null,null,null,null,null,null,null,null,null,null,null,null,null,null,null,null,null,null,null,null,null,null,null,null,null,null,null,null,null,null,null,null,null,null,null,null,null,null,null,null,null,null,null,null,null,null,null,null,null,null,null,null,null,null,null,null,null,null,null,null,null,null,null,null,null,null,null,null,null,null,null,null,null,null,null,null,null,null,null,null,null,null,2018,"Aneurin Bevan","Newport West",{"$f":"SUM(CP172:CP176)","v":49578},{"$f":"SUM(CQ172:CQ176)","v":3228},1104,1554,391,3161,384,916,null,null,null,null,null,null,null,null,null,null,null,null,null,null,null,null,null,null,null,null,null,null,null,null,null,null,null,null,null,null,null,null,null,null,null,null,null,null,null,null,null,null,null,null,null,null,null,null,null,null,null,null,null,null,null,null,null,null,null,null,null,null,null,null,null,null,"Physical activity",2014,"Betsi Cadwaladr UHB","Conwy West","-",28.606282274926702]
[null,null,null,null,null,null,null,null,null,null,null,null,null,null,null,null,null,null,null,null,null,null,null,null,null,null,null,null,null,null,null,null,null,null,null,null,null,null,null,null,null,null,null,null,null,null,null,null,null,null,null,null,null,null,null,null,null,null,null,null,null,null,null,null,null,null,null,null,null,null,null,null,null,null,null,null,null,null,null,null,null,null,null,null,null,null,null,null,null,null,null,null,null,null,null,null,null,null,null,null,null,null,null,null,null,null,null,null,null,null,null,null,null,null,null,null,null,null,null,null,null,null,null,null,null,null,null,null,null,null,null,null,null,null,null,null,null,null,null,null,null,null,null,null,null,null,null,null,null,null,null,null,null,null,null,null,null,null,null,null,null,null,null,null,null,null,null,"Physical activity",2014,"Betsi Cadwaladr UHB","Central & South Denbighshire","-",28.843556594975905]
[null,null,null,null,null,null,null,null,null,null,null,null,null,null,null,null,null,null,null,null,null,null,null,null,null,null,null,null,null,null,null,null,null,null,null,null,null,null,null,null,null,null,null,null,null,null,null,null,null,null,null,null,null,null,null,null,null,null,null,null,null,null,null,null,null,null,null,null,null,null,null,null,null,null,null,null,null,null,null,null,null,null,null,null,null,null,null,null,null,2018,"Aneurin Bevan","Torfaen North","W93015",6385,485,159,253,23,423,52,135,null,null,null,null,null,null,null,null,null,null,null,null,null,null,null,null,null,null,null,null,null,null,null,null,null,null,null,null,null,null,null,null,null,null,null,null,null,null,null,null,null,null,null,null,null,null,null,null,null,null,null,null,null,null,null,null,null,null,null,null,null,null,null,null,null,null,"Physical activity",2014,"Betsi Cadwaladr UHB","North Denbighshire","-",28.356840232817408]
[null,null,null,null,null,null,null,null,null,null,null,null,null,null,null,null,null,null,null,null,null,null,null,null,null,null,null,null,null,null,null,null,null,null,null,null,null,null,null,null,null,null,null,null,null,null,null,null,null,null,null,null,null,null,null,null,null,null,null,null,null,null,null,null,null,null,null,null,null,null,null,null,null,null,null,null,null,null,null,null,null,null,null,null,null,null,null,null,null,2018,"Aneurin Bevan","Torfaen North","W93031",6559,374,137,246,34,409,74,118,null,null,null,null,null,null,null,null,null,null,null,null,null,null,null,null,null,null,null,null,null,null,null,null,null,null,null,null,null,null,null,null,null,null,null,null,null,null,null,null,null,null,null,null,null,null,null,null,null,null,null,null,null,null,null,null,null,null,null,null,null,null,null,null,null,null,"Physical activity",2014,"Betsi Cadwaladr UHB","South Wrexham","-",29.645787893705634]
[null,null,null,null,null,null,null,null,null,null,null,null,null,null,null,null,null,null,null,null,null,null,null,null,null,null,null,null,null,null,null,null,null,null,null,null,null,null,null,null,null,null,null,null,null,null,null,null,null,null,null,null,null,null,null,null,null,null,null,null,null,null,null,null,null,null,null,null,null,null,null,null,null,null,null,null,null,null,null,null,null,null,null,null,null,null,null,null,null,2018,"Aneurin Bevan","Torfaen North","W93055",7101,590,180,259,41,524,52,142,null,null,null,null,null,null,null,null,null,null,null,null,null,null,null,null,null,null,null,null,null,null,null,null,null,null,null,null,null,null,null,null,null,null,null,null,null,null,null,null,null,null,null,null,null,null,null,null,null,null,null,null,null,null,null,null,null,null,null,null,null,null,null,null,null,null,"Physical activity",2014,"Betsi Cadwaladr UHB","Deeside, Hawarden & Saltney","-",29.5199120711954]
[null,null,null,null,null,null,null,null,null,null,null,null,null,null,null,null,null,null,null,null,null,null,null,null,null,null,null,null,null,null,null,null,null,null,null,null,null,null,null,null,null,null,null,null,null,null,null,null,null,null,null,null,null,null,null,null,null,null,null,null,null,null,null,null,null,null,null,null,null,null,null,null,null,null,null,null,null,null,null,null,null,null,null,null,null,null,null,null,null,2018,"Aneurin Bevan","Torfaen North","W93056",6907,530,141,277,60,494,64,114,null,null,null,null,null,null,null,null,null,null,null,null,null,null,null,null,null,null,null,null,null,null,null,null,null,null,null,null,null,null,null,null,null,null,null,null,null,null,null,null,null,null,null,null,null,null,null,null,null,null,null,null,null,null,null,null,null,null,null,null,null,null,null,null,null,null,"Physical activity",2014,"Betsi Cadwaladr UHB","Holywell & Flint","-",29.397862588148715]
[null,null,null,null,null,null,null,null,null,null,null,null,null,null,null,null,null,null,null,null,null,null,null,null,null,null,null,null,null,null,null,null,null,null,null,null,null,null,null,null,null,null,null,null,null,null,null,null,null,null,null,null,null,null,null,null,null,null,null,null,null,null,null,null,null,null,null,null,null,null,null,null,null,null,null,null,null,null,null,null,null,null,null,null,null,null,null,null,null,2018,"Aneurin Bevan","Torfaen North","W93057",10645,972,349,461,60,813,148,254,null,null,null,null,null,null,null,null,null,null,null,null,null,null,null,null,null,null,null,null,null,null,null,null,null,null,null,null,null,null,null,null,null,null,null,null,null,null,null,null,null,null,null,null,null,null,null,null,null,null,null,null,null,null,null,null,null,null,null,null,null,null,null,null,null,null,"Physical activity",2014,"Betsi Cadwaladr UHB","Mold, Buckley & Caergwle","-",28.912896280944633]
[null,null,null,null,null,null,null,null,null,null,null,null,null,null,null,null,null,null,null,null,null,null,null,null,null,null,null,null,null,null,null,null,null,null,null,null,null,null,null,null,null,null,null,null,null,null,null,null,null,null,null,null,null,null,null,null,null,null,null,null,null,null,null,null,null,null,null,null,null,null,null,null,null,null,null,null,null,null,null,null,null,null,null,null,null,null,null,null,null,2018,"Aneurin Bevan","Torfaen North","W93058",11854,960,317,519,93,883,165,312,null,null,null,null,null,null,null,null,null,null,null,null,null,null,null,null,null,null,null,null,null,null,null,null,null,null,null,null,null,null,null,null,null,null,null,null,null,null,null,null,null,null,null,null,null,null,null,null,null,null,null,null,null,null,null,null,null,null,null,null,null,null,null,null,null,null,"Physical activity",2014,"Betsi Cadwaladr UHB","West & North Wrexham","-",29.853928031353906]
[null,null,null,null,null,null,null,null,null,null,null,null,null,null,null,null,null,null,null,null,null,null,null,null,null,null,null,null,null,null,null,null,null,null,null,null,null,null,null,null,null,null,null,null,null,null,null,null,null,null,null,null,null,null,null,null,null,null,null,null,null,null,null,null,null,null,null,null,null,null,null,null,null,null,null,null,null,null,null,null,null,null,null,null,null,null,null,null,null,null,2018,"Aneurin Bevan","Torfaen North",{"$f":"SUM(CP179:CP184)","v":49451},{"$f":"SUM(CQ179:CQ184)","v":3911},1283,2015,311,3546,555,1075,null,null,null,null,null,null,null,null,null,null,null,null,null,null,null,null,null,null,null,null,null,null,null,null,null,null,null,null,null,null,null,null,null,null,null,null,null,null,null,null,null,null,null,null,null,null,null,null,null,null,null,null,null,null,null,null,null,null,null,null,null,null,null,null,null,null,"Physical activity",2014,"Betsi Cadwaladr UHB","Wrexham Town","-",29.86415494337389]
[null,null,null,null,null,null,null,null,null,null,null,null,null,null,null,null,null,null,null,null,null,null,null,null,null,null,null,null,null,null,null,null,null,null,null,null,null,null,null,null,null,null,null,null,null,null,null,null,null,null,null,null,null,null,null,null,null,null,null,null,null,null,null,null,null,null,null,null,null,null,null,null,null,null,null,null,null,null,null,null,null,null,null,null,null,null,null,null,null,null,null,null,null,null,null,null,null,null,null,null,null,null,null,null,null,null,null,null,null,null,null,null,null,null,null,null,null,null,null,null,null,null,null,null,null,null,null,null,null,null,null,null,null,null,null,null,null,null,null,null,null,null,null,null,null,null,null,null,null,null,null,null,null,null,null,null,null,null,null,null,null,null,null,null,null,null,null,"Physical activity",2014,"Cardiff & Vale UHB","-","-",30.03398942008355]
[null,null,null,null,null,null,null,null,null,null,null,null,null,null,null,null,null,null,null,null,null,null,null,null,null,null,null,null,null,null,null,null,null,null,null,null,null,null,null,null,null,null,null,null,null,null,null,null,null,null,null,null,null,null,null,null,null,null,null,null,null,null,null,null,null,null,null,null,null,null,null,null,null,null,null,null,null,null,null,null,null,null,null,null,null,null,null,null,null,2018,"Aneurin Bevan","Torfaen South","W93024",8392,642,172,357,70,634,71,211,null,null,null,null,null,null,null,null,null,null,null,null,null,null,null,null,null,null,null,null,null,null,null,null,null,null,null,null,null,null,null,null,null,null,null,null,null,null,null,null,null,null,null,null,null,null,null,null,null,null,null,null,null,null,null,null,null,null,null,null,null,null,null,null,null,null,"Physical activity",2014,"Cardiff & Vale UHB","Cardiff North","-",29.850984123116454]
[null,null,null,null,null,null,null,null,null,null,null,null,null,null,null,null,null,null,null,null,null,null,null,null,null,null,null,null,null,null,null,null,null,null,null,null,null,null,null,null,null,null,null,null,null,null,null,null,null,null,null,null,null,null,null,null,null,null,null,null,null,null,null,null,null,null,null,null,null,null,null,null,null,null,null,null,null,null,null,null,null,null,null,null,null,null,null,null,null,2018,"Aneurin Bevan","Torfaen South","W93025",4280,293,98,186,23,237,40,92,null,null,null,null,null,null,null,null,null,null,null,null,null,null,null,null,null,null,null,null,null,null,null,null,null,null,null,null,null,null,null,null,null,null,null,null,null,null,null,null,null,null,null,null,null,null,null,null,null,null,null,null,null,null,null,null,null,null,null,null,null,null,null,null,null,null,"Physical activity",2014,"Cardiff & Vale UHB","Cardiff East","-",29.975588751496701]
[null,null,null,null,null,null,null,null,null,null,null,null,null,null,null,null,null,null,null,null,null,null,null,null,null,null,null,null,null,null,null,null,null,null,null,null,null,null,null,null,null,null,null,null,null,null,null,null,null,null,null,null,null,null,null,null,null,null,null,null,null,null,null,null,null,null,null,null,null,null,null,null,null,null,null,null,null,null,null,null,null,null,null,null,null,null,null,null,null,2018,"Aneurin Bevan","Torfaen South","W93026",4076,233,135,186,21,266,50,95,null,null,null,null,null,null,null,null,null,null,null,null,null,null,null,null,null,null,null,null,null,null,null,null,null,null,null,null,null,null,null,null,null,null,null,null,null,null,null,null,null,null,null,null,null,null,null,null,null,null,null,null,null,null,null,null,null,null,null,null,null,null,null,null,null,null,"Physical activity",2014,"Cardiff & Vale UHB","Cardiff South East","-",32.404416858456258]
[null,null,null,null,null,null,null,null,null,null,null,null,null,null,null,null,null,null,null,null,null,null,null,null,null,null,null,null,null,null,null,null,null,null,null,null,null,null,null,null,null,null,null,null,null,null,null,null,null,null,null,null,null,null,null,null,null,null,null,null,null,null,null,null,null,null,null,null,null,null,null,null,null,null,null,null,null,null,null,null,null,null,null,null,null,null,null,null,null,2018,"Aneurin Bevan","Torfaen South","W93027",8435,495,136,360,47,540,89,185,null,null,null,null,null,null,null,null,null,null,null,null,null,null,null,null,null,null,null,null,null,null,null,null,null,null,null,null,null,null,null,null,null,null,null,null,null,null,null,null,null,null,null,null,null,null,null,null,null,null,null,null,null,null,null,null,null,null,null,null,null,null,null,null,null,null,"Physical activity",2014,"Cardiff & Vale UHB","Cardiff South West","-",30.290239527432277]
[null,null,null,null,null,null,null,null,null,null,null,null,null,null,null,null,null,null,null,null,null,null,null,null,null,null,null,null,null,null,null,null,null,null,null,null,null,null,null,null,null,null,null,null,null,null,null,null,null,null,null,null,null,null,null,null,null,null,null,null,null,null,null,null,null,null,null,null,null,null,null,null,null,null,null,null,null,null,null,null,null,null,null,null,null,null,null,null,null,2018,"Aneurin Bevan","Torfaen South","W93028",7011,518,175,221,38,478,63,147,null,null,null,null,null,null,null,null,null,null,null,null,null,null,null,null,null,null,null,null,null,null,null,null,null,null,null,null,null,null,null,null,null,null,null,null,null,null,null,null,null,null,null,null,null,null,null,null,null,null,null,null,null,null,null,null,null,null,null,null,null,null,null,null,null,null,"Physical activity",2014,"Cardiff & Vale UHB","Cardiff West","-",29.080114620970605]
[null,null,null,null,null,null,null,null,null,null,null,null,null,null,null,null,null,null,null,null,null,null,null,null,null,null,null,null,null,null,null,null,null,null,null,null,null,null,null,null,null,null,null,null,null,null,null,null,null,null,null,null,null,null,null,null,null,null,null,null,null,null,null,null,null,null,null,null,null,null,null,null,null,null,null,null,null,null,null,null,null,null,null,null,null,null,null,null,null,2018,"Aneurin Bevan","Torfaen South","W93029",7125,513,212,248,81,403,78,129,null,null,null,null,null,null,null,null,null,null,null,null,null,null,null,null,null,null,null,null,null,null,null,null,null,null,null,null,null,null,null,null,null,null,null,null,null,null,null,null,null,null,null,null,null,null,null,null,null,null,null,null,null,null,null,null,null,null,null,null,null,null,null,null,null,null,"Physical activity",2014,"Cardiff & Vale UHB","City & Cardiff South","-",31.712194663891385]
[null,null,null,null,null,null,null,null,null,null,null,null,null,null,null,null,null,null,null,null,null,null,null,null,null,null,null,null,null,null,null,null,null,null,null,null,null,null,null,null,null,null,null,null,null,null,null,null,null,null,null,null,null,null,null,null,null,null,null,null,null,null,null,null,null,null,null,null,null,null,null,null,null,null,null,null,null,null,null,null,null,null,null,null,null,null,null,null,null,2018,"Aneurin Bevan","Torfaen South","W93030",6545,521,119,224,28,372,52,107,null,null,null,null,null,null,null,null,null,null,null,null,null,null,null,null,null,null,null,null,null,null,null,null,null,null,null,null,null,null,null,null,null,null,null,null,null,null,null,null,null,null,null,null,null,null,null,null,null,null,null,null,null,null,null,null,null,null,null,null,null,null,null,null,null,null,"Physical activity",2014,"Cardiff & Vale UHB","Central Vale","-",29.200666312520518]
[null,null,null,null,null,null,null,null,null,null,null,null,null,null,null,null,null,null,null,null,null,null,null,null,null,null,null,null,null,null,null,null,null,null,null,null,null,null,null,null,null,null,null,null,null,null,null,null,null,null,null,null,null,null,null,null,null,null,null,null,null,null,null,null,null,null,null,null,null,null,null,null,null,null,null,null,null,null,null,null,null,null,null,null,null,null,null,null,null,null,2018,"Aneurin Bevan","Torfaen South",{"$f":"SUM(CP187:CP193)","v":45864},{"$f":"SUM(CQ187:CQ193)","v":3215},1047,1782,308,2930,443,966,null,null,null,null,null,null,null,null,null,null,null,null,null,null,null,null,null,null,null,null,null,null,null,null,null,null,null,null,null,null,null,null,null,null,null,null,null,null,null,null,null,null,null,null,null,null,null,null,null,null,null,null,null,null,null,null,null,null,null,null,null,null,null,null,null,null,"Physical activity",2014,"Cardiff & Vale UHB","Eastern Vale","-",28.464311580200309]
[null,null,null,null,null,null,null,null,null,null,null,null,null,null,null,null,null,null,null,null,null,null,null,null,null,null,null,null,null,null,null,null,null,null,null,null,null,null,null,null,null,null,null,null,null,null,null,null,null,null,null,null,null,null,null,null,null,null,null,null,null,null,null,null,null,null,null,null,null,null,null,null,null,null,null,null,null,null,null,null,null,null,null,null,null,null,null,null,null,null,null,null,null,null,null,null,null,null,null,null,null,null,null,null,null,null,null,null,null,null,null,null,null,null,null,null,null,null,null,null,null,null,null,null,null,null,null,null,null,null,null,null,null,null,null,null,null,null,null,null,null,null,null,null,null,null,null,null,null,null,null,null,null,null,null,null,null,null,null,null,null,null,null,null,null,null,null,"Physical activity",2014,"Cardiff & Vale UHB","Western Vale","-",28.346894126705013]
[null,null,null,null,null,null,null,null,null,null,null,null,null,null,null,null,null,null,null,null,null,null,null,null,null,null,null,null,null,null,null,null,null,null,null,null,null,null,null,null,null,null,null,null,null,null,null,null,null,null,null,null,null,null,null,null,null,null,null,null,null,null,null,null,null,null,null,null,null,null,null,null,null,null,null,null,null,null,null,null,null,null,null,null,null,null,null,null,null,2018,"Betsi Cadwaladr","Anglesey","W94002",10015,939,373,449,62,693,118,293,null,null,null,null,null,null,null,null,null,null,null,null,null,null,null,null,null,null,null,null,null,null,null,null,null,null,null,null,null,null,null,null,null,null,null,null,null,null,null,null,null,null,null,null,null,null,null,null,null,null,null,null,null,null,null,null,null,null,null,null,null,null,null,null,null,null,"Physical activity",2014,"Cwm Taf UHB","-","-",29.174991056822012]
[null,null,null,null,null,null,null,null,null,null,null,null,null,null,null,null,null,null,null,null,null,null,null,null,null,null,null,null,null,null,null,null,null,null,null,null,null,null,null,null,null,null,null,null,null,null,null,null,null,null,null,null,null,null,null,null,null,null,null,null,null,null,null,null,null,null,null,null,null,null,null,null,null,null,null,null,null,null,null,null,null,null,null,null,null,null,null,null,null,2018,"Betsi Cadwaladr","Anglesey","W94006",4746,459,129,194,39,302,85,132,null,null,null,null,null,null,null,null,null,null,null,null,null,null,null,null,null,null,null,null,null,null,null,null,null,null,null,null,null,null,null,null,null,null,null,null,null,null,null,null,null,null,null,null,null,null,null,null,null,null,null,null,null,null,null,null,null,null,null,null,null,null,null,null,null,null,"Physical activity",2014,"Cwm Taf UHB","North Cynon","-",28.739037507148524]
[null,null,null,null,null,null,null,null,null,null,null,null,null,null,null,null,null,null,null,null,null,null,null,null,null,null,null,null,null,null,null,null,null,null,null,null,null,null,null,null,null,null,null,null,null,null,null,null,null,null,null,null,null,null,null,null,null,null,null,null,null,null,null,null,null,null,null,null,null,null,null,null,null,null,null,null,null,null,null,null,null,null,null,null,null,null,null,null,null,2018,"Betsi Cadwaladr","Anglesey","W94009",4645,434,113,208,53,309,91,115,null,null,null,null,null,null,null,null,null,null,null,null,null,null,null,null,null,null,null,null,null,null,null,null,null,null,null,null,null,null,null,null,null,null,null,null,null,null,null,null,null,null,null,null,null,null,null,null,null,null,null,null,null,null,null,null,null,null,null,null,null,null,null,null,null,null,"Physical activity",2014,"Cwm Taf UHB","North Rhondda","-",28.363512400242683]
[null,null,null,null,null,null,null,null,null,null,null,null,null,null,null,null,null,null,null,null,null,null,null,null,null,null,null,null,null,null,null,null,null,null,null,null,null,null,null,null,null,null,null,null,null,null,null,null,null,null,null,null,null,null,null,null,null,null,null,null,null,null,null,null,null,null,null,null,null,null,null,null,null,null,null,null,null,null,null,null,null,null,null,null,null,null,null,null,null,2018,"Betsi Cadwaladr","Anglesey","W94014",4696,424,131,160,30,284,45,118,null,null,null,null,null,null,null,null,null,null,null,null,null,null,null,null,null,null,null,null,null,null,null,null,null,null,null,null,null,null,null,null,null,null,null,null,null,null,null,null,null,null,null,null,null,null,null,null,null,null,null,null,null,null,null,null,null,null,null,null,null,null,null,null,null,null,"Physical activity",2014,"Cwm Taf UHB","North Taf Ely","-",30.249130933138936]
[null,null,null,null,null,null,null,null,null,null,null,null,null,null,null,null,null,null,null,null,null,null,null,null,null,null,null,null,null,null,null,null,null,null,null,null,null,null,null,null,null,null,null,null,null,null,null,null,null,null,null,null,null,null,null,null,null,null,null,null,null,null,null,null,null,null,null,null,null,null,null,null,null,null,null,null,null,null,null,null,null,null,null,null,null,null,null,null,null,2018,"Betsi Cadwaladr","Anglesey","W94015",8198,752,274,460,129,514,133,242,null,null,null,null,null,null,null,null,null,null,null,null,null,null,null,null,null,null,null,null,null,null,null,null,null,null,null,null,null,null,null,null,null,null,null,null,null,null,null,null,null,null,null,null,null,null,null,null,null,null,null,null,null,null,null,null,null,null,null,null,null,null,null,null,null,null,"Physical activity",2014,"Cwm Taf UHB","South Cynon","-",28.896529368219802]
[null,null,null,null,null,null,null,null,null,null,null,null,null,null,null,null,null,null,null,null,null,null,null,null,null,null,null,null,null,null,null,null,null,null,null,null,null,null,null,null,null,null,null,null,null,null,null,null,null,null,null,null,null,null,null,null,null,null,null,null,null,null,null,null,null,null,null,null,null,null,null,null,null,null,null,null,null,null,null,null,null,null,null,null,null,null,null,null,null,2018,"Betsi Cadwaladr","Anglesey","W94023",7167,411,207,277,40,479,85,164,null,null,null,null,null,null,null,null,null,null,null,null,null,null,null,null,null,null,null,null,null,null,null,null,null,null,null,null,null,null,null,null,null,null,null,null,null,null,null,null,null,null,null,null,null,null,null,null,null,null,null,null,null,null,null,null,null,null,null,null,null,null,null,null,null,null,"Physical activity",2014,"Cwm Taf UHB","South Rhondda","-",28.784917278113532]
[null,null,null,null,null,null,null,null,null,null,null,null,null,null,null,null,null,null,null,null,null,null,null,null,null,null,null,null,null,null,null,null,null,null,null,null,null,null,null,null,null,null,null,null,null,null,null,null,null,null,null,null,null,null,null,null,null,null,null,null,null,null,null,null,null,null,null,null,null,null,null,null,null,null,null,null,null,null,null,null,null,null,null,null,null,null,null,null,null,2018,"Betsi Cadwaladr","Anglesey","W94026",5228,319,198,192,30,313,42,130,null,null,null,null,null,null,null,null,null,null,null,null,null,null,null,null,null,null,null,null,null,null,null,null,null,null,null,null,null,null,null,null,null,null,null,null,null,null,null,null,null,null,null,null,null,null,null,null,null,null,null,null,null,null,null,null,null,null,null,null,null,null,null,null,null,null,"Physical activity",2014,"Cwm Taf UHB","South Taf Ely","-",29.22058225777004]
[null,null,null,null,null,null,null,null,null,null,null,null,null,null,null,null,null,null,null,null,null,null,null,null,null,null,null,null,null,null,null,null,null,null,null,null,null,null,null,null,null,null,null,null,null,null,null,null,null,null,null,null,null,null,null,null,null,null,null,null,null,null,null,null,null,null,null,null,null,null,null,null,null,null,null,null,null,null,null,null,null,null,null,null,null,null,null,null,null,2018,"Betsi Cadwaladr","Anglesey","W94029",6980,574,160,249,40,391,62,141,null,null,null,null,null,null,null,null,null,null,null,null,null,null,null,null,null,null,null,null,null,null,null,null,null,null,null,null,null,null,null,null,null,null,null,null,null,null,null,null,null,null,null,null,null,null,null,null,null,null,null,null,null,null,null,null,null,null,null,null,null,null,null,null,null,null,"Physical activity",2014,"Cwm Taf UHB","North Merthyr Tydfil","-",29.250682804289674]
[null,null,null,null,null,null,null,null,null,null,null,null,null,null,null,null,null,null,null,null,null,null,null,null,null,null,null,null,null,null,null,null,null,null,null,null,null,null,null,null,null,null,null,null,null,null,null,null,null,null,null,null,null,null,null,null,null,null,null,null,null,null,null,null,null,null,null,null,null,null,null,null,null,null,null,null,null,null,null,null,null,null,null,null,null,null,null,null,null,2018,"Betsi Cadwaladr","Anglesey","W94038",10334,754,268,369,60,683,105,231,null,null,null,null,null,null,null,null,null,null,null,null,null,null,null,null,null,null,null,null,null,null,null,null,null,null,null,null,null,null,null,null,null,null,null,null,null,null,null,null,null,null,null,null,null,null,null,null,null,null,null,null,null,null,null,null,null,null,null,null,null,null,null,null,null,null,"Physical activity",2014,"Cwm Taf UHB","South Merthyr Tydfil","-",29.674457871680083]
[null,null,null,null,null,null,null,null,null,null,null,null,null,null,null,null,null,null,null,null,null,null,null,null,null,null,null,null,null,null,null,null,null,null,null,null,null,null,null,null,null,null,null,null,null,null,null,null,null,null,null,null,null,null,null,null,null,null,null,null,null,null,null,null,null,null,null,null,null,null,null,null,null,null,null,null,null,null,null,null,null,null,null,null,null,null,null,null,null,2018,"Betsi Cadwaladr","Anglesey","W94043",2283,172,48,88,10,153,22,42,null,null,null,null,null,null,null,null,null,null,null,null,null,null,null,null,null,null,null,null,null,null,null,null,null,null,null,null,null,null,null,null,null,null,null,null,null,null,null,null,null,null,null,null,null,null,null,null,null,null,null,null,null,null,null,null,null,null,null,null,null,null,null,null,null,null,"Physical activity",2014,"Hywel Dda UHB","-","-",29.438454389445333]
[null,null,null,null,null,null,null,null,null,null,null,null,null,null,null,null,null,null,null,null,null,null,null,null,null,null,null,null,null,null,null,null,null,null,null,null,null,null,null,null,null,null,null,null,null,null,null,null,null,null,null,null,null,null,null,null,null,null,null,null,null,null,null,null,null,null,null,null,null,null,null,null,null,null,null,null,null,null,null,null,null,null,null,null,null,null,null,null,null,2018,"Betsi Cadwaladr","Anglesey","W94633",1293,99,38,56,2,73,18,31,null,null,null,null,null,null,null,null,null,null,null,null,null,null,null,null,null,null,null,null,null,null,null,null,null,null,null,null,null,null,null,null,null,null,null,null,null,null,null,null,null,null,null,null,null,null,null,null,null,null,null,null,null,null,null,null,null,null,null,null,null,null,null,null,null,null,"Physical activity",2014,"Hywel Dda UHB","North Ceredigion","-",30.931124636498371]
[null,null,null,null,null,null,null,null,null,null,null,null,null,null,null,null,null,null,null,null,null,null,null,null,null,null,null,null,null,null,null,null,null,null,null,null,null,null,null,null,null,null,null,null,null,null,null,null,null,null,null,null,null,null,null,null,null,null,null,null,null,null,null,null,null,null,null,null,null,null,null,null,null,null,null,null,null,null,null,null,null,null,null,null,null,null,null,null,null,null,2018,"Betsi Cadwaladr","Anglesey",{"$f":"SUM(CP196:CP206)","v":65585},{"$f":"SUM(CQ196:CQ206)","v":5337},1939,2702,495,4194,806,1639,null,null,null,null,null,null,null,null,null,null,null,null,null,null,null,null,null,null,null,null,null,null,null,null,null,null,null,null,null,null,null,null,null,null,null,null,null,null,null,null,null,null,null,null,null,null,null,null,null,null,null,null,null,null,null,null,null,null,null,null,null,null,null,null,null,null,"Physical activity",2014,"Hywel Dda UHB","South Ceredigion","-",29.393901452518328]
[null,null,null,null,null,null,null,null,null,null,null,null,null,null,null,null,null,null,null,null,null,null,null,null,null,null,null,null,null,null,null,null,null,null,null,null,null,null,null,null,null,null,null,null,null,null,null,null,null,null,null,null,null,null,null,null,null,null,null,null,null,null,null,null,null,null,null,null,null,null,null,null,null,null,null,null,null,null,null,null,null,null,null,null,null,null,null,null,null,null,null,null,null,null,null,null,null,null,null,null,null,null,null,null,null,null,null,null,null,null,null,null,null,null,null,null,null,null,null,null,null,null,null,null,null,null,null,null,null,null,null,null,null,null,null,null,null,null,null,null,null,null,null,null,null,null,null,null,null,null,null,null,null,null,null,null,null,null,null,null,null,null,null,null,null,null,null,"Physical activity",2014,"Hywel Dda UHB","North Pembrokeshire","-",29.366343139285345]
[null,null,null,null,null,null,null,null,null,null,null,null,null,null,null,null,null,null,null,null,null,null,null,null,null,null,null,null,null,null,null,null,null,null,null,null,null,null,null,null,null,null,null,null,null,null,null,null,null,null,null,null,null,null,null,null,null,null,null,null,null,null,null,null,null,null,null,null,null,null,null,null,null,null,null,null,null,null,null,null,null,null,null,null,null,null,null,null,null,2018,"Betsi Cadwaladr","Arfon","W94010",11623,534,164,134,21,280,25,97,null,null,null,null,null,null,null,null,null,null,null,null,null,null,null,null,null,null,null,null,null,null,null,null,null,null,null,null,null,null,null,null,null,null,null,null,null,null,null,null,null,null,null,null,null,null,null,null,null,null,null,null,null,null,null,null,null,null,null,null,null,null,null,null,null,null,"Physical activity",2014,"Hywel Dda UHB","South Pembrokeshire","-",29.00543267336143]
[null,null,null,null,null,null,null,null,null,null,null,null,null,null,null,null,null,null,null,null,null,null,null,null,null,null,null,null,null,null,null,null,null,null,null,null,null,null,null,null,null,null,null,null,null,null,null,null,null,null,null,null,null,null,null,null,null,null,null,null,null,null,null,null,null,null,null,null,null,null,null,null,null,null,null,null,null,null,null,null,null,null,null,null,null,null,null,null,null,2018,"Betsi Cadwaladr","Arfon","W94017",5928,506,165,174,52,283,55,123,null,null,null,null,null,null,null,null,null,null,null,null,null,null,null,null,null,null,null,null,null,null,null,null,null,null,null,null,null,null,null,null,null,null,null,null,null,null,null,null,null,null,null,null,null,null,null,null,null,null,null,null,null,null,null,null,null,null,null,null,null,null,null,null,null,null,"Physical activity",2014,"Hywel Dda UHB","Taf / Teifi / Tywi","-",29.508651264864444]
[null,null,null,null,null,null,null,null,null,null,null,null,null,null,null,null,null,null,null,null,null,null,null,null,null,null,null,null,null,null,null,null,null,null,null,null,null,null,null,null,null,null,null,null,null,null,null,null,null,null,null,null,null,null,null,null,null,null,null,null,null,null,null,null,null,null,null,null,null,null,null,null,null,null,null,null,null,null,null,null,null,null,null,null,null,null,null,null,null,2018,"Betsi Cadwaladr","Arfon","W94027",5993,369,141,204,31,267,45,109,null,null,null,null,null,null,null,null,null,null,null,null,null,null,null,null,null,null,null,null,null,null,null,null,null,null,null,null,null,null,null,null,null,null,null,null,null,null,null,null,null,null,null,null,null,null,null,null,null,null,null,null,null,null,null,null,null,null,null,null,null,null,null,null,null,null,"Physical activity",2014,"Hywel Dda UHB","Amman/Gwendraeth","-",29.11788129656291]
[null,null,null,null,null,null,null,null,null,null,null,null,null,null,null,null,null,null,null,null,null,null,null,null,null,null,null,null,null,null,null,null,null,null,null,null,null,null,null,null,null,null,null,null,null,null,null,null,null,null,null,null,null,null,null,null,null,null,null,null,null,null,null,null,null,null,null,null,null,null,null,null,null,null,null,null,null,null,null,null,null,null,null,null,null,null,null,null,null,2018,"Betsi Cadwaladr","Arfon","W94028",6320,467,168,182,27,300,46,79,null,null,null,null,null,null,null,null,null,null,null,null,null,null,null,null,null,null,null,null,null,null,null,null,null,null,null,null,null,null,null,null,null,null,null,null,null,null,null,null,null,null,null,null,null,null,null,null,null,null,null,null,null,null,null,null,null,null,null,null,null,null,null,null,null,null,"Physical activity",2014,"Hywel Dda UHB","Llanelli","-",28.990036117988023]
[null,null,null,null,null,null,null,null,null,null,null,null,null,null,null,null,null,null,null,null,null,null,null,null,null,null,null,null,null,null,null,null,null,null,null,null,null,null,null,null,null,null,null,null,null,null,null,null,null,null,null,null,null,null,null,null,null,null,null,null,null,null,null,null,null,null,null,null,null,null,null,null,null,null,null,null,null,null,null,null,null,null,null,null,null,null,null,null,null,2018,"Betsi Cadwaladr","Arfon","W94030",13128,923,371,460,130,711,153,231,null,null,null,null,null,null,null,null,null,null,null,null,null,null,null,null,null,null,null,null,null,null,null,null,null,null,null,null,null,null,null,null,null,null,null,null,null,null,null,null,null,null,null,null,null,null,null,null,null,null,null,null,null,null,null,null,null,null,null,null,null,null,null,null,null,null,"Physical activity",2014,"Powys THB","-","-",29.069355106041122]
[null,null,null,null,null,null,null,null,null,null,null,null,null,null,null,null,null,null,null,null,null,null,null,null,null,null,null,null,null,null,null,null,null,null,null,null,null,null,null,null,null,null,null,null,null,null,null,null,null,null,null,null,null,null,null,null,null,null,null,null,null,null,null,null,null,null,null,null,null,null,null,null,null,null,null,null,null,null,null,null,null,null,null,null,null,null,null,null,null,2018,"Betsi Cadwaladr","Arfon","W94033",2742,215,49,99,11,128,19,55,null,null,null,null,null,null,null,null,null,null,null,null,null,null,null,null,null,null,null,null,null,null,null,null,null,null,null,null,null,null,null,null,null,null,null,null,null,null,null,null,null,null,null,null,null,null,null,null,null,null,null,null,null,null,null,null,null,null,null,null,null,null,null,null,null,null,"Physical activity",2014,"Powys tHB","North Powys","-",29.389152349256243]
[null,null,null,null,null,null,null,null,null,null,null,null,null,null,null,null,null,null,null,null,null,null,null,null,null,null,null,null,null,null,null,null,null,null,null,null,null,null,null,null,null,null,null,null,null,null,null,null,null,null,null,null,null,null,null,null,null,null,null,null,null,null,null,null,null,null,null,null,null,null,null,null,null,null,null,null,null,null,null,null,null,null,null,null,null,null,null,null,null,2018,"Betsi Cadwaladr","Arfon","W94034",8970,638,255,219,94,432,65,127,null,null,null,null,null,null,null,null,null,null,null,null,null,null,null,null,null,null,null,null,null,null,null,null,null,null,null,null,null,null,null,null,null,null,null,null,null,null,null,null,null,null,null,null,null,null,null,null,null,null,null,null,null,null,null,null,null,null,null,null,null,null,null,null,null,null,"Physical activity",2014,"Powys tHB","Mid Powys","-",28.819809778290921]
[null,null,null,null,null,null,null,null,null,null,null,null,null,null,null,null,null,null,null,null,null,null,null,null,null,null,null,null,null,null,null,null,null,null,null,null,null,null,null,null,null,null,null,null,null,null,null,null,null,null,null,null,null,null,null,null,null,null,null,null,null,null,null,null,null,null,null,null,null,null,null,null,null,null,null,null,null,null,null,null,null,null,null,null,null,null,null,null,null,2018,"Betsi Cadwaladr","Arfon","W94039",5747,443,146,173,27,271,56,121,null,null,null,null,null,null,null,null,null,null,null,null,null,null,null,null,null,null,null,null,null,null,null,null,null,null,null,null,null,null,null,null,null,null,null,null,null,null,null,null,null,null,null,null,null,null,null,null,null,null,null,null,null,null,null,null,null,null,null,null,null,null,null,null,null,null,"Physical activity",2014,"Powys tHB","South Powys","-",28.771870793973953]
[null,null,null,null,null,null,null,null,null,null,null,null,null,null,null,null,null,null,null,null,null,null,null,null,null,null,null,null,null,null,null,null,null,null,null,null,null,null,null,null,null,null,null,null,null,null,null,null,null,null,null,null,null,null,null,null,null,null,null,null,null,null,null,null,null,null,null,null,null,null,null,null,null,null,null,null,null,null,null,null,null,null,null,null,null,null,null,null,null,2018,"Betsi Cadwaladr","Arfon","W94040",3555,234,112,94,16,183,37,37,null,null,null,null,null,null,null,null,null,null,null,null,null,null,null,null,null,null,null,null,null,null,null,null,null,null,null,null,null,null,null,null,null,null,null,null,null,null,null,null,null,null,null,null,null,null,null,null,null,null,null,null,null,null,null,null,null,null,null,null,null,null,null,null,null,null,"Physical activity",2014,"Wales","-","-",29.312818441242584]
[null,null,null,null,null,null,null,null,null,null,null,null,null,null,null,null,null,null,null,null,null,null,null,null,null,null,null,null,null,null,null,null,null,null,null,null,null,null,null,null,null,null,null,null,null,null,null,null,null,null,null,null,null,null,null,null,null,null,null,null,null,null,null,null,null,null,null,null,null,null,null,null,null,null,null,null,null,null,null,null,null,null,null,null,null,null,null,null,null,2018,"Betsi Cadwaladr","Arfon","W94609",4513,307,130,169,35,298,47,119,null,null,null,null,null,null,null,null,null,null,null,null,null,null,null,null,null,null,null,null,null,null,null,null,null,null,null,null,null,null,null,null,null,null,null,null,null,null,null,null,null,null,null,null,null,null,null,null,null,null,null,null,null,null,null,null,null,null,null,null,null,null,null,null,null,null,"Alcohol",2014,"Abertawe Bro Morgannwg UHB","-","-",26.587898851681707]
[null,null,null,null,null,null,null,null,null,null,null,null,null,null,null,null,null,null,null,null,null,null,null,null,null,null,null,null,null,null,null,null,null,null,null,null,null,null,null,null,null,null,null,null,null,null,null,null,null,null,null,null,null,null,null,null,null,null,null,null,null,null,null,null,null,null,null,null,null,null,null,null,null,null,null,null,null,null,null,null,null,null,null,null,null,null,null,null,null,null,2018,"Betsi Cadwaladr","Arfon",{"$f":"SUM(CP209:CP218)","v":68519},{"$f":"SUM(CQ209:CQ218)","v":4636},1701,1908,444,3153,548,1098,null,null,null,null,null,null,null,null,null,null,null,null,null,null,null,null,null,null,null,null,null,null,null,null,null,null,null,null,null,null,null,null,null,null,null,null,null,null,null,null,null,null,null,null,null,null,null,null,null,null,null,null,null,null,null,null,null,null,null,null,null,null,null,null,null,null,"Alcohol",2014,"Abertawe Bro Morgannwg UHB","Bay Health","-",27.021234258312838]
[null,null,null,null,null,null,null,null,null,null,null,null,null,null,null,null,null,null,null,null,null,null,null,null,null,null,null,null,null,null,null,null,null,null,null,null,null,null,null,null,null,null,null,null,null,null,null,null,null,null,null,null,null,null,null,null,null,null,null,null,null,null,null,null,null,null,null,null,null,null,null,null,null,null,null,null,null,null,null,null,null,null,null,null,null,null,null,null,null,null,null,null,null,null,null,null,null,null,null,null,null,null,null,null,null,null,null,null,null,null,null,null,null,null,null,null,null,null,null,null,null,null,null,null,null,null,null,null,null,null,null,null,null,null,null,null,null,null,null,null,null,null,null,null,null,null,null,null,null,null,null,null,null,null,null,null,null,null,null,null,null,null,null,null,null,null,null,"Alcohol",2014,"Abertawe Bro Morgannwg UHB","City Health","-",27.503016101196298]
[null,null,null,null,null,null,null,null,null,null,null,null,null,null,null,null,null,null,null,null,null,null,null,null,null,null,null,null,null,null,null,null,null,null,null,null,null,null,null,null,null,null,null,null,null,null,null,null,null,null,null,null,null,null,null,null,null,null,null,null,null,null,null,null,null,null,null,null,null,null,null,null,null,null,null,null,null,null,null,null,null,null,null,null,null,null,null,null,null,2018,"Betsi Cadwaladr","Central & South Denbighshire","W91002",10321,609,207,378,68,541,103,216,null,null,null,null,null,null,null,null,null,null,null,null,null,null,null,null,null,null,null,null,null,null,null,null,null,null,null,null,null,null,null,null,null,null,null,null,null,null,null,null,null,null,null,null,null,null,null,null,null,null,null,null,null,null,null,null,null,null,null,null,null,null,null,null,null,null,"Alcohol",2014,"Abertawe Bro Morgannwg UHB","Cwmtawe","-",26.653450268727607]
[null,null,null,null,null,null,null,null,null,null,null,null,null,null,null,null,null,null,null,null,null,null,null,null,null,null,null,null,null,null,null,null,null,null,null,null,null,null,null,null,null,null,null,null,null,null,null,null,null,null,null,null,null,null,null,null,null,null,null,null,null,null,null,null,null,null,null,null,null,null,null,null,null,null,null,null,null,null,null,null,null,null,null,null,null,null,null,null,null,2018,"Betsi Cadwaladr","Central & South Denbighshire","W91023",5186,394,177,242,34,361,88,110,null,null,null,null,null,null,null,null,null,null,null,null,null,null,null,null,null,null,null,null,null,null,null,null,null,null,null,null,null,null,null,null,null,null,null,null,null,null,null,null,null,null,null,null,null,null,null,null,null,null,null,null,null,null,null,null,null,null,null,null,null,null,null,null,null,null,"Alcohol",2014,"Abertawe Bro Morgannwg UHB","Llwchwr","-",26.635825944768609]
[null,null,null,null,null,null,null,null,null,null,null,null,null,null,null,null,null,null,null,null,null,null,null,null,null,null,null,null,null,null,null,null,null,null,null,null,null,null,null,null,null,null,null,null,null,null,null,null,null,null,null,null,null,null,null,null,null,null,null,null,null,null,null,null,null,null,null,null,null,null,null,null,null,null,null,null,null,null,null,null,null,null,null,null,null,null,null,null,null,2018,"Betsi Cadwaladr","Central & South Denbighshire","W91027",5143,478,187,214,38,318,76,98,null,null,null,null,null,null,null,null,null,null,null,null,null,null,null,null,null,null,null,null,null,null,null,null,null,null,null,null,null,null,null,null,null,null,null,null,null,null,null,null,null,null,null,null,null,null,null,null,null,null,null,null,null,null,null,null,null,null,null,null,null,null,null,null,null,null,"Alcohol",2014,"Abertawe Bro Morgannwg UHB","Penderi","-",26.448629630077029]
[null,null,null,null,null,null,null,null,null,null,null,null,null,null,null,null,null,null,null,null,null,null,null,null,null,null,null,null,null,null,null,null,null,null,null,null,null,null,null,null,null,null,null,null,null,null,null,null,null,null,null,null,null,null,null,null,null,null,null,null,null,null,null,null,null,null,null,null,null,null,null,null,null,null,null,null,null,null,null,null,null,null,null,null,null,null,null,null,null,2018,"Betsi Cadwaladr","Central & South Denbighshire","W91033",9130,584,250,372,87,530,114,219,null,null,null,null,null,null,null,null,null,null,null,null,null,null,null,null,null,null,null,null,null,null,null,null,null,null,null,null,null,null,null,null,null,null,null,null,null,null,null,null,null,null,null,null,null,null,null,null,null,null,null,null,null,null,null,null,null,null,null,null,null,null,null,null,null,null,"Alcohol",2014,"Abertawe Bro Morgannwg UHB","Upper Valleys","-",25.912005309105684]
[null,null,null,null,null,null,null,null,null,null,null,null,null,null,null,null,null,null,null,null,null,null,null,null,null,null,null,null,null,null,null,null,null,null,null,null,null,null,null,null,null,null,null,null,null,null,null,null,null,null,null,null,null,null,null,null,null,null,null,null,null,null,null,null,null,null,null,null,null,null,null,null,null,null,null,null,null,null,null,null,null,null,null,null,null,null,null,null,null,2018,"Betsi Cadwaladr","Central & South Denbighshire","W91034",2830,220,63,85,11,136,27,65,null,null,null,null,null,null,null,null,null,null,null,null,null,null,null,null,null,null,null,null,null,null,null,null,null,null,null,null,null,null,null,null,null,null,null,null,null,null,null,null,null,null,null,null,null,null,null,null,null,null,null,null,null,null,null,null,null,null,null,null,null,null,null,null,null,null,"Alcohol",2014,"Abertawe Bro Morgannwg UHB","Afan","-",25.845674175976541]
[null,null,null,null,null,null,null,null,null,null,null,null,null,null,null,null,null,null,null,null,null,null,null,null,null,null,null,null,null,null,null,null,null,null,null,null,null,null,null,null,null,null,null,null,null,null,null,null,null,null,null,null,null,null,null,null,null,null,null,null,null,null,null,null,null,null,null,null,null,null,null,null,null,null,null,null,null,null,null,null,null,null,null,null,null,null,null,null,null,2018,"Betsi Cadwaladr","Central & South Denbighshire","W91047",4001,342,106,157,23,214,69,111,null,null,null,null,null,null,null,null,null,null,null,null,null,null,null,null,null,null,null,null,null,null,null,null,null,null,null,null,null,null,null,null,null,null,null,null,null,null,null,null,null,null,null,null,null,null,null,null,null,null,null,null,null,null,null,null,null,null,null,null,null,null,null,null,null,null,"Alcohol",2014,"Abertawe Bro Morgannwg UHB","Neath","-",26.124452974439976]
[null,null,null,null,null,null,null,null,null,null,null,null,null,null,null,null,null,null,null,null,null,null,null,null,null,null,null,null,null,null,null,null,null,null,null,null,null,null,null,null,null,null,null,null,null,null,null,null,null,null,null,null,null,null,null,null,null,null,null,null,null,null,null,null,null,null,null,null,null,null,null,null,null,null,null,null,null,null,null,null,null,null,null,null,null,null,null,null,null,2018,"Betsi Cadwaladr","Central & South Denbighshire","W91057",3488,281,100,136,28,201,46,73,null,null,null,null,null,null,null,null,null,null,null,null,null,null,null,null,null,null,null,null,null,null,null,null,null,null,null,null,null,null,null,null,null,null,null,null,null,null,null,null,null,null,null,null,null,null,null,null,null,null,null,null,null,null,null,null,null,null,null,null,null,null,null,null,null,null,"Alcohol",2014,"Abertawe Bro Morgannwg UHB","Bridgend East Network","-",27.354931666106957]
[null,null,null,null,null,null,null,null,null,null,null,null,null,null,null,null,null,null,null,null,null,null,null,null,null,null,null,null,null,null,null,null,null,null,null,null,null,null,null,null,null,null,null,null,null,null,null,null,null,null,null,null,null,null,null,null,null,null,null,null,null,null,null,null,null,null,null,null,null,null,null,null,null,null,null,null,null,null,null,null,null,null,null,null,null,null,null,null,null,2018,"Betsi Cadwaladr","Central & South Denbighshire","W91624",1913,104,62,44,14,104,15,32,null,null,null,null,null,null,null,null,null,null,null,null,null,null,null,null,null,null,null,null,null,null,null,null,null,null,null,null,null,null,null,null,null,null,null,null,null,null,null,null,null,null,null,null,null,null,null,null,null,null,null,null,null,null,null,null,null,null,null,null,null,null,null,null,null,null,"Alcohol",2014,"Abertawe Bro Morgannwg UHB","Bridgend North Network","-",26.358361889507304]
[null,null,null,null,null,null,null,null,null,null,null,null,null,null,null,null,null,null,null,null,null,null,null,null,null,null,null,null,null,null,null,null,null,null,null,null,null,null,null,null,null,null,null,null,null,null,null,null,null,null,null,null,null,null,null,null,null,null,null,null,null,null,null,null,null,null,null,null,null,null,null,null,null,null,null,null,null,null,null,null,null,null,null,null,null,null,null,null,null,null,2018,"Betsi Cadwaladr","Central & South Denbighshire",{"$f":"SUM(CP221:CP228)","v":42012},{"$f":"SUM(CQ221:CQ228)","v":3012},1152,1628,303,2405,538,924,null,null,null,null,null,null,null,null,null,null,null,null,null,null,null,null,null,null,null,null,null,null,null,null,null,null,null,null,null,null,null,null,null,null,null,null,null,null,null,null,null,null,null,null,null,null,null,null,null,null,null,null,null,null,null,null,null,null,null,null,null,null,null,null,null,null,"Alcohol",2014,"Abertawe Bro Morgannwg UHB","Bridgend West Network","-",25.515972863436708]
[null,null,null,null,null,null,null,null,null,null,null,null,null,null,null,null,null,null,null,null,null,null,null,null,null,null,null,null,null,null,null,null,null,null,null,null,null,null,null,null,null,null,null,null,null,null,null,null,null,null,null,null,null,null,null,null,null,null,null,null,null,null,null,null,null,null,null,null,null,null,null,null,null,null,null,null,null,null,null,null,null,null,null,null,null,null,null,null,null,null,null,null,null,null,null,null,null,null,null,null,null,null,null,null,null,null,null,null,null,null,null,null,null,null,null,null,null,null,null,null,null,null,null,null,null,null,null,null,null,null,null,null,null,null,null,null,null,null,null,null,null,null,null,null,null,null,null,null,null,null,null,null,null,null,null,null,null,null,null,null,null,null,null,null,null,null,null,"Alcohol",2014,"Aneurin Bevan UHB","-","-",26.623846731701335]
[null,null,null,null,null,null,null,null,null,null,null,null,null,null,null,null,null,null,null,null,null,null,null,null,null,null,null,null,null,null,null,null,null,null,null,null,null,null,null,null,null,null,null,null,null,null,null,null,null,null,null,null,null,null,null,null,null,null,null,null,null,null,null,null,null,null,null,null,null,null,null,null,null,null,null,null,null,null,null,null,null,null,null,null,null,null,null,null,null,2018,"Betsi Cadwaladr","Central Wrexham","W91004",13332,917,300,512,107,815,168,316,null,null,null,null,null,null,null,null,null,null,null,null,null,null,null,null,null,null,null,null,null,null,null,null,null,null,null,null,null,null,null,null,null,null,null,null,null,null,null,null,null,null,null,null,null,null,null,null,null,null,null,null,null,null,null,null,null,null,null,null,null,null,null,null,null,null,"Alcohol",2014,"Aneurin Bevan UHB","Caerphilly North","-",26.478731393795108]
[null,null,null,null,null,null,null,null,null,null,null,null,null,null,null,null,null,null,null,null,null,null,null,null,null,null,null,null,null,null,null,null,null,null,null,null,null,null,null,null,null,null,null,null,null,null,null,null,null,null,null,null,null,null,null,null,null,null,null,null,null,null,null,null,null,null,null,null,null,null,null,null,null,null,null,null,null,null,null,null,null,null,null,null,null,null,null,null,null,2018,"Betsi Cadwaladr","Central Wrexham","W91022",13530,960,339,446,89,704,147,263,null,null,null,null,null,null,null,null,null,null,null,null,null,null,null,null,null,null,null,null,null,null,null,null,null,null,null,null,null,null,null,null,null,null,null,null,null,null,null,null,null,null,null,null,null,null,null,null,null,null,null,null,null,null,null,null,null,null,null,null,null,null,null,null,null,null,"Alcohol",2014,"Aneurin Bevan UHB","Caerphilly East","-",26.795202167784147]
[null,null,null,null,null,null,null,null,null,null,null,null,null,null,null,null,null,null,null,null,null,null,null,null,null,null,null,null,null,null,null,null,null,null,null,null,null,null,null,null,null,null,null,null,null,null,null,null,null,null,null,null,null,null,null,null,null,null,null,null,null,null,null,null,null,null,null,null,null,null,null,null,null,null,null,null,null,null,null,null,null,null,null,null,null,null,null,null,null,2018,"Betsi Cadwaladr","Central Wrexham","W91030",6489,437,181,237,53,383,72,133,null,null,null,null,null,null,null,null,null,null,null,null,null,null,null,null,null,null,null,null,null,null,null,null,null,null,null,null,null,null,null,null,null,null,null,null,null,null,null,null,null,null,null,null,null,null,null,null,null,null,null,null,null,null,null,null,null,null,null,null,null,null,null,null,null,null,"Alcohol",2014,"Aneurin Bevan UHB","Caerphilly South","-",26.840485934391513]
[null,null,null,null,null,null,null,null,null,null,null,null,null,null,null,null,null,null,null,null,null,null,null,null,null,null,null,null,null,null,null,null,null,null,null,null,null,null,null,null,null,null,null,null,null,null,null,null,null,null,null,null,null,null,null,null,null,null,null,null,null,null,null,null,null,null,null,null,null,null,null,null,null,null,null,null,null,null,null,null,null,null,null,null,null,null,null,null,null,2018,"Betsi Cadwaladr","Central Wrexham","W91042",3437,201,71,112,12,164,22,52,null,null,null,null,null,null,null,null,null,null,null,null,null,null,null,null,null,null,null,null,null,null,null,null,null,null,null,null,null,null,null,null,null,null,null,null,null,null,null,null,null,null,null,null,null,null,null,null,null,null,null,null,null,null,null,null,null,null,null,null,null,null,null,null,null,null,"Alcohol",2014,"Aneurin Bevan UHB","Blaenau Gwent East","-",26.271643879073341]
[null,null,null,null,null,null,null,null,null,null,null,null,null,null,null,null,null,null,null,null,null,null,null,null,null,null,null,null,null,null,null,null,null,null,null,null,null,null,null,null,null,null,null,null,null,null,null,null,null,null,null,null,null,null,null,null,null,null,null,null,null,null,null,null,null,null,null,null,null,null,null,null,null,null,null,null,null,null,null,null,null,null,null,null,null,null,null,null,null,2018,"Betsi Cadwaladr","Central Wrexham","W91054",5674,291,73,147,12,221,35,69,null,null,null,null,null,null,null,null,null,null,null,null,null,null,null,null,null,null,null,null,null,null,null,null,null,null,null,null,null,null,null,null,null,null,null,null,null,null,null,null,null,null,null,null,null,null,null,null,null,null,null,null,null,null,null,null,null,null,null,null,null,null,null,null,null,null,"Alcohol",2014,"Aneurin Bevan UHB","Blaenau Gwent West","-",25.992457694729371]
[null,null,null,null,null,null,null,null,null,null,null,null,null,null,null,null,null,null,null,null,null,null,null,null,null,null,null,null,null,null,null,null,null,null,null,null,null,null,null,null,null,null,null,null,null,null,null,null,null,null,null,null,null,null,null,null,null,null,null,null,null,null,null,null,null,null,null,null,null,null,null,null,null,null,null,null,null,null,null,null,null,null,null,null,null,null,null,null,null,2018,"Betsi Cadwaladr","Central Wrexham","W91058",5435,408,153,209,21,362,54,87,null,null,null,null,null,null,null,null,null,null,null,null,null,null,null,null,null,null,null,null,null,null,null,null,null,null,null,null,null,null,null,null,null,null,null,null,null,null,null,null,null,null,null,null,null,null,null,null,null,null,null,null,null,null,null,null,null,null,null,null,null,null,null,null,null,null,"Alcohol",2014,"Aneurin Bevan UHB","Torfaen North","-",26.208186797867803]
[null,null,null,null,null,null,null,null,null,null,null,null,null,null,null,null,null,null,null,null,null,null,null,null,null,null,null,null,null,null,null,null,null,null,null,null,null,null,null,null,null,null,null,null,null,null,null,null,null,null,null,null,null,null,null,null,null,null,null,null,null,null,null,null,null,null,null,null,null,null,null,null,null,null,null,null,null,null,null,null,null,null,null,null,null,null,null,null,null,2018,"Betsi Cadwaladr","Central Wrexham","W91629",3962,231,67,100,124,196,27,66,null,null,null,null,null,null,null,null,null,null,null,null,null,null,null,null,null,null,null,null,null,null,null,null,null,null,null,null,null,null,null,null,null,null,null,null,null,null,null,null,null,null,null,null,null,null,null,null,null,null,null,null,null,null,null,null,null,null,null,null,null,null,null,null,null,null,"Alcohol",2014,"Aneurin Bevan UHB","Torfaen South","-",26.593284209427431]
[null,null,null,null,null,null,null,null,null,null,null,null,null,null,null,null,null,null,null,null,null,null,null,null,null,null,null,null,null,null,null,null,null,null,null,null,null,null,null,null,null,null,null,null,null,null,null,null,null,null,null,null,null,null,null,null,null,null,null,null,null,null,null,null,null,null,null,null,null,null,null,null,null,null,null,null,null,null,null,null,null,null,null,null,null,null,null,null,null,null,2018,"Betsi Cadwaladr","Central Wrexham",{"$f":"SUM(CP231:CP237)","v":51859},{"$f":"SUM(CQ231:CQ237)","v":3445},1184,1763,418,2845,525,986,null,null,null,null,null,null,null,null,null,null,null,null,null,null,null,null,null,null,null,null,null,null,null,null,null,null,null,null,null,null,null,null,null,null,null,null,null,null,null,null,null,null,null,null,null,null,null,null,null,null,null,null,null,null,null,null,null,null,null,null,null,null,null,null,null,null,"Alcohol",2014,"Aneurin Bevan UHB","Monmouthshire North","-",25.520021391699245]
[null,null,null,null,null,null,null,null,null,null,null,null,null,null,null,null,null,null,null,null,null,null,null,null,null,null,null,null,null,null,null,null,null,null,null,null,null,null,null,null,null,null,null,null,null,null,null,null,null,null,null,null,null,null,null,null,null,null,null,null,null,null,null,null,null,null,null,null,null,null,null,null,null,null,null,null,null,null,null,null,null,null,null,null,null,null,null,null,null,null,null,null,null,null,null,null,null,null,null,null,null,null,null,null,null,null,null,null,null,null,null,null,null,null,null,null,null,null,null,null,null,null,null,null,null,null,null,null,null,null,null,null,null,null,null,null,null,null,null,null,null,null,null,null,null,null,null,null,null,null,null,null,null,null,null,null,null,null,null,null,null,null,null,null,null,null,null,"Alcohol",2014,"Aneurin Bevan UHB","Monmouthshire South","-",27.231474903540477]
[null,null,null,null,null,null,null,null,null,null,null,null,null,null,null,null,null,null,null,null,null,null,null,null,null,null,null,null,null,null,null,null,null,null,null,null,null,null,null,null,null,null,null,null,null,null,null,null,null,null,null,null,null,null,null,null,null,null,null,null,null,null,null,null,null,null,null,null,null,null,null,null,null,null,null,null,null,null,null,null,null,null,null,null,null,null,null,null,null,2018,"Betsi Cadwaladr","Conwy East","W91007",11895,897,243,436,89,726,142,241,null,null,null,null,null,null,null,null,null,null,null,null,null,null,null,null,null,null,null,null,null,null,null,null,null,null,null,null,null,null,null,null,null,null,null,null,null,null,null,null,null,null,null,null,null,null,null,null,null,null,null,null,null,null,null,null,null,null,null,null,null,null,null,null,null,null,"Alcohol",2014,"Aneurin Bevan UHB","Newport Central","-",27.26289073360827]
[null,null,null,null,null,null,null,null,null,null,null,null,null,null,null,null,null,null,null,null,null,null,null,null,null,null,null,null,null,null,null,null,null,null,null,null,null,null,null,null,null,null,null,null,null,null,null,null,null,null,null,null,null,null,null,null,null,null,null,null,null,null,null,null,null,null,null,null,null,null,null,null,null,null,null,null,null,null,null,null,null,null,null,null,null,null,null,null,null,2018,"Betsi Cadwaladr","Conwy East","W91014",6955,631,322,396,81,648,76,161,null,null,null,null,null,null,null,null,null,null,null,null,null,null,null,null,null,null,null,null,null,null,null,null,null,null,null,null,null,null,null,null,null,null,null,null,null,null,null,null,null,null,null,null,null,null,null,null,null,null,null,null,null,null,null,null,null,null,null,null,null,null,null,null,null,null,"Alcohol",2014,"Aneurin Bevan UHB","Newport East","-",26.944559416102194]
[null,null,null,null,null,null,null,null,null,null,null,null,null,null,null,null,null,null,null,null,null,null,null,null,null,null,null,null,null,null,null,null,null,null,null,null,null,null,null,null,null,null,null,null,null,null,null,null,null,null,null,null,null,null,null,null,null,null,null,null,null,null,null,null,null,null,null,null,null,null,null,null,null,null,null,null,null,null,null,null,null,null,null,null,null,null,null,null,null,2018,"Betsi Cadwaladr","Conwy East","W91031",9480,586,198,339,152,500,86,212,null,null,null,null,null,null,null,null,null,null,null,null,null,null,null,null,null,null,null,null,null,null,null,null,null,null,null,null,null,null,null,null,null,null,null,null,null,null,null,null,null,null,null,null,null,null,null,null,null,null,null,null,null,null,null,null,null,null,null,null,null,null,null,null,null,null,"Alcohol",2014,"Aneurin Bevan UHB","Newport West","-",27.169267136536739]
[null,null,null,null,null,null,null,null,null,null,null,null,null,null,null,null,null,null,null,null,null,null,null,null,null,null,null,null,null,null,null,null,null,null,null,null,null,null,null,null,null,null,null,null,null,null,null,null,null,null,null,null,null,null,null,null,null,null,null,null,null,null,null,null,null,null,null,null,null,null,null,null,null,null,null,null,null,null,null,null,null,null,null,null,null,null,null,null,null,2018,"Betsi Cadwaladr","Conwy East","W91038",15615,1233,444,828,143,1122,153,402,null,null,null,null,null,null,null,null,null,null,null,null,null,null,null,null,null,null,null,null,null,null,null,null,null,null,null,null,null,null,null,null,null,null,null,null,null,null,null,null,null,null,null,null,null,null,null,null,null,null,null,null,null,null,null,null,null,null,null,null,null,null,null,null,null,null,"Alcohol",2014,"Betsi Cadwaladr UHB","-","-",26.118502749782728]
[null,null,null,null,null,null,null,null,null,null,null,null,null,null,null,null,null,null,null,null,null,null,null,null,null,null,null,null,null,null,null,null,null,null,null,null,null,null,null,null,null,null,null,null,null,null,null,null,null,null,null,null,null,null,null,null,null,null,null,null,null,null,null,null,null,null,null,null,null,null,null,null,null,null,null,null,null,null,null,null,null,null,null,null,null,null,null,null,null,2018,"Betsi Cadwaladr","Conwy East","W91048",8929,629,206,372,134,549,110,217,null,null,null,null,null,null,null,null,null,null,null,null,null,null,null,null,null,null,null,null,null,null,null,null,null,null,null,null,null,null,null,null,null,null,null,null,null,null,null,null,null,null,null,null,null,null,null,null,null,null,null,null,null,null,null,null,null,null,null,null,null,null,null,null,null,null,"Alcohol",2014,"Betsi Cadwaladr UHB","Anglesey","-",25.002091207921463]
[null,null,null,null,null,null,null,null,null,null,null,null,null,null,null,null,null,null,null,null,null,null,null,null,null,null,null,null,null,null,null,null,null,null,null,null,null,null,null,null,null,null,null,null,null,null,null,null,null,null,null,null,null,null,null,null,null,null,null,null,null,null,null,null,null,null,null,null,null,null,null,null,null,null,null,null,null,null,null,null,null,null,null,null,null,null,null,null,null,null,2018,"Betsi Cadwaladr","Conwy East",{"$f":"SUM(CP240:CP244)","v":52874},{"$f":"SUM(CQ240:CQ244)","v":3976},1413,2371,599,3545,567,1233,null,null,null,null,null,null,null,null,null,null,null,null,null,null,null,null,null,null,null,null,null,null,null,null,null,null,null,null,null,null,null,null,null,null,null,null,null,null,null,null,null,null,null,null,null,null,null,null,null,null,null,null,null,null,null,null,null,null,null,null,null,null,null,null,null,null,"Alcohol",2014,"Betsi Cadwaladr UHB","Arfon","-",27.609182923871238]
[null,null,null,null,null,null,null,null,null,null,null,null,null,null,null,null,null,null,null,null,null,null,null,null,null,null,null,null,null,null,null,null,null,null,null,null,null,null,null,null,null,null,null,null,null,null,null,null,null,null,null,null,null,null,null,null,null,null,null,null,null,null,null,null,null,null,null,null,null,null,null,null,null,null,null,null,null,null,null,null,null,null,null,null,null,null,null,null,null,null,null,null,null,null,null,null,null,null,null,null,null,null,null,null,null,null,null,null,null,null,null,null,null,null,null,null,null,null,null,null,null,null,null,null,null,null,null,null,null,null,null,null,null,null,null,null,null,null,null,null,null,null,null,null,null,null,null,null,null,null,null,null,null,null,null,null,null,null,null,null,null,null,null,null,null,null,null,"Alcohol",2014,"Betsi Cadwaladr UHB","Dwyfor","-",24.420375311693572]
[null,null,null,null,null,null,null,null,null,null,null,null,null,null,null,null,null,null,null,null,null,null,null,null,null,null,null,null,null,null,null,null,null,null,null,null,null,null,null,null,null,null,null,null,null,null,null,null,null,null,null,null,null,null,null,null,null,null,null,null,null,null,null,null,null,null,null,null,null,null,null,null,null,null,null,null,null,null,null,null,null,null,null,null,null,null,null,null,null,2018,"Betsi Cadwaladr","Conwy West","W00065",2284,135,133,64,15,125,21,34,null,null,null,null,null,null,null,null,null,null,null,null,null,null,null,null,null,null,null,null,null,null,null,null,null,null,null,null,null,null,null,null,null,null,null,null,null,null,null,null,null,null,null,null,null,null,null,null,null,null,null,null,null,null,null,null,null,null,null,null,null,null,null,null,null,null,"Alcohol",2014,"Betsi Cadwaladr UHB","Meirionnydd","-",24.34561028861555]
[null,null,null,null,null,null,null,null,null,null,null,null,null,null,null,null,null,null,null,null,null,null,null,null,null,null,null,null,null,null,null,null,null,null,null,null,null,null,null,null,null,null,null,null,null,null,null,null,null,null,null,null,null,null,null,null,null,null,null,null,null,null,null,null,null,null,null,null,null,null,null,null,null,null,null,null,null,null,null,null,null,null,null,null,null,null,null,null,null,2018,"Betsi Cadwaladr","Conwy West","W94001",9138,644,183,398,99,494,113,228,null,null,null,null,null,null,null,null,null,null,null,null,null,null,null,null,null,null,null,null,null,null,null,null,null,null,null,null,null,null,null,null,null,null,null,null,null,null,null,null,null,null,null,null,null,null,null,null,null,null,null,null,null,null,null,null,null,null,null,null,null,null,null,null,null,null,"Alcohol",2014,"Betsi Cadwaladr UHB","Conwy East","-",24.962458790033267]
[null,null,null,null,null,null,null,null,null,null,null,null,null,null,null,null,null,null,null,null,null,null,null,null,null,null,null,null,null,null,null,null,null,null,null,null,null,null,null,null,null,null,null,null,null,null,null,null,null,null,null,null,null,null,null,null,null,null,null,null,null,null,null,null,null,null,null,null,null,null,null,null,null,null,null,null,null,null,null,null,null,null,null,null,null,null,null,null,null,2018,"Betsi Cadwaladr","Conwy West","W94003",7617,526,227,303,49,455,59,181,null,null,null,null,null,null,null,null,null,null,null,null,null,null,null,null,null,null,null,null,null,null,null,null,null,null,null,null,null,null,null,null,null,null,null,null,null,null,null,null,null,null,null,null,null,null,null,null,null,null,null,null,null,null,null,null,null,null,null,null,null,null,null,null,null,null,"Alcohol",2014,"Betsi Cadwaladr UHB","Conwy West","-",25.222811259766626]
[null,null,null,null,null,null,null,null,null,null,null,null,null,null,null,null,null,null,null,null,null,null,null,null,null,null,null,null,null,null,null,null,null,null,null,null,null,null,null,null,null,null,null,null,null,null,null,null,null,null,null,null,null,null,null,null,null,null,null,null,null,null,null,null,null,null,null,null,null,null,null,null,null,null,null,null,null,null,null,null,null,null,null,null,null,null,null,null,null,2018,"Betsi Cadwaladr","Conwy West","W94005",2592,163,52,65,8,145,19,34,null,null,null,null,null,null,null,null,null,null,null,null,null,null,null,null,null,null,null,null,null,null,null,null,null,null,null,null,null,null,null,null,null,null,null,null,null,null,null,null,null,null,null,null,null,null,null,null,null,null,null,null,null,null,null,null,null,null,null,null,null,null,null,null,null,null,"Alcohol",2014,"Betsi Cadwaladr UHB","Central & South Denbighshire","-",26.116445763635344]
[null,null,null,null,null,null,null,null,null,null,null,null,null,null,null,null,null,null,null,null,null,null,null,null,null,null,null,null,null,null,null,null,null,null,null,null,null,null,null,null,null,null,null,null,null,null,null,null,null,null,null,null,null,null,null,null,null,null,null,null,null,null,null,null,null,null,null,null,null,null,null,null,null,null,null,null,null,null,null,null,null,null,null,null,null,null,null,null,null,2018,"Betsi Cadwaladr","Conwy West","W94016",3602,262,93,142,19,194,45,82,null,null,null,null,null,null,null,null,null,null,null,null,null,null,null,null,null,null,null,null,null,null,null,null,null,null,null,null,null,null,null,null,null,null,null,null,null,null,null,null,null,null,null,null,null,null,null,null,null,null,null,null,null,null,null,null,null,null,null,null,null,null,null,null,null,null,"Alcohol",2014,"Betsi Cadwaladr UHB","North Denbighshire","-",25.223928738842471]
[null,null,null,null,null,null,null,null,null,null,null,null,null,null,null,null,null,null,null,null,null,null,null,null,null,null,null,null,null,null,null,null,null,null,null,null,null,null,null,null,null,null,null,null,null,null,null,null,null,null,null,null,null,null,null,null,null,null,null,null,null,null,null,null,null,null,null,null,null,null,null,null,null,null,null,null,null,null,null,null,null,null,null,null,null,null,null,null,null,2018,"Betsi Cadwaladr","Conwy West","W94018",6164,349,139,263,79,338,97,179,null,null,null,null,null,null,null,null,null,null,null,null,null,null,null,null,null,null,null,null,null,null,null,null,null,null,null,null,null,null,null,null,null,null,null,null,null,null,null,null,null,null,null,null,null,null,null,null,null,null,null,null,null,null,null,null,null,null,null,null,null,null,null,null,null,null,"Alcohol",2014,"Betsi Cadwaladr UHB","South Wrexham","-",26.550806987426252]
[null,null,null,null,null,null,null,null,null,null,null,null,null,null,null,null,null,null,null,null,null,null,null,null,null,null,null,null,null,null,null,null,null,null,null,null,null,null,null,null,null,null,null,null,null,null,null,null,null,null,null,null,null,null,null,null,null,null,null,null,null,null,null,null,null,null,null,null,null,null,null,null,null,null,null,null,null,null,null,null,null,null,null,null,null,null,null,null,null,2018,"Betsi Cadwaladr","Conwy West","W94019",11551,911,254,625,144,751,307,389,null,null,null,null,null,null,null,null,null,null,null,null,null,null,null,null,null,null,null,null,null,null,null,null,null,null,null,null,null,null,null,null,null,null,null,null,null,null,null,null,null,null,null,null,null,null,null,null,null,null,null,null,null,null,null,null,null,null,null,null,null,null,null,null,null,null,"Alcohol",2014,"Betsi Cadwaladr UHB","Deeside, Hawarden & Saltney","-",27.448029902829308]
[null,null,null,null,null,null,null,null,null,null,null,null,null,null,null,null,null,null,null,null,null,null,null,null,null,null,null,null,null,null,null,null,null,null,null,null,null,null,null,null,null,null,null,null,null,null,null,null,null,null,null,null,null,null,null,null,null,null,null,null,null,null,null,null,null,null,null,null,null,null,null,null,null,null,null,null,null,null,null,null,null,null,null,null,null,null,null,null,null,2018,"Betsi Cadwaladr","Conwy West","W94020",1844,109,34,75,13,126,25,42,null,null,null,null,null,null,null,null,null,null,null,null,null,null,null,null,null,null,null,null,null,null,null,null,null,null,null,null,null,null,null,null,null,null,null,null,null,null,null,null,null,null,null,null,null,null,null,null,null,null,null,null,null,null,null,null,null,null,null,null,null,null,null,null,null,null,"Alcohol",2014,"Betsi Cadwaladr UHB","Holywell & Flint","-",26.741850536787819]
[null,null,null,null,null,null,null,null,null,null,null,null,null,null,null,null,null,null,null,null,null,null,null,null,null,null,null,null,null,null,null,null,null,null,null,null,null,null,null,null,null,null,null,null,null,null,null,null,null,null,null,null,null,null,null,null,null,null,null,null,null,null,null,null,null,null,null,null,null,null,null,null,null,null,null,null,null,null,null,null,null,null,null,null,null,null,null,null,null,2018,"Betsi Cadwaladr","Conwy West","W94024",5513,304,153,199,45,331,44,127,null,null,null,null,null,null,null,null,null,null,null,null,null,null,null,null,null,null,null,null,null,null,null,null,null,null,null,null,null,null,null,null,null,null,null,null,null,null,null,null,null,null,null,null,null,null,null,null,null,null,null,null,null,null,null,null,null,null,null,null,null,null,null,null,null,null,"Alcohol",2014,"Betsi Cadwaladr UHB","Mold, Buckley & Caergwle","-",26.704155701734777]
[null,null,null,null,null,null,null,null,null,null,null,null,null,null,null,null,null,null,null,null,null,null,null,null,null,null,null,null,null,null,null,null,null,null,null,null,null,null,null,null,null,null,null,null,null,null,null,null,null,null,null,null,null,null,null,null,null,null,null,null,null,null,null,null,null,null,null,null,null,null,null,null,null,null,null,null,null,null,null,null,null,null,null,null,null,null,null,null,null,2018,"Betsi Cadwaladr","Conwy West","W94031",6832,437,171,281,41,367,68,158,null,null,null,null,null,null,null,null,null,null,null,null,null,null,null,null,null,null,null,null,null,null,null,null,null,null,null,null,null,null,null,null,null,null,null,null,null,null,null,null,null,null,null,null,null,null,null,null,null,null,null,null,null,null,null,null,null,null,null,null,null,null,null,null,null,null,"Alcohol",2014,"Betsi Cadwaladr UHB","West & North Wrexham","-",27.157038533542533]
[null,null,null,null,null,null,null,null,null,null,null,null,null,null,null,null,null,null,null,null,null,null,null,null,null,null,null,null,null,null,null,null,null,null,null,null,null,null,null,null,null,null,null,null,null,null,null,null,null,null,null,null,null,null,null,null,null,null,null,null,null,null,null,null,null,null,null,null,null,null,null,null,null,null,null,null,null,null,null,null,null,null,null,null,null,null,null,null,null,2018,"Betsi Cadwaladr","Conwy West","W94046",4270,326,93,145,17,247,38,79,null,null,null,null,null,null,null,null,null,null,null,null,null,null,null,null,null,null,null,null,null,null,null,null,null,null,null,null,null,null,null,null,null,null,null,null,null,null,null,null,null,null,null,null,null,null,null,null,null,null,null,null,null,null,null,null,null,null,null,null,null,null,null,null,null,null,"Alcohol",2014,"Betsi Cadwaladr UHB","Wrexham Town","-",27.18425095059192]
[null,null,null,null,null,null,null,null,null,null,null,null,null,null,null,null,null,null,null,null,null,null,null,null,null,null,null,null,null,null,null,null,null,null,null,null,null,null,null,null,null,null,null,null,null,null,null,null,null,null,null,null,null,null,null,null,null,null,null,null,null,null,null,null,null,null,null,null,null,null,null,null,null,null,null,null,null,null,null,null,null,null,null,null,null,null,null,null,null,2018,"Betsi Cadwaladr","Conwy West","W94622",2507,155,55,85,13,142,34,43,null,null,null,null,null,null,null,null,null,null,null,null,null,null,null,null,null,null,null,null,null,null,null,null,null,null,null,null,null,null,null,null,null,null,null,null,null,null,null,null,null,null,null,null,null,null,null,null,null,null,null,null,null,null,null,null,null,null,null,null,null,null,null,null,null,null,"Alcohol",2014,"Cardiff & Vale UHB","-","-",28.170853178250926]
[null,null,null,null,null,null,null,null,null,null,null,null,null,null,null,null,null,null,null,null,null,null,null,null,null,null,null,null,null,null,null,null,null,null,null,null,null,null,null,null,null,null,null,null,null,null,null,null,null,null,null,null,null,null,null,null,null,null,null,null,null,null,null,null,null,null,null,null,null,null,null,null,null,null,null,null,null,null,null,null,null,null,null,null,null,null,null,null,null,null,2018,"Betsi Cadwaladr","Conwy West",{"$f":"SUM(CP247:CP258)","v":63914},{"$f":"SUM(CQ247:CQ258)","v":4321},1587,2645,542,3715,870,1576,null,null,null,null,null,null,null,null,null,null,null,null,null,null,null,null,null,null,null,null,null,null,null,null,null,null,null,null,null,null,null,null,null,null,null,null,null,null,null,null,null,null,null,null,null,null,null,null,null,null,null,null,null,null,null,null,null,null,null,null,null,null,null,null,null,null,"Alcohol",2014,"Cardiff & Vale UHB","Cardiff North","-",28.453116479641]
[null,null,null,null,null,null,null,null,null,null,null,null,null,null,null,null,null,null,null,null,null,null,null,null,null,null,null,null,null,null,null,null,null,null,null,null,null,null,null,null,null,null,null,null,null,null,null,null,null,null,null,null,null,null,null,null,null,null,null,null,null,null,null,null,null,null,null,null,null,null,null,null,null,null,null,null,null,null,null,null,null,null,null,null,null,null,null,null,null,null,null,null,null,null,null,null,null,null,null,null,null,null,null,null,null,null,null,null,null,null,null,null,null,null,null,null,null,null,null,null,null,null,null,null,null,null,null,null,null,null,null,null,null,null,null,null,null,null,null,null,null,null,null,null,null,null,null,null,null,null,null,null,null,null,null,null,null,null,null,null,null,null,null,null,null,null,null,"Alcohol",2014,"Cardiff & Vale UHB","Cardiff East","-",27.497310539364772]
[null,null,null,null,null,null,null,null,null,null,null,null,null,null,null,null,null,null,null,null,null,null,null,null,null,null,null,null,null,null,null,null,null,null,null,null,null,null,null,null,null,null,null,null,null,null,null,null,null,null,null,null,null,null,null,null,null,null,null,null,null,null,null,null,null,null,null,null,null,null,null,null,null,null,null,null,null,null,null,null,null,null,null,null,null,null,null,null,null,2018,"Betsi Cadwaladr","Dwyfor","W94011",7600,681,208,293,55,453,98,154,null,null,null,null,null,null,null,null,null,null,null,null,null,null,null,null,null,null,null,null,null,null,null,null,null,null,null,null,null,null,null,null,null,null,null,null,null,null,null,null,null,null,null,null,null,null,null,null,null,null,null,null,null,null,null,null,null,null,null,null,null,null,null,null,null,null,"Alcohol",2014,"Cardiff & Vale UHB","Cardiff South East","-",29.762400187477461]
[null,null,null,null,null,null,null,null,null,null,null,null,null,null,null,null,null,null,null,null,null,null,null,null,null,null,null,null,null,null,null,null,null,null,null,null,null,null,null,null,null,null,null,null,null,null,null,null,null,null,null,null,null,null,null,null,null,null,null,null,null,null,null,null,null,null,null,null,null,null,null,null,null,null,null,null,null,null,null,null,null,null,null,null,null,null,null,null,null,2018,"Betsi Cadwaladr","Dwyfor","W94021",3787,286,104,164,87,240,58,135,null,null,null,null,null,null,null,null,null,null,null,null,null,null,null,null,null,null,null,null,null,null,null,null,null,null,null,null,null,null,null,null,null,null,null,null,null,null,null,null,null,null,null,null,null,null,null,null,null,null,null,null,null,null,null,null,null,null,null,null,null,null,null,null,null,null,"Alcohol",2014,"Cardiff & Vale UHB","Cardiff South West","-",28.397037010461094]
[null,null,null,null,null,null,null,null,null,null,null,null,null,null,null,null,null,null,null,null,null,null,null,null,null,null,null,null,null,null,null,null,null,null,null,null,null,null,null,null,null,null,null,null,null,null,null,null,null,null,null,null,null,null,null,null,null,null,null,null,null,null,null,null,null,null,null,null,null,null,null,null,null,null,null,null,null,null,null,null,null,null,null,null,null,null,null,null,null,2018,"Betsi Cadwaladr","Dwyfor","W94025",5183,321,115,244,32,290,77,122,null,null,null,null,null,null,null,null,null,null,null,null,null,null,null,null,null,null,null,null,null,null,null,null,null,null,null,null,null,null,null,null,null,null,null,null,null,null,null,null,null,null,null,null,null,null,null,null,null,null,null,null,null,null,null,null,null,null,null,null,null,null,null,null,null,null,"Alcohol",2014,"Cardiff & Vale UHB","Cardiff West","-",27.723154246041489]
[null,null,null,null,null,null,null,null,null,null,null,null,null,null,null,null,null,null,null,null,null,null,null,null,null,null,null,null,null,null,null,null,null,null,null,null,null,null,null,null,null,null,null,null,null,null,null,null,null,null,null,null,null,null,null,null,null,null,null,null,null,null,null,null,null,null,null,null,null,null,null,null,null,null,null,null,null,null,null,null,null,null,null,null,null,null,null,null,null,2018,"Betsi Cadwaladr","Dwyfor","W94037",4431,259,75,142,12,249,41,104,null,null,null,null,null,null,null,null,null,null,null,null,null,null,null,null,null,null,null,null,null,null,null,null,null,null,null,null,null,null,null,null,null,null,null,null,null,null,null,null,null,null,null,null,null,null,null,null,null,null,null,null,null,null,null,null,null,null,null,null,null,null,null,null,null,null,"Alcohol",2014,"Cardiff & Vale UHB","City & Cardiff South","-",29.848825955754815]
[null,null,null,null,null,null,null,null,null,null,null,null,null,null,null,null,null,null,null,null,null,null,null,null,null,null,null,null,null,null,null,null,null,null,null,null,null,null,null,null,null,null,null,null,null,null,null,null,null,null,null,null,null,null,null,null,null,null,null,null,null,null,null,null,null,null,null,null,null,null,null,null,null,null,null,null,null,null,null,null,null,null,null,null,null,null,null,null,null,2018,"Betsi Cadwaladr","Dwyfor","W94612",3915,296,126,154,16,280,47,80,null,null,null,null,null,null,null,null,null,null,null,null,null,null,null,null,null,null,null,null,null,null,null,null,null,null,null,null,null,null,null,null,null,null,null,null,null,null,null,null,null,null,null,null,null,null,null,null,null,null,null,null,null,null,null,null,null,null,null,null,null,null,null,null,null,null,"Alcohol",2014,"Cardiff & Vale UHB","Central Vale","-",27.168675098011981]
[null,null,null,null,null,null,null,null,null,null,null,null,null,null,null,null,null,null,null,null,null,null,null,null,null,null,null,null,null,null,null,null,null,null,null,null,null,null,null,null,null,null,null,null,null,null,null,null,null,null,null,null,null,null,null,null,null,null,null,null,null,null,null,null,null,null,null,null,null,null,null,null,null,null,null,null,null,null,null,null,null,null,null,null,null,null,null,null,null,null,2018,"Betsi Cadwaladr","Dwyfor",{"$f":"SUM(CP261:CP265)","v":24916},{"$f":"SUM(CQ261:CQ265)","v":1843},628,997,202,1512,321,595,null,null,null,null,null,null,null,null,null,null,null,null,null,null,null,null,null,null,null,null,null,null,null,null,null,null,null,null,null,null,null,null,null,null,null,null,null,null,null,null,null,null,null,null,null,null,null,null,null,null,null,null,null,null,null,null,null,null,null,null,null,null,null,null,null,null,"Alcohol",2014,"Cardiff & Vale UHB","Eastern Vale","-",26.803146416742113]
[null,null,null,null,null,null,null,null,null,null,null,null,null,null,null,null,null,null,null,null,null,null,null,null,null,null,null,null,null,null,null,null,null,null,null,null,null,null,null,null,null,null,null,null,null,null,null,null,null,null,null,null,null,null,null,null,null,null,null,null,null,null,null,null,null,null,null,null,null,null,null,null,null,null,null,null,null,null,null,null,null,null,null,null,null,null,null,null,null,null,null,null,null,null,null,null,null,null,null,null,null,null,null,null,null,null,null,null,null,null,null,null,null,null,null,null,null,null,null,null,null,null,null,null,null,null,null,null,null,null,null,null,null,null,null,null,null,null,null,null,null,null,null,null,null,null,null,null,null,null,null,null,null,null,null,null,null,null,null,null,null,null,null,null,null,null,null,"Alcohol",2014,"Cardiff & Vale UHB","Western Vale","-",26.987276588373003]
[null,null,null,null,null,null,null,null,null,null,null,null,null,null,null,null,null,null,null,null,null,null,null,null,null,null,null,null,null,null,null,null,null,null,null,null,null,null,null,null,null,null,null,null,null,null,null,null,null,null,null,null,null,null,null,null,null,null,null,null,null,null,null,null,null,null,null,null,null,null,null,null,null,null,null,null,null,null,null,null,null,null,null,null,null,null,null,null,null,2018,"Betsi Cadwaladr","Meirionnydd","W94004",4786,382,139,154,15,294,42,99,null,null,null,null,null,null,null,null,null,null,null,null,null,null,null,null,null,null,null,null,null,null,null,null,null,null,null,null,null,null,null,null,null,null,null,null,null,null,null,null,null,null,null,null,null,null,null,null,null,null,null,null,null,null,null,null,null,null,null,null,null,null,null,null,null,null,"Alcohol",2014,"Cwm Taf UHB","-","-",26.710798586051553]
[null,null,null,null,null,null,null,null,null,null,null,null,null,null,null,null,null,null,null,null,null,null,null,null,null,null,null,null,null,null,null,null,null,null,null,null,null,null,null,null,null,null,null,null,null,null,null,null,null,null,null,null,null,null,null,null,null,null,null,null,null,null,null,null,null,null,null,null,null,null,null,null,null,null,null,null,null,null,null,null,null,null,null,null,null,null,null,null,null,2018,"Betsi Cadwaladr","Meirionnydd","W94007",5464,416,203,323,77,492,151,200,null,null,null,null,null,null,null,null,null,null,null,null,null,null,null,null,null,null,null,null,null,null,null,null,null,null,null,null,null,null,null,null,null,null,null,null,null,null,null,null,null,null,null,null,null,null,null,null,null,null,null,null,null,null,null,null,null,null,null,null,null,null,null,null,null,null,"Alcohol",2014,"Cwm Taf UHB","North Cynon","-",26.150590150413617]
[null,null,null,null,null,null,null,null,null,null,null,null,null,null,null,null,null,null,null,null,null,null,null,null,null,null,null,null,null,null,null,null,null,null,null,null,null,null,null,null,null,null,null,null,null,null,null,null,null,null,null,null,null,null,null,null,null,null,null,null,null,null,null,null,null,null,null,null,null,null,null,null,null,null,null,null,null,null,null,null,null,null,null,null,null,null,null,null,null,2018,"Betsi Cadwaladr","Meirionnydd","W94008",4514,394,131,241,18,334,76,104,null,null,null,null,null,null,null,null,null,null,null,null,null,null,null,null,null,null,null,null,null,null,null,null,null,null,null,null,null,null,null,null,null,null,null,null,null,null,null,null,null,null,null,null,null,null,null,null,null,null,null,null,null,null,null,null,null,null,null,null,null,null,null,null,null,null,"Alcohol",2014,"Cwm Taf UHB","North Rhondda","-",25.81058808547715]
[null,null,null,null,null,null,null,null,null,null,null,null,null,null,null,null,null,null,null,null,null,null,null,null,null,null,null,null,null,null,null,null,null,null,null,null,null,null,null,null,null,null,null,null,null,null,null,null,null,null,null,null,null,null,null,null,null,null,null,null,null,null,null,null,null,null,null,null,null,null,null,null,null,null,null,null,null,null,null,null,null,null,null,null,null,null,null,null,null,2018,"Betsi Cadwaladr","Meirionnydd","W94032",7359,467,196,292,40,462,88,179,null,null,null,null,null,null,null,null,null,null,null,null,null,null,null,null,null,null,null,null,null,null,null,null,null,null,null,null,null,null,null,null,null,null,null,null,null,null,null,null,null,null,null,null,null,null,null,null,null,null,null,null,null,null,null,null,null,null,null,null,null,null,null,null,null,null,"Alcohol",2014,"Cwm Taf UHB","North Taf Ely","-",27.385351492206865]
[null,null,null,null,null,null,null,null,null,null,null,null,null,null,null,null,null,null,null,null,null,null,null,null,null,null,null,null,null,null,null,null,null,null,null,null,null,null,null,null,null,null,null,null,null,null,null,null,null,null,null,null,null,null,null,null,null,null,null,null,null,null,null,null,null,null,null,null,null,null,null,null,null,null,null,null,null,null,null,null,null,null,null,null,null,null,null,null,null,2018,"Betsi Cadwaladr","Meirionnydd","W94035",4590,291,136,149,20,245,48,78,null,null,null,null,null,null,null,null,null,null,null,null,null,null,null,null,null,null,null,null,null,null,null,null,null,null,null,null,null,null,null,null,null,null,null,null,null,null,null,null,null,null,null,null,null,null,null,null,null,null,null,null,null,null,null,null,null,null,null,null,null,null,null,null,null,null,"Alcohol",2014,"Cwm Taf UHB","South Cynon","-",26.397587894016176]
[null,null,null,null,null,null,null,null,null,null,null,null,null,null,null,null,null,null,null,null,null,null,null,null,null,null,null,null,null,null,null,null,null,null,null,null,null,null,null,null,null,null,null,null,null,null,null,null,null,null,null,null,null,null,null,null,null,null,null,null,null,null,null,null,null,null,null,null,null,null,null,null,null,null,null,null,null,null,null,null,null,null,null,null,null,null,null,null,null,2018,"Betsi Cadwaladr","Meirionnydd","W94036",4618,257,160,191,35,333,59,121,null,null,null,null,null,null,null,null,null,null,null,null,null,null,null,null,null,null,null,null,null,null,null,null,null,null,null,null,null,null,null,null,null,null,null,null,null,null,null,null,null,null,null,null,null,null,null,null,null,null,null,null,null,null,null,null,null,null,null,null,null,null,null,null,null,null,"Alcohol",2014,"Cwm Taf UHB","South Rhondda","-",26.323452328598982]
[null,null,null,null,null,null,null,null,null,null,null,null,null,null,null,null,null,null,null,null,null,null,null,null,null,null,null,null,null,null,null,null,null,null,null,null,null,null,null,null,null,null,null,null,null,null,null,null,null,null,null,null,null,null,null,null,null,null,null,null,null,null,null,null,null,null,null,null,null,null,null,null,null,null,null,null,null,null,null,null,null,null,null,null,null,null,null,null,null,null,2018,"Betsi Cadwaladr","Meirionnydd",{"$f":"SUM(CP268:CP273)","v":31331},{"$f":"SUM(CQ268:CQ273)","v":2207},965,1350,205,2160,464,781,null,null,null,null,null,null,null,null,null,null,null,null,null,null,null,null,null,null,null,null,null,null,null,null,null,null,null,null,null,null,null,null,null,null,null,null,null,null,null,null,null,null,null,null,null,null,null,null,null,null,null,null,null,null,null,null,null,null,null,null,null,null,null,null,null,null,"Alcohol",2014,"Cwm Taf UHB","South Taf Ely","-",27.599411056478878]
[null,null,null,null,null,null,null,null,null,null,null,null,null,null,null,null,null,null,null,null,null,null,null,null,null,null,null,null,null,null,null,null,null,null,null,null,null,null,null,null,null,null,null,null,null,null,null,null,null,null,null,null,null,null,null,null,null,null,null,null,null,null,null,null,null,null,null,null,null,null,null,null,null,null,null,null,null,null,null,null,null,null,null,null,null,null,null,null,null,null,null,null,null,null,null,null,null,null,null,null,null,null,null,null,null,null,null,null,null,null,null,null,null,null,null,null,null,null,null,null,null,null,null,null,null,null,null,null,null,null,null,null,null,null,null,null,null,null,null,null,null,null,null,null,null,null,null,null,null,null,null,null,null,null,null,null,null,null,null,null,null,null,null,null,null,null,null,"Alcohol",2014,"Cwm Taf UHB","North Merthyr Tydfil","-",26.504379186679085]
[null,null,null,null,null,null,null,null,null,null,null,null,null,null,null,null,null,null,null,null,null,null,null,null,null,null,null,null,null,null,null,null,null,null,null,null,null,null,null,null,null,null,null,null,null,null,null,null,null,null,null,null,null,null,null,null,null,null,null,null,null,null,null,null,null,null,null,null,null,null,null,null,null,null,null,null,null,null,null,null,null,null,null,null,null,null,null,null,null,2018,"Betsi Cadwaladr","North & West Wrexham","W00007",7029,541,180,242,45,404,93,109,null,null,null,null,null,null,null,null,null,null,null,null,null,null,null,null,null,null,null,null,null,null,null,null,null,null,null,null,null,null,null,null,null,null,null,null,null,null,null,null,null,null,null,null,null,null,null,null,null,null,null,null,null,null,null,null,null,null,null,null,null,null,null,null,null,null,"Alcohol",2014,"Cwm Taf UHB","South Merthyr Tydfil","-",26.831644723396451]
[null,null,null,null,null,null,null,null,null,null,null,null,null,null,null,null,null,null,null,null,null,null,null,null,null,null,null,null,null,null,null,null,null,null,null,null,null,null,null,null,null,null,null,null,null,null,null,null,null,null,null,null,null,null,null,null,null,null,null,null,null,null,null,null,null,null,null,null,null,null,null,null,null,null,null,null,null,null,null,null,null,null,null,null,null,null,null,null,null,2018,"Betsi Cadwaladr","North & West Wrexham","W91006",8267,560,247,275,25,476,87,150,null,null,null,null,null,null,null,null,null,null,null,null,null,null,null,null,null,null,null,null,null,null,null,null,null,null,null,null,null,null,null,null,null,null,null,null,null,null,null,null,null,null,null,null,null,null,null,null,null,null,null,null,null,null,null,null,null,null,null,null,null,null,null,null,null,null,"Alcohol",2014,"Hywel Dda UHB","-","-",25.572633279110963]
[null,null,null,null,null,null,null,null,null,null,null,null,null,null,null,null,null,null,null,null,null,null,null,null,null,null,null,null,null,null,null,null,null,null,null,null,null,null,null,null,null,null,null,null,null,null,null,null,null,null,null,null,null,null,null,null,null,null,null,null,null,null,null,null,null,null,null,null,null,null,null,null,null,null,null,null,null,null,null,null,null,null,null,null,null,null,null,null,null,2018,"Betsi Cadwaladr","North & West Wrexham","W91016",4773,398,148,191,33,301,53,103,null,null,null,null,null,null,null,null,null,null,null,null,null,null,null,null,null,null,null,null,null,null,null,null,null,null,null,null,null,null,null,null,null,null,null,null,null,null,null,null,null,null,null,null,null,null,null,null,null,null,null,null,null,null,null,null,null,null,null,null,null,null,null,null,null,null,"Alcohol",2014,"Hywel Dda UHB","North Ceredigion","-",27.708487557474225]
[null,null,null,null,null,null,null,null,null,null,null,null,null,null,null,null,null,null,null,null,null,null,null,null,null,null,null,null,null,null,null,null,null,null,null,null,null,null,null,null,null,null,null,null,null,null,null,null,null,null,null,null,null,null,null,null,null,null,null,null,null,null,null,null,null,null,null,null,null,null,null,null,null,null,null,null,null,null,null,null,null,null,null,null,null,null,null,null,null,2018,"Betsi Cadwaladr","North & West Wrexham","W91020",6499,539,180,204,36,321,66,111,null,null,null,null,null,null,null,null,null,null,null,null,null,null,null,null,null,null,null,null,null,null,null,null,null,null,null,null,null,null,null,null,null,null,null,null,null,null,null,null,null,null,null,null,null,null,null,null,null,null,null,null,null,null,null,null,null,null,null,null,null,null,null,null,null,null,"Alcohol",2014,"Hywel Dda UHB","South Ceredigion","-",24.674532386458523]
[null,null,null,null,null,null,null,null,null,null,null,null,null,null,null,null,null,null,null,null,null,null,null,null,null,null,null,null,null,null,null,null,null,null,null,null,null,null,null,null,null,null,null,null,null,null,null,null,null,null,null,null,null,null,null,null,null,null,null,null,null,null,null,null,null,null,null,null,null,null,null,null,null,null,null,null,null,null,null,null,null,null,null,null,null,null,null,null,null,2018,"Betsi Cadwaladr","North & West Wrexham","W91025",12854,965,334,535,100,724,121,272,null,null,null,null,null,null,null,null,null,null,null,null,null,null,null,null,null,null,null,null,null,null,null,null,null,null,null,null,null,null,null,null,null,null,null,null,null,null,null,null,null,null,null,null,null,null,null,null,null,null,null,null,null,null,null,null,null,null,null,null,null,null,null,null,null,null,"Alcohol",2014,"Hywel Dda UHB","North Pembrokeshire","-",25.346445359940446]
[null,null,null,null,null,null,null,null,null,null,null,null,null,null,null,null,null,null,null,null,null,null,null,null,null,null,null,null,null,null,null,null,null,null,null,null,null,null,null,null,null,null,null,null,null,null,null,null,null,null,null,null,null,null,null,null,null,null,null,null,null,null,null,null,null,null,null,null,null,null,null,null,null,null,null,null,null,null,null,null,null,null,null,null,null,null,null,null,null,2018,"Betsi Cadwaladr","North & West Wrexham","W91056",2428,129,37,85,11,116,24,29,null,null,null,null,null,null,null,null,null,null,null,null,null,null,null,null,null,null,null,null,null,null,null,null,null,null,null,null,null,null,null,null,null,null,null,null,null,null,null,null,null,null,null,null,null,null,null,null,null,null,null,null,null,null,null,null,null,null,null,null,null,null,null,null,null,null,"Alcohol",2014,"Hywel Dda UHB","South Pembrokeshire","-",25.021416302161683]
[null,null,null,null,null,null,null,null,null,null,null,null,null,null,null,null,null,null,null,null,null,null,null,null,null,null,null,null,null,null,null,null,null,null,null,null,null,null,null,null,null,null,null,null,null,null,null,null,null,null,null,null,null,null,null,null,null,null,null,null,null,null,null,null,null,null,null,null,null,null,null,null,null,null,null,null,null,null,null,null,null,null,null,null,null,null,null,null,null,null,2018,"Betsi Cadwaladr","North & West Wrexham",{"$f":"SUM(CP276:CP281)","v":41850},{"$f":"SUM(CQ276:CQ281)","v":3132},1126,1532,250,2342,444,774,null,null,null,null,null,null,null,null,null,null,null,null,null,null,null,null,null,null,null,null,null,null,null,null,null,null,null,null,null,null,null,null,null,null,null,null,null,null,null,null,null,null,null,null,null,null,null,null,null,null,null,null,null,null,null,null,null,null,null,null,null,null,null,null,null,null,"Alcohol",2014,"Hywel Dda UHB","Taf / Teifi / Tywi","-",25.2678044650952]
[null,null,null,null,null,null,null,null,null,null,null,null,null,null,null,null,null,null,null,null,null,null,null,null,null,null,null,null,null,null,null,null,null,null,null,null,null,null,null,null,null,null,null,null,null,null,null,null,null,null,null,null,null,null,null,null,null,null,null,null,null,null,null,null,null,null,null,null,null,null,null,null,null,null,null,null,null,null,null,null,null,null,null,null,null,null,null,null,null,null,null,null,null,null,null,null,null,null,null,null,null,null,null,null,null,null,null,null,null,null,null,null,null,null,null,null,null,null,null,null,null,null,null,null,null,null,null,null,null,null,null,null,null,null,null,null,null,null,null,null,null,null,null,null,null,null,null,null,null,null,null,null,null,null,null,null,null,null,null,null,null,null,null,null,null,null,null,"Alcohol",2014,"Hywel Dda UHB","Amman/Gwendraeth","-",25.458998358151486]
[null,null,null,null,null,null,null,null,null,null,null,null,null,null,null,null,null,null,null,null,null,null,null,null,null,null,null,null,null,null,null,null,null,null,null,null,null,null,null,null,null,null,null,null,null,null,null,null,null,null,null,null,null,null,null,null,null,null,null,null,null,null,null,null,null,null,null,null,null,null,null,null,null,null,null,null,null,null,null,null,null,null,null,null,null,null,null,null,null,2018,"Betsi Cadwaladr","North Denbighshire","W91003",16165,1170,617,824,305,1188,227,386,null,null,null,null,null,null,null,null,null,null,null,null,null,null,null,null,null,null,null,null,null,null,null,null,null,null,null,null,null,null,null,null,null,null,null,null,null,null,null,null,null,null,null,null,null,null,null,null,null,null,null,null,null,null,null,null,null,null,null,null,null,null,null,null,null,null,"Alcohol",2014,"Hywel Dda UHB","Llanelli","-",25.741551498017223]
[null,null,null,null,null,null,null,null,null,null,null,null,null,null,null,null,null,null,null,null,null,null,null,null,null,null,null,null,null,null,null,null,null,null,null,null,null,null,null,null,null,null,null,null,null,null,null,null,null,null,null,null,null,null,null,null,null,null,null,null,null,null,null,null,null,null,null,null,null,null,null,null,null,null,null,null,null,null,null,null,null,null,null,null,null,null,null,null,null,2018,"Betsi Cadwaladr","North Denbighshire","W91009",21387,1599,785,1146,223,1598,232,509,null,null,null,null,null,null,null,null,null,null,null,null,null,null,null,null,null,null,null,null,null,null,null,null,null,null,null,null,null,null,null,null,null,null,null,null,null,null,null,null,null,null,null,null,null,null,null,null,null,null,null,null,null,null,null,null,null,null,null,null,null,null,null,null,null,null,"Alcohol",2014,"Powys THB","-","-",25.148621972806385]
[null,null,null,null,null,null,null,null,null,null,null,null,null,null,null,null,null,null,null,null,null,null,null,null,null,null,null,null,null,null,null,null,null,null,null,null,null,null,null,null,null,null,null,null,null,null,null,null,null,null,null,null,null,null,null,null,null,null,null,null,null,null,null,null,null,null,null,null,null,null,null,null,null,null,null,null,null,null,null,null,null,null,null,null,null,null,null,null,null,2018,"Betsi Cadwaladr","North Denbighshire","W91028",7971,706,294,340,54,518,71,152,null,null,null,null,null,null,null,null,null,null,null,null,null,null,null,null,null,null,null,null,null,null,null,null,null,null,null,null,null,null,null,null,null,null,null,null,null,null,null,null,null,null,null,null,null,null,null,null,null,null,null,null,null,null,null,null,null,null,null,null,null,null,null,null,null,null,"Alcohol",2014,"Powys tHB","North Powys","-",25.50145948588596]
[null,null,null,null,null,null,null,null,null,null,null,null,null,null,null,null,null,null,null,null,null,null,null,null,null,null,null,null,null,null,null,null,null,null,null,null,null,null,null,null,null,null,null,null,null,null,null,null,null,null,null,null,null,null,null,null,null,null,null,null,null,null,null,null,null,null,null,null,null,null,null,null,null,null,null,null,null,null,null,null,null,null,null,null,null,null,null,null,null,2018,"Betsi Cadwaladr","North Denbighshire","W91053",6403,445,230,210,36,399,52,105,null,null,null,null,null,null,null,null,null,null,null,null,null,null,null,null,null,null,null,null,null,null,null,null,null,null,null,null,null,null,null,null,null,null,null,null,null,null,null,null,null,null,null,null,null,null,null,null,null,null,null,null,null,null,null,null,null,null,null,null,null,null,null,null,null,null,"Alcohol",2014,"Powys tHB","Mid Powys","-",24.191476962950819]
[null,null,null,null,null,null,null,null,null,null,null,null,null,null,null,null,null,null,null,null,null,null,null,null,null,null,null,null,null,null,null,null,null,null,null,null,null,null,null,null,null,null,null,null,null,null,null,null,null,null,null,null,null,null,null,null,null,null,null,null,null,null,null,null,null,null,null,null,null,null,null,null,null,null,null,null,null,null,null,null,null,null,null,null,null,null,null,null,null,2018,"Betsi Cadwaladr","North Denbighshire","W91615",2144,164,61,83,7,133,9,23,null,null,null,null,null,null,null,null,null,null,null,null,null,null,null,null,null,null,null,null,null,null,null,null,null,null,null,null,null,null,null,null,null,null,null,null,null,null,null,null,null,null,null,null,null,null,null,null,null,null,null,null,null,null,null,null,null,null,null,null,null,null,null,null,null,null,"Alcohol",2014,"Powys tHB","South Powys","-",25.242017641014968]
[null,null,null,null,null,null,null,null,null,null,null,null,null,null,null,null,null,null,null,null,null,null,null,null,null,null,null,null,null,null,null,null,null,null,null,null,null,null,null,null,null,null,null,null,null,null,null,null,null,null,null,null,null,null,null,null,null,null,null,null,null,null,null,null,null,null,null,null,null,null,null,null,null,null,null,null,null,null,null,null,null,null,null,null,null,null,null,null,null,2018,"Betsi Cadwaladr","North Denbighshire","W91622",6342,499,212,192,27,311,85,105,null,null,null,null,null,null,null,null,null,null,null,null,null,null,null,null,null,null,null,null,null,null,null,null,null,null,null,null,null,null,null,null,null,null,null,null,null,null,null,null,null,null,null,null,null,null,null,null,null,null,null,null,null,null,null,null,null,null,null,null,null,null,null,null,null,null,"Alcohol",2014,"Wales","-","-",26.563294730636795]
[null,null,null,null,null,null,null,null,null,null,null,null,null,null,null,null,null,null,null,null,null,null,null,null,null,null,null,null,null,null,null,null,null,null,null,null,null,null,null,null,null,null,null,null,null,null,null,null,null,null,null,null,null,null,null,null,null,null,null,null,null,null,null,null,null,null,null,null,null,null,null,null,null,null,null,null,null,null,null,null,null,null,null,null,null,null,null,null,null,null,2018,"Betsi Cadwaladr","North Denbighshire",{"$f":"SUM(CP284:CP289)","v":60412},{"$f":"SUM(CQ284:CQ289)","v":4583},2199,2795,652,4147,676,1280]
[]
[null,null,null,null,null,null,null,null,null,null,null,null,null,null,null,null,null,null,null,null,null,null,null,null,null,null,null,null,null,null,null,null,null,null,null,null,null,null,null,null,null,null,null,null,null,null,null,null,null,null,null,null,null,null,null,null,null,null,null,null,null,null,null,null,null,null,null,null,null,null,null,null,null,null,null,null,null,null,null,null,null,null,null,null,null,null,null,null,null,2018,"Betsi Cadwaladr","North East Flintshire","W91015",10387,696,164,323,21,532,48,157]
[null,null,null,null,null,null,null,null,null,null,null,null,null,null,null,null,null,null,null,null,null,null,null,null,null,null,null,null,null,null,null,null,null,null,null,null,null,null,null,null,null,null,null,null,null,null,null,null,null,null,null,null,null,null,null,null,null,null,null,null,null,null,null,null,null,null,null,null,null,null,null,null,null,null,null,null,null,null,null,null,null,null,null,null,null,null,null,null,null,2018,"Betsi Cadwaladr","North East Flintshire","W91021",15514,1004,311,536,65,899,150,301]
[null,null,null,null,null,null,null,null,null,null,null,null,null,null,null,null,null,null,null,null,null,null,null,null,null,null,null,null,null,null,null,null,null,null,null,null,null,null,null,null,null,null,null,null,null,null,null,null,null,null,null,null,null,null,null,null,null,null,null,null,null,null,null,null,null,null,null,null,null,null,null,null,null,null,null,null,null,null,null,null,null,null,null,null,null,null,null,null,null,2018,"Betsi Cadwaladr","North East Flintshire","W91036",8186,520,241,292,36,438,91,158]
[null,null,null,null,null,null,null,null,null,null,null,null,null,null,null,null,null,null,null,null,null,null,null,null,null,null,null,null,null,null,null,null,null,null,null,null,null,null,null,null,null,null,null,null,null,null,null,null,null,null,null,null,null,null,null,null,null,null,null,null,null,null,null,null,null,null,null,null,null,null,null,null,null,null,null,null,null,null,null,null,null,null,null,null,null,null,null,null,null,2018,"Betsi Cadwaladr","North East Flintshire","W91039",5404,345,112,230,29,332,67,105]
[null,null,null,null,null,null,null,null,null,null,null,null,null,null,null,null,null,null,null,null,null,null,null,null,null,null,null,null,null,null,null,null,null,null,null,null,null,null,null,null,null,null,null,null,null,null,null,null,null,null,null,null,null,null,null,null,null,null,null,null,null,null,null,null,null,null,null,null,null,null,null,null,null,null,null,null,null,null,null,null,null,null,null,null,null,null,null,null,null,2018,"Betsi Cadwaladr","North East Flintshire","W91040",7222,592,140,220,21,383,91,139]
[null,null,null,null,null,null,null,null,null,null,null,null,null,null,null,null,null,null,null,null,null,null,null,null,null,null,null,null,null,null,null,null,null,null,null,null,null,null,null,null,null,null,null,null,null,null,null,null,null,null,null,null,null,null,null,null,null,null,null,null,null,null,null,null,null,null,null,null,null,null,null,null,null,null,null,null,null,null,null,null,null,null,null,null,null,null,null,null,null,2018,"Betsi Cadwaladr","North East Flintshire","W91051",7690,476,186,322,42,378,67,103]
[null,null,null,null,null,null,null,null,null,null,null,null,null,null,null,null,null,null,null,null,null,null,null,null,null,null,null,null,null,null,null,null,null,null,null,null,null,null,null,null,null,null,null,null,null,null,null,null,null,null,null,null,null,null,null,null,null,null,null,null,null,null,null,null,null,null,null,null,null,null,null,null,null,null,null,null,null,null,null,null,null,null,null,null,null,null,null,null,null,2018,"Betsi Cadwaladr","North East Flintshire","W91060",5976,446,178,223,31,352,65,90]
[null,null,null,null,null,null,null,null,null,null,null,null,null,null,null,null,null,null,null,null,null,null,null,null,null,null,null,null,null,null,null,null,null,null,null,null,null,null,null,null,null,null,null,null,null,null,null,null,null,null,null,null,null,null,null,null,null,null,null,null,null,null,null,null,null,null,null,null,null,null,null,null,null,null,null,null,null,null,null,null,null,null,null,null,null,null,null,null,null,2018,"Betsi Cadwaladr","North East Flintshire","W91607",1750,102,40,80,4,97,15,47]
[null,null,null,null,null,null,null,null,null,null,null,null,null,null,null,null,null,null,null,null,null,null,null,null,null,null,null,null,null,null,null,null,null,null,null,null,null,null,null,null,null,null,null,null,null,null,null,null,null,null,null,null,null,null,null,null,null,null,null,null,null,null,null,null,null,null,null,null,null,null,null,null,null,null,null,null,null,null,null,null,null,null,null,null,null,null,null,null,null,null,2018,"Betsi Cadwaladr","North East Flintshire",{"$f":"SUM(CP292:CP299)","v":62129},{"$f":"SUM(CQ292:CQ299)","v":4181},1372,2226,249,3411,594,1100]
[]
[null,null,null,null,null,null,null,null,null,null,null,null,null,null,null,null,null,null,null,null,null,null,null,null,null,null,null,null,null,null,null,null,null,null,null,null,null,null,null,null,null,null,null,null,null,null,null,null,null,null,null,null,null,null,null,null,null,null,null,null,null,null,null,null,null,null,null,null,null,null,null,null,null,null,null,null,null,null,null,null,null,null,null,null,null,null,null,null,null,2018,"Betsi Cadwaladr","North West Flintshire","W91005",9888,604,289,364,49,620,78,160]
[null,null,null,null,null,null,null,null,null,null,null,null,null,null,null,null,null,null,null,null,null,null,null,null,null,null,null,null,null,null,null,null,null,null,null,null,null,null,null,null,null,null,null,null,null,null,null,null,null,null,null,null,null,null,null,null,null,null,null,null,null,null,null,null,null,null,null,null,null,null,null,null,null,null,null,null,null,null,null,null,null,null,null,null,null,null,null,null,null,2018,"Betsi Cadwaladr","North West Flintshire","W91029",7804,590,188,277,46,474,81,142]
[null,null,null,null,null,null,null,null,null,null,null,null,null,null,null,null,null,null,null,null,null,null,null,null,null,null,null,null,null,null,null,null,null,null,null,null,null,null,null,null,null,null,null,null,null,null,null,null,null,null,null,null,null,null,null,null,null,null,null,null,null,null,null,null,null,null,null,null,null,null,null,null,null,null,null,null,null,null,null,null,null,null,null,null,null,null,null,null,null,2018,"Betsi Cadwaladr","North West Flintshire","W91032",5381,300,140,194,55,308,52,91]
[null,null,null,null,null,null,null,null,null,null,null,null,null,null,null,null,null,null,null,null,null,null,null,null,null,null,null,null,null,null,null,null,null,null,null,null,null,null,null,null,null,null,null,null,null,null,null,null,null,null,null,null,null,null,null,null,null,null,null,null,null,null,null,null,null,null,null,null,null,null,null,null,null,null,null,null,null,null,null,null,null,null,null,null,null,null,null,null,null,2018,"Betsi Cadwaladr","North West Flintshire","W91037",2665,219,97,101,16,186,28,34]
[null,null,null,null,null,null,null,null,null,null,null,null,null,null,null,null,null,null,null,null,null,null,null,null,null,null,null,null,null,null,null,null,null,null,null,null,null,null,null,null,null,null,null,null,null,null,null,null,null,null,null,null,null,null,null,null,null,null,null,null,null,null,null,null,null,null,null,null,null,null,null,null,null,null,null,null,null,null,null,null,null,null,null,null,null,null,null,null,null,2018,"Betsi Cadwaladr","North West Flintshire","W91046",3895,192,57,135,26,244,40,54]
[null,null,null,null,null,null,null,null,null,null,null,null,null,null,null,null,null,null,null,null,null,null,null,null,null,null,null,null,null,null,null,null,null,null,null,null,null,null,null,null,null,null,null,null,null,null,null,null,null,null,null,null,null,null,null,null,null,null,null,null,null,null,null,null,null,null,null,null,null,null,null,null,null,null,null,null,null,null,null,null,null,null,null,null,null,null,null,null,null,2018,"Betsi Cadwaladr","North West Flintshire","W91055",6371,526,188,260,47,380,63,117]
[null,null,null,null,null,null,null,null,null,null,null,null,null,null,null,null,null,null,null,null,null,null,null,null,null,null,null,null,null,null,null,null,null,null,null,null,null,null,null,null,null,null,null,null,null,null,null,null,null,null,null,null,null,null,null,null,null,null,null,null,null,null,null,null,null,null,null,null,null,null,null,null,null,null,null,null,null,null,null,null,null,null,null,null,null,null,null,null,null,2018,"Betsi Cadwaladr","North West Flintshire","W91636",3413,317,84,129,12,213,25,45]
[null,null,null,null,null,null,null,null,null,null,null,null,null,null,null,null,null,null,null,null,null,null,null,null,null,null,null,null,null,null,null,null,null,null,null,null,null,null,null,null,null,null,null,null,null,null,null,null,null,null,null,null,null,null,null,null,null,null,null,null,null,null,null,null,null,null,null,null,null,null,null,null,null,null,null,null,null,null,null,null,null,null,null,null,null,null,null,null,null,null,2018,"Betsi Cadwaladr","North West Flintshire",{"$f":"SUM(CP302:CP308)","v":39417},{"$f":"SUM(CQ302:CQ308)","v":2748},1043,1460,251,2425,367,643]
[]
[null,null,null,null,null,null,null,null,null,null,null,null,null,null,null,null,null,null,null,null,null,null,null,null,null,null,null,null,null,null,null,null,null,null,null,null,null,null,null,null,null,null,null,null,null,null,null,null,null,null,null,null,null,null,null,null,null,null,null,null,null,null,null,null,null,null,null,null,null,null,null,null,null,null,null,null,null,null,null,null,null,null,null,null,null,null,null,null,null,2018,"Betsi Cadwaladr","South Flintshire","W00076",14710,1126,358,525,67,794,158,282]
[null,null,null,null,null,null,null,null,null,null,null,null,null,null,null,null,null,null,null,null,null,null,null,null,null,null,null,null,null,null,null,null,null,null,null,null,null,null,null,null,null,null,null,null,null,null,null,null,null,null,null,null,null,null,null,null,null,null,null,null,null,null,null,null,null,null,null,null,null,null,null,null,null,null,null,null,null,null,null,null,null,null,null,null,null,null,null,null,null,2018,"Betsi Cadwaladr","South Flintshire","W91013",8942,588,145,319,95,517,72,185]
[null,null,null,null,null,null,null,null,null,null,null,null,null,null,null,null,null,null,null,null,null,null,null,null,null,null,null,null,null,null,null,null,null,null,null,null,null,null,null,null,null,null,null,null,null,null,null,null,null,null,null,null,null,null,null,null,null,null,null,null,null,null,null,null,null,null,null,null,null,null,null,null,null,null,null,null,null,null,null,null,null,null,null,null,null,null,null,null,null,2018,"Betsi Cadwaladr","South Flintshire","W91017",10732,818,238,490,79,705,155,305]
[null,null,null,null,null,null,null,null,null,null,null,null,null,null,null,null,null,null,null,null,null,null,null,null,null,null,null,null,null,null,null,null,null,null,null,null,null,null,null,null,null,null,null,null,null,null,null,null,null,null,null,null,null,null,null,null,null,null,null,null,null,null,null,null,null,null,null,null,null,null,null,null,null,null,null,null,null,null,null,null,null,null,null,null,null,null,null,null,null,2018,"Betsi Cadwaladr","South Flintshire","W91018",10255,745,191,395,41,520,99,231]
[null,null,null,null,null,null,null,null,null,null,null,null,null,null,null,null,null,null,null,null,null,null,null,null,null,null,null,null,null,null,null,null,null,null,null,null,null,null,null,null,null,null,null,null,null,null,null,null,null,null,null,null,null,null,null,null,null,null,null,null,null,null,null,null,null,null,null,null,null,null,null,null,null,null,null,null,null,null,null,null,null,null,null,null,null,null,null,null,null,2018,"Betsi Cadwaladr","South Flintshire","W91044",2399,122,77,91,5,160,24,55]
[null,null,null,null,null,null,null,null,null,null,null,null,null,null,null,null,null,null,null,null,null,null,null,null,null,null,null,null,null,null,null,null,null,null,null,null,null,null,null,null,null,null,null,null,null,null,null,null,null,null,null,null,null,null,null,null,null,null,null,null,null,null,null,null,null,null,null,null,null,null,null,null,null,null,null,null,null,null,null,null,null,null,null,null,null,null,null,null,null,2018,"Betsi Cadwaladr","South Flintshire","W91610",2010,150,61,81,26,133,25,39]
[null,null,null,null,null,null,null,null,null,null,null,null,null,null,null,null,null,null,null,null,null,null,null,null,null,null,null,null,null,null,null,null,null,null,null,null,null,null,null,null,null,null,null,null,null,null,null,null,null,null,null,null,null,null,null,null,null,null,null,null,null,null,null,null,null,null,null,null,null,null,null,null,null,null,null,null,null,null,null,null,null,null,null,null,null,null,null,null,null,2018,"Betsi Cadwaladr","South Flintshire","W91626",2048,142,29,57,3,114,16,30]
[null,null,null,null,null,null,null,null,null,null,null,null,null,null,null,null,null,null,null,null,null,null,null,null,null,null,null,null,null,null,null,null,null,null,null,null,null,null,null,null,null,null,null,null,null,null,null,null,null,null,null,null,null,null,null,null,null,null,null,null,null,null,null,null,null,null,null,null,null,null,null,null,null,null,null,null,null,null,null,null,null,null,null,null,null,null,null,null,null,null,2018,"Betsi Cadwaladr","South Flintshire",{"$f":"SUM(CP311:CP317)","v":51096},{"$f":"SUM(CQ311:CQ317)","v":3691},1099,1958,316,2943,549,1127]
[]
[null,null,null,null,null,null,null,null,null,null,null,null,null,null,null,null,null,null,null,null,null,null,null,null,null,null,null,null,null,null,null,null,null,null,null,null,null,null,null,null,null,null,null,null,null,null,null,null,null,null,null,null,null,null,null,null,null,null,null,null,null,null,null,null,null,null,null,null,null,null,null,null,null,null,null,null,null,null,null,null,null,null,null,null,null,null,null,null,null,2018,"Betsi Cadwaladr","South Wrexham","W91010",9217,608,197,362,85,517,100,224]
[null,null,null,null,null,null,null,null,null,null,null,null,null,null,null,null,null,null,null,null,null,null,null,null,null,null,null,null,null,null,null,null,null,null,null,null,null,null,null,null,null,null,null,null,null,null,null,null,null,null,null,null,null,null,null,null,null,null,null,null,null,null,null,null,null,null,null,null,null,null,null,null,null,null,null,null,null,null,null,null,null,null,null,null,null,null,null,null,null,2018,"Betsi Cadwaladr","South Wrexham","W91019",8552,944,263,359,52,502,91,164]
[null,null,null,null,null,null,null,null,null,null,null,null,null,null,null,null,null,null,null,null,null,null,null,null,null,null,null,null,null,null,null,null,null,null,null,null,null,null,null,null,null,null,null,null,null,null,null,null,null,null,null,null,null,null,null,null,null,null,null,null,null,null,null,null,null,null,null,null,null,null,null,null,null,null,null,null,null,null,null,null,null,null,null,null,null,null,null,null,null,2018,"Betsi Cadwaladr","South Wrexham","W91024",9918,574,228,349,106,619,88,238]
[null,null,null,null,null,null,null,null,null,null,null,null,null,null,null,null,null,null,null,null,null,null,null,null,null,null,null,null,null,null,null,null,null,null,null,null,null,null,null,null,null,null,null,null,null,null,null,null,null,null,null,null,null,null,null,null,null,null,null,null,null,null,null,null,null,null,null,null,null,null,null,null,null,null,null,null,null,null,null,null,null,null,null,null,null,null,null,null,null,2018,"Betsi Cadwaladr","South Wrexham","W91026",6592,527,124,229,22,365,78,136]
[null,null,null,null,null,null,null,null,null,null,null,null,null,null,null,null,null,null,null,null,null,null,null,null,null,null,null,null,null,null,null,null,null,null,null,null,null,null,null,null,null,null,null,null,null,null,null,null,null,null,null,null,null,null,null,null,null,null,null,null,null,null,null,null,null,null,null,null,null,null,null,null,null,null,null,null,null,null,null,null,null,null,null,null,null,null,null,null,null,2018,"Betsi Cadwaladr","South Wrexham","W91043",9047,661,178,349,37,506,104,129]
[null,null,null,null,null,null,null,null,null,null,null,null,null,null,null,null,null,null,null,null,null,null,null,null,null,null,null,null,null,null,null,null,null,null,null,null,null,null,null,null,null,null,null,null,null,null,null,null,null,null,null,null,null,null,null,null,null,null,null,null,null,null,null,null,null,null,null,null,null,null,null,null,null,null,null,null,null,null,null,null,null,null,null,null,null,null,null,null,null,2018,"Betsi Cadwaladr","South Wrexham","W91059",5930,475,222,182,12,335,60,83]
[null,null,null,null,null,null,null,null,null,null,null,null,null,null,null,null,null,null,null,null,null,null,null,null,null,null,null,null,null,null,null,null,null,null,null,null,null,null,null,null,null,null,null,null,null,null,null,null,null,null,null,null,null,null,null,null,null,null,null,null,null,null,null,null,null,null,null,null,null,null,null,null,null,null,null,null,null,null,null,null,null,null,null,null,null,null,null,null,null,2018,"Betsi Cadwaladr","South Wrexham","W91604",1867,105,23,67,3,116,14,24]
[null,null,null,null,null,null,null,null,null,null,null,null,null,null,null,null,null,null,null,null,null,null,null,null,null,null,null,null,null,null,null,null,null,null,null,null,null,null,null,null,null,null,null,null,null,null,null,null,null,null,null,null,null,null,null,null,null,null,null,null,null,null,null,null,null,null,null,null,null,null,null,null,null,null,null,null,null,null,null,null,null,null,null,null,null,null,null,null,null,2018,"Betsi Cadwaladr","South Wrexham","W91614",2328,141,54,84,6,146,29,48]
[null,null,null,null,null,null,null,null,null,null,null,null,null,null,null,null,null,null,null,null,null,null,null,null,null,null,null,null,null,null,null,null,null,null,null,null,null,null,null,null,null,null,null,null,null,null,null,null,null,null,null,null,null,null,null,null,null,null,null,null,null,null,null,null,null,null,null,null,null,null,null,null,null,null,null,null,null,null,null,null,null,null,null,null,null,null,null,null,null,null,2018,"Betsi Cadwaladr","South Wrexham",{"$f":"SUM(CP320:CP327)","v":53451},{"$f":"SUM(CQ320:CQ327)","v":4035},1289,1981,323,3106,564,1046]
[]
[null,null,null,null,null,null,null,null,null,null,null,null,null,null,null,null,null,null,null,null,null,null,null,null,null,null,null,null,null,null,null,null,null,null,null,null,null,null,null,null,null,null,null,null,null,null,null,null,null,null,null,null,null,null,null,null,null,null,null,null,null,null,null,null,null,null,null,null,null,null,null,null,null,null,null,null,null,null,null,null,null,null,null,null,null,null,null,null,null,2018,"Cardiff & Vale","Cardiff East","W97006",18854,1316,315,436,72,927,136,211]
[null,null,null,null,null,null,null,null,null,null,null,null,null,null,null,null,null,null,null,null,null,null,null,null,null,null,null,null,null,null,null,null,null,null,null,null,null,null,null,null,null,null,null,null,null,null,null,null,null,null,null,null,null,null,null,null,null,null,null,null,null,null,null,null,null,null,null,null,null,null,null,null,null,null,null,null,null,null,null,null,null,null,null,null,null,null,null,null,null,2018,"Cardiff & Vale","Cardiff East","W97008",18302,1233,429,614,157,1088,184,339]
[null,null,null,null,null,null,null,null,null,null,null,null,null,null,null,null,null,null,null,null,null,null,null,null,null,null,null,null,null,null,null,null,null,null,null,null,null,null,null,null,null,null,null,null,null,null,null,null,null,null,null,null,null,null,null,null,null,null,null,null,null,null,null,null,null,null,null,null,null,null,null,null,null,null,null,null,null,null,null,null,null,null,null,null,null,null,null,null,null,2018,"Cardiff & Vale","Cardiff East","W97027",15414,1028,441,523,109,897,135,294]
[null,null,null,null,null,null,null,null,null,null,null,null,null,null,null,null,null,null,null,null,null,null,null,null,null,null,null,null,null,null,null,null,null,null,null,null,null,null,null,null,null,null,null,null,null,null,null,null,null,null,null,null,null,null,null,null,null,null,null,null,null,null,null,null,null,null,null,null,null,null,null,null,null,null,null,null,null,null,null,null,null,null,null,null,null,null,null,null,null,2018,"Cardiff & Vale","Cardiff East","W97069",5019,316,67,96,69,215,16,56]
[null,null,null,null,null,null,null,null,null,null,null,null,null,null,null,null,null,null,null,null,null,null,null,null,null,null,null,null,null,null,null,null,null,null,null,null,null,null,null,null,null,null,null,null,null,null,null,null,null,null,null,null,null,null,null,null,null,null,null,null,null,null,null,null,null,null,null,null,null,null,null,null,null,null,null,null,null,null,null,null,null,null,null,null,null,null,null,null,null,null,2018,"Cardiff & Vale","Cardiff East",{"$f":"SUM(CP330:CP333)","v":57589},{"$f":"SUM(CQ330:CQ333)","v":3893},1252,1669,407,3127,471,900]
[]
[null,null,null,null,null,null,null,null,null,null,null,null,null,null,null,null,null,null,null,null,null,null,null,null,null,null,null,null,null,null,null,null,null,null,null,null,null,null,null,null,null,null,null,null,null,null,null,null,null,null,null,null,null,null,null,null,null,null,null,null,null,null,null,null,null,null,null,null,null,null,null,null,null,null,null,null,null,null,null,null,null,null,null,null,null,null,null,null,null,2018,"Cardiff & Vale","Cardiff North","W97010",9727,786,151,341,93,512,148,226]
[null,null,null,null,null,null,null,null,null,null,null,null,null,null,null,null,null,null,null,null,null,null,null,null,null,null,null,null,null,null,null,null,null,null,null,null,null,null,null,null,null,null,null,null,null,null,null,null,null,null,null,null,null,null,null,null,null,null,null,null,null,null,null,null,null,null,null,null,null,null,null,null,null,null,null,null,null,null,null,null,null,null,null,null,null,null,null,null,null,2018,"Cardiff & Vale","Cardiff North","W97013",8896,752,142,331,119,485,109,218]
[null,null,null,null,null,null,null,null,null,null,null,null,null,null,null,null,null,null,null,null,null,null,null,null,null,null,null,null,null,null,null,null,null,null,null,null,null,null,null,null,null,null,null,null,null,null,null,null,null,null,null,null,null,null,null,null,null,null,null,null,null,null,null,null,null,null,null,null,null,null,null,null,null,null,null,null,null,null,null,null,null,null,null,null,null,null,null,null,null,2018,"Cardiff & Vale","Cardiff North","W97015",15546,1213,191,493,101,745,155,321]
[null,null,null,null,null,null,null,null,null,null,null,null,null,null,null,null,null,null,null,null,null,null,null,null,null,null,null,null,null,null,null,null,null,null,null,null,null,null,null,null,null,null,null,null,null,null,null,null,null,null,null,null,null,null,null,null,null,null,null,null,null,null,null,null,null,null,null,null,null,null,null,null,null,null,null,null,null,null,null,null,null,null,null,null,null,null,null,null,null,2018,"Cardiff & Vale","Cardiff North","W97021",10524,815,92,330,71,481,100,191]
[null,null,null,null,null,null,null,null,null,null,null,null,null,null,null,null,null,null,null,null,null,null,null,null,null,null,null,null,null,null,null,null,null,null,null,null,null,null,null,null,null,null,null,null,null,null,null,null,null,null,null,null,null,null,null,null,null,null,null,null,null,null,null,null,null,null,null,null,null,null,null,null,null,null,null,null,null,null,null,null,null,null,null,null,null,null,null,null,null,2018,"Cardiff & Vale","Cardiff North","W97025",7988,472,111,142,30,285,30,81]
[null,null,null,null,null,null,null,null,null,null,null,null,null,null,null,null,null,null,null,null,null,null,null,null,null,null,null,null,null,null,null,null,null,null,null,null,null,null,null,null,null,null,null,null,null,null,null,null,null,null,null,null,null,null,null,null,null,null,null,null,null,null,null,null,null,null,null,null,null,null,null,null,null,null,null,null,null,null,null,null,null,null,null,null,null,null,null,null,null,2018,"Cardiff & Vale","Cardiff North","W97033",10490,760,96,247,76,377,114,190]
[null,null,null,null,null,null,null,null,null,null,null,null,null,null,null,null,null,null,null,null,null,null,null,null,null,null,null,null,null,null,null,null,null,null,null,null,null,null,null,null,null,null,null,null,null,null,null,null,null,null,null,null,null,null,null,null,null,null,null,null,null,null,null,null,null,null,null,null,null,null,null,null,null,null,null,null,null,null,null,null,null,null,null,null,null,null,null,null,null,2018,"Cardiff & Vale","Cardiff North","W97034",12474,686,63,206,51,364,60,129]
[null,null,null,null,null,null,null,null,null,null,null,null,null,null,null,null,null,null,null,null,null,null,null,null,null,null,null,null,null,null,null,null,null,null,null,null,null,null,null,null,null,null,null,null,null,null,null,null,null,null,null,null,null,null,null,null,null,null,null,null,null,null,null,null,null,null,null,null,null,null,null,null,null,null,null,null,null,null,null,null,null,null,null,null,null,null,null,null,null,2018,"Cardiff & Vale","Cardiff North","W97041",7994,566,109,212,37,380,102,132]
[null,null,null,null,null,null,null,null,null,null,null,null,null,null,null,null,null,null,null,null,null,null,null,null,null,null,null,null,null,null,null,null,null,null,null,null,null,null,null,null,null,null,null,null,null,null,null,null,null,null,null,null,null,null,null,null,null,null,null,null,null,null,null,null,null,null,null,null,null,null,null,null,null,null,null,null,null,null,null,null,null,null,null,null,null,null,null,null,null,2018,"Cardiff & Vale","Cardiff North","W97053",7735,519,66,215,60,322,52,137]
[null,null,null,null,null,null,null,null,null,null,null,null,null,null,null,null,null,null,null,null,null,null,null,null,null,null,null,null,null,null,null,null,null,null,null,null,null,null,null,null,null,null,null,null,null,null,null,null,null,null,null,null,null,null,null,null,null,null,null,null,null,null,null,null,null,null,null,null,null,null,null,null,null,null,null,null,null,null,null,null,null,null,null,null,null,null,null,null,null,2018,"Cardiff & Vale","Cardiff North","W97065",10432,704,146,164,46,410,57,101]
[null,null,null,null,null,null,null,null,null,null,null,null,null,null,null,null,null,null,null,null,null,null,null,null,null,null,null,null,null,null,null,null,null,null,null,null,null,null,null,null,null,null,null,null,null,null,null,null,null,null,null,null,null,null,null,null,null,null,null,null,null,null,null,null,null,null,null,null,null,null,null,null,null,null,null,null,null,null,null,null,null,null,null,null,null,null,null,null,null,null,2018,"Cardiff & Vale","Cardiff North",{"$f":"SUM(CP336:CP345)","v":101806},{"$f":"SUM(CQ336:CQ345)","v":7273},1167,2681,684,4361,927,1726]
[]
[null,null,null,null,null,null,null,null,null,null,null,null,null,null,null,null,null,null,null,null,null,null,null,null,null,null,null,null,null,null,null,null,null,null,null,null,null,null,null,null,null,null,null,null,null,null,null,null,null,null,null,null,null,null,null,null,null,null,null,null,null,null,null,null,null,null,null,null,null,null,null,null,null,null,null,null,null,null,null,null,null,null,null,null,null,null,null,null,null,2018,"Cardiff & Vale","Cardiff South East","W97002",6236,278,210,157,35,341,43,92]
[null,null,null,null,null,null,null,null,null,null,null,null,null,null,null,null,null,null,null,null,null,null,null,null,null,null,null,null,null,null,null,null,null,null,null,null,null,null,null,null,null,null,null,null,null,null,null,null,null,null,null,null,null,null,null,null,null,null,null,null,null,null,null,null,null,null,null,null,null,null,null,null,null,null,null,null,null,null,null,null,null,null,null,null,null,null,null,null,null,2018,"Cardiff & Vale","Cardiff South East","W97007",7496,499,199,143,34,409,44,106]
[null,null,null,null,null,null,null,null,null,null,null,null,null,null,null,null,null,null,null,null,null,null,null,null,null,null,null,null,null,null,null,null,null,null,null,null,null,null,null,null,null,null,null,null,null,null,null,null,null,null,null,null,null,null,null,null,null,null,null,null,null,null,null,null,null,null,null,null,null,null,null,null,null,null,null,null,null,null,null,null,null,null,null,null,null,null,null,null,null,2018,"Cardiff & Vale","Cardiff South East","W97009",6095,269,27,51,29,134,29,39]
[null,null,null,null,null,null,null,null,null,null,null,null,null,null,null,null,null,null,null,null,null,null,null,null,null,null,null,null,null,null,null,null,null,null,null,null,null,null,null,null,null,null,null,null,null,null,null,null,null,null,null,null,null,null,null,null,null,null,null,null,null,null,null,null,null,null,null,null,null,null,null,null,null,null,null,null,null,null,null,null,null,null,null,null,null,null,null,null,null,2018,"Cardiff & Vale","Cardiff South East","W97014",6827,274,47,112,21,281,30,69]
[null,null,null,null,null,null,null,null,null,null,null,null,null,null,null,null,null,null,null,null,null,null,null,null,null,null,null,null,null,null,null,null,null,null,null,null,null,null,null,null,null,null,null,null,null,null,null,null,null,null,null,null,null,null,null,null,null,null,null,null,null,null,null,null,null,null,null,null,null,null,null,null,null,null,null,null,null,null,null,null,null,null,null,null,null,null,null,null,null,2018,"Cardiff & Vale","Cardiff South East","W97020",10113,503,132,233,26,393,54,115]
[null,null,null,null,null,null,null,null,null,null,null,null,null,null,null,null,null,null,null,null,null,null,null,null,null,null,null,null,null,null,null,null,null,null,null,null,null,null,null,null,null,null,null,null,null,null,null,null,null,null,null,null,null,null,null,null,null,null,null,null,null,null,null,null,null,null,null,null,null,null,null,null,null,null,null,null,null,null,null,null,null,null,null,null,null,null,null,null,null,2018,"Cardiff & Vale","Cardiff South East","W97048",12526,833,187,270,63,604,94,185]
[null,null,null,null,null,null,null,null,null,null,null,null,null,null,null,null,null,null,null,null,null,null,null,null,null,null,null,null,null,null,null,null,null,null,null,null,null,null,null,null,null,null,null,null,null,null,null,null,null,null,null,null,null,null,null,null,null,null,null,null,null,null,null,null,null,null,null,null,null,null,null,null,null,null,null,null,null,null,null,null,null,null,null,null,null,null,null,null,null,2018,"Cardiff & Vale","Cardiff South East","W97056",7114,158,13,36,9,86,15,20]
[null,null,null,null,null,null,null,null,null,null,null,null,null,null,null,null,null,null,null,null,null,null,null,null,null,null,null,null,null,null,null,null,null,null,null,null,null,null,null,null,null,null,null,null,null,null,null,null,null,null,null,null,null,null,null,null,null,null,null,null,null,null,null,null,null,null,null,null,null,null,null,null,null,null,null,null,null,null,null,null,null,null,null,null,null,null,null,null,null,2018,"Cardiff & Vale","Cardiff South East","W97060",7838,585,138,150,37,385,51,99]
[null,null,null,null,null,null,null,null,null,null,null,null,null,null,null,null,null,null,null,null,null,null,null,null,null,null,null,null,null,null,null,null,null,null,null,null,null,null,null,null,null,null,null,null,null,null,null,null,null,null,null,null,null,null,null,null,null,null,null,null,null,null,null,null,null,null,null,null,null,null,null,null,null,null,null,null,null,null,null,null,null,null,null,null,null,null,null,null,null,null,2018,"Cardiff & Vale","Cardiff South East",{"$f":"SUM(CP348:CP355)","v":64245},{"$f":"SUM(CQ348:CQ355)","v":3399},953,1152,254,2633,360,725]
[]
[null,null,null,null,null,null,null,null,null,null,null,null,null,null,null,null,null,null,null,null,null,null,null,null,null,null,null,null,null,null,null,null,null,null,null,null,null,null,null,null,null,null,null,null,null,null,null,null,null,null,null,null,null,null,null,null,null,null,null,null,null,null,null,null,null,null,null,null,null,null,null,null,null,null,null,null,null,null,null,null,null,null,null,null,null,null,null,null,null,2018,"Cardiff & Vale","Cardiff South West","W97005",4210,276,105,142,29,225,35,66]
[null,null,null,null,null,null,null,null,null,null,null,null,null,null,null,null,null,null,null,null,null,null,null,null,null,null,null,null,null,null,null,null,null,null,null,null,null,null,null,null,null,null,null,null,null,null,null,null,null,null,null,null,null,null,null,null,null,null,null,null,null,null,null,null,null,null,null,null,null,null,null,null,null,null,null,null,null,null,null,null,null,null,null,null,null,null,null,null,null,2018,"Cardiff & Vale","Cardiff South West","W97016",3867,257,85,129,21,326,20,62]
[null,null,null,null,null,null,null,null,null,null,null,null,null,null,null,null,null,null,null,null,null,null,null,null,null,null,null,null,null,null,null,null,null,null,null,null,null,null,null,null,null,null,null,null,null,null,null,null,null,null,null,null,null,null,null,null,null,null,null,null,null,null,null,null,null,null,null,null,null,null,null,null,null,null,null,null,null,null,null,null,null,null,null,null,null,null,null,null,null,2018,"Cardiff & Vale","Cardiff South West","W97017",8132,461,229,262,80,466,86,159]
[null,null,null,null,null,null,null,null,null,null,null,null,null,null,null,null,null,null,null,null,null,null,null,null,null,null,null,null,null,null,null,null,null,null,null,null,null,null,null,null,null,null,null,null,null,null,null,null,null,null,null,null,null,null,null,null,null,null,null,null,null,null,null,null,null,null,null,null,null,null,null,null,null,null,null,null,null,null,null,null,null,null,null,null,null,null,null,null,null,2018,"Cardiff & Vale","Cardiff South West","W97018",4729,261,40,76,3,293,40,34]
[null,null,null,null,null,null,null,null,null,null,null,null,null,null,null,null,null,null,null,null,null,null,null,null,null,null,null,null,null,null,null,null,null,null,null,null,null,null,null,null,null,null,null,null,null,null,null,null,null,null,null,null,null,null,null,null,null,null,null,null,null,null,null,null,null,null,null,null,null,null,null,null,null,null,null,null,null,null,null,null,null,null,null,null,null,null,null,null,null,2018,"Cardiff & Vale","Cardiff South West","W97023",7820,546,249,248,48,406,77,136]
[null,null,null,null,null,null,null,null,null,null,null,null,null,null,null,null,null,null,null,null,null,null,null,null,null,null,null,null,null,null,null,null,null,null,null,null,null,null,null,null,null,null,null,null,null,null,null,null,null,null,null,null,null,null,null,null,null,null,null,null,null,null,null,null,null,null,null,null,null,null,null,null,null,null,null,null,null,null,null,null,null,null,null,null,null,null,null,null,null,2018,"Cardiff & Vale","Cardiff South West","W97031",6025,431,100,195,64,300,46,112]
[null,null,null,null,null,null,null,null,null,null,null,null,null,null,null,null,null,null,null,null,null,null,null,null,null,null,null,null,null,null,null,null,null,null,null,null,null,null,null,null,null,null,null,null,null,null,null,null,null,null,null,null,null,null,null,null,null,null,null,null,null,null,null,null,null,null,null,null,null,null,null,null,null,null,null,null,null,null,null,null,null,null,null,null,null,null,null,null,null,2018,"Cardiff & Vale","Cardiff South West","W97040",12957,1310,267,371,52,828,104,261]
[null,null,null,null,null,null,null,null,null,null,null,null,null,null,null,null,null,null,null,null,null,null,null,null,null,null,null,null,null,null,null,null,null,null,null,null,null,null,null,null,null,null,null,null,null,null,null,null,null,null,null,null,null,null,null,null,null,null,null,null,null,null,null,null,null,null,null,null,null,null,null,null,null,null,null,null,null,null,null,null,null,null,null,null,null,null,null,null,null,2018,"Cardiff & Vale","Cardiff South West","W97067",5090,308,32,78,34,113,16,59]
[null,null,null,null,null,null,null,null,null,null,null,null,null,null,null,null,null,null,null,null,null,null,null,null,null,null,null,null,null,null,null,null,null,null,null,null,null,null,null,null,null,null,null,null,null,null,null,null,null,null,null,null,null,null,null,null,null,null,null,null,null,null,null,null,null,null,null,null,null,null,null,null,null,null,null,null,null,null,null,null,null,null,null,null,null,null,null,null,null,2018,"Cardiff & Vale","Cardiff South West","W97068",3051,162,74,65,18,178,26,45]
[null,null,null,null,null,null,null,null,null,null,null,null,null,null,null,null,null,null,null,null,null,null,null,null,null,null,null,null,null,null,null,null,null,null,null,null,null,null,null,null,null,null,null,null,null,null,null,null,null,null,null,null,null,null,null,null,null,null,null,null,null,null,null,null,null,null,null,null,null,null,null,null,null,null,null,null,null,null,null,null,null,null,null,null,null,null,null,null,null,2018,"Cardiff & Vale","Cardiff South West","W97296",7807,737,133,129,45,255,58,80]
[null,null,null,null,null,null,null,null,null,null,null,null,null,null,null,null,null,null,null,null,null,null,null,null,null,null,null,null,null,null,null,null,null,null,null,null,null,null,null,null,null,null,null,null,null,null,null,null,null,null,null,null,null,null,null,null,null,null,null,null,null,null,null,null,null,null,null,null,null,null,null,null,null,null,null,null,null,null,null,null,null,null,null,null,null,null,null,null,null,2018,"Cardiff & Vale","Cardiff South West","W97623",2570,112,60,57,4,150,8,30]
[null,null,null,null,null,null,null,null,null,null,null,null,null,null,null,null,null,null,null,null,null,null,null,null,null,null,null,null,null,null,null,null,null,null,null,null,null,null,null,null,null,null,null,null,null,null,null,null,null,null,null,null,null,null,null,null,null,null,null,null,null,null,null,null,null,null,null,null,null,null,null,null,null,null,null,null,null,null,null,null,null,null,null,null,null,null,null,null,null,null,2018,"Cardiff & Vale","Cardiff South West",{"$f":"SUM(CP358:CP368)","v":66258},{"$f":"SUM(CQ358:CQ368)","v":4861},1374,1752,398,3540,516,1044]
[]
[null,null,null,null,null,null,null,null,null,null,null,null,null,null,null,null,null,null,null,null,null,null,null,null,null,null,null,null,null,null,null,null,null,null,null,null,null,null,null,null,null,null,null,null,null,null,null,null,null,null,null,null,null,null,null,null,null,null,null,null,null,null,null,null,null,null,null,null,null,null,null,null,null,null,null,null,null,null,null,null,null,null,null,null,null,null,null,null,null,2018,"Cardiff & Vale","Cardiff West","W97024",8653,615,93,247,67,348,83,160]
[null,null,null,null,null,null,null,null,null,null,null,null,null,null,null,null,null,null,null,null,null,null,null,null,null,null,null,null,null,null,null,null,null,null,null,null,null,null,null,null,null,null,null,null,null,null,null,null,null,null,null,null,null,null,null,null,null,null,null,null,null,null,null,null,null,null,null,null,null,null,null,null,null,null,null,null,null,null,null,null,null,null,null,null,null,null,null,null,null,2018,"Cardiff & Vale","Cardiff West","W97028",8278,532,111,272,52,375,120,205]
[null,null,null,null,null,null,null,null,null,null,null,null,null,null,null,null,null,null,null,null,null,null,null,null,null,null,null,null,null,null,null,null,null,null,null,null,null,null,null,null,null,null,null,null,null,null,null,null,null,null,null,null,null,null,null,null,null,null,null,null,null,null,null,null,null,null,null,null,null,null,null,null,null,null,null,null,null,null,null,null,null,null,null,null,null,null,null,null,null,2018,"Cardiff & Vale","Cardiff West","W97036",6019,435,83,164,17,257,55,82]
[null,null,null,null,null,null,null,null,null,null,null,null,null,null,null,null,null,null,null,null,null,null,null,null,null,null,null,null,null,null,null,null,null,null,null,null,null,null,null,null,null,null,null,null,null,null,null,null,null,null,null,null,null,null,null,null,null,null,null,null,null,null,null,null,null,null,null,null,null,null,null,null,null,null,null,null,null,null,null,null,null,null,null,null,null,null,null,null,null,2018,"Cardiff & Vale","Cardiff West","W97047",9169,656,203,407,49,539,62,239]
[null,null,null,null,null,null,null,null,null,null,null,null,null,null,null,null,null,null,null,null,null,null,null,null,null,null,null,null,null,null,null,null,null,null,null,null,null,null,null,null,null,null,null,null,null,null,null,null,null,null,null,null,null,null,null,null,null,null,null,null,null,null,null,null,null,null,null,null,null,null,null,null,null,null,null,null,null,null,null,null,null,null,null,null,null,null,null,null,null,2018,"Cardiff & Vale","Cardiff West","W97059",4970,390,68,134,33,230,57,103]
[null,null,null,null,null,null,null,null,null,null,null,null,null,null,null,null,null,null,null,null,null,null,null,null,null,null,null,null,null,null,null,null,null,null,null,null,null,null,null,null,null,null,null,null,null,null,null,null,null,null,null,null,null,null,null,null,null,null,null,null,null,null,null,null,null,null,null,null,null,null,null,null,null,null,null,null,null,null,null,null,null,null,null,null,null,null,null,null,null,2018,"Cardiff & Vale","Cardiff West","W97286",6738,458,147,182,62,345,83,117]
[null,null,null,null,null,null,null,null,null,null,null,null,null,null,null,null,null,null,null,null,null,null,null,null,null,null,null,null,null,null,null,null,null,null,null,null,null,null,null,null,null,null,null,null,null,null,null,null,null,null,null,null,null,null,null,null,null,null,null,null,null,null,null,null,null,null,null,null,null,null,null,null,null,null,null,null,null,null,null,null,null,null,null,null,null,null,null,null,null,2018,"Cardiff & Vale","Cardiff West","W97294",5968,457,80,148,33,290,27,104]
[null,null,null,null,null,null,null,null,null,null,null,null,null,null,null,null,null,null,null,null,null,null,null,null,null,null,null,null,null,null,null,null,null,null,null,null,null,null,null,null,null,null,null,null,null,null,null,null,null,null,null,null,null,null,null,null,null,null,null,null,null,null,null,null,null,null,null,null,null,null,null,null,null,null,null,null,null,null,null,null,null,null,null,null,null,null,null,null,null,2018,"Cardiff & Vale","Cardiff West","W97619",6782,501,72,181,39,244,62,106]
[null,null,null,null,null,null,null,null,null,null,null,null,null,null,null,null,null,null,null,null,null,null,null,null,null,null,null,null,null,null,null,null,null,null,null,null,null,null,null,null,null,null,null,null,null,null,null,null,null,null,null,null,null,null,null,null,null,null,null,null,null,null,null,null,null,null,null,null,null,null,null,null,null,null,null,null,null,null,null,null,null,null,null,null,null,null,null,null,null,null,2018,"Cardiff & Vale","Cardiff West",{"$f":"SUM(CP371:CP378)","v":56577},{"$f":"SUM(CQ371:CQ378)","v":4044},857,1735,352,2628,549,1116]
[]
[null,null,null,null,null,null,null,null,null,null,null,null,null,null,null,null,null,null,null,null,null,null,null,null,null,null,null,null,null,null,null,null,null,null,null,null,null,null,null,null,null,null,null,null,null,null,null,null,null,null,null,null,null,null,null,null,null,null,null,null,null,null,null,null,null,null,null,null,null,null,null,null,null,null,null,null,null,null,null,null,null,null,null,null,null,null,null,null,null,2018,"Cardiff & Vale","Central Vale","W97001",14041,1134,266,421,97,675,94,271]
[null,null,null,null,null,null,null,null,null,null,null,null,null,null,null,null,null,null,null,null,null,null,null,null,null,null,null,null,null,null,null,null,null,null,null,null,null,null,null,null,null,null,null,null,null,null,null,null,null,null,null,null,null,null,null,null,null,null,null,null,null,null,null,null,null,null,null,null,null,null,null,null,null,null,null,null,null,null,null,null,null,null,null,null,null,null,null,null,null,2018,"Cardiff & Vale","Central Vale","W97032",12267,689,284,414,60,722,111,221]
[null,null,null,null,null,null,null,null,null,null,null,null,null,null,null,null,null,null,null,null,null,null,null,null,null,null,null,null,null,null,null,null,null,null,null,null,null,null,null,null,null,null,null,null,null,null,null,null,null,null,null,null,null,null,null,null,null,null,null,null,null,null,null,null,null,null,null,null,null,null,null,null,null,null,null,null,null,null,null,null,null,null,null,null,null,null,null,null,null,2018,"Cardiff & Vale","Central Vale","W97046",11676,927,350,441,73,736,139,249]
[null,null,null,null,null,null,null,null,null,null,null,null,null,null,null,null,null,null,null,null,null,null,null,null,null,null,null,null,null,null,null,null,null,null,null,null,null,null,null,null,null,null,null,null,null,null,null,null,null,null,null,null,null,null,null,null,null,null,null,null,null,null,null,null,null,null,null,null,null,null,null,null,null,null,null,null,null,null,null,null,null,null,null,null,null,null,null,null,null,2018,"Cardiff & Vale","Central Vale","W97058",7230,517,159,262,68,505,84,156]
[null,null,null,null,null,null,null,null,null,null,null,null,null,null,null,null,null,null,null,null,null,null,null,null,null,null,null,null,null,null,null,null,null,null,null,null,null,null,null,null,null,null,null,null,null,null,null,null,null,null,null,null,null,null,null,null,null,null,null,null,null,null,null,null,null,null,null,null,null,null,null,null,null,null,null,null,null,null,null,null,null,null,null,null,null,null,null,null,null,2018,"Cardiff & Vale","Central Vale","W97062",3481,237,40,139,24,187,45,109]
[null,null,null,null,null,null,null,null,null,null,null,null,null,null,null,null,null,null,null,null,null,null,null,null,null,null,null,null,null,null,null,null,null,null,null,null,null,null,null,null,null,null,null,null,null,null,null,null,null,null,null,null,null,null,null,null,null,null,null,null,null,null,null,null,null,null,null,null,null,null,null,null,null,null,null,null,null,null,null,null,null,null,null,null,null,null,null,null,null,2018,"Cardiff & Vale","Central Vale","W97064",7441,436,150,256,38,421,41,173]
[null,null,null,null,null,null,null,null,null,null,null,null,null,null,null,null,null,null,null,null,null,null,null,null,null,null,null,null,null,null,null,null,null,null,null,null,null,null,null,null,null,null,null,null,null,null,null,null,null,null,null,null,null,null,null,null,null,null,null,null,null,null,null,null,null,null,null,null,null,null,null,null,null,null,null,null,null,null,null,null,null,null,null,null,null,null,null,null,null,2018,"Cardiff & Vale","Central Vale","W97611",7494,468,168,182,25,387,59,104]
[null,null,null,null,null,null,null,null,null,null,null,null,null,null,null,null,null,null,null,null,null,null,null,null,null,null,null,null,null,null,null,null,null,null,null,null,null,null,null,null,null,null,null,null,null,null,null,null,null,null,null,null,null,null,null,null,null,null,null,null,null,null,null,null,null,null,null,null,null,null,null,null,null,null,null,null,null,null,null,null,null,null,null,null,null,null,null,null,null,null,2018,"Cardiff & Vale","Central Vale",{"$f":"SUM(CP381:CP387)","v":63630},{"$f":"SUM(CQ381:CQ387)","v":4408},1417,2115,385,3633,573,1283]
[]
[null,null,null,null,null,null,null,null,null,null,null,null,null,null,null,null,null,null,null,null,null,null,null,null,null,null,null,null,null,null,null,null,null,null,null,null,null,null,null,null,null,null,null,null,null,null,null,null,null,null,null,null,null,null,null,null,null,null,null,null,null,null,null,null,null,null,null,null,null,null,null,null,null,null,null,null,null,null,null,null,null,null,null,null,null,null,null,null,null,2018,"Cardiff & Vale","City & Cardiff South","W97029",5188,343,85,96,25,251,28,64]
[null,null,null,null,null,null,null,null,null,null,null,null,null,null,null,null,null,null,null,null,null,null,null,null,null,null,null,null,null,null,null,null,null,null,null,null,null,null,null,null,null,null,null,null,null,null,null,null,null,null,null,null,null,null,null,null,null,null,null,null,null,null,null,null,null,null,null,null,null,null,null,null,null,null,null,null,null,null,null,null,null,null,null,null,null,null,null,null,null,2018,"Cardiff & Vale","City & Cardiff South","W97044",7538,415,92,175,45,498,53,91]
[null,null,null,null,null,null,null,null,null,null,null,null,null,null,null,null,null,null,null,null,null,null,null,null,null,null,null,null,null,null,null,null,null,null,null,null,null,null,null,null,null,null,null,null,null,null,null,null,null,null,null,null,null,null,null,null,null,null,null,null,null,null,null,null,null,null,null,null,null,null,null,null,null,null,null,null,null,null,null,null,null,null,null,null,null,null,null,null,null,2018,"Cardiff & Vale","City & Cardiff South","W97061",8406,499,112,192,40,418,64,112]
[null,null,null,null,null,null,null,null,null,null,null,null,null,null,null,null,null,null,null,null,null,null,null,null,null,null,null,null,null,null,null,null,null,null,null,null,null,null,null,null,null,null,null,null,null,null,null,null,null,null,null,null,null,null,null,null,null,null,null,null,null,null,null,null,null,null,null,null,null,null,null,null,null,null,null,null,null,null,null,null,null,null,null,null,null,null,null,null,null,2018,"Cardiff & Vale","City & Cardiff South","W97063",3360,136,42,63,13,154,9,38]
[null,null,null,null,null,null,null,null,null,null,null,null,null,null,null,null,null,null,null,null,null,null,null,null,null,null,null,null,null,null,null,null,null,null,null,null,null,null,null,null,null,null,null,null,null,null,null,null,null,null,null,null,null,null,null,null,null,null,null,null,null,null,null,null,null,null,null,null,null,null,null,null,null,null,null,null,null,null,null,null,null,null,null,null,null,null,null,null,null,2018,"Cardiff & Vale","City & Cardiff South","W97291",8186,373,38,66,19,243,17,51]
[null,null,null,null,null,null,null,null,null,null,null,null,null,null,null,null,null,null,null,null,null,null,null,null,null,null,null,null,null,null,null,null,null,null,null,null,null,null,null,null,null,null,null,null,null,null,null,null,null,null,null,null,null,null,null,null,null,null,null,null,null,null,null,null,null,null,null,null,null,null,null,null,null,null,null,null,null,null,null,null,null,null,null,null,null,null,null,null,null,2018,"Cardiff & Vale","City & Cardiff South","W97299",4592,366,48,128,27,420,36,58]
[null,null,null,null,null,null,null,null,null,null,null,null,null,null,null,null,null,null,null,null,null,null,null,null,null,null,null,null,null,null,null,null,null,null,null,null,null,null,null,null,null,null,null,null,null,null,null,null,null,null,null,null,null,null,null,null,null,null,null,null,null,null,null,null,null,null,null,null,null,null,null,null,null,null,null,null,null,null,null,null,null,null,null,null,null,null,null,null,null,2018,"Cardiff & Vale","City & Cardiff South","W97616",3043,167,39,80,49,198,17,44]
[null,null,null,null,null,null,null,null,null,null,null,null,null,null,null,null,null,null,null,null,null,null,null,null,null,null,null,null,null,null,null,null,null,null,null,null,null,null,null,null,null,null,null,null,null,null,null,null,null,null,null,null,null,null,null,null,null,null,null,null,null,null,null,null,null,null,null,null,null,null,null,null,null,null,null,null,null,null,null,null,null,null,null,null,null,null,null,null,null,null,2018,"Cardiff & Vale","City & Cardiff South",{"$f":"SUM(CP390:CP396)","v":40313},{"$f":"SUM(CQ390:CQ396)","v":2299},456,800,218,2182,224,458]
[]
[null,null,null,null,null,null,null,null,null,null,null,null,null,null,null,null,null,null,null,null,null,null,null,null,null,null,null,null,null,null,null,null,null,null,null,null,null,null,null,null,null,null,null,null,null,null,null,null,null,null,null,null,null,null,null,null,null,null,null,null,null,null,null,null,null,null,null,null,null,null,null,null,null,null,null,null,null,null,null,null,null,null,null,null,null,null,null,null,null,2018,"Cardiff & Vale","Eastern Vale","W97003",7313,586,103,229,59,374,54,127]
[null,null,null,null,null,null,null,null,null,null,null,null,null,null,null,null,null,null,null,null,null,null,null,null,null,null,null,null,null,null,null,null,null,null,null,null,null,null,null,null,null,null,null,null,null,null,null,null,null,null,null,null,null,null,null,null,null,null,null,null,null,null,null,null,null,null,null,null,null,null,null,null,null,null,null,null,null,null,null,null,null,null,null,null,null,null,null,null,null,2018,"Cardiff & Vale","Eastern Vale","W97011",8588,521,147,330,97,482,154,241]
[null,null,null,null,null,null,null,null,null,null,null,null,null,null,null,null,null,null,null,null,null,null,null,null,null,null,null,null,null,null,null,null,null,null,null,null,null,null,null,null,null,null,null,null,null,null,null,null,null,null,null,null,null,null,null,null,null,null,null,null,null,null,null,null,null,null,null,null,null,null,null,null,null,null,null,null,null,null,null,null,null,null,null,null,null,null,null,null,null,2018,"Cardiff & Vale","Eastern Vale","W97019",5124,320,83,145,58,297,37,111]
[null,null,null,null,null,null,null,null,null,null,null,null,null,null,null,null,null,null,null,null,null,null,null,null,null,null,null,null,null,null,null,null,null,null,null,null,null,null,null,null,null,null,null,null,null,null,null,null,null,null,null,null,null,null,null,null,null,null,null,null,null,null,null,null,null,null,null,null,null,null,null,null,null,null,null,null,null,null,null,null,null,null,null,null,null,null,null,null,null,2018,"Cardiff & Vale","Eastern Vale","W97055",9495,682,121,358,74,478,75,201]
[null,null,null,null,null,null,null,null,null,null,null,null,null,null,null,null,null,null,null,null,null,null,null,null,null,null,null,null,null,null,null,null,null,null,null,null,null,null,null,null,null,null,null,null,null,null,null,null,null,null,null,null,null,null,null,null,null,null,null,null,null,null,null,null,null,null,null,null,null,null,null,null,null,null,null,null,null,null,null,null,null,null,null,null,null,null,null,null,null,2018,"Cardiff & Vale","Eastern Vale","W97057",6299,391,94,174,59,293,41,115]
[null,null,null,null,null,null,null,null,null,null,null,null,null,null,null,null,null,null,null,null,null,null,null,null,null,null,null,null,null,null,null,null,null,null,null,null,null,null,null,null,null,null,null,null,null,null,null,null,null,null,null,null,null,null,null,null,null,null,null,null,null,null,null,null,null,null,null,null,null,null,null,null,null,null,null,null,null,null,null,null,null,null,null,null,null,null,null,null,null,null,2018,"Cardiff & Vale","Eastern Vale",{"$f":"SUM(CP399:CP403)","v":36819},{"$f":"SUM(CQ399:CQ403)","v":2500},548,1236,347,1924,361,795]
[]
[null,null,null,null,null,null,null,null,null,null,null,null,null,null,null,null,null,null,null,null,null,null,null,null,null,null,null,null,null,null,null,null,null,null,null,null,null,null,null,null,null,null,null,null,null,null,null,null,null,null,null,null,null,null,null,null,null,null,null,null,null,null,null,null,null,null,null,null,null,null,null,null,null,null,null,null,null,null,null,null,null,null,null,null,null,null,null,null,null,2018,"Cardiff & Vale","Western Vale","W97038",7089,349,60,216,61,288,76,164]
[null,null,null,null,null,null,null,null,null,null,null,null,null,null,null,null,null,null,null,null,null,null,null,null,null,null,null,null,null,null,null,null,null,null,null,null,null,null,null,null,null,null,null,null,null,null,null,null,null,null,null,null,null,null,null,null,null,null,null,null,null,null,null,null,null,null,null,null,null,null,null,null,null,null,null,null,null,null,null,null,null,null,null,null,null,null,null,null,null,2018,"Cardiff & Vale","Western Vale","W97045",10843,812,191,441,77,629,187,338]
[null,null,null,null,null,null,null,null,null,null,null,null,null,null,null,null,null,null,null,null,null,null,null,null,null,null,null,null,null,null,null,null,null,null,null,null,null,null,null,null,null,null,null,null,null,null,null,null,null,null,null,null,null,null,null,null,null,null,null,null,null,null,null,null,null,null,null,null,null,null,null,null,null,null,null,null,null,null,null,null,null,null,null,null,null,null,null,null,null,2018,"Cardiff & Vale","Western Vale","W97052",10412,682,153,302,73,547,104,200]
[null,null,null,null,null,null,null,null,null,null,null,null,null,null,null,null,null,null,null,null,null,null,null,null,null,null,null,null,null,null,null,null,null,null,null,null,null,null,null,null,null,null,null,null,null,null,null,null,null,null,null,null,null,null,null,null,null,null,null,null,null,null,null,null,null,null,null,null,null,null,null,null,null,null,null,null,null,null,null,null,null,null,null,null,null,null,null,null,null,null,2018,"Cardiff & Vale","Western Vale",{"$f":"SUM(CP406:CP408)","v":28344},{"$f":"SUM(CQ406:CQ408)","v":1843},404,959,211,1464,367,702]
[]
[null,null,null,null,null,null,null,null,null,null,null,null,null,null,null,null,null,null,null,null,null,null,null,null,null,null,null,null,null,null,null,null,null,null,null,null,null,null,null,null,null,null,null,null,null,null,null,null,null,null,null,null,null,null,null,null,null,null,null,null,null,null,null,null,null,null,null,null,null,null,null,null,null,null,null,null,null,null,null,null,null,null,null,null,null,null,null,null,null,2018,"Cwm Taf","North Cynon","W95001",7721,492,306,278,39,562,84,149]
[null,null,null,null,null,null,null,null,null,null,null,null,null,null,null,null,null,null,null,null,null,null,null,null,null,null,null,null,null,null,null,null,null,null,null,null,null,null,null,null,null,null,null,null,null,null,null,null,null,null,null,null,null,null,null,null,null,null,null,null,null,null,null,null,null,null,null,null,null,null,null,null,null,null,null,null,null,null,null,null,null,null,null,null,null,null,null,null,null,2018,"Cwm Taf","North Cynon","W95016",5466,333,110,210,23,345,53,101]
[null,null,null,null,null,null,null,null,null,null,null,null,null,null,null,null,null,null,null,null,null,null,null,null,null,null,null,null,null,null,null,null,null,null,null,null,null,null,null,null,null,null,null,null,null,null,null,null,null,null,null,null,null,null,null,null,null,null,null,null,null,null,null,null,null,null,null,null,null,null,null,null,null,null,null,null,null,null,null,null,null,null,null,null,null,null,null,null,null,2018,"Cwm Taf","North Cynon","W95020",5922,391,181,259,21,402,32,77]
[null,null,null,null,null,null,null,null,null,null,null,null,null,null,null,null,null,null,null,null,null,null,null,null,null,null,null,null,null,null,null,null,null,null,null,null,null,null,null,null,null,null,null,null,null,null,null,null,null,null,null,null,null,null,null,null,null,null,null,null,null,null,null,null,null,null,null,null,null,null,null,null,null,null,null,null,null,null,null,null,null,null,null,null,null,null,null,null,null,2018,"Cwm Taf","North Cynon","W95047",8136,588,188,330,49,505,78,196]
[null,null,null,null,null,null,null,null,null,null,null,null,null,null,null,null,null,null,null,null,null,null,null,null,null,null,null,null,null,null,null,null,null,null,null,null,null,null,null,null,null,null,null,null,null,null,null,null,null,null,null,null,null,null,null,null,null,null,null,null,null,null,null,null,null,null,null,null,null,null,null,null,null,null,null,null,null,null,null,null,null,null,null,null,null,null,null,null,null,2018,"Cwm Taf","North Cynon","W95087",4326,245,128,195,28,316,51,80]
[null,null,null,null,null,null,null,null,null,null,null,null,null,null,null,null,null,null,null,null,null,null,null,null,null,null,null,null,null,null,null,null,null,null,null,null,null,null,null,null,null,null,null,null,null,null,null,null,null,null,null,null,null,null,null,null,null,null,null,null,null,null,null,null,null,null,null,null,null,null,null,null,null,null,null,null,null,null,null,null,null,null,null,null,null,null,null,null,null,2018,"Cwm Taf","North Cynon","W95633",9116,583,291,336,42,563,90,167]
[null,null,null,null,null,null,null,null,null,null,null,null,null,null,null,null,null,null,null,null,null,null,null,null,null,null,null,null,null,null,null,null,null,null,null,null,null,null,null,null,null,null,null,null,null,null,null,null,null,null,null,null,null,null,null,null,null,null,null,null,null,null,null,null,null,null,null,null,null,null,null,null,null,null,null,null,null,null,null,null,null,null,null,null,null,null,null,null,null,null,2018,"Cwm Taf","North Cynon",{"$f":"SUM(CP411:CP416)","v":40687},{"$f":"SUM(CQ411:CQ416)","v":2632},1204,1608,202,2693,388,770]
[]
[null,null,null,null,null,null,null,null,null,null,null,null,null,null,null,null,null,null,null,null,null,null,null,null,null,null,null,null,null,null,null,null,null,null,null,null,null,null,null,null,null,null,null,null,null,null,null,null,null,null,null,null,null,null,null,null,null,null,null,null,null,null,null,null,null,null,null,null,null,null,null,null,null,null,null,null,null,null,null,null,null,null,null,null,null,null,null,null,null,2018,"Cwm Taf","North Merthyr Tydfil","W95005",3498,307,97,130,19,205,37,63]
[null,null,null,null,null,null,null,null,null,null,null,null,null,null,null,null,null,null,null,null,null,null,null,null,null,null,null,null,null,null,null,null,null,null,null,null,null,null,null,null,null,null,null,null,null,null,null,null,null,null,null,null,null,null,null,null,null,null,null,null,null,null,null,null,null,null,null,null,null,null,null,null,null,null,null,null,null,null,null,null,null,null,null,null,null,null,null,null,null,2018,"Cwm Taf","North Merthyr Tydfil","W95023",8874,570,278,380,90,560,81,234]
[null,null,null,null,null,null,null,null,null,null,null,null,null,null,null,null,null,null,null,null,null,null,null,null,null,null,null,null,null,null,null,null,null,null,null,null,null,null,null,null,null,null,null,null,null,null,null,null,null,null,null,null,null,null,null,null,null,null,null,null,null,null,null,null,null,null,null,null,null,null,null,null,null,null,null,null,null,null,null,null,null,null,null,null,null,null,null,null,null,2018,"Cwm Taf","North Merthyr Tydfil","W95086",16988,1153,596,753,113,1160,191,392]
[null,null,null,null,null,null,null,null,null,null,null,null,null,null,null,null,null,null,null,null,null,null,null,null,null,null,null,null,null,null,null,null,null,null,null,null,null,null,null,null,null,null,null,null,null,null,null,null,null,null,null,null,null,null,null,null,null,null,null,null,null,null,null,null,null,null,null,null,null,null,null,null,null,null,null,null,null,null,null,null,null,null,null,null,null,null,null,null,null,2018,"Cwm Taf","North Merthyr Tydfil","W95647",2939,164,92,84,15,152,17,41]
[null,null,null,null,null,null,null,null,null,null,null,null,null,null,null,null,null,null,null,null,null,null,null,null,null,null,null,null,null,null,null,null,null,null,null,null,null,null,null,null,null,null,null,null,null,null,null,null,null,null,null,null,null,null,null,null,null,null,null,null,null,null,null,null,null,null,null,null,null,null,null,null,null,null,null,null,null,null,null,null,null,null,null,null,null,null,null,null,null,null,2018,"Cwm Taf","North Merthyr Tydfil",{"$f":"SUM(CP419:CP422)","v":32299},{"$f":"SUM(CQ419:CQ422)","v":2194},1063,1347,237,2077,326,730]
[]
[null,null,null,null,null,null,null,null,null,null,null,null,null,null,null,null,null,null,null,null,null,null,null,null,null,null,null,null,null,null,null,null,null,null,null,null,null,null,null,null,null,null,null,null,null,null,null,null,null,null,null,null,null,null,null,null,null,null,null,null,null,null,null,null,null,null,null,null,null,null,null,null,null,null,null,null,null,null,null,null,null,null,null,null,null,null,null,null,null,2018,"Cwm Taf","North Rhondda","W95019",6172,409,267,357,27,430,99,199]
[null,null,null,null,null,null,null,null,null,null,null,null,null,null,null,null,null,null,null,null,null,null,null,null,null,null,null,null,null,null,null,null,null,null,null,null,null,null,null,null,null,null,null,null,null,null,null,null,null,null,null,null,null,null,null,null,null,null,null,null,null,null,null,null,null,null,null,null,null,null,null,null,null,null,null,null,null,null,null,null,null,null,null,null,null,null,null,null,null,2018,"Cwm Taf","North Rhondda","W95030",4829,334,145,200,24,326,49,116]
[null,null,null,null,null,null,null,null,null,null,null,null,null,null,null,null,null,null,null,null,null,null,null,null,null,null,null,null,null,null,null,null,null,null,null,null,null,null,null,null,null,null,null,null,null,null,null,null,null,null,null,null,null,null,null,null,null,null,null,null,null,null,null,null,null,null,null,null,null,null,null,null,null,null,null,null,null,null,null,null,null,null,null,null,null,null,null,null,null,2018,"Cwm Taf","North Rhondda","W95051",7664,554,340,370,26,474,64,149]
[null,null,null,null,null,null,null,null,null,null,null,null,null,null,null,null,null,null,null,null,null,null,null,null,null,null,null,null,null,null,null,null,null,null,null,null,null,null,null,null,null,null,null,null,null,null,null,null,null,null,null,null,null,null,null,null,null,null,null,null,null,null,null,null,null,null,null,null,null,null,null,null,null,null,null,null,null,null,null,null,null,null,null,null,null,null,null,null,null,2018,"Cwm Taf","North Rhondda","W95054",10220,730,275,381,26,712,90,241]
[null,null,null,null,null,null,null,null,null,null,null,null,null,null,null,null,null,null,null,null,null,null,null,null,null,null,null,null,null,null,null,null,null,null,null,null,null,null,null,null,null,null,null,null,null,null,null,null,null,null,null,null,null,null,null,null,null,null,null,null,null,null,null,null,null,null,null,null,null,null,null,null,null,null,null,null,null,null,null,null,null,null,null,null,null,null,null,null,null,2018,"Cwm Taf","North Rhondda","W95071",6684,440,202,260,24,505,34,145]
[null,null,null,null,null,null,null,null,null,null,null,null,null,null,null,null,null,null,null,null,null,null,null,null,null,null,null,null,null,null,null,null,null,null,null,null,null,null,null,null,null,null,null,null,null,null,null,null,null,null,null,null,null,null,null,null,null,null,null,null,null,null,null,null,null,null,null,null,null,null,null,null,null,null,null,null,null,null,null,null,null,null,null,null,null,null,null,null,null,null,2018,"Cwm Taf","North Rhondda",{"$f":"SUM(CP425:CP429)","v":35569},{"$f":"SUM(CQ425:CQ429)","v":2467},1229,1568,127,2447,336,850]
[]
[null,null,null,null,null,null,null,null,null,null,null,null,null,null,null,null,null,null,null,null,null,null,null,null,null,null,null,null,null,null,null,null,null,null,null,null,null,null,null,null,null,null,null,null,null,null,null,null,null,null,null,null,null,null,null,null,null,null,null,null,null,null,null,null,null,null,null,null,null,null,null,null,null,null,null,null,null,null,null,null,null,null,null,null,null,null,null,null,null,2018,"Cwm Taf","North Taf Ely","W95014",12505,1023,329,508,102,793,111,301]
[null,null,null,null,null,null,null,null,null,null,null,null,null,null,null,null,null,null,null,null,null,null,null,null,null,null,null,null,null,null,null,null,null,null,null,null,null,null,null,null,null,null,null,null,null,null,null,null,null,null,null,null,null,null,null,null,null,null,null,null,null,null,null,null,null,null,null,null,null,null,null,null,null,null,null,null,null,null,null,null,null,null,null,null,null,null,null,null,null,2018,"Cwm Taf","North Taf Ely","W95024",16223,1021,303,451,121,954,156,300]
[null,null,null,null,null,null,null,null,null,null,null,null,null,null,null,null,null,null,null,null,null,null,null,null,null,null,null,null,null,null,null,null,null,null,null,null,null,null,null,null,null,null,null,null,null,null,null,null,null,null,null,null,null,null,null,null,null,null,null,null,null,null,null,null,null,null,null,null,null,null,null,null,null,null,null,null,null,null,null,null,null,null,null,null,null,null,null,null,null,2018,"Cwm Taf","North Taf Ely","W95058",15839,1091,442,545,84,1020,121,295]
[null,null,null,null,null,null,null,null,null,null,null,null,null,null,null,null,null,null,null,null,null,null,null,null,null,null,null,null,null,null,null,null,null,null,null,null,null,null,null,null,null,null,null,null,null,null,null,null,null,null,null,null,null,null,null,null,null,null,null,null,null,null,null,null,null,null,null,null,null,null,null,null,null,null,null,null,null,null,null,null,null,null,null,null,null,null,null,null,null,2018,"Cwm Taf","North Taf Ely","W95619",2338,149,66,88,12,144,17,50]
[null,null,null,null,null,null,null,null,null,null,null,null,null,null,null,null,null,null,null,null,null,null,null,null,null,null,null,null,null,null,null,null,null,null,null,null,null,null,null,null,null,null,null,null,null,null,null,null,null,null,null,null,null,null,null,null,null,null,null,null,null,null,null,null,null,null,null,null,null,null,null,null,null,null,null,null,null,null,null,null,null,null,null,null,null,null,null,null,null,null,2018,"Cwm Taf","North Taf Ely",{"$f":"SUM(CP432:CP435)","v":46905},{"$f":"SUM(CQ432:CQ435)","v":3284},1140,1592,319,2911,405,946]
[]
[null,null,null,null,null,null,null,null,null,null,null,null,null,null,null,null,null,null,null,null,null,null,null,null,null,null,null,null,null,null,null,null,null,null,null,null,null,null,null,null,null,null,null,null,null,null,null,null,null,null,null,null,null,null,null,null,null,null,null,null,null,null,null,null,null,null,null,null,null,null,null,null,null,null,null,null,null,null,null,null,null,null,null,null,null,null,null,null,null,2018,"Cwm Taf","South Cynon","W95029",4108,322,193,143,12,295,36,72]
[null,null,null,null,null,null,null,null,null,null,null,null,null,null,null,null,null,null,null,null,null,null,null,null,null,null,null,null,null,null,null,null,null,null,null,null,null,null,null,null,null,null,null,null,null,null,null,null,null,null,null,null,null,null,null,null,null,null,null,null,null,null,null,null,null,null,null,null,null,null,null,null,null,null,null,null,null,null,null,null,null,null,null,null,null,null,null,null,null,2018,"Cwm Taf","South Cynon","W95038",4294,312,154,131,42,302,53,78]
[null,null,null,null,null,null,null,null,null,null,null,null,null,null,null,null,null,null,null,null,null,null,null,null,null,null,null,null,null,null,null,null,null,null,null,null,null,null,null,null,null,null,null,null,null,null,null,null,null,null,null,null,null,null,null,null,null,null,null,null,null,null,null,null,null,null,null,null,null,null,null,null,null,null,null,null,null,null,null,null,null,null,null,null,null,null,null,null,null,2018,"Cwm Taf","South Cynon","W95042",6496,484,200,253,20,411,70,112]
[null,null,null,null,null,null,null,null,null,null,null,null,null,null,null,null,null,null,null,null,null,null,null,null,null,null,null,null,null,null,null,null,null,null,null,null,null,null,null,null,null,null,null,null,null,null,null,null,null,null,null,null,null,null,null,null,null,null,null,null,null,null,null,null,null,null,null,null,null,null,null,null,null,null,null,null,null,null,null,null,null,null,null,null,null,null,null,null,null,2018,"Cwm Taf","South Cynon","W95055",1763,114,67,72,4,127,19,53]
[null,null,null,null,null,null,null,null,null,null,null,null,null,null,null,null,null,null,null,null,null,null,null,null,null,null,null,null,null,null,null,null,null,null,null,null,null,null,null,null,null,null,null,null,null,null,null,null,null,null,null,null,null,null,null,null,null,null,null,null,null,null,null,null,null,null,null,null,null,null,null,null,null,null,null,null,null,null,null,null,null,null,null,null,null,null,null,null,null,2018,"Cwm Taf","South Cynon","W95623",4357,319,226,227,31,354,113,105]
[null,null,null,null,null,null,null,null,null,null,null,null,null,null,null,null,null,null,null,null,null,null,null,null,null,null,null,null,null,null,null,null,null,null,null,null,null,null,null,null,null,null,null,null,null,null,null,null,null,null,null,null,null,null,null,null,null,null,null,null,null,null,null,null,null,null,null,null,null,null,null,null,null,null,null,null,null,null,null,null,null,null,null,null,null,null,null,null,null,null,2018,"Cwm Taf","South Cynon",{"$f":"SUM(CP438:CP442)","v":21018},{"$f":"SUM(CQ438:CQ442)","v":1551},840,826,109,1489,291,420]
[]
[null,null,null,null,null,null,null,null,null,null,null,null,null,null,null,null,null,null,null,null,null,null,null,null,null,null,null,null,null,null,null,null,null,null,null,null,null,null,null,null,null,null,null,null,null,null,null,null,null,null,null,null,null,null,null,null,null,null,null,null,null,null,null,null,null,null,null,null,null,null,null,null,null,null,null,null,null,null,null,null,null,null,null,null,null,null,null,null,null,2018,"Cwm Taf","South Merthyr Tydfil","W95026",5079,292,140,158,34,313,36,81]
[null,null,null,null,null,null,null,null,null,null,null,null,null,null,null,null,null,null,null,null,null,null,null,null,null,null,null,null,null,null,null,null,null,null,null,null,null,null,null,null,null,null,null,null,null,null,null,null,null,null,null,null,null,null,null,null,null,null,null,null,null,null,null,null,null,null,null,null,null,null,null,null,null,null,null,null,null,null,null,null,null,null,null,null,null,null,null,null,null,2018,"Cwm Taf","South Merthyr Tydfil","W95032",5895,390,144,196,35,424,60,99]
[null,null,null,null,null,null,null,null,null,null,null,null,null,null,null,null,null,null,null,null,null,null,null,null,null,null,null,null,null,null,null,null,null,null,null,null,null,null,null,null,null,null,null,null,null,null,null,null,null,null,null,null,null,null,null,null,null,null,null,null,null,null,null,null,null,null,null,null,null,null,null,null,null,null,null,null,null,null,null,null,null,null,null,null,null,null,null,null,null,2018,"Cwm Taf","South Merthyr Tydfil","W95072",12411,912,264,352,35,613,64,210]
[null,null,null,null,null,null,null,null,null,null,null,null,null,null,null,null,null,null,null,null,null,null,null,null,null,null,null,null,null,null,null,null,null,null,null,null,null,null,null,null,null,null,null,null,null,null,null,null,null,null,null,null,null,null,null,null,null,null,null,null,null,null,null,null,null,null,null,null,null,null,null,null,null,null,null,null,null,null,null,null,null,null,null,null,null,null,null,null,null,2018,"Cwm Taf","South Merthyr Tydfil","W95290",1982,145,39,87,6,134,28,46]
[null,null,null,null,null,null,null,null,null,null,null,null,null,null,null,null,null,null,null,null,null,null,null,null,null,null,null,null,null,null,null,null,null,null,null,null,null,null,null,null,null,null,null,null,null,null,null,null,null,null,null,null,null,null,null,null,null,null,null,null,null,null,null,null,null,null,null,null,null,null,null,null,null,null,null,null,null,null,null,null,null,null,null,null,null,null,null,null,null,2018,"Cwm Taf","South Merthyr Tydfil","W95634",3151,236,109,116,21,221,28,51]
[null,null,null,null,null,null,null,null,null,null,null,null,null,null,null,null,null,null,null,null,null,null,null,null,null,null,null,null,null,null,null,null,null,null,null,null,null,null,null,null,null,null,null,null,null,null,null,null,null,null,null,null,null,null,null,null,null,null,null,null,null,null,null,null,null,null,null,null,null,null,null,null,null,null,null,null,null,null,null,null,null,null,null,null,null,null,null,null,null,null,2018,"Cwm Taf","South Merthyr Tydfil",{"$f":"SUM(CP445:CP449)","v":28518},{"$f":"SUM(CQ445:CQ449)","v":1975},696,909,131,1705,216,487]
[]
[null,null,null,null,null,null,null,null,null,null,null,null,null,null,null,null,null,null,null,null,null,null,null,null,null,null,null,null,null,null,null,null,null,null,null,null,null,null,null,null,null,null,null,null,null,null,null,null,null,null,null,null,null,null,null,null,null,null,null,null,null,null,null,null,null,null,null,null,null,null,null,null,null,null,null,null,null,null,null,null,null,null,null,null,null,null,null,null,null,2018,"Cwm Taf","South Rhondda","W95004",8626,690,305,305,68,626,74,198]
[null,null,null,null,null,null,null,null,null,null,null,null,null,null,null,null,null,null,null,null,null,null,null,null,null,null,null,null,null,null,null,null,null,null,null,null,null,null,null,null,null,null,null,null,null,null,null,null,null,null,null,null,null,null,null,null,null,null,null,null,null,null,null,null,null,null,null,null,null,null,null,null,null,null,null,null,null,null,null,null,null,null,null,null,null,null,null,null,null,2018,"Cwm Taf","South Rhondda","W95007",5062,522,113,152,18,336,15,69]
[null,null,null,null,null,null,null,null,null,null,null,null,null,null,null,null,null,null,null,null,null,null,null,null,null,null,null,null,null,null,null,null,null,null,null,null,null,null,null,null,null,null,null,null,null,null,null,null,null,null,null,null,null,null,null,null,null,null,null,null,null,null,null,null,null,null,null,null,null,null,null,null,null,null,null,null,null,null,null,null,null,null,null,null,null,null,null,null,null,2018,"Cwm Taf","South Rhondda","W95027",8978,565,217,357,29,515,79,207]
[null,null,null,null,null,null,null,null,null,null,null,null,null,null,null,null,null,null,null,null,null,null,null,null,null,null,null,null,null,null,null,null,null,null,null,null,null,null,null,null,null,null,null,null,null,null,null,null,null,null,null,null,null,null,null,null,null,null,null,null,null,null,null,null,null,null,null,null,null,null,null,null,null,null,null,null,null,null,null,null,null,null,null,null,null,null,null,null,null,2018,"Cwm Taf","South Rhondda","W95044",9115,618,235,338,66,538,67,243]
[null,null,null,null,null,null,null,null,null,null,null,null,null,null,null,null,null,null,null,null,null,null,null,null,null,null,null,null,null,null,null,null,null,null,null,null,null,null,null,null,null,null,null,null,null,null,null,null,null,null,null,null,null,null,null,null,null,null,null,null,null,null,null,null,null,null,null,null,null,null,null,null,null,null,null,null,null,null,null,null,null,null,null,null,null,null,null,null,null,2018,"Cwm Taf","South Rhondda","W95057",5012,295,141,209,31,363,33,117]
[null,null,null,null,null,null,null,null,null,null,null,null,null,null,null,null,null,null,null,null,null,null,null,null,null,null,null,null,null,null,null,null,null,null,null,null,null,null,null,null,null,null,null,null,null,null,null,null,null,null,null,null,null,null,null,null,null,null,null,null,null,null,null,null,null,null,null,null,null,null,null,null,null,null,null,null,null,null,null,null,null,null,null,null,null,null,null,null,null,2018,"Cwm Taf","South Rhondda","W95062",7121,605,222,271,46,482,84,157]
[null,null,null,null,null,null,null,null,null,null,null,null,null,null,null,null,null,null,null,null,null,null,null,null,null,null,null,null,null,null,null,null,null,null,null,null,null,null,null,null,null,null,null,null,null,null,null,null,null,null,null,null,null,null,null,null,null,null,null,null,null,null,null,null,null,null,null,null,null,null,null,null,null,null,null,null,null,null,null,null,null,null,null,null,null,null,null,null,null,2018,"Cwm Taf","South Rhondda","W95076",3816,244,98,187,9,295,41,66]
[null,null,null,null,null,null,null,null,null,null,null,null,null,null,null,null,null,null,null,null,null,null,null,null,null,null,null,null,null,null,null,null,null,null,null,null,null,null,null,null,null,null,null,null,null,null,null,null,null,null,null,null,null,null,null,null,null,null,null,null,null,null,null,null,null,null,null,null,null,null,null,null,null,null,null,null,null,null,null,null,null,null,null,null,null,null,null,null,null,2018,"Cwm Taf","South Rhondda","W95295",5691,458,194,242,38,413,35,123]
[null,null,null,null,null,null,null,null,null,null,null,null,null,null,null,null,null,null,null,null,null,null,null,null,null,null,null,null,null,null,null,null,null,null,null,null,null,null,null,null,null,null,null,null,null,null,null,null,null,null,null,null,null,null,null,null,null,null,null,null,null,null,null,null,null,null,null,null,null,null,null,null,null,null,null,null,null,null,null,null,null,null,null,null,null,null,null,null,null,null,2018,"Cwm Taf","South Rhondda",{"$f":"SUM(CP452:CP459)","v":53421},{"$f":"SUM(CQ452:CQ459)","v":3997},1525,2061,305,3568,428,1180]
[]
[null,null,null,null,null,null,null,null,null,null,null,null,null,null,null,null,null,null,null,null,null,null,null,null,null,null,null,null,null,null,null,null,null,null,null,null,null,null,null,null,null,null,null,null,null,null,null,null,null,null,null,null,null,null,null,null,null,null,null,null,null,null,null,null,null,null,null,null,null,null,null,null,null,null,null,null,null,null,null,null,null,null,null,null,null,null,null,null,null,2018,"Cwm Taf","South Taf Ely","W95011",17388,1137,219,561,60,850,109,284]
[null,null,null,null,null,null,null,null,null,null,null,null,null,null,null,null,null,null,null,null,null,null,null,null,null,null,null,null,null,null,null,null,null,null,null,null,null,null,null,null,null,null,null,null,null,null,null,null,null,null,null,null,null,null,null,null,null,null,null,null,null,null,null,null,null,null,null,null,null,null,null,null,null,null,null,null,null,null,null,null,null,null,null,null,null,null,null,null,null,2018,"Cwm Taf","South Taf Ely","W95025",12249,989,211,408,51,707,53,212]
[null,null,null,null,null,null,null,null,null,null,null,null,null,null,null,null,null,null,null,null,null,null,null,null,null,null,null,null,null,null,null,null,null,null,null,null,null,null,null,null,null,null,null,null,null,null,null,null,null,null,null,null,null,null,null,null,null,null,null,null,null,null,null,null,null,null,null,null,null,null,null,null,null,null,null,null,null,null,null,null,null,null,null,null,null,null,null,null,null,2018,"Cwm Taf","South Taf Ely","W95036",12029,989,254,432,62,710,115,267]
[null,null,null,null,null,null,null,null,null,null,null,null,null,null,null,null,null,null,null,null,null,null,null,null,null,null,null,null,null,null,null,null,null,null,null,null,null,null,null,null,null,null,null,null,null,null,null,null,null,null,null,null,null,null,null,null,null,null,null,null,null,null,null,null,null,null,null,null,null,null,null,null,null,null,null,null,null,null,null,null,null,null,null,null,null,null,null,null,null,2018,"Cwm Taf","South Taf Ely","W95060",6914,476,104,185,76,379,50,117]
[null,null,null,null,null,null,null,null,null,null,null,null,null,null,null,null,null,null,null,null,null,null,null,null,null,null,null,null,null,null,null,null,null,null,null,null,null,null,null,null,null,null,null,null,null,null,null,null,null,null,null,null,null,null,null,null,null,null,null,null,null,null,null,null,null,null,null,null,null,null,null,null,null,null,null,null,null,null,null,null,null,null,null,null,null,null,null,null,null,null,2018,"Cwm Taf","South Taf Ely",{"$f":"SUM(CP462:CP465)","v":48580},{"$f":"SUM(CQ462:CQ465)","v":3591},788,1586,249,2646,327,880]
[]
[null,null,null,null,null,null,null,null,null,null,null,null,null,null,null,null,null,null,null,null,null,null,null,null,null,null,null,null,null,null,null,null,null,null,null,null,null,null,null,null,null,null,null,null,null,null,null,null,null,null,null,null,null,null,null,null,null,null,null,null,null,null,null,null,null,null,null,null,null,null,null,null,null,null,null,null,null,null,null,null,null,null,null,null,null,null,null,null,null,2018,"Hywel Dda","Amman/Gwendraeth","W00142",7749,587,263,360,37,582,101,177]
[null,null,null,null,null,null,null,null,null,null,null,null,null,null,null,null,null,null,null,null,null,null,null,null,null,null,null,null,null,null,null,null,null,null,null,null,null,null,null,null,null,null,null,null,null,null,null,null,null,null,null,null,null,null,null,null,null,null,null,null,null,null,null,null,null,null,null,null,null,null,null,null,null,null,null,null,null,null,null,null,null,null,null,null,null,null,null,null,null,2018,"Hywel Dda","Amman/Gwendraeth","W92003",8166,672,226,427,58,605,151,219]
[null,null,null,null,null,null,null,null,null,null,null,null,null,null,null,null,null,null,null,null,null,null,null,null,null,null,null,null,null,null,null,null,null,null,null,null,null,null,null,null,null,null,null,null,null,null,null,null,null,null,null,null,null,null,null,null,null,null,null,null,null,null,null,null,null,null,null,null,null,null,null,null,null,null,null,null,null,null,null,null,null,null,null,null,null,null,null,null,null,2018,"Hywel Dda","Amman/Gwendraeth","W92013",4214,384,105,189,11,286,52,91]
[null,null,null,null,null,null,null,null,null,null,null,null,null,null,null,null,null,null,null,null,null,null,null,null,null,null,null,null,null,null,null,null,null,null,null,null,null,null,null,null,null,null,null,null,null,null,null,null,null,null,null,null,null,null,null,null,null,null,null,null,null,null,null,null,null,null,null,null,null,null,null,null,null,null,null,null,null,null,null,null,null,null,null,null,null,null,null,null,null,2018,"Hywel Dda","Amman/Gwendraeth","W92035",7325,512,223,354,69,497,110,170]
[null,null,null,null,null,null,null,null,null,null,null,null,null,null,null,null,null,null,null,null,null,null,null,null,null,null,null,null,null,null,null,null,null,null,null,null,null,null,null,null,null,null,null,null,null,null,null,null,null,null,null,null,null,null,null,null,null,null,null,null,null,null,null,null,null,null,null,null,null,null,null,null,null,null,null,null,null,null,null,null,null,null,null,null,null,null,null,null,null,2018,"Hywel Dda","Amman/Gwendraeth","W92036",10387,732,294,474,98,726,115,253]
[null,null,null,null,null,null,null,null,null,null,null,null,null,null,null,null,null,null,null,null,null,null,null,null,null,null,null,null,null,null,null,null,null,null,null,null,null,null,null,null,null,null,null,null,null,null,null,null,null,null,null,null,null,null,null,null,null,null,null,null,null,null,null,null,null,null,null,null,null,null,null,null,null,null,null,null,null,null,null,null,null,null,null,null,null,null,null,null,null,2018,"Hywel Dda","Amman/Gwendraeth","W92040",9221,830,185,370,64,594,72,156]
[null,null,null,null,null,null,null,null,null,null,null,null,null,null,null,null,null,null,null,null,null,null,null,null,null,null,null,null,null,null,null,null,null,null,null,null,null,null,null,null,null,null,null,null,null,null,null,null,null,null,null,null,null,null,null,null,null,null,null,null,null,null,null,null,null,null,null,null,null,null,null,null,null,null,null,null,null,null,null,null,null,null,null,null,null,null,null,null,null,2018,"Hywel Dda","Amman/Gwendraeth","W92046",4215,262,63,226,19,296,34,95]
[null,null,null,null,null,null,null,null,null,null,null,null,null,null,null,null,null,null,null,null,null,null,null,null,null,null,null,null,null,null,null,null,null,null,null,null,null,null,null,null,null,null,null,null,null,null,null,null,null,null,null,null,null,null,null,null,null,null,null,null,null,null,null,null,null,null,null,null,null,null,null,null,null,null,null,null,null,null,null,null,null,null,null,null,null,null,null,null,null,2018,"Hywel Dda","Amman/Gwendraeth","W92051",8462,643,225,364,61,584,104,165]
[null,null,null,null,null,null,null,null,null,null,null,null,null,null,null,null,null,null,null,null,null,null,null,null,null,null,null,null,null,null,null,null,null,null,null,null,null,null,null,null,null,null,null,null,null,null,null,null,null,null,null,null,null,null,null,null,null,null,null,null,null,null,null,null,null,null,null,null,null,null,null,null,null,null,null,null,null,null,null,null,null,null,null,null,null,null,null,null,null,null,2018,"Hywel Dda","Amman/Gwendraeth",{"$f":"SUM(CP468:CP475)","v":59739},{"$f":"SUM(CQ468:CQ475)","v":4622},1584,2764,417,4170,739,1326]
[]
[null,null,null,null,null,null,null,null,null,null,null,null,null,null,null,null,null,null,null,null,null,null,null,null,null,null,null,null,null,null,null,null,null,null,null,null,null,null,null,null,null,null,null,null,null,null,null,null,null,null,null,null,null,null,null,null,null,null,null,null,null,null,null,null,null,null,null,null,null,null,null,null,null,null,null,null,null,null,null,null,null,null,null,null,null,null,null,null,null,2018,"Hywel Dda","Llanelli","W00133",7763,585,193,375,76,514,131,185]
[null,null,null,null,null,null,null,null,null,null,null,null,null,null,null,null,null,null,null,null,null,null,null,null,null,null,null,null,null,null,null,null,null,null,null,null,null,null,null,null,null,null,null,null,null,null,null,null,null,null,null,null,null,null,null,null,null,null,null,null,null,null,null,null,null,null,null,null,null,null,null,null,null,null,null,null,null,null,null,null,null,null,null,null,null,null,null,null,null,2018,"Hywel Dda","Llanelli","W00134",10409,816,237,432,85,742,133,251]
[null,null,null,null,null,null,null,null,null,null,null,null,null,null,null,null,null,null,null,null,null,null,null,null,null,null,null,null,null,null,null,null,null,null,null,null,null,null,null,null,null,null,null,null,null,null,null,null,null,null,null,null,null,null,null,null,null,null,null,null,null,null,null,null,null,null,null,null,null,null,null,null,null,null,null,null,null,null,null,null,null,null,null,null,null,null,null,null,null,2018,"Hywel Dda","Llanelli","W92021",7973,614,145,345,67,516,75,209]
[null,null,null,null,null,null,null,null,null,null,null,null,null,null,null,null,null,null,null,null,null,null,null,null,null,null,null,null,null,null,null,null,null,null,null,null,null,null,null,null,null,null,null,null,null,null,null,null,null,null,null,null,null,null,null,null,null,null,null,null,null,null,null,null,null,null,null,null,null,null,null,null,null,null,null,null,null,null,null,null,null,null,null,null,null,null,null,null,null,2018,"Hywel Dda","Llanelli","W92031",7265,526,196,338,53,531,71,170]
[null,null,null,null,null,null,null,null,null,null,null,null,null,null,null,null,null,null,null,null,null,null,null,null,null,null,null,null,null,null,null,null,null,null,null,null,null,null,null,null,null,null,null,null,null,null,null,null,null,null,null,null,null,null,null,null,null,null,null,null,null,null,null,null,null,null,null,null,null,null,null,null,null,null,null,null,null,null,null,null,null,null,null,null,null,null,null,null,null,2018,"Hywel Dda","Llanelli","W92037",9157,761,183,356,56,498,78,189]
[null,null,null,null,null,null,null,null,null,null,null,null,null,null,null,null,null,null,null,null,null,null,null,null,null,null,null,null,null,null,null,null,null,null,null,null,null,null,null,null,null,null,null,null,null,null,null,null,null,null,null,null,null,null,null,null,null,null,null,null,null,null,null,null,null,null,null,null,null,null,null,null,null,null,null,null,null,null,null,null,null,null,null,null,null,null,null,null,null,2018,"Hywel Dda","Llanelli","W92048",4620,337,80,196,34,281,35,114]
[null,null,null,null,null,null,null,null,null,null,null,null,null,null,null,null,null,null,null,null,null,null,null,null,null,null,null,null,null,null,null,null,null,null,null,null,null,null,null,null,null,null,null,null,null,null,null,null,null,null,null,null,null,null,null,null,null,null,null,null,null,null,null,null,null,null,null,null,null,null,null,null,null,null,null,null,null,null,null,null,null,null,null,null,null,null,null,null,null,2018,"Hywel Dda","Llanelli","W92052",14305,1037,356,639,104,1059,123,347]
[null,null,null,null,null,null,null,null,null,null,null,null,null,null,null,null,null,null,null,null,null,null,null,null,null,null,null,null,null,null,null,null,null,null,null,null,null,null,null,null,null,null,null,null,null,null,null,null,null,null,null,null,null,null,null,null,null,null,null,null,null,null,null,null,null,null,null,null,null,null,null,null,null,null,null,null,null,null,null,null,null,null,null,null,null,null,null,null,null,null,2018,"Hywel Dda","Llanelli",{"$f":"SUM(CP478:CP484)","v":61492},{"$f":"SUM(CQ478:CQ484)","v":4676},1390,2681,475,4141,646,1465]
[]
[null,null,null,null,null,null,null,null,null,null,null,null,null,null,null,null,null,null,null,null,null,null,null,null,null,null,null,null,null,null,null,null,null,null,null,null,null,null,null,null,null,null,null,null,null,null,null,null,null,null,null,null,null,null,null,null,null,null,null,null,null,null,null,null,null,null,null,null,null,null,null,null,null,null,null,null,null,null,null,null,null,null,null,null,null,null,null,null,null,2018,"Hywel Dda","North Ceredigion","W92006",2669,143,76,150,29,198,69,70]
[null,null,null,null,null,null,null,null,null,null,null,null,null,null,null,null,null,null,null,null,null,null,null,null,null,null,null,null,null,null,null,null,null,null,null,null,null,null,null,null,null,null,null,null,null,null,null,null,null,null,null,null,null,null,null,null,null,null,null,null,null,null,null,null,null,null,null,null,null,null,null,null,null,null,null,null,null,null,null,null,null,null,null,null,null,null,null,null,null,2018,"Hywel Dda","North Ceredigion","W92014",10607,598,160,314,78,490,130,207]
[null,null,null,null,null,null,null,null,null,null,null,null,null,null,null,null,null,null,null,null,null,null,null,null,null,null,null,null,null,null,null,null,null,null,null,null,null,null,null,null,null,null,null,null,null,null,null,null,null,null,null,null,null,null,null,null,null,null,null,null,null,null,null,null,null,null,null,null,null,null,null,null,null,null,null,null,null,null,null,null,null,null,null,null,null,null,null,null,null,2018,"Hywel Dda","North Ceredigion","W92022",7407,527,172,354,31,553,158,168]
[null,null,null,null,null,null,null,null,null,null,null,null,null,null,null,null,null,null,null,null,null,null,null,null,null,null,null,null,null,null,null,null,null,null,null,null,null,null,null,null,null,null,null,null,null,null,null,null,null,null,null,null,null,null,null,null,null,null,null,null,null,null,null,null,null,null,null,null,null,null,null,null,null,null,null,null,null,null,null,null,null,null,null,null,null,null,null,null,null,2018,"Hywel Dda","North Ceredigion","W92024",11464,564,89,173,46,310,83,90]
[null,null,null,null,null,null,null,null,null,null,null,null,null,null,null,null,null,null,null,null,null,null,null,null,null,null,null,null,null,null,null,null,null,null,null,null,null,null,null,null,null,null,null,null,null,null,null,null,null,null,null,null,null,null,null,null,null,null,null,null,null,null,null,null,null,null,null,null,null,null,null,null,null,null,null,null,null,null,null,null,null,null,null,null,null,null,null,null,null,2018,"Hywel Dda","North Ceredigion","W92025",7559,578,188,291,77,426,157,150]
[null,null,null,null,null,null,null,null,null,null,null,null,null,null,null,null,null,null,null,null,null,null,null,null,null,null,null,null,null,null,null,null,null,null,null,null,null,null,null,null,null,null,null,null,null,null,null,null,null,null,null,null,null,null,null,null,null,null,null,null,null,null,null,null,null,null,null,null,null,null,null,null,null,null,null,null,null,null,null,null,null,null,null,null,null,null,null,null,null,2018,"Hywel Dda","North Ceredigion","W92053",3585,228,87,156,18,256,83,95]
[null,null,null,null,null,null,null,null,null,null,null,null,null,null,null,null,null,null,null,null,null,null,null,null,null,null,null,null,null,null,null,null,null,null,null,null,null,null,null,null,null,null,null,null,null,null,null,null,null,null,null,null,null,null,null,null,null,null,null,null,null,null,null,null,null,null,null,null,null,null,null,null,null,null,null,null,null,null,null,null,null,null,null,null,null,null,null,null,null,2018,"Hywel Dda","North Ceredigion","W92056",3387,254,106,133,22,196,76,67]
[null,null,null,null,null,null,null,null,null,null,null,null,null,null,null,null,null,null,null,null,null,null,null,null,null,null,null,null,null,null,null,null,null,null,null,null,null,null,null,null,null,null,null,null,null,null,null,null,null,null,null,null,null,null,null,null,null,null,null,null,null,null,null,null,null,null,null,null,null,null,null,null,null,null,null,null,null,null,null,null,null,null,null,null,null,null,null,null,null,null,2018,"Hywel Dda","North Ceredigion",{"$f":"SUM(CP487:CP493)","v":46678},{"$f":"SUM(CQ487:CQ493)","v":2892},878,1571,301,2429,756,847]
[]
[null,null,null,null,null,null,null,null,null,null,null,null,null,null,null,null,null,null,null,null,null,null,null,null,null,null,null,null,null,null,null,null,null,null,null,null,null,null,null,null,null,null,null,null,null,null,null,null,null,null,null,null,null,null,null,null,null,null,null,null,null,null,null,null,null,null,null,null,null,null,null,null,null,null,null,null,null,null,null,null,null,null,null,null,null,null,null,null,null,2018,"Hywel Dda","North Pembrokeshire","W92002",12332,770,324,338,72,684,77,217]
[null,null,null,null,null,null,null,null,null,null,null,null,null,null,null,null,null,null,null,null,null,null,null,null,null,null,null,null,null,null,null,null,null,null,null,null,null,null,null,null,null,null,null,null,null,null,null,null,null,null,null,null,null,null,null,null,null,null,null,null,null,null,null,null,null,null,null,null,null,null,null,null,null,null,null,null,null,null,null,null,null,null,null,null,null,null,null,null,null,2018,"Hywel Dda","North Pembrokeshire","W92008",8600,598,310,357,64,605,96,182]
[null,null,null,null,null,null,null,null,null,null,null,null,null,null,null,null,null,null,null,null,null,null,null,null,null,null,null,null,null,null,null,null,null,null,null,null,null,null,null,null,null,null,null,null,null,null,null,null,null,null,null,null,null,null,null,null,null,null,null,null,null,null,null,null,null,null,null,null,null,null,null,null,null,null,null,null,null,null,null,null,null,null,null,null,null,null,null,null,null,2018,"Hywel Dda","North Pembrokeshire","W92015",5292,274,135,225,37,314,60,129]
[null,null,null,null,null,null,null,null,null,null,null,null,null,null,null,null,null,null,null,null,null,null,null,null,null,null,null,null,null,null,null,null,null,null,null,null,null,null,null,null,null,null,null,null,null,null,null,null,null,null,null,null,null,null,null,null,null,null,null,null,null,null,null,null,null,null,null,null,null,null,null,null,null,null,null,null,null,null,null,null,null,null,null,null,null,null,null,null,null,2018,"Hywel Dda","North Pembrokeshire","W92041",8543,549,148,323,36,601,82,216]
[null,null,null,null,null,null,null,null,null,null,null,null,null,null,null,null,null,null,null,null,null,null,null,null,null,null,null,null,null,null,null,null,null,null,null,null,null,null,null,null,null,null,null,null,null,null,null,null,null,null,null,null,null,null,null,null,null,null,null,null,null,null,null,null,null,null,null,null,null,null,null,null,null,null,null,null,null,null,null,null,null,null,null,null,null,null,null,null,null,2018,"Hywel Dda","North Pembrokeshire","W92042",14546,632,538,490,97,803,133,328]
[null,null,null,null,null,null,null,null,null,null,null,null,null,null,null,null,null,null,null,null,null,null,null,null,null,null,null,null,null,null,null,null,null,null,null,null,null,null,null,null,null,null,null,null,null,null,null,null,null,null,null,null,null,null,null,null,null,null,null,null,null,null,null,null,null,null,null,null,null,null,null,null,null,null,null,null,null,null,null,null,null,null,null,null,null,null,null,null,null,2018,"Hywel Dda","North Pembrokeshire","W92058",2438,177,74,99,21,155,23,55]
[null,null,null,null,null,null,null,null,null,null,null,null,null,null,null,null,null,null,null,null,null,null,null,null,null,null,null,null,null,null,null,null,null,null,null,null,null,null,null,null,null,null,null,null,null,null,null,null,null,null,null,null,null,null,null,null,null,null,null,null,null,null,null,null,null,null,null,null,null,null,null,null,null,null,null,null,null,null,null,null,null,null,null,null,null,null,null,null,null,2018,"Hywel Dda","North Pembrokeshire","W92059",2520,222,70,115,16,210,39,58]
[null,null,null,null,null,null,null,null,null,null,null,null,null,null,null,null,null,null,null,null,null,null,null,null,null,null,null,null,null,null,null,null,null,null,null,null,null,null,null,null,null,null,null,null,null,null,null,null,null,null,null,null,null,null,null,null,null,null,null,null,null,null,null,null,null,null,null,null,null,null,null,null,null,null,null,null,null,null,null,null,null,null,null,null,null,null,null,null,null,2018,"Hywel Dda","North Pembrokeshire","W92061",4051,267,97,176,27,238,37,80]
[null,null,null,null,null,null,null,null,null,null,null,null,null,null,null,null,null,null,null,null,null,null,null,null,null,null,null,null,null,null,null,null,null,null,null,null,null,null,null,null,null,null,null,null,null,null,null,null,null,null,null,null,null,null,null,null,null,null,null,null,null,null,null,null,null,null,null,null,null,null,null,null,null,null,null,null,null,null,null,null,null,null,null,null,null,null,null,null,null,2018,"Hywel Dda","North Pembrokeshire","W92064",7014,586,171,341,37,481,158,243]
[null,null,null,null,null,null,null,null,null,null,null,null,null,null,null,null,null,null,null,null,null,null,null,null,null,null,null,null,null,null,null,null,null,null,null,null,null,null,null,null,null,null,null,null,null,null,null,null,null,null,null,null,null,null,null,null,null,null,null,null,null,null,null,null,null,null,null,null,null,null,null,null,null,null,null,null,null,null,null,null,null,null,null,null,null,null,null,null,null,null,2018,"Hywel Dda","North Pembrokeshire",{"$f":"SUM(CP496:CP504)","v":65336},{"$f":"SUM(CQ496:CQ504)","v":4075},1867,2464,407,4091,705,1508]
[]
[null,null,null,null,null,null,null,null,null,null,null,null,null,null,null,null,null,null,null,null,null,null,null,null,null,null,null,null,null,null,null,null,null,null,null,null,null,null,null,null,null,null,null,null,null,null,null,null,null,null,null,null,null,null,null,null,null,null,null,null,null,null,null,null,null,null,null,null,null,null,null,null,null,null,null,null,null,null,null,null,null,null,null,null,null,null,null,null,null,2018,"Hywel Dda","South Ceredigion","W92005",5225,285,132,187,17,335,46,105]
[null,null,null,null,null,null,null,null,null,null,null,null,null,null,null,null,null,null,null,null,null,null,null,null,null,null,null,null,null,null,null,null,null,null,null,null,null,null,null,null,null,null,null,null,null,null,null,null,null,null,null,null,null,null,null,null,null,null,null,null,null,null,null,null,null,null,null,null,null,null,null,null,null,null,null,null,null,null,null,null,null,null,null,null,null,null,null,null,null,2018,"Hywel Dda","South Ceredigion","W92018",7949,675,183,322,61,483,74,191]
[null,null,null,null,null,null,null,null,null,null,null,null,null,null,null,null,null,null,null,null,null,null,null,null,null,null,null,null,null,null,null,null,null,null,null,null,null,null,null,null,null,null,null,null,null,null,null,null,null,null,null,null,null,null,null,null,null,null,null,null,null,null,null,null,null,null,null,null,null,null,null,null,null,null,null,null,null,null,null,null,null,null,null,null,null,null,null,null,null,2018,"Hywel Dda","South Ceredigion","W92019",5825,371,105,273,57,382,67,160]
[null,null,null,null,null,null,null,null,null,null,null,null,null,null,null,null,null,null,null,null,null,null,null,null,null,null,null,null,null,null,null,null,null,null,null,null,null,null,null,null,null,null,null,null,null,null,null,null,null,null,null,null,null,null,null,null,null,null,null,null,null,null,null,null,null,null,null,null,null,null,null,null,null,null,null,null,null,null,null,null,null,null,null,null,null,null,null,null,null,2018,"Hywel Dda","South Ceredigion","W92034",6149,452,190,291,22,449,63,132]
[null,null,null,null,null,null,null,null,null,null,null,null,null,null,null,null,null,null,null,null,null,null,null,null,null,null,null,null,null,null,null,null,null,null,null,null,null,null,null,null,null,null,null,null,null,null,null,null,null,null,null,null,null,null,null,null,null,null,null,null,null,null,null,null,null,null,null,null,null,null,null,null,null,null,null,null,null,null,null,null,null,null,null,null,null,null,null,null,null,2018,"Hywel Dda","South Ceredigion","W92039",11750,784,249,443,64,718,155,225]
[null,null,null,null,null,null,null,null,null,null,null,null,null,null,null,null,null,null,null,null,null,null,null,null,null,null,null,null,null,null,null,null,null,null,null,null,null,null,null,null,null,null,null,null,null,null,null,null,null,null,null,null,null,null,null,null,null,null,null,null,null,null,null,null,null,null,null,null,null,null,null,null,null,null,null,null,null,null,null,null,null,null,null,null,null,null,null,null,null,2018,"Hywel Dda","South Ceredigion","W92044",7476,516,182,353,60,464,59,228]
[null,null,null,null,null,null,null,null,null,null,null,null,null,null,null,null,null,null,null,null,null,null,null,null,null,null,null,null,null,null,null,null,null,null,null,null,null,null,null,null,null,null,null,null,null,null,null,null,null,null,null,null,null,null,null,null,null,null,null,null,null,null,null,null,null,null,null,null,null,null,null,null,null,null,null,null,null,null,null,null,null,null,null,null,null,null,null,null,null,2018,"Hywel Dda","South Ceredigion","W92065",3813,244,95,167,43,258,49,113]
[null,null,null,null,null,null,null,null,null,null,null,null,null,null,null,null,null,null,null,null,null,null,null,null,null,null,null,null,null,null,null,null,null,null,null,null,null,null,null,null,null,null,null,null,null,null,null,null,null,null,null,null,null,null,null,null,null,null,null,null,null,null,null,null,null,null,null,null,null,null,null,null,null,null,null,null,null,null,null,null,null,null,null,null,null,null,null,null,null,null,2018,"Hywel Dda","South Ceredigion",{"$f":"SUM(CP507:CP513)","v":48187},{"$f":"SUM(CQ507:CQ513)","v":3327},1136,2036,324,3089,513,1154]
[]
[null,null,null,null,null,null,null,null,null,null,null,null,null,null,null,null,null,null,null,null,null,null,null,null,null,null,null,null,null,null,null,null,null,null,null,null,null,null,null,null,null,null,null,null,null,null,null,null,null,null,null,null,null,null,null,null,null,null,null,null,null,null,null,null,null,null,null,null,null,null,null,null,null,null,null,null,null,null,null,null,null,null,null,null,null,null,null,null,null,2018,"Hywel Dda","South Pembrokeshire","W00067",24685,1794,684,977,147,1713,257,579]
[null,null,null,null,null,null,null,null,null,null,null,null,null,null,null,null,null,null,null,null,null,null,null,null,null,null,null,null,null,null,null,null,null,null,null,null,null,null,null,null,null,null,null,null,null,null,null,null,null,null,null,null,null,null,null,null,null,null,null,null,null,null,null,null,null,null,null,null,null,null,null,null,null,null,null,null,null,null,null,null,null,null,null,null,null,null,null,null,null,2018,"Hywel Dda","South Pembrokeshire","W92027",7842,498,209,340,81,427,98,219]
[null,null,null,null,null,null,null,null,null,null,null,null,null,null,null,null,null,null,null,null,null,null,null,null,null,null,null,null,null,null,null,null,null,null,null,null,null,null,null,null,null,null,null,null,null,null,null,null,null,null,null,null,null,null,null,null,null,null,null,null,null,null,null,null,null,null,null,null,null,null,null,null,null,null,null,null,null,null,null,null,null,null,null,null,null,null,null,null,null,2018,"Hywel Dda","South Pembrokeshire","W92033",9195,685,218,510,130,665,210,345]
[null,null,null,null,null,null,null,null,null,null,null,null,null,null,null,null,null,null,null,null,null,null,null,null,null,null,null,null,null,null,null,null,null,null,null,null,null,null,null,null,null,null,null,null,null,null,null,null,null,null,null,null,null,null,null,null,null,null,null,null,null,null,null,null,null,null,null,null,null,null,null,null,null,null,null,null,null,null,null,null,null,null,null,null,null,null,null,null,null,2018,"Hywel Dda","South Pembrokeshire","W92038",8924,640,123,347,77,507,81,207]
[null,null,null,null,null,null,null,null,null,null,null,null,null,null,null,null,null,null,null,null,null,null,null,null,null,null,null,null,null,null,null,null,null,null,null,null,null,null,null,null,null,null,null,null,null,null,null,null,null,null,null,null,null,null,null,null,null,null,null,null,null,null,null,null,null,null,null,null,null,null,null,null,null,null,null,null,null,null,null,null,null,null,null,null,null,null,null,null,null,2018,"Hywel Dda","South Pembrokeshire","W92440",3653,252,88,144,18,211,33,88]
[null,null,null,null,null,null,null,null,null,null,null,null,null,null,null,null,null,null,null,null,null,null,null,null,null,null,null,null,null,null,null,null,null,null,null,null,null,null,null,null,null,null,null,null,null,null,null,null,null,null,null,null,null,null,null,null,null,null,null,null,null,null,null,null,null,null,null,null,null,null,null,null,null,null,null,null,null,null,null,null,null,null,null,null,null,null,null,null,null,null,2018,"Hywel Dda","South Pembrokeshire",{"$f":"SUM(CP516:CP520)","v":54299},{"$f":"SUM(CQ516:CQ520)","v":3869},1322,2318,453,3523,679,1438]
[]
[null,null,null,null,null,null,null,null,null,null,null,null,null,null,null,null,null,null,null,null,null,null,null,null,null,null,null,null,null,null,null,null,null,null,null,null,null,null,null,null,null,null,null,null,null,null,null,null,null,null,null,null,null,null,null,null,null,null,null,null,null,null,null,null,null,null,null,null,null,null,null,null,null,null,null,null,null,null,null,null,null,null,null,null,null,null,null,null,null,2018,"Hywel Dda","Taf / Teifi / Tywi","W92007",7190,549,138,372,46,585,89,195]
[null,null,null,null,null,null,null,null,null,null,null,null,null,null,null,null,null,null,null,null,null,null,null,null,null,null,null,null,null,null,null,null,null,null,null,null,null,null,null,null,null,null,null,null,null,null,null,null,null,null,null,null,null,null,null,null,null,null,null,null,null,null,null,null,null,null,null,null,null,null,null,null,null,null,null,null,null,null,null,null,null,null,null,null,null,null,null,null,null,2018,"Hywel Dda","Taf / Teifi / Tywi","W92009",9480,602,160,351,57,526,104,251]
[null,null,null,null,null,null,null,null,null,null,null,null,null,null,null,null,null,null,null,null,null,null,null,null,null,null,null,null,null,null,null,null,null,null,null,null,null,null,null,null,null,null,null,null,null,null,null,null,null,null,null,null,null,null,null,null,null,null,null,null,null,null,null,null,null,null,null,null,null,null,null,null,null,null,null,null,null,null,null,null,null,null,null,null,null,null,null,null,null,2018,"Hywel Dda","Taf / Teifi / Tywi","W92016",14545,1001,241,522,97,929,152,346]
[null,null,null,null,null,null,null,null,null,null,null,null,null,null,null,null,null,null,null,null,null,null,null,null,null,null,null,null,null,null,null,null,null,null,null,null,null,null,null,null,null,null,null,null,null,null,null,null,null,null,null,null,null,null,null,null,null,null,null,null,null,null,null,null,null,null,null,null,null,null,null,null,null,null,null,null,null,null,null,null,null,null,null,null,null,null,null,null,null,2018,"Hywel Dda","Taf / Teifi / Tywi","W92023",7153,534,126,326,33,439,90,176]
[null,null,null,null,null,null,null,null,null,null,null,null,null,null,null,null,null,null,null,null,null,null,null,null,null,null,null,null,null,null,null,null,null,null,null,null,null,null,null,null,null,null,null,null,null,null,null,null,null,null,null,null,null,null,null,null,null,null,null,null,null,null,null,null,null,null,null,null,null,null,null,null,null,null,null,null,null,null,null,null,null,null,null,null,null,null,null,null,null,2018,"Hywel Dda","Taf / Teifi / Tywi","W92050",7227,474,157,280,46,429,115,168]
[null,null,null,null,null,null,null,null,null,null,null,null,null,null,null,null,null,null,null,null,null,null,null,null,null,null,null,null,null,null,null,null,null,null,null,null,null,null,null,null,null,null,null,null,null,null,null,null,null,null,null,null,null,null,null,null,null,null,null,null,null,null,null,null,null,null,null,null,null,null,null,null,null,null,null,null,null,null,null,null,null,null,null,null,null,null,null,null,null,2018,"Hywel Dda","Taf / Teifi / Tywi","W92055",5581,314,74,221,56,316,51,155]
[null,null,null,null,null,null,null,null,null,null,null,null,null,null,null,null,null,null,null,null,null,null,null,null,null,null,null,null,null,null,null,null,null,null,null,null,null,null,null,null,null,null,null,null,null,null,null,null,null,null,null,null,null,null,null,null,null,null,null,null,null,null,null,null,null,null,null,null,null,null,null,null,null,null,null,null,null,null,null,null,null,null,null,null,null,null,null,null,null,2018,"Hywel Dda","Taf / Teifi / Tywi","W92063",3706,216,77,130,16,227,31,100]
[null,null,null,null,null,null,null,null,null,null,null,null,null,null,null,null,null,null,null,null,null,null,null,null,null,null,null,null,null,null,null,null,null,null,null,null,null,null,null,null,null,null,null,null,null,null,null,null,null,null,null,null,null,null,null,null,null,null,null,null,null,null,null,null,null,null,null,null,null,null,null,null,null,null,null,null,null,null,null,null,null,null,null,null,null,null,null,null,null,2018,"Hywel Dda","Taf / Teifi / Tywi","W92616",3264,186,58,134,40,180,44,103]
[null,null,null,null,null,null,null,null,null,null,null,null,null,null,null,null,null,null,null,null,null,null,null,null,null,null,null,null,null,null,null,null,null,null,null,null,null,null,null,null,null,null,null,null,null,null,null,null,null,null,null,null,null,null,null,null,null,null,null,null,null,null,null,null,null,null,null,null,null,null,null,null,null,null,null,null,null,null,null,null,null,null,null,null,null,null,null,null,null,null,2018,"Hywel Dda","Taf / Teifi / Tywi",{"$f":"SUM(CP523:CP530)","v":58146},{"$f":"SUM(CQ523:CQ530)","v":3876},1031,2336,391,3631,676,1494]
[]
[null,null,null,null,null,null,null,null,null,null,null,null,null,null,null,null,null,null,null,null,null,null,null,null,null,null,null,null,null,null,null,null,null,null,null,null,null,null,null,null,null,null,null,null,null,null,null,null,null,null,null,null,null,null,null,null,null,null,null,null,null,null,null,null,null,null,null,null,null,null,null,null,null,null,null,null,null,null,null,null,null,null,null,null,null,null,null,null,null,2018,"Powys","Mid Powys","W96004",4717,372,106,217,24,283,55,130]
[null,null,null,null,null,null,null,null,null,null,null,null,null,null,null,null,null,null,null,null,null,null,null,null,null,null,null,null,null,null,null,null,null,null,null,null,null,null,null,null,null,null,null,null,null,null,null,null,null,null,null,null,null,null,null,null,null,null,null,null,null,null,null,null,null,null,null,null,null,null,null,null,null,null,null,null,null,null,null,null,null,null,null,null,null,null,null,null,null,2018,"Powys","Mid Powys","W96006",3249,160,116,148,63,235,67,110]
[null,null,null,null,null,null,null,null,null,null,null,null,null,null,null,null,null,null,null,null,null,null,null,null,null,null,null,null,null,null,null,null,null,null,null,null,null,null,null,null,null,null,null,null,null,null,null,null,null,null,null,null,null,null,null,null,null,null,null,null,null,null,null,null,null,null,null,null,null,null,null,null,null,null,null,null,null,null,null,null,null,null,null,null,null,null,null,null,null,2018,"Powys","Mid Powys","W96007",7602,434,206,312,49,455,100,181]
[null,null,null,null,null,null,null,null,null,null,null,null,null,null,null,null,null,null,null,null,null,null,null,null,null,null,null,null,null,null,null,null,null,null,null,null,null,null,null,null,null,null,null,null,null,null,null,null,null,null,null,null,null,null,null,null,null,null,null,null,null,null,null,null,null,null,null,null,null,null,null,null,null,null,null,null,null,null,null,null,null,null,null,null,null,null,null,null,null,2018,"Powys","Mid Powys","W96013",10333,759,335,495,93,769,205,332]
[null,null,null,null,null,null,null,null,null,null,null,null,null,null,null,null,null,null,null,null,null,null,null,null,null,null,null,null,null,null,null,null,null,null,null,null,null,null,null,null,null,null,null,null,null,null,null,null,null,null,null,null,null,null,null,null,null,null,null,null,null,null,null,null,null,null,null,null,null,null,null,null,null,null,null,null,null,null,null,null,null,null,null,null,null,null,null,null,null,2018,"Powys","Mid Powys","W96438",3591,263,89,152,22,248,60,87]
[null,null,null,null,null,null,null,null,null,null,null,null,null,null,null,null,null,null,null,null,null,null,null,null,null,null,null,null,null,null,null,null,null,null,null,null,null,null,null,null,null,null,null,null,null,null,null,null,null,null,null,null,null,null,null,null,null,null,null,null,null,null,null,null,null,null,null,null,null,null,null,null,null,null,null,null,null,null,null,null,null,null,null,null,null,null,null,null,null,null,2018,"Powys","Mid Powys",{"$f":"SUM(CP533:CP537)","v":29492},{"$f":"SUM(CQ533:CQ537)","v":1988},852,1324,251,1990,487,840]
[]
[null,null,null,null,null,null,null,null,null,null,null,null,null,null,null,null,null,null,null,null,null,null,null,null,null,null,null,null,null,null,null,null,null,null,null,null,null,null,null,null,null,null,null,null,null,null,null,null,null,null,null,null,null,null,null,null,null,null,null,null,null,null,null,null,null,null,null,null,null,null,null,null,null,null,null,null,null,null,null,null,null,null,null,null,null,null,null,null,null,2018,"Powys","North Powys","W96001",7133,569,144,326,33,473,95,199]
[null,null,null,null,null,null,null,null,null,null,null,null,null,null,null,null,null,null,null,null,null,null,null,null,null,null,null,null,null,null,null,null,null,null,null,null,null,null,null,null,null,null,null,null,null,null,null,null,null,null,null,null,null,null,null,null,null,null,null,null,null,null,null,null,null,null,null,null,null,null,null,null,null,null,null,null,null,null,null,null,null,null,null,null,null,null,null,null,null,2018,"Powys","North Powys","W96005",8712,519,120,344,30,564,116,202]
[null,null,null,null,null,null,null,null,null,null,null,null,null,null,null,null,null,null,null,null,null,null,null,null,null,null,null,null,null,null,null,null,null,null,null,null,null,null,null,null,null,null,null,null,null,null,null,null,null,null,null,null,null,null,null,null,null,null,null,null,null,null,null,null,null,null,null,null,null,null,null,null,null,null,null,null,null,null,null,null,null,null,null,null,null,null,null,null,null,2018,"Powys","North Powys","W96009",5706,404,93,257,31,358,55,150]
[null,null,null,null,null,null,null,null,null,null,null,null,null,null,null,null,null,null,null,null,null,null,null,null,null,null,null,null,null,null,null,null,null,null,null,null,null,null,null,null,null,null,null,null,null,null,null,null,null,null,null,null,null,null,null,null,null,null,null,null,null,null,null,null,null,null,null,null,null,null,null,null,null,null,null,null,null,null,null,null,null,null,null,null,null,null,null,null,null,2018,"Powys","North Powys","W96010",11029,994,190,403,76,659,82,248]
[null,null,null,null,null,null,null,null,null,null,null,null,null,null,null,null,null,null,null,null,null,null,null,null,null,null,null,null,null,null,null,null,null,null,null,null,null,null,null,null,null,null,null,null,null,null,null,null,null,null,null,null,null,null,null,null,null,null,null,null,null,null,null,null,null,null,null,null,null,null,null,null,null,null,null,null,null,null,null,null,null,null,null,null,null,null,null,null,null,2018,"Powys","North Powys","W96011",6797,541,233,278,34,504,130,166]
[null,null,null,null,null,null,null,null,null,null,null,null,null,null,null,null,null,null,null,null,null,null,null,null,null,null,null,null,null,null,null,null,null,null,null,null,null,null,null,null,null,null,null,null,null,null,null,null,null,null,null,null,null,null,null,null,null,null,null,null,null,null,null,null,null,null,null,null,null,null,null,null,null,null,null,null,null,null,null,null,null,null,null,null,null,null,null,null,null,2018,"Powys","North Powys","W96012",10742,679,240,445,78,583,88,280]
[null,null,null,null,null,null,null,null,null,null,null,null,null,null,null,null,null,null,null,null,null,null,null,null,null,null,null,null,null,null,null,null,null,null,null,null,null,null,null,null,null,null,null,null,null,null,null,null,null,null,null,null,null,null,null,null,null,null,null,null,null,null,null,null,null,null,null,null,null,null,null,null,null,null,null,null,null,null,null,null,null,null,null,null,null,null,null,null,null,2018,"Powys","North Powys","W96015",14187,843,307,483,68,745,76,270]
[null,null,null,null,null,null,null,null,null,null,null,null,null,null,null,null,null,null,null,null,null,null,null,null,null,null,null,null,null,null,null,null,null,null,null,null,null,null,null,null,null,null,null,null,null,null,null,null,null,null,null,null,null,null,null,null,null,null,null,null,null,null,null,null,null,null,null,null,null,null,null,null,null,null,null,null,null,null,null,null,null,null,null,null,null,null,null,null,null,null,2018,"Powys","North Powys",{"$f":"SUM(CP540:CP546)","v":64306},{"$f":"SUM(CQ540:CQ546)","v":4549},1327,2536,350,3886,642,1515]
[]
[null,null,null,null,null,null,null,null,null,null,null,null,null,null,null,null,null,null,null,null,null,null,null,null,null,null,null,null,null,null,null,null,null,null,null,null,null,null,null,null,null,null,null,null,null,null,null,null,null,null,null,null,null,null,null,null,null,null,null,null,null,null,null,null,null,null,null,null,null,null,null,null,null,null,null,null,null,null,null,null,null,null,null,null,null,null,null,null,null,2018,"Powys","South Powys","W96002",12100,936,433,524,146,894,168,358]
[null,null,null,null,null,null,null,null,null,null,null,null,null,null,null,null,null,null,null,null,null,null,null,null,null,null,null,null,null,null,null,null,null,null,null,null,null,null,null,null,null,null,null,null,null,null,null,null,null,null,null,null,null,null,null,null,null,null,null,null,null,null,null,null,null,null,null,null,null,null,null,null,null,null,null,null,null,null,null,null,null,null,null,null,null,null,null,null,null,2018,"Powys","South Powys","W96003",15702,1108,338,529,141,981,178,371]
[null,null,null,null,null,null,null,null,null,null,null,null,null,null,null,null,null,null,null,null,null,null,null,null,null,null,null,null,null,null,null,null,null,null,null,null,null,null,null,null,null,null,null,null,null,null,null,null,null,null,null,null,null,null,null,null,null,null,null,null,null,null,null,null,null,null,null,null,null,null,null,null,null,null,null,null,null,null,null,null,null,null,null,null,null,null,null,null,null,2018,"Powys","South Powys","W96016",9451,666,114,425,109,550,136,285]
[null,null,null,null,null,null,null,null,null,null,null,null,null,null,null,null,null,null,null,null,null,null,null,null,null,null,null,null,null,null,null,null,null,null,null,null,null,null,null,null,null,null,null,null,null,null,null,null,null,null,null,null,null,null,null,null,null,null,null,null,null,null,null,null,null,null,null,null,null,null,null,null,null,null,null,null,null,null,null,null,null,null,null,null,null,null,null,null,null,2018,"Powys","South Powys","W96017",8383,579,163,302,58,445,116,186]
[null,null,null,null,null,null,null,null,null,null,null,null,null,null,null,null,null,null,null,null,null,null,null,null,null,null,null,null,null,null,null,null,null,null,null,null,null,null,null,null,null,null,null,null,null,null,null,null,null,null,null,null,null,null,null,null,null,null,null,null,null,null,null,null,null,null,null,null,null,null,null,null,null,null,null,null,null,null,null,null,null,null,null,null,null,null,null,null,null,null,2018,"Powys","South Powys",{"$f":"SUM(CP549:CP552)","v":45636},{"$f":"SUM(CQ549:CQ552)","v":3289},1048,1780,454,2870,598,1200]
[]
[null,null,null,null,null,null,null,null,null,null,null,null,null,null,null,null,null,null,null,null,null,null,null,null,null,null,null,null,null,null,null,null,null,null,null,null,null,null,null,null,null,null,null,null,null,null,null,null,null,null,null,null,null,null,null,null,null,null,null,null,null,null,null,null,null,null,null,null,null,null,null,null,null,null,null,null,null,null,null,null,null,null,null,null,null,null,null,null,null,null,null,null,"Health boards"]
[null,null,null,null,null,null,null,null,null,null,null,null,null,null,null,null,null,null,null,null,null,null,null,null,null,null,null,null,null,null,null,null,null,null,null,null,null,null,null,null,null,null,null,null,null,null,null,null,null,null,null,null,null,null,null,null,null,null,null,null,null,null,null,null,null,null,null,null,null,null,null,null,null,null,null,null,null,null,null,null,null,null,null,null,null,null,null,null,null,null,null,null,"ABMU",{"$f":"SUM(CP10,CP20,CP27,CP37,CP42,CP53,CP60,CP67,CP77,CP85,CP91)","v":551878},40923,12297,20866,3885,34272,5789,12621]
[null,null,null,null,null,null,null,null,null,null,null,null,null,null,null,null,null,null,null,null,null,null,null,null,null,null,null,null,null,null,null,null,null,null,null,null,null,null,null,null,null,null,null,null,null,null,null,null,null,null,null,null,null,null,null,null,null,null,null,null,null,null,null,null,null,null,null,null,null,null,null,null,null,null,null,null,null,null,null,null,null,null,null,null,null,null,null,null,null,null,null,null,"Aneurin Bevan",{"$f":"SUM(CP98,CP106,CP115,CP127,CP136,CP146,CP153,CP162,CP170,CP177,CP185,CP194)","v":614185},42465,13580,22560,4003,39670,6064,12393]
[null,null,null,null,null,null,null,null,null,null,null,null,null,null,null,null,null,null,null,null,null,null,null,null,null,null,null,null,null,null,null,null,null,null,null,null,null,null,null,null,null,null,null,null,null,null,null,null,null,null,null,null,null,null,null,null,null,null,null,null,null,null,null,null,null,null,null,null,null,null,null,null,null,null,null,null,null,null,null,null,null,null,null,null,null,null,null,null,null,null,null,null,"Betsi Cadwaladr",{"$f":"SUM(CP207,CP219,CP229,CP238,CP245,CP259,CP266,CP274,CP282,CP290,CP300,CP309,CP318,CP328)","v":709365},51147,18697,27316,5249,41903,7833,14802]
[null,null,null,null,null,null,null,null,null,null,null,null,null,null,null,null,null,null,null,null,null,null,null,null,null,null,null,null,null,null,null,null,null,null,null,null,null,null,null,null,null,null,null,null,null,null,null,null,null,null,null,null,null,null,null,null,null,null,null,null,null,null,null,null,null,null,null,null,null,null,null,null,null,null,null,null,null,null,null,null,null,null,null,null,null,null,null,null,null,null,null,null,"Cardiff & Vale",{"$f":"SUM(CP334,CP346,CP356,CP369,CP379,CP388,CP397,CP404,CP409)","v":515581},34520,8428,14099,3256,25492,4348,8749]
[null,null,null,null,null,null,null,null,null,null,null,null,null,null,null,null,null,null,null,null,null,null,null,null,null,null,null,null,null,null,null,null,null,null,null,null,null,null,null,null,null,null,null,null,null,null,null,null,null,null,null,null,null,null,null,null,null,null,null,null,null,null,null,null,null,null,null,null,null,null,null,null,null,null,null,null,null,null,null,null,null,null,null,null,null,null,null,null,null,null,null,null,"Cwm Taf",{"$f":"SUM(CP417,CP423,CP430,CP436,CP443,CP450,CP460,CP466)","v":306997},21691,8485,11497,1679,19536,2717,6263]
[null,null,null,null,null,null,null,null,null,null,null,null,null,null,null,null,null,null,null,null,null,null,null,null,null,null,null,null,null,null,null,null,null,null,null,null,null,null,null,null,null,null,null,null,null,null,null,null,null,null,null,null,null,null,null,null,null,null,null,null,null,null,null,null,null,null,null,null,null,null,null,null,null,null,null,null,null,null,null,null,null,null,null,null,null,null,null,null,null,null,null,null,"Hywel Dda",{"$f":"SUM(CP476,CP485,CP494,CP505,CP514,CP521,CP531)","v":393877},27337,9208,16170,2768,25074,4714,9232]
[null,null,null,null,null,null,null,null,null,null,null,null,null,null,null,null,null,null,null,null,null,null,null,null,null,null,null,null,null,null,null,null,null,null,null,null,null,null,null,null,null,null,null,null,null,null,null,null,null,null,null,null,null,null,null,null,null,null,null,null,null,null,null,null,null,null,null,null,null,null,null,null,null,null,null,null,null,null,null,null,null,null,null,null,null,null,null,null,null,null,null,null,"Powys",{"$f":"SUM(CP538,CP547,CP553)","v":139434},9826,3227,5640,1055,8746,1727,3555]
[null,null,null,null,null,null,null,null,null,null,null,null,null,null,null,null,null,null,null,null,null,null,null,null,null,null,null,null,null,null,null,null,null,null,null,null,null,null,null,null,null,null,null,null,null,null,null,null,null,null,null,null,null,null,null,null,null,null,null,null,null,null,null,null,null,null,null,null,null,null,null,null,null,null,null,null,null,null,null,null,null,null,null,null,null,null,null,null,null,null,null,null,"Wales",{"$f":"SUM(CP556:CP562)","v":3231317},227909,73922,118148,21895,194693,33192,67615]
[]
[null,null,null,null,null,null,null,null,null,null,null,null,null,null,null,null,null,null,null,null,null,null,null,null,null,null,null,null,null,null,null,null,null,null,null,null,null,null,null,null,null,null,null,null,null,null,null,null,null,null,null,null,null,null,null,null,null,null,null,null,null,null,null,null,null,null,null,null,null,null,null,null,null,null,null,null,null,null,null,null,null,null,null,null,null,null,null,null,null,null,null,null,"ABMU",null,{"$f":"CQ556/$CP556","v":7.4152258288969666E-2},2.2282098579758571E-2,3.7809080992538206E-2,7.039599331736362E-3,6.2100681672398607E-2,1.0489637202425173E-2,2.2869184856073262E-2]
[null,null,null,null,null,null,null,null,null,null,null,null,null,null,null,null,null,null,null,null,null,null,null,null,null,null,null,null,null,null,null,null,null,null,null,null,null,null,null,null,null,null,null,null,null,null,null,null,null,null,null,null,null,null,null,null,null,null,null,null,null,null,null,null,null,null,null,null,null,null,null,null,null,null,null,null,null,null,null,null,null,null,null,null,null,null,null,null,null,null,null,null,"Aneurin Bevan",null,6.9140405578123856E-2,2.2110601854490097E-2,3.6731603669904016E-2,6.51758020791781E-3,6.4589659467424315E-2,9.8732466602082427E-3,2.0177959409624135E-2]
[null,null,null,null,null,null,null,null,null,null,null,null,null,null,null,null,null,null,null,null,null,null,null,null,null,null,null,null,null,null,null,null,null,null,null,null,null,null,null,null,null,null,null,null,null,null,null,null,null,null,null,null,null,null,null,null,null,null,null,null,null,null,null,null,null,null,null,null,null,null,null,null,null,null,null,null,null,null,null,null,null,null,null,null,null,null,null,null,null,null,null,null,"Betsi Cadwaladr",null,7.2102514220464778E-2,2.6357375963009171E-2,3.8507679403410093E-2,7.3995756768377354E-3,5.9071141090975735E-2,1.1042270199403691E-2,2.0866549660611956E-2]
[null,null,null,null,null,null,null,null,null,null,null,null,null,null,null,null,null,null,null,null,null,null,null,null,null,null,null,null,null,null,null,null,null,null,null,null,null,null,null,null,null,null,null,null,null,null,null,null,null,null,null,null,null,null,null,null,null,null,null,null,null,null,null,null,null,null,null,null,null,null,null,null,null,null,null,null,null,null,null,null,null,null,null,null,null,null,null,null,null,null,null,null,"Cardiff & Vale",null,6.6953592161076533E-2,1.6346607031678825E-2,2.7345848663934472E-2,6.3152055642081454E-3,4.9443249460317584E-2,8.4332044819339733E-3,1.696920561463669E-2]
[null,null,null,null,null,null,null,null,null,null,null,null,null,null,null,null,null,null,null,null,null,null,null,null,null,null,null,null,null,null,null,null,null,null,null,null,null,null,null,null,null,null,null,null,null,null,null,null,null,null,null,null,null,null,null,null,null,null,null,null,null,null,null,null,null,null,null,null,null,null,null,null,null,null,null,null,null,null,null,null,null,null,null,null,null,null,null,null,null,null,null,null,"Cwm Taf",null,7.0655413570816658E-2,2.7638706567165151E-2,3.7449877360365084E-2,5.4691088186529513E-3,6.363580100131272E-2,8.8502493509708558E-3,2.0400850822646477E-2]
[null,null,null,null,null,null,null,null,null,null,null,null,null,null,null,null,null,null,null,null,null,null,null,null,null,null,null,null,null,null,null,null,null,null,null,null,null,null,null,null,null,null,null,null,null,null,null,null,null,null,null,null,null,null,null,null,null,null,null,null,null,null,null,null,null,null,null,null,null,null,null,null,null,null,null,null,null,null,null,null,null,null,null,null,null,null,null,null,null,null,null,null,"Hywel Dda",null,6.940491574780959E-2,2.3377856538970287E-2,4.1053425307900689E-2,7.0275745981613546E-3,6.3659467295627825E-2,1.1968203271579707E-2,2.3438789266700011E-2]
[null,null,null,null,null,null,null,null,null,null,null,null,null,null,null,null,null,null,null,null,null,null,null,null,null,null,null,null,null,null,null,null,null,null,null,null,null,null,null,null,null,null,null,null,null,null,null,null,null,null,null,null,null,null,null,null,null,null,null,null,null,null,null,null,null,null,null,null,null,null,null,null,null,null,null,null,null,null,null,null,null,null,null,null,null,null,null,null,null,null,null,null,"Powys",null,7.0470616922701776E-2,2.3143566131646514E-2,4.0449244803993284E-2,7.5663037709597369E-3,6.2725016853851998E-2,1.2385788258244044E-2,2.5495933559963855E-2]
[null,null,null,null,null,null,null,null,null,null,null,null,null,null,null,null,null,null,null,null,null,null,null,null,null,null,null,null,null,null,null,null,null,null,null,null,null,null,null,null,null,null,null,null,null,null,null,null,null,null,null,null,null,null,null,null,null,null,null,null,null,null,null,null,null,null,null,null,null,null,null,null,null,null,null,null,null,null,null,null,null,null,null,null,null,null,null,null,null,null,null,null,"Wales",null,7.0531303490186825E-2,2.2876740350761007E-2,3.6563419806846562E-2,6.7758749760546549E-3,6.0251903480840786E-2,1.0271972697200553E-2,2.0924904613196415E-2]
[null,null,null,null,null,null,null,null,null,null,null,null,null,null,null,null,null,null,null,null,null,null,null,null,null,null,null,null,null,null,null,null,null,null,null,null,null,null,null,null,null,null,null,null,null,null,null,null,null,null,null,null,null,null,null,null,null,null,null,null,null,null,null,null,null,null,null,null,null,null,null,null,null,null,null,null,null,null,null,null,null,null,null,null,null,null,null,null,null,null,null,null,"HB"]
[null,null,null,null,null,null,null,null,null,null,null,null,null,null,null,null,null,null,null,null,null,null,null,null,null,null,null,null,null,null,null,null,null,null,null,null,null,null,null,null,null,null,null,null,null,null,null,null,null,null,null,null,null,null,null,null,null,null,null,null,null,null,null,null,null,null,null,null,null,null,null,null,null,null,null,null,null,null,null,null,null,null,null,null,null,null,null,null,null,null,null,null,"Behavioural risk factors"]
[null,null,null,null,null,null,null,null,null,null,null,null,null,null,null,null,null,null,null,null,null,null,null,null,null,null,null,null,null,null,null,null,null,null,null,null,null,null,null,null,null,null,null,null,null,null,null,null,null,null,null,null,null,null,null,null,null,null,null,null,null,null,null,null,null,null,null,null,null,null,null,null,null,null,null,null,null,null,null,null,null,null,null,null,null,null,null,null,null,null,null,null,"Indicator","Period","Wales","ABM","AB","BC","CV","CT","HD","Powys"]
[null,null,null,null,null,null,null,null,null,null,null,null,null,null,null,null,null,null,null,null,null,null,null,null,null,null,null,null,null,null,null,null,null,null,null,null,null,null,null,null,null,null,null,null,null,null,null,null,null,null,null,null,null,null,null,null,null,null,null,null,null,null,null,null,null,null,null,null,null,null,null,null,null,null,null,null,null,null,null,null,null,null,null,null,null,null,null,null,null,null,null,null,"Prevalence of smoking (%)",{"$f":"FM2","v":"2013/14"},{"$f":"FQ73","v":20.45283989226062},{"$f":"FQ2","v":20.758862475155336},{"$f":"FQ14","v":21.738213851376432},{"$f":"FQ27","v":20.438051392454426},{"$f":"FQ42","v":19.456008456153821},{"$f":"FQ52","v":22.094508323021696},{"$f":"FQ61","v":18.948325244135766},{"$f":"FQ69","v":18.108636587743661}]
[null,null,null,null,null,null,null,null,null,null,null,null,null,null,null,null,null,null,null,null,null,null,null,null,null,null,null,null,null,null,null,null,null,null,null,null,null,null,null,null,null,null,null,null,null,null,null,null,null,null,null,null,null,null,null,null,null,null,null,null,null,null,null,null,null,null,null,null,null,null,null,null,null,null,null,null,null,null,null,null,null,null,null,null,null,null,null,null,null,null,null,null,"Prevalence of healthy eating (%)",{"$f":"FM145","v":2014},{"$f":"FQ145","v":32.810722701789899},{"$f":"FQ74","v":32.508257985239489},{"$f":"FQ86","v":32.176633739327379},{"$f":"FQ99","v":33.553247733877647},{"$f":"FQ114","v":32.679921644749626},{"$f":"FQ124","v":31.330925123576808},{"$f":"FQ133","v":33.462423613736647},{"$f":"FQ141","v":34.774028841969887}]
[null,null,null,null,null,null,null,null,null,null,null,null,null,null,null,null,null,null,null,null,null,null,null,null,null,null,null,null,null,null,null,null,null,null,null,null,null,null,null,null,null,null,null,null,null,null,null,null,null,null,null,null,null,null,null,null,null,null,null,null,null,null,null,null,null,null,null,null,null,null,null,null,null,null,null,null,null,null,null,null,null,null,null,null,null,null,null,null,null,null,null,null,"Prevalence of physical activity (%)",{"$f":"FM217","v":2014},{"$f":"FQ217","v":29.312818441242584},{"$f":"FQ146","v":29.045988301695015},{"$f":"FQ158","v":29.177950174347405},{"$f":"FQ171","v":29.153931910014425},{"$f":"FQ186","v":30.03398942008355},{"$f":"FQ196","v":29.174991056822012},{"$f":"FQ205","v":29.438454389445333},{"$f":"FQ213","v":29.069355106041122}]
[null,null,null,null,null,null,null,null,null,null,null,null,null,null,null,null,null,null,null,null,null,null,null,null,null,null,null,null,null,null,null,null,null,null,null,null,null,null,null,null,null,null,null,null,null,null,null,null,null,null,null,null,null,null,null,null,null,null,null,null,null,null,null,null,null,null,null,null,null,null,null,null,null,null,null,null,null,null,null,null,null,null,null,null,null,null,null,null,null,null,null,null,"Prevalence of alcohol misuse (%)",{"$f":"FM289","v":2014},{"$f":"FQ289","v":26.563294730636795},{"$f":"FQ218","v":26.587898851681707},{"$f":"FQ230","v":26.623846731701335},{"$f":"FQ243","v":26.118502749782728},{"$f":"FQ258","v":28.170853178250926},{"$f":"FQ268","v":26.710798586051553},{"$f":"FQ277","v":25.572633279110963},{"$f":"FQ285","v":25.148621972806385}]
[]
[null,null,null,null,null,null,null,null,null,null,null,null,null,null,null,null,null,null,null,null,null,null,null,null,null,null,null,null,null,null,null,null,null,null,null,null,null,null,null,null,null,null,null,null,null,null,null,null,null,null,null,null,null,null,null,null,null,null,null,null,null,null,null,null,null,null,null,null,null,null,null,null,null,null,null,null,null,null,null,null,null,null,null,null,null,null,null,null,null,null,null,null,"Long-term condition prevalence"]
[null,null,null,null,null,null,null,null,null,null,null,null,null,null,null,null,null,null,null,null,null,null,null,null,null,null,null,null,null,null,null,null,null,null,null,null,null,null,null,null,null,null,null,null,null,null,null,null,null,null,null,null,null,null,null,null,null,null,null,null,null,null,null,null,null,null,null,null,null,null,null,null,null,null,null,null,null,null,null,null,null,null,null,null,null,null,null,null,null,null,null,null,"Indicator","Period","Wales","ABM","AB","BC","CV","CT","HD","Powys"]
[null,null,null,null,null,null,null,null,null,null,null,null,null,null,null,null,null,null,null,null,null,null,null,null,null,null,null,null,null,null,null,null,null,null,null,null,null,null,null,null,null,null,null,null,null,null,null,null,null,null,null,null,null,null,null,null,null,null,null,null,null,null,null,null,null,null,null,null,null,null,null,null,null,null,null,null,null,null,null,null,null,null,null,null,null,null,null,null,null,null,null,null,"Prevalence of coronary heart disease (%)",2018,{"$f":"CS572*100","v":3.656341980684656},{"$f":"CS565*100","v":3.7809080992538204},{"$f":"CS566*100","v":3.6731603669904014},{"$f":"CS567*100","v":3.8507679403410093},{"$f":"CS568*100","v":2.7345848663934471},{"$f":"CS569*100","v":3.7449877360365083},{"$f":"CS570*100","v":4.1053425307900691},{"$f":"CS571*100","v":4.0449244803993283}]
[null,null,null,null,null,null,null,null,null,null,null,null,null,null,null,null,null,null,null,null,null,null,null,null,null,null,null,null,null,null,null,null,null,null,null,null,null,null,null,null,null,null,null,null,null,null,null,null,null,null,null,null,null,null,null,null,null,null,null,null,null,null,null,null,null,null,null,null,null,null,null,null,null,null,null,null,null,null,null,null,null,null,null,null,null,null,null,null,null,null,null,null,"Prevalence of heart failure (%)",2018,{"$f":"CV572*100","v":1.0271972697200553},{"$f":"CV565*100","v":1.0489637202425173},{"$f":"CV566*100","v":0.98732466602082425},{"$f":"CV567*100","v":1.1042270199403692},{"$f":"CV568*100","v":0.84332044819339735},{"$f":"CV569*100","v":0.88502493509708557},{"$f":"CV570*100","v":1.1968203271579707},{"$f":"CV571*100","v":1.2385788258244044}]
[null,null,null,null,null,null,null,null,null,null,null,null,null,null,null,null,null,null,null,null,null,null,null,null,null,null,null,null,null,null,null,null,null,null,null,null,null,null,null,null,null,null,null,null,null,null,null,null,null,null,null,null,null,null,null,null,null,null,null,null,null,null,null,null,null,null,null,null,null,null,null,null,null,null,null,null,null,null,null,null,null,null,null,null,null,null,null,null,null,null,null,null,"Prevalence of stroke and TIA (%)",2018,{"$f":"CW572*100","v":2.0924904613196413},{"$f":"CW565*100","v":2.2869184856073264},{"$f":"CW566*100","v":2.0177959409624133},{"$f":"CW567*100","v":2.0866549660611957},{"$f":"CW568*100","v":1.6969205614636689},{"$f":"CW569*100","v":2.0400850822646479},{"$f":"CW570*100","v":2.3438789266700013},{"$f":"CW571*100","v":2.5495933559963855}]
[null,null,null,null,null,null,null,null,null,null,null,null,null,null,null,null,null,null,null,null,null,null,null,null,null,null,null,null,null,null,null,null,null,null,null,null,null,null,null,null,null,null,null,null,null,null,null,null,null,null,null,null,null,null,null,null,null,null,null,null,null,null,null,null,null,null,null,null,null,null,null,null,null,null,null,null,null,null,null,null,null,null,null,null,null,null,null,null,null,null,null,null,"Prevalence of diabetes (%)",2018,{"$f":"CU572*100","v":6.0251903480840783},{"$f":"CU565*100","v":6.2100681672398608},{"$f":"CU565*100","v":6.2100681672398608},{"$f":"CU567*100","v":5.9071141090975736},{"$f":"CU568*100","v":4.9443249460317586},{"$f":"CU569*100","v":6.363580100131272},{"$f":"CU570*100","v":6.3659467295627827},{"$f":"CU571*100","v":6.2725016853851994}]
[null,null,null,null,null,null,null,null,null,null,null,null,null,null,null,null,null,null,null,null,null,null,null,null,null,null,null,null,null,null,null,null,null,null,null,null,null,null,null,null,null,null,null,null,null,null,null,null,null,null,null,null,null,null,null,null,null,null,null,null,null,null,null,null,null,null,null,null,null,null,null,null,null,null,null,null,null,null,null,null,null,null,null,null,null,null,null,null,null,null,null,null,"Prevalence of chronic obstructive pulmonary disease (%)",2018,{"$f":"CR572*100","v":2.2876740350761007},{"$f":"CR565*100","v":2.2282098579758571},{"$f":"CR566*100","v":2.2110601854490097},{"$f":"CR567*100","v":2.6357375963009173},{"$f":"CR568*100","v":1.6346607031678826},{"$f":"CR569*100","v":2.7638706567165152},{"$f":"CR570*100","v":2.3377856538970287},{"$f":"CR571*100","v":2.3143566131646516}]
[null,null,null,null,null,null,null,null,null,null,null,null,null,null,null,null,null,null,null,null,null,null,null,null,null,null,null,null,null,null,null,null,null,null,null,null,null,null,null,null,null,null,null,null,null,null,null,null,null,null,null,null,null,null,null,null,null,null,null,null,null,null,null,null,null,null,null,null,null,null,null,null,null,null,null,null,null,null,null,null,null,null,null,null,null,null,null,null,null,null,null,null,"Prevalence of asthma (%)",2018,{"$f":"CQ572*100","v":7.0531303490186827},{"$f":"CQ565*100","v":7.4152258288969666},{"$f":"CQ566*100","v":6.9140405578123856},{"$f":"CQ567*100","v":7.2102514220464782},{"$f":"CQ568*100","v":6.6953592161076534},{"$f":"CQ569*100","v":7.0655413570816661},{"$f":"CQ570*100","v":6.9404915747809586},{"$f":"CQ571*100","v":7.0470616922701774}]
[null,null,null,null,null,null,null,null,null,null,null,null,null,null,null,null,null,null,null,null,null,null,null,null,null,null,null,null,null,null,null,null,null,null,null,null,null,null,null,null,null,null,null,null,null,null,null,null,null,null,null,null,null,null,null,null,null,null,null,null,null,null,null,null,null,null,null,null,null,null,null,null,null,null,null,null,null,null,null,null,null,null,null,null,null,null,null,null,null,null,null,null,"Prevalence of dementia (%)",2018,{"$f":"CT572*100","v":0.67758749760546544},{"$f":"CT565*100","v":0.70395993317363625},{"$f":"CT566*100","v":0.65175802079178102},{"$f":"CT567*100","v":0.73995756768377352},{"$f":"CT568*100","v":0.63152055642081451},{"$f":"CT569*100","v":0.54691088186529513},{"$f":"CT570*100","v":0.70275745981613547},{"$f":"CT571*100","v":0.75663037709597369}]
[null,null,null,null,null,null,null,null,null,null,null,null,null,null,null,null,null,null,null,null,null,null,null,null,null,null,null,null,null,null,null,null,null,null,null,null,null,null,null,null,null,null,null,null,null,null,null,null,null,null,null,null,null,null,null,null,null,null,null,null,null,null,null,null,null,null,null,null,null,null,null,null,null,null,null,null,null,null,null,null,null,null,null,null,null,null,null,null,null,null,null,null,"Clusters by HB"]
[null,null,null,null,null,null,null,null,null,null,null,null,null,null,null,null,null,null,null,null,null,null,null,null,null,null,null,null,null,null,null,null,null,null,null,null,null,null,null,null,null,null,null,null,null,null,null,null,null,null,null,null,null,null,null,null,null,null,null,null,null,null,null,null,null,null,null,null,null,null,null,null,null,null,null,null,null,null,null,null,null,null,null,null,null,null,null,null,null,null,null,null,"Behavioural risk factors",null,null,null,null,null,null,null,null,null,null,null,null,null,null,null,null,null,null,null,null,null,null,null,null,null,null,null,null,null,null,null,null,"North East Flintshire","Nort West Flintshire","South flintshire"]
[null,null,null,null,null,null,null,null,null,null,null,null,null,null,null,null,null,null,null,null,null,null,null,null,null,null,null,null,null,null,null,null,null,null,null,null,null,null,null,null,null,null,null,null,null,null,null,null,null,null,null,null,null,null,null,null,null,null,null,null,null,null,null,null,null,null,null,null,null,null,null,null,null,null,null,null,null,null,null,null,null,null,null,null,null,null,null,null,null,null,null,null,"Indicator","Period","ABM","Bridgend East Network","Bridgend North Network","Bridgend West Network","Afan","Neath","Upper Valleys","BayHealth","CityHealth","Cwmtawe","Llwchwr","Penderi","AB","Blaenau Gwent East","Blaenau Gwent West","Caerphilly East","Caerphilly North","Caerphilly South","Monmouthshire North","Monmouthshire South","Newport Central","Newport East","Newport West","Torfaen North","Torfaen South","BC","Anglesey","Conwy East","Conwy West","Central - South Denbighshire","North Denbighshire","Deeside Hawarden - Saltney","Holywell - Flint","Mold Buckley - Caergwle","Arfon","Dwyfor","Meirionnydd","South Wrexham","West - North Wrexham","Wrexham Town","CV","Cardiff East","Cardiff North","Cardiff South East","Cardiff South West","Cardiff West","City - Cardiff South","Central Vale","Eastern Vale","Western Vale","CT","North Merthyr Tydfil","South Merthyr Tydfil","North Cynon","North Rhondda","North Taf Ely","South Cynon","South Rhondda","South Taf Ely","HD","Amman-Gwendraeth","Llanelli","Taf - Teifi - Tywi","North Ceredigion","South Ceredigion","North Pembrokeshire","South Pembrokeshire","Powys","Mid Powys","North Powys","South Powys"]
[null,null,null,null,null,null,null,null,null,null,null,null,null,null,null,null,null,null,null,null,null,null,null,null,null,null,null,null,null,null,null,null,null,null,null,null,null,null,null,null,null,null,null,null,null,null,null,null,null,null,null,null,null,null,null,null,null,null,null,null,null,null,null,null,null,null,null,null,null,null,null,null,null,null,null,null,null,null,null,null,null,null,null,null,null,null,null,null,null,null,null,null,"Prevalence of smoking (%)","2013/14",20.758862475155336,{"$f":"FQ11","v":18.500973608757256},{"$f":"FQ12","v":24.482289758796121},{"$f":"FQ13","v":21.777551609482579},{"$f":"FQ9","v":23.835344970302685},{"$f":"FQ10","v":20.313909395521851},{"$f":"FQ8","v":21.219830136221102},{"$f":"FQ3","v":13.128152648828086},{"$f":"FQ4","v":28.793169572863736},{"$f":"FQ5","v":19.816865749996136},{"$f":"FQ6","v":16.948119911907956},{"$f":"FQ7","v":25.215076138382948},21.738213851376432,{"$f":"FQ18","v":25.868733083536071},{"$f":"FQ19","v":23.708879196402492},{"$f":"FQ16","v":19.21496916611423},{"$f":"FQ15","v":23.194506604876899},{"$f":"FQ17","v":22.856946379705402},{"$f":"FQ22","v":15.264880044480474},{"$f":"FQ23","v":16.971390855116308},{"$f":"FQ24","v":19.534201163800681},{"$f":"FQ25","v":25.370139145687904},{"$f":"FQ26","v":24.63291752076999},{"$f":"FQ20","v":22.583187362790117},{"$f":"FQ21","v":22.796164694997231},20.438051392454426,{"$f":"FQ28","v":21.700690670764068},{"$f":"FQ32","v":20.930142236526411},{"$f":"FQ33","v":19.094004392808237},{"$f":"FQ34","v":17.203689654301392},{"$f":"FQ35","v":24.260325507595343},{"$f":"FQ37","v":19.166522165652637},{"$f":"FQ38","v":21.234102864388589},{"$f":"FQ39","v":16.471780279349552},{"$f":"FQ29","v":19.760188158287502},{"$f":"FQ30","v":19.799728029463356},{"$f":"FQ31","v":20.06664280106116},{"$f":"FQ36","v":21.177662596069936},{"$f":"FQ40","v":20.778973280032062},{"$f":"FQ41","v":23.219182022652429},19.456008456153821,{"$f":"FQ44","v":24.914874579250775},{"$f":"FQ43","v":13.909932314311115},{"$f":"FQ45","v":22.191320215738777},{"$f":"FQ46","v":23.798820745875943},{"$f":"FQ47","v":15.132835612472123},{"$f":"FQ48","v":22.824009581921906},{"$f":"FQ49","v":23.233234210272084},{"$f":"FQ50","v":14.509987787975398},{"$f":"FQ51","v":14.240754747480125},22.094508323021696,{"$f":"FQ59","v":25.369941071901032},{"$f":"FQ60","v":21.103224636649351},{"$f":"FQ53","v":22.835939704781218},{"$f":"FQ54","v":23.526408409260078},{"$f":"FQ55","v":20.913323514393646},{"$f":"FQ56","v":25.452660722913055},{"$f":"FQ57","v":25.397773657221727},{"$f":"FQ58","v":16.474052867625328},18.948325244135766,{"$f":"FQ67","v":19.314855661043385},{"$f":"FQ68","v":20.71308109447196},{"$f":"FQ66","v":16.752941292566355},{"$f":"FQ62","v":16.775200881273815},{"$f":"FQ63","v":18.626384930995645},{"$f":"FQ64","v":20.30746229269776},{"$f":"FQ65","v":19.446424591818293},18.108636587743661,{"$f":"FQ71","v":18.148546954316462},{"$f":"FQ70","v":19.035198458905995},{"$f":"FQ72","v":16.772588848993777}]
[null,null,null,null,null,null,null,null,null,null,null,null,null,null,null,null,null,null,null,null,null,null,null,null,null,null,null,null,null,null,null,null,null,null,null,null,null,null,null,null,null,null,null,null,null,null,null,null,null,null,null,null,null,null,null,null,null,null,null,null,null,null,null,null,null,null,null,null,null,null,null,null,null,null,null,null,null,null,null,null,null,null,null,null,null,null,null,null,null,null,null,null,"Prevalence of healthy eating (%)",2014,32.508257985239489,{"$f":"FQ83","v":33.923833599418536},{"$f":"FQ84","v":30.947893351568752},{"$f":"FQ85","v":32.803264576864805},{"$f":"FQ81","v":30.385881756704386},{"$f":"FQ82","v":32.467866947418507},{"$f":"FQ80","v":32.626480300922587},{"$f":"FQ75","v":34.305867973329669},{"$f":"FQ76","v":30.875102465161198},{"$f":"FQ77","v":32.520762891791911},{"$f":"FQ78","v":34.022395662662078},{"$f":"FQ79","v":31.142685726973891},32.176633739327379,{"$f":"FQ90","v":29.743578162384242},{"$f":"FQ91","v":30.588733632961606},{"$f":"FQ88","v":32.879812780470282},{"$f":"FQ87","v":30.668489457257188},{"$f":"FQ89","v":32.218830347779047},{"$f":"FQ94","v":34.921549991325861},{"$f":"FQ95","v":35.021985240073342},{"$f":"FQ96","v":33.00440829761942},{"$f":"FQ97","v":31.242600221142425},{"$f":"FQ98","v":31.437376702717128},{"$f":"FQ92","v":31.999356663130946},{"$f":"FQ93","v":32.380874752967827},33.553247733877647,{"$f":"FQ100","v":33.245998451950413},{"$f":"FQ104","v":32.830093849617548},{"$f":"FQ105","v":34.270622926796051},{"$f":"FQ106","v":34.871606938106268},{"$f":"FQ107","v":32.008286319808903},{"$f":"FQ109","v":33.533358871207305},{"$f":"FQ110","v":32.685502245759068},{"$f":"FQ111","v":35.115046471880397},{"$f":"FQ101","v":33.305427466720019},{"$f":"FQ102","v":34.793741955430036},{"$f":"FQ103","v":34.778398712055484},{"$f":"FQ108","v":33.327441214373508},{"$f":"FQ112","v":33.573250325176851},{"$f":"FQ113","v":32.807540326796911},32.679921644749626,{"$f":"FQ116","v":30.749221982966997},{"$f":"FQ115","v":34.413080495575208},{"$f":"FQ117","v":30.842004886352807},{"$f":"FQ118","v":31.109449324739806},{"$f":"FQ119","v":34.238095667367155},{"$f":"FQ120","v":29.959267060570976},{"$f":"FQ121","v":32.133736001546062},{"$f":"FQ122","v":35.712835076355354},{"$f":"FQ123","v":35.586460014288093},31.330925123576808,{"$f":"FQ131","v":30.722045763971657},{"$f":"FQ132","v":31.434762422622107},{"$f":"FQ125","v":30.729207581991218},{"$f":"FQ126","v":29.959190849454799},{"$f":"FQ127","v":31.939586135256516},{"$f":"FQ128","v":30.083124314941244},{"$f":"FQ129","v":29.980089002802067},{"$f":"FQ130","v":33.952438604688794},33.462423613736647,{"$f":"FQ139","v":32.99380519698839},{"$f":"FQ140","v":32.126274299305535},{"$f":"FQ138","v":34.215128104888336},{"$f":"FQ134","v":33.655515328076952},{"$f":"FQ135","v":33.91304246234629},{"$f":"FQ136","v":33.671764004615326},{"$f":"FQ137","v":33.800415473928766},34.774028841969887,{"$f":"FQ143","v":35.003416009513238},{"$f":"FQ142","v":34.609976042235616},{"$f":"FQ144","v":34.863949455573817}]
[null,null,null,null,null,null,null,null,null,null,null,null,null,null,null,null,null,null,null,null,null,null,null,null,null,null,null,null,null,null,null,null,null,null,null,null,null,null,null,null,null,null,null,null,null,null,null,null,null,null,null,null,null,null,null,null,null,null,null,null,null,null,null,null,null,null,null,null,null,null,null,null,null,null,null,null,null,null,null,null,null,null,null,null,null,null,null,null,null,null,null,null,"Prevalence of physical activity (%)",2014,29.045988301695015,{"$f":"FQ155","v":29.39119036516955},{"$f":"FQ156","v":29.095849817583229},{"$f":"FQ157","v":28.393893703976747},{"$f":"FQ153","v":28.180262155741932},{"$f":"FQ154","v":28.505911772980845},{"$f":"FQ152","v":29.651684721191529},{"$f":"FQ147","v":28.997552108890247},{"$f":"FQ148","v":30.057627874218891},{"$f":"FQ149","v":28.990899233919354},{"$f":"FQ150","v":29.156677768248773},{"$f":"FQ151","v":29.050406904756485},29.177950174347405,{"$f":"FQ162","v":28.656122164777031},{"$f":"FQ163","v":28.887148940788975},{"$f":"FQ160","v":29.731239948834787},{"$f":"FQ159","v":29.032739164293165},{"$f":"FQ161","v":29.300807138455053},{"$f":"FQ166","v":28.640120014362893},{"$f":"FQ167","v":29.245734495505292},{"$f":"FQ168","v":29.238569665396653},{"$f":"FQ169","v":29.543462049375592},{"$f":"FQ170","v":29.209565080471528},{"$f":"FQ164","v":28.93891250409369},{"$f":"FQ165","v":29.494101209613593},29.153931910014425,{"$f":"FQ172","v":28.809719833443069},{"$f":"FQ176","v":27.767960364170762},{"$f":"FQ177","v":28.606282274926702},{"$f":"FQ178","v":28.843556594975905},{"$f":"FQ179","v":28.356840232817408},{"$f":"FQ181","v":29.5199120711954},{"$f":"FQ182","v":29.397862588148715},{"$f":"FQ183","v":28.912896280944633},{"$f":"FQ173","v":30.674626469552656},{"$f":"FQ174","v":28.953603291251433},{"$f":"FQ175","v":28.863280556980524},{"$f":"FQ180","v":29.645787893705634},{"$f":"FQ184","v":29.853928031353906},{"$f":"FQ185","v":29.86415494337389},30.03398942008355,{"$f":"FQ188","v":29.975588751496701},{"$f":"FQ187","v":29.850984123116454},{"$f":"FQ189","v":32.404416858456258},{"$f":"FQ190","v":30.290239527432277},{"$f":"FQ191","v":29.080114620970605},{"$f":"FQ192","v":31.712194663891385},{"$f":"FQ193","v":29.200666312520518},{"$f":"FQ194","v":28.464311580200309},{"$f":"FQ195","v":28.346894126705013},29.174991056822012,{"$f":"FQ203","v":29.250682804289674},{"$f":"FQ204","v":29.674457871680083},{"$f":"FQ197","v":28.739037507148524},{"$f":"FQ198","v":28.363512400242683},{"$f":"FQ199","v":30.249130933138936},{"$f":"FQ200","v":28.896529368219802},{"$f":"FQ201","v":28.784917278113532},{"$f":"FQ202","v":29.22058225777004},29.438454389445333,{"$f":"FQ211","v":29.11788129656291},{"$f":"FQ212","v":28.990036117988023},{"$f":"FQ210","v":29.508651264864444},{"$f":"FQ206","v":30.931124636498371},{"$f":"FQ207","v":29.393901452518328},{"$f":"FQ208","v":29.366343139285345},{"$f":"FQ209","v":29.00543267336143},29.069355106041122,{"$f":"FQ215","v":28.819809778290921},{"$f":"FQ214","v":29.389152349256243},{"$f":"FQ216","v":28.771870793973953}]
[null,null,null,null,null,null,null,null,null,null,null,null,null,null,null,null,null,null,null,null,null,null,null,null,null,null,null,null,null,null,null,null,null,null,null,null,null,null,null,null,null,null,null,null,null,null,null,null,null,null,null,null,null,null,null,null,null,null,null,null,null,null,null,null,null,null,null,null,null,null,null,null,null,null,null,null,null,null,null,null,null,null,null,null,null,null,null,null,null,null,null,null,"Prevalence of alcohol misuse (%)",2014,26.587898851681707,{"$f":"FQ227","v":27.354931666106957},{"$f":"FQ228","v":26.358361889507304},{"$f":"FQ229","v":25.515972863436708},{"$f":"FQ225","v":25.845674175976541},{"$f":"FQ226","v":26.124452974439976},{"$f":"FQ224","v":25.912005309105684},{"$f":"FQ219","v":27.021234258312838},{"$f":"FQ220","v":27.503016101196298},{"$f":"FQ221","v":26.653450268727607},{"$f":"FQ222","v":26.635825944768609},{"$f":"FQ223","v":26.448629630077029},26.623846731701335,{"$f":"FQ234","v":26.271643879073341},{"$f":"FQ235","v":25.992457694729371},{"$f":"FQ232","v":26.795202167784147},{"$f":"FQ231","v":26.478731393795108},{"$f":"FQ233","v":26.840485934391513},{"$f":"FQ238","v":25.520021391699245},{"$f":"FQ239","v":27.231474903540477},{"$f":"FQ240","v":27.26289073360827},{"$f":"FQ241","v":26.944559416102194},{"$f":"FQ242","v":27.169267136536739},{"$f":"FQ236","v":26.208186797867803},{"$f":"FQ237","v":26.593284209427431},26.118502749782728,{"$f":"FQ244","v":25.002091207921463},{"$f":"FQ248","v":24.962458790033267},{"$f":"FQ249","v":25.222811259766626},{"$f":"FQ250","v":26.116445763635344},{"$f":"FQ251","v":25.223928738842471},{"$f":"FQ253","v":27.448029902829308},{"$f":"FQ254","v":26.741850536787819},{"$f":"FQ255","v":26.704155701734777},{"$f":"FQ245","v":27.609182923871238},{"$f":"FQ246","v":24.420375311693572},{"$f":"FQ247","v":24.34561028861555},{"$f":"FQ252","v":26.550806987426252},{"$f":"FQ256","v":27.157038533542533},{"$f":"FQ257","v":27.18425095059192},28.170853178250926,{"$f":"FQ260","v":27.497310539364772},{"$f":"FQ259","v":28.453116479641},{"$f":"FQ261","v":29.762400187477461},{"$f":"FQ262","v":28.397037010461094},{"$f":"FQ263","v":27.723154246041489},{"$f":"FQ264","v":29.848825955754815},{"$f":"FQ265","v":27.168675098011981},{"$f":"FQ266","v":26.803146416742113},{"$f":"FQ267","v":26.987276588373003},26.710798586051553,{"$f":"FQ275","v":26.504379186679085},{"$f":"FQ276","v":26.831644723396451},{"$f":"FQ269","v":26.150590150413617},{"$f":"FQ270","v":25.81058808547715},{"$f":"FQ271","v":27.385351492206865},{"$f":"FQ272","v":26.397587894016176},{"$f":"FQ273","v":26.323452328598982},{"$f":"FQ274","v":27.599411056478878},25.572633279110963,{"$f":"FQ283","v":25.458998358151486},{"$f":"FQ284","v":25.741551498017223},{"$f":"FQ282","v":25.2678044650952},{"$f":"FQ278","v":27.708487557474225},{"$f":"FQ279","v":24.674532386458523},{"$f":"FQ280","v":25.346445359940446},{"$f":"FQ281","v":25.021416302161683},25.148621972806385,{"$f":"FQ287","v":24.191476962950819},{"$f":"FQ286","v":25.50145948588596},{"$f":"FQ288","v":25.242017641014968}]
[]
[null,null,null,null,null,null,null,null,null,null,null,null,null,null,null,null,null,null,null,null,null,null,null,null,null,null,null,null,null,null,null,null,null,null,null,null,null,null,null,null,null,null,null,null,null,null,null,null,null,null,null,null,null,null,null,null,null,null,null,null,null,null,null,null,null,null,null,null,null,null,null,null,null,null,null,null,null,null,null,null,null,null,null,null,null,null,null,null,null,null,null,null,"Long-term condition prevalence",null,null,null,null,null,null,null,null,null,null,null,null,null,null,null,null,null,null,null,null,null,null,null,null,null,null,null,null,null,null,null,null,"North east flint","North west flint","South flint"]
[null,null,null,null,null,null,null,null,null,null,null,null,null,null,null,null,null,null,null,null,null,null,null,null,null,null,null,null,null,null,null,null,null,null,null,null,null,null,null,null,null,null,null,null,null,null,null,null,null,null,null,null,null,null,null,null,null,null,null,null,null,null,null,null,null,null,null,null,null,null,null,null,null,null,null,null,null,null,null,null,null,null,null,null,null,null,null,null,null,null,null,null,"Indicator","Period","ABM","Bridgend East Network","Bridgend North Network","Bridgend West Network","Afan","Neath","Upper Valleys","BayHealth","CityHealth","Cwmtawe","Llwchwr","Penderi","AB","Blaenau Gwent East","Blaenau Gwent West","Caerphilly East","Caerphilly North","Caerphilly South","Monmouthshire North","Monmouthshire South","Newport Central","Newport East","Newport West","Torfaen North","Torfaen South","BC","Anglesey","Conwy East","Conwy West","Central - South Denbighshire","North Denbighshire","North East Flintshire","Nort West Flintshire","South flintshire","Arfon","Dwyfor","Meirionnydd","South Wrexham","West - North Wrexham","Wrexham Town","CV","Cardiff East","Cardiff North","Cardiff South East","Cardiff South West","Cardiff West","City - Cardiff South","Central Vale","Eastern Vale","Western Vale","CT","North Merthyr Tydfil","South Merthyr Tydfil","North Cynon","North Rhondda","North Taf Ely","South Cynon","South Rhondda","South Taf Ely","HD","Amman-Gwendraeth","Llanelli","Taf - Teifi - Tywi","North Ceredigion","South Ceredigion","North Pembrokeshire","South Pembrokeshire","Powys","Mid Powys","North Powys","South Powys"]
[null,null,null,null,null,null,null,null,null,null,null,null,null,null,null,null,null,null,null,null,null,null,null,null,null,null,null,null,null,null,null,null,null,null,null,null,null,null,null,null,null,null,null,null,null,null,null,null,null,null,null,null,null,null,null,null,null,null,null,null,null,null,null,null,null,null,null,null,null,null,null,null,null,null,null,null,null,null,null,null,null,null,null,null,null,null,null,null,null,null,null,null,"Prevalence of coronary heart disease (%)",2018,{"$f":"CR583","v":3.7809080992538204},{"$f":"$CS$27/$CP$27*100","v":3.7109047166116489},{"$f":"$CS$37/$CP$37*100","v":4.3365820708289107},{"$f":"$CS$42/$CP$42*100","v":4.9038044264429335},{"$f":"$CS$10/$CP$10*100","v":4.0318634646624778},{"$f":"$CS$77/$CP$77*100","v":3.7839082087966567},{"$f":"$CS$91/$CP$91*100","v":4.1273659555611824},{"$f":"$CS$20/$CP$20*100","v":3.1220283138904144},{"$f":"$CS$53/$CP$53*100","v":3.4435982404123795},{"$f":"$CS$60/$CP$60*100","v":3.6375537684682997},{"$f":"$CS$67/$CP$67*100","v":3.679576354886839},{"$f":"$CS$85/$CP$85*100","v":3.5458209033338566},{"$f":"CS583","v":3.6731603669904014},{"$f":"$CS$98/$CP$98*100","v":4.4076896432282648},{"$f":"$CS$106/$CP$106*100","v":3.9759255881816524},{"$f":"$CS$115/$CP$115*100","v":3.4448266977857931},{"$f":"$CS$127/$CP$127*100","v":3.9479204123217064},{"$f":"$CS$136/$CP$136*100","v":3.7033760351051028},{"$f":"$CS$146/$CP$146*100","v":3.9232781168265043},{"$f":"$CS$153/$CP$153*100","v":3.4569307348350629},{"$f":"$CS$170/$CP$170*100","v":3.2865252464893935},{"$f":"$CS$162/$CP$162*100","v":3.1550919901503471},{"$f":"$CS$177/$CP$177*100","v":3.1344547984993345},{"$f":"$CS$185/$CP$185*100","v":4.0747406523629452},{"$f":"$CS$194/$CP$194*100","v":3.8854003139717421},{"$f":"CT583","v":3.8507679403410093},{"$f":"$CS$207/$CP$207*100","v":4.1198444766333768},{"$f":"$CS$245/$CP$245*100","v":4.4842455649279422},{"$f":"$CS$259/$CP$259*100","v":4.1383734393090714},{"$f":"$CS$229/$CP$229*100","v":3.8750833095306101},{"$f":"$CS$290/$CP$290*100","v":4.6265642587565381},{"$f":"$CS$300/$CP$300*100","v":3.5828679038774167},{"$f":"$CS$309/$CP$309*100","v":3.7039855899738692},{"$f":"$CS$318/$CP$318*100","v":3.832002505088461},{"$f":"$CS$219/$CP$219*100","v":2.7846290809848364},{"$f":"$CS$266/$CP$266*100","v":4.0014448547118313},{"$f":"$CS$274/$CP$274*100","v":4.3088315087293738},{"$f":"$CS$328/$CP$328*100","v":3.7061982002207632},{"$f":"$CS$282/$CP$282*100","v":3.6606929510155317},{"$f":"$CS$238/$CP$238*100","v":3.399602769046838},{"$f":"CU583","v":2.7345848663934471},{"$f":"$CS$334/$CP$334*100","v":2.8981229054159652},{"$f":"$CS$346/$CP$346*100","v":2.6334400722943636},{"$f":"$CS$356/$CP$356*100","v":1.7931356525799673},{"$f":"$CS$369/$CP$369*100","v":2.6442090011772166},{"$f":"$CS$379/$CP$379*100","v":3.0666171765911945},{"$f":"$CS$397/$CP$397*100","v":1.9844715104308783},{"$f":"$CS$388/$CP$388*100","v":3.3239038189533243},{"$f":"$CS$404/$CP$404*100","v":3.3569624378717506},{"$f":"$CS$409/$CP$409*100","v":3.3834321196725941},{"$f":"CV583","v":3.7449877360365083},{"$f":"$CS$423/$CP$423*100","v":4.1704077525619994},{"$f":"$CS$450/$CP$450*100","v":3.1874605512308016},{"$f":"$CS$417/$CP$417*100","v":3.952122299505985},{"$f":"$CS$430/$CP$430*100","v":4.4083330990469234},{"$f":"$CS$436/$CP$436*100","v":3.3940944462210854},{"$f":"$CS$443/$CP$443*100","v":3.9299647920829766},{"$f":"$CS$460/$CP$460*100","v":3.8580333576683326},{"$f":"$CS$466/$CP$466*100","v":3.2647179909427746},{"$f":"CW583","v":4.1053425307900691},{"$f":"$CS$476/$CP$476*100","v":4.6267932171613184},{"$f":"$CS$485/$CP$485*100","v":4.3599167371365386},{"$f":"$CS$531/$CP$531*100","v":4.0174732569738243},{"$f":"$CS$494/$CP$494*100","v":3.3656112087064574},{"$f":"$CS$514/$CP$514*100","v":4.2252059684147181},{"$f":"$CS$505/$CP$505*100","v":3.771274641851353},{"$f":"$CS$521/$CP$521*100","v":4.268955229378073},{"$f":"CX583","v":4.0449244803993283},{"$f":"$CS$538/$CP$538*100","v":4.489353044893531},{"$f":"$CS$547/$CP$547*100","v":3.9436444499735637},{"$f":"$CS$553/$CP$553*100","v":3.9004294854939081}]
[null,null,null,null,null,null,null,null,null,null,null,null,null,null,null,null,null,null,null,null,null,null,null,null,null,null,null,null,null,null,null,null,null,null,null,null,null,null,null,null,null,null,null,null,null,null,null,null,null,null,null,null,null,null,null,null,null,null,null,null,null,null,null,null,null,null,null,null,null,null,null,null,null,null,null,null,null,null,null,null,null,null,null,null,null,null,null,null,null,null,null,null,"Prevalence of heart failure (%)",2018,{"$f":"CR584","v":1.0489637202425173},{"$f":"$CV$27/$CP$27*100","v":1.0071056901471493},{"$f":"$CV$37/$CP$37*100","v":1.2949917977419667},{"$f":"$CV$42/$CP$42*100","v":1.4523361782149573},{"$f":"$CV$10/$CP$10*100","v":0.91206231773432767},{"$f":"$CV$77/$CP$77*100","v":0.88533182236702324},{"$f":"$CV$91/$CP$91*100","v":1.1964297018421219},{"$f":"$CV$20/$CP$20*100","v":0.92683122831924791},{"$f":"$CV$53/$CP$53*100","v":0.90498614421642165},{"$f":"$CV$60/$CP$60*100","v":1.1665419861604638},{"$f":"$CV$67/$CP$67*100","v":1.1074453106940971},{"$f":"$CV$85/$CP$85*100","v":0.96038101219448369},{"$f":"CS584","v":0.98732466602082425},{"$f":"$CV$98/$CP$98*100","v":1.3624292806835239},{"$f":"$CV$106/$CP$106*100","v":1.3053333680727444},{"$f":"$CV$115/$CP$115*100","v":0.70927360077595747},{"$f":"$CV$127/$CP$127*100","v":0.93941028407047833},{"$f":"$CV$136/$CP$136*100","v":0.8068511571944228},{"$f":"$CV$146/$CP$146*100","v":1.6413327773776583},{"$f":"$CV$153/$CP$153*100","v":0.97654602210410868},{"$f":"$CV$170/$CP$170*100","v":0.84184256313819228},{"$f":"$CV$162/$CP$162*100","v":0.70068667293948073},{"$f":"$CV$177/$CP$177*100","v":0.77453709306547258},{"$f":"$CV$185/$CP$185*100","v":1.1223231077227964},{"$f":"$CV$194/$CP$194*100","v":0.96589918018489451},{"$f":"CT584","v":1.1042270199403692},{"$f":"$CV$207/$CP$207*100","v":1.2289395441030724},{"$f":"$CV$245/$CP$245*100","v":1.0723607065854674},{"$f":"$CV$259/$CP$259*100","v":1.3612041180336076},{"$f":"$CV$229/$CP$229*100","v":1.2805864990954965},{"$f":"$CV$290/$CP$290*100","v":1.1189829835132095},{"$f":"$CV$300/$CP$300*100","v":0.95607526275974186},{"$f":"$CV$309/$CP$309*100","v":0.93107035035644525},{"$f":"$CV$318/$CP$318*100","v":1.0744480976984498},{"$f":"$CV$219/$CP$219*100","v":0.79977816372101174},{"$f":"$CV$266/$CP$266*100","v":1.288328784716648},{"$f":"$CV$274/$CP$274*100","v":1.4809613481855033},{"$f":"$CV$328/$CP$328*100","v":1.0551720267160578},{"$f":"$CV$282/$CP$282*100","v":1.0609318996415771},{"$f":"$CV$238/$CP$238*100","v":1.0123604388823542},{"$f":"CU584","v":0.84332044819339735},{"$f":"$CV$334/$CP$334*100","v":0.81786452273871746},{"$f":"$CV$346/$CP$346*100","v":0.91055537001748421},{"$f":"$CV$356/$CP$356*100","v":0.56035489143123984},{"$f":"$CV$369/$CP$369*100","v":0.77877388390835822},{"$f":"$CV$379/$CP$379*100","v":0.97035897979744423},{"$f":"$CV$397/$CP$397*100","v":0.55565202292064586},{"$f":"$CV$388/$CP$388*100","v":0.90051862329090049},{"$f":"$CV$404/$CP$404*100","v":0.98047203889296297},{"$f":"$CV$409/$CP$409*100","v":1.2948066610217328},{"$f":"CV584","v":0.88502493509708557},{"$f":"$CV$423/$CP$423*100","v":1.0093191739682343},{"$f":"$CV$450/$CP$450*100","v":0.7574163686092994},{"$f":"$CV$417/$CP$417*100","v":0.95362154988079728},{"$f":"$CV$430/$CP$430*100","v":0.94464280693862634},{"$f":"$CV$436/$CP$436*100","v":0.86344739366805245},{"$f":"$CV$443/$CP$443*100","v":1.3845275478161576},{"$f":"$CV$460/$CP$460*100","v":0.80118305535276402},{"$f":"$CV$466/$CP$466*100","v":0.67311650885137919},{"$f":"CW584","v":1.1968203271579707},{"$f":"$CV$476/$CP$476*100","v":1.2370478247041297},{"$f":"$CV$485/$CP$485*100","v":1.0505431600858648},{"$f":"$CV$531/$CP$531*100","v":1.1625907199119458},{"$f":"$CV$494/$CP$494*100","v":1.6196066669523117},{"$f":"$CV$514/$CP$514*100","v":1.0646024861477164},{"$f":"$CV$505/$CP$505*100","v":1.0790375903024367},{"$f":"$CV$521/$CP$521*100","v":1.2504834343173907},{"$f":"CX584","v":1.2385788258244044},{"$f":"$CV$538/$CP$538*100","v":1.6512952665129526},{"$f":"$CV$547/$CP$547*100","v":0.99835163126302373},{"$f":"$CV$553/$CP$553*100","v":1.3103690069243579}]
[null,null,null,null,null,null,null,null,null,null,null,null,null,null,null,null,null,null,null,null,null,null,null,null,null,null,null,null,null,null,null,null,null,null,null,null,null,null,null,null,null,null,null,null,null,null,null,null,null,null,null,null,null,null,null,null,null,null,null,null,null,null,null,null,null,null,null,null,null,null,null,null,null,null,null,null,null,null,null,null,null,null,null,null,null,null,null,null,null,null,null,null,"Prevalence of stroke and TIA (%)",2018,2.2869184856073264,{"$f":"$CW$27/$CP$27*100","v":2.4772002461813907},{"$f":"$CW$37/$CP$37*100","v":2.4876966129499181},{"$f":"$CW$42/$CP$42*100","v":3.2344857514827137},{"$f":"$CW$10/$CP$10*100","v":2.1548940167929067},{"$f":"$CW$77/$CP$77*100","v":2.2876974289963878},{"$f":"$CW$91/$CP$91*100","v":2.3232259289738559},{"$f":"$CW$20/$CP$20*100","v":1.9809008478094907},{"$f":"$CW$53/$CP$53*100","v":2.0967773191481114},{"$f":"$CW$60/$CP$60*100","v":2.1507387319992519},{"$f":"$CW$67/$CP$67*100","v":2.1497467795826593},{"$f":"$CW$85/$CP$85*100","v":2.1248757000052336},2.0177959409624133,{"$f":"$CW$98/$CP$98*100","v":2.1648770349844129},{"$f":"$CW$106/$CP$106*100","v":2.1364737760871262},{"$f":"$CW$115/$CP$115*100","v":1.712562326659897},{"$f":"$CW$127/$CP$127*100","v":2.0136641495864795},{"$f":"$CW$136/$CP$136*100","v":2.0012031990940615},{"$f":"$CW$146/$CP$146*100","v":2.6268905651794854},{"$f":"$CW$153/$CP$153*100","v":2.1492449168986756},{"$f":"$CW$170/$CP$170*100","v":1.8541626390621977},{"$f":"$CW$162/$CP$162*100","v":1.6035715000700685},{"$f":"$CW$177/$CP$177*100","v":1.8475936907499293},{"$f":"$CW$185/$CP$185*100","v":2.1738690825261373},{"$f":"$CW$194/$CP$194*100","v":2.1062271062271063},2.0866549660611957,{"$f":"$CW$207/$CP$207*100","v":2.4990470381947092},{"$f":"$CW$245/$CP$245*100","v":2.3319589968604606},{"$f":"$CW$259/$CP$259*100","v":2.4658134368057074},{"$f":"$CW$229/$CP$229*100","v":2.1993716081119681},{"$f":"$CW$290/$CP$290*100","v":2.1187843474806329},{"$f":"$CW$300/$CP$300*100","v":1.7705097458513737},{"$f":"$CW$309/$CP$309*100","v":1.6312758454473959},{"$f":"$CW$318/$CP$318*100","v":2.2056521058399876},{"$f":"$CW$219/$CP$219*100","v":1.6024752258497643},{"$f":"$CW$266/$CP$266*100","v":2.3880237598330392},{"$f":"$CW$274/$CP$274*100","v":2.4927388209760299},{"$f":"$CW$328/$CP$328*100","v":1.9569325176329724},{"$f":"$CW$282/$CP$282*100","v":1.8494623655913978},{"$f":"$CW$238/$CP$238*100","v":1.9013093195009545},1.6969205614636689,{"$f":"$CW$334/$CP$334*100","v":1.5627984510930906},{"$f":"$CW$346/$CP$346*100","v":1.6953814117046149},{"$f":"$CW$356/$CP$356*100","v":1.1284924896879136},{"$f":"$CW$369/$CP$369*100","v":1.5756587883727247},{"$f":"$CW$379/$CP$379*100","v":1.9725330081128374},{"$f":"$CW$397/$CP$397*100","v":1.1361099397216778},{"$f":"$CW$388/$CP$388*100","v":2.0163444915920161},{"$f":"$CW$404/$CP$404*100","v":2.1592112767864418},{"$f":"$CW$409/$CP$409*100","v":2.4767146486028793},2.0400850822646479,{"$f":"$CW$423/$CP$423*100","v":2.2601318926282548},{"$f":"$CW$450/$CP$450*100","v":1.7076933866330037},{"$f":"$CW$417/$CP$417*100","v":1.892496374763438},{"$f":"$CW$430/$CP$430*100","v":2.3897213866006917},{"$f":"$CW$436/$CP$436*100","v":2.01684255409871},{"$f":"$CW$443/$CP$443*100","v":1.998287182415073},{"$f":"$CW$460/$CP$460*100","v":2.2088691712996762},{"$f":"$CW$466/$CP$466*100","v":1.8114450391107453},2.3438789266700013,{"$f":"$CW$476/$CP$476*100","v":2.2196555014312258},{"$f":"$CW$485/$CP$485*100","v":2.3824237299160869},{"$f":"$CW$531/$CP$531*100","v":2.5693942833556909},{"$f":"$CW$494/$CP$494*100","v":1.8145593213076825},{"$f":"$CW$514/$CP$514*100","v":2.3948367817046092},{"$f":"$CW$505/$CP$505*100","v":2.3080690584057795},{"$f":"$CW$521/$CP$521*100","v":2.6482992320300558},2.5495933559963855,{"$f":"$CW$538/$CP$538*100","v":2.8482300284823006},{"$f":"$CW$547/$CP$547*100","v":2.3559232419991911},{"$f":"$CW$553/$CP$553*100","v":2.6295030239284776}]
[null,null,null,null,null,null,null,null,null,null,null,null,null,null,null,null,null,null,null,null,null,null,null,null,null,null,null,null,null,null,null,null,null,null,null,null,null,null,null,null,null,null,null,null,null,null,null,null,null,null,null,null,null,null,null,null,null,null,null,null,null,null,null,null,null,null,null,null,null,null,null,null,null,null,null,null,null,null,null,null,null,null,null,null,null,null,null,null,null,null,null,null,"Prevalence of diabetes (%)",2018,6.2100681672398608,{"$f":"$CU$27/$CP$27*100","v":6.0971856990992004},{"$f":"$CU$37/$CP$37*100","v":7.127279745247515},{"$f":"$CU$42/$CP$42*100","v":6.5412990018805157},{"$f":"$CU$10/$CP$10*100","v":7.4569901943514765},{"$f":"$CU$77/$CP$77*100","v":6.5549968128054399},{"$f":"$CU$91/$CP$91*100","v":6.8304108375007919},{"$f":"$CU$20/$CP$20*100","v":4.276549294831443},{"$f":"$CU$53/$CP$53*100","v":6.1992519814739451},{"$f":"$CU$60/$CP$60*100","v":6.255844398728259},{"$f":"$CU$67/$CP$67*100","v":5.8251203059659158},{"$f":"$CU$85/$CP$85*100","v":6.4086460459517447},6.2100681672398608,{"$f":"$CU$98/$CP$98*100","v":7.6665512065581334},{"$f":"$CU$106/$CP$106*100","v":7.1233162241734194},{"$f":"$CU$115/$CP$115*100","v":6.1409757058636316},{"$f":"$CU$127/$CP$127*100","v":7.056814095649047},{"$f":"$CU$136/$CP$136*100","v":6.1186212753910398},{"$f":"$CU$146/$CP$146*100","v":6.3037792350555328},{"$f":"$CU$153/$CP$153*100","v":5.7601451109423776},{"$f":"$CU$170/$CP$170*100","v":5.7189054289179069},{"$f":"$CU$162/$CP$162*100","v":6.2301055033933253},{"$f":"$CU$177/$CP$177*100","v":6.3758118520311431},{"$f":"$CU$185/$CP$185*100","v":7.1707346666397038},{"$f":"$CU$194/$CP$194*100","v":6.3884528170242456},5.9071141090975736,{"$f":"$CU$207/$CP$207*100","v":6.3947548982236802},{"$f":"$CU$245/$CP$245*100","v":6.7046185270643415},{"$f":"$CU$259/$CP$259*100","v":5.8124980442469569},{"$f":"$CU$229/$CP$229*100","v":5.724554889079311},{"$f":"$CU$290/$CP$290*100","v":6.864530225782957},{"$f":"$CU$300/$CP$300*100","v":5.4901897664536685},{"$f":"$CU$309/$CP$309*100","v":6.1521678463607072},{"$f":"$CU$318/$CP$318*100","v":5.7597463597933301},{"$f":"$CU$219/$CP$219*100","v":4.6016433398035579},{"$f":"$CU$266/$CP$266*100","v":6.0683897896933692},{"$f":"$CU$274/$CP$274*100","v":6.8941304139669981},{"$f":"$CU$328/$CP$328*100","v":5.8109296364894956},{"$f":"$CU$282/$CP$282*100","v":5.5961768219832742},{"$f":"$CU$238/$CP$238*100","v":5.4860294259434239},4.9443249460317586,{"$f":"$CU$334/$CP$334*100","v":5.4298563961867714},{"$f":"$CU$346/$CP$346*100","v":4.2836375066302574},{"$f":"$CU$356/$CP$356*100","v":4.0983734142734844},{"$f":"$CU$369/$CP$369*100","v":5.3427510640224583},{"$f":"$CU$379/$CP$379*100","v":4.6449970836205532},{"$f":"$CU$397/$CP$397*100","v":5.4126460447002209},{"$f":"$CU$388/$CP$388*100","v":5.7095709570957096},{"$f":"$CU$404/$CP$404*100","v":5.2255628887259293},{"$f":"$CU$409/$CP$409*100","v":5.1651143099068584},6.363580100131272,{"$f":"$CU$423/$CP$423*100","v":6.4305396451902528},{"$f":"$CU$450/$CP$450*100","v":5.978680131846553},{"$f":"$CU$417/$CP$417*100","v":6.6188217366726478},{"$f":"$CU$430/$CP$430*100","v":6.8795861564845797},{"$f":"$CU$436/$CP$436*100","v":6.2061613900437056},{"$f":"$CU$443/$CP$443*100","v":7.0844038443239121},{"$f":"$CU$460/$CP$460*100","v":6.6790213586417329},{"$f":"$CU$466/$CP$466*100","v":5.4466858789625361},6.3659467295627827,{"$f":"$CU$476/$CP$476*100","v":6.9803645859488768},{"$f":"$CU$485/$CP$485*100","v":6.7342093280426711},{"$f":"$CU$531/$CP$531*100","v":6.2446255976335427},{"$f":"$CU$494/$CP$494*100","v":5.2037362354856675},{"$f":"$CU$514/$CP$514*100","v":6.4104426505073988},{"$f":"$CU$505/$CP$505*100","v":6.2614791233010889},{"$f":"$CU$521/$CP$521*100","v":6.488148953019393},6.2725016853851994,{"$f":"$CU$538/$CP$538*100","v":6.7475925674759258},{"$f":"$CU$547/$CP$547*100","v":6.0429819923490804},{"$f":"$CU$553/$CP$553*100","v":6.2888947322289415}]
[null,null,null,null,null,null,null,null,null,null,null,null,null,null,null,null,null,null,null,null,null,null,null,null,null,null,null,null,null,null,null,null,null,null,null,null,null,null,null,null,null,null,null,null,null,null,null,null,null,null,null,null,null,null,null,null,null,null,null,null,null,null,null,null,null,null,null,null,null,null,null,null,null,null,null,null,null,null,null,null,null,null,null,null,null,null,null,null,null,null,null,null,"Prevalence of chronic obstructive pulmonary disease (%)",2018,2.2282098579758571,{"$f":"$CR$27/$CP$27*100","v":1.9037095059587086},{"$f":"$CR$37/$CP$37*100","v":3.124577824954164},{"$f":"$CR$42/$CP$42*100","v":2.4475625632865614},{"$f":"$CR$10/$CP$10*100","v":2.763587967040495},{"$f":"$CR$77/$CP$77*100","v":2.2434308378780368},{"$f":"$CR$91/$CP$91*100","v":2.6492371969361272},{"$f":"$CR$20/$CP$20*100","v":1.303188995888191},{"$f":"$CR$53/$CP$53*100","v":2.5405499680251147},{"$f":"$CR$60/$CP$60*100","v":1.994108846081915},{"$f":"$CR$67/$CP$67*100","v":1.8114190850442347},{"$f":"$CR$85/$CP$85*100","v":2.5017009472968024},2.2110601854490097,{"$f":"$CR$98/$CP$98*100","v":3.394527190855559},{"$f":"$CR$106/$CP$106*100","v":2.764388629790782},{"$f":"$CR$115/$CP$115*100","v":2.0611369595198763},{"$f":"$CR$127/$CP$127*100","v":2.5695193575452477},{"$f":"$CR$136/$CP$136*100","v":2.096751362446033},{"$f":"$CR$146/$CP$146*100","v":1.95405784466093},{"$f":"$CR$153/$CP$153*100","v":1.5671138108495737},{"$f":"$CR$170/$CP$170*100","v":1.7469551310216349},{"$f":"$CR$162/$CP$162*100","v":1.763728453884807},{"$f":"$CR$177/$CP$177*100","v":2.2267941425632336},{"$f":"$CR$185/$CP$185*100","v":2.5944874724474731},{"$f":"$CR$194/$CP$194*100","v":2.2828362114076399},2.6357375963009173,{"$f":"$CR$207/$CP$207*100","v":2.9564687047343141},{"$f":"$CR$245/$CP$245*100","v":2.6723909672050534},{"$f":"$CR$259/$CP$259*100","v":2.483024063585443},{"$f":"$CR$229/$CP$229*100","v":2.7420736932305059},{"$f":"$CR$290/$CP$290*100","v":3.6400052969608687},{"$f":"$CR$300/$CP$300*100","v":2.2083085193709864},{"$f":"$CR$309/$CP$309*100","v":2.6460664180429765},{"$f":"$CR$318/$CP$318*100","v":2.1508532957570066},{"$f":"$CR$219/$CP$219*100","v":2.4825230957836513},{"$f":"$CR$266/$CP$266*100","v":2.5204687750842831},{"$f":"$CR$274/$CP$274*100","v":3.0800165969806259},{"$f":"$CR$328/$CP$328*100","v":2.4115545078670184},{"$f":"$CR$282/$CP$282*100","v":2.6905615292712066},{"$f":"$CR$238/$CP$238*100","v":2.2831138278794421},1.6346607031678826,{"$f":"$CR$334/$CP$334*100","v":2.1740262897428329},{"$f":"$CR$346/$CP$346*100","v":1.1462978606368976},{"$f":"$CR$356/$CP$356*100","v":1.4833839209276987},{"$f":"$CR$369/$CP$369*100","v":2.073711853662954},{"$f":"$CR$379/$CP$379*100","v":1.5147498099934602},{"$f":"$CR$397/$CP$397*100","v":1.1311487609456006},{"$f":"$CR$388/$CP$388*100","v":2.2269369794122267},{"$f":"$CR$404/$CP$404*100","v":1.4883619870175724},{"$f":"$CR$409/$CP$409*100","v":1.4253457521874118},2.7638706567165152,{"$f":"$CR$423/$CP$423*100","v":3.2911235641970342},{"$f":"$CR$450/$CP$450*100","v":2.4405638544077424},{"$f":"$CR$417/$CP$417*100","v":2.9591761496301028},{"$f":"$CR$430/$CP$430*100","v":3.4552559813320589},{"$f":"$CR$436/$CP$436*100","v":2.4304445155100733},{"$f":"$CR$443/$CP$443*100","v":3.9965743648301459},{"$f":"$CR$460/$CP$460*100","v":2.8546826154508529},{"$f":"$CR$466/$CP$466*100","v":1.6220666941128035},2.3377856538970287,{"$f":"$CR$476/$CP$476*100","v":2.651534173655401},{"$f":"$CR$485/$CP$485*100","v":2.2604566447667991},{"$f":"$CR$531/$CP$531*100","v":1.7731228287414442},{"$f":"$CR$494/$CP$494*100","v":1.8809717640001715},{"$f":"$CR$514/$CP$514*100","v":2.3574823085064436},{"$f":"$CR$505/$CP$505*100","v":2.8575364270846086},{"$f":"$CR$521/$CP$521*100","v":2.4346673051069079},2.3143566131646516,{"$f":"$CR$538/$CP$538*100","v":2.8889190288891902},{"$f":"$CR$547/$CP$547*100","v":2.0635710509128229},{"$f":"$CR$553/$CP$553*100","v":2.2964326408975371}]
[null,null,null,null,null,null,null,null,null,null,null,null,null,null,null,null,null,null,null,null,null,null,null,null,null,null,null,null,null,null,null,null,null,null,null,null,null,null,null,null,null,null,null,null,null,null,null,null,null,null,null,null,null,null,null,null,null,null,null,null,null,null,null,null,null,null,null,null,null,null,null,null,null,null,null,null,null,null,null,null,null,null,null,null,null,null,null,null,null,null,null,null,"Prevalence of asthma (%)",2018,7.4152258288969666,{"$f":"$CQ$27/$CP$27*100","v":7.3350864432384046},{"$f":"$CQ$37/$CP$37*100","v":7.9687349223197907},{"$f":"$CQ$42/$CP$42*100","v":8.1296108780558374},{"$f":"$CQ$10/$CP$10*100","v":7.7368719785489208},{"$f":"$CQ$77/$CP$77*100","v":8.0582902471846456},{"$f":"$CQ$91/$CP$91*100","v":7.3400012660631768},{"$f":"$CQ$20/$CP$20*100","v":6.4771037863466514},{"$f":"$CQ$53/$CP$53*100","v":7.1701257678817116},{"$f":"$CQ$60/$CP$60*100","v":6.8426220310454466},{"$f":"$CQ$67/$CP$67*100","v":7.9517515287788676},{"$f":"$CQ$85/$CP$85*100","v":6.9869681268644994},6.9140405578123856,{"$f":"$CQ$98/$CP$98*100","v":6.9420390255166842},{"$f":"$CQ$106/$CP$106*100","v":7.5089236861989015},{"$f":"$CQ$115/$CP$115*100","v":6.3849779488656164},{"$f":"$CQ$127/$CP$127*100","v":6.9714131607335483},{"$f":"$CQ$136/$CP$136*100","v":6.5910538608535632},{"$f":"$CQ$146/$CP$146*100","v":6.9121716386793528},{"$f":"$CQ$153/$CP$153*100","v":7.2660929722433139},{"$f":"$CQ$170/$CP$170*100","v":6.9790330234274762},{"$f":"$CQ$162/$CP$162*100","v":6.3462192949090115},{"$f":"$CQ$177/$CP$177*100","v":6.5109524385816284},{"$f":"$CQ$185/$CP$185*100","v":7.9088390527997419},{"$f":"$CQ$194/$CP$194*100","v":7.0098552241409386},7.2102514220464782,{"$f":"$CQ$207/$CP$207*100","v":8.1375314477395744},{"$f":"$CQ$245/$CP$245*100","v":7.5197639671672283},{"$f":"$CQ$259/$CP$259*100","v":6.7606471195669178},{"$f":"$CQ$229/$CP$229*100","v":7.1693801770922594},{"$f":"$CQ$290/$CP$290*100","v":7.586241144143548},{"$f":"$CQ$300/$CP$300*100","v":6.7295465885496304},{"$f":"$CQ$309/$CP$309*100","v":6.9716112337316378},{"$f":"$CQ$318/$CP$318*100","v":7.2236574291529676},{"$f":"$CQ$219/$CP$219*100","v":6.7660065091434491},{"$f":"$CQ$266/$CP$266*100","v":7.3968534275164544},{"$f":"$CQ$274/$CP$274*100","v":7.0441415850116496},{"$f":"$CQ$328/$CP$328*100","v":7.5489700847505201},{"$f":"$CQ$282/$CP$282*100","v":7.4838709677419359},{"$f":"$CQ$238/$CP$238*100","v":6.643012784666114},6.6953592161076534,{"$f":"$CQ$334/$CP$334*100","v":6.7599715223393346},{"$f":"$CQ$346/$CP$346*100","v":7.1439797261458065},{"$f":"$CQ$356/$CP$356*100","v":5.2906840999299556},{"$f":"$CQ$369/$CP$369*100","v":7.3364725768963748},{"$f":"$CQ$379/$CP$379*100","v":7.1477809003658725},{"$f":"$CQ$397/$CP$397*100","v":5.7028750031007363},{"$f":"$CQ$388/$CP$388*100","v":6.9275498978469265},{"$f":"$CQ$404/$CP$404*100","v":6.789972568510823},{"$f":"$CQ$409/$CP$409*100","v":6.5022579734688115},7.0655413570816661,{"$f":"$CQ$423/$CP$423*100","v":6.7927799622279323},{"$f":"$CQ$450/$CP$450*100","v":6.9254505926081773},{"$f":"$CQ$417/$CP$417*100","v":6.4688966991913883},{"$f":"$CQ$430/$CP$430*100","v":6.9358148949928307},{"$f":"$CQ$436/$CP$436*100","v":7.0013857797676158},{"$f":"$CQ$443/$CP$443*100","v":7.3793890950613754},{"$f":"$CQ$460/$CP$460*100","v":7.4820763370210219},{"$f":"$CQ$466/$CP$466*100","v":7.391930835734871},6.9404915747809586,{"$f":"$CQ$476/$CP$476*100","v":7.7369892365121613},{"$f":"$CQ$485/$CP$485*100","v":7.6042412021075911},{"$f":"$CQ$531/$CP$531*100","v":6.6659787431637598},{"$f":"$CQ$494/$CP$494*100","v":6.1956382021509064},{"$f":"$CQ$514/$CP$514*100","v":6.9043517961275862},{"$f":"$CQ$505/$CP$505*100","v":6.2369903269254321},{"$f":"$CQ$521/$CP$521*100","v":7.1253614247039536},7.0470616922701774,{"$f":"$CQ$538/$CP$538*100","v":6.7408110674081101},{"$f":"$CQ$547/$CP$547*100","v":7.0739899853823909},{"$f":"$CQ$553/$CP$553*100","v":7.2070295380839688}]
[null,null,null,null,null,null,null,null,null,null,null,null,null,null,null,null,null,null,null,null,null,null,null,null,null,null,null,null,null,null,null,null,null,null,null,null,null,null,null,null,null,null,null,null,null,null,null,null,null,null,null,null,null,null,null,null,null,null,null,null,null,null,null,null,null,null,null,null,null,null,null,null,null,null,null,null,null,null,null,null,null,null,null,null,null,null,null,null,null,null,null,null,"Prevalence of dementia (%)",2018,0.70395993317363625,{"$f":"$CT$27/$CP$27*100","v":0.63223857214793266},{"$f":"$CT$37/$CP$37*100","v":0.62723149667084821},{"$f":"$CT$42/$CP$42*100","v":0.88528858672067123},{"$f":"$CT$10/$CP$10*100","v":0.8279020609476837},{"$f":"$CT$77/$CP$77*100","v":0.65691621219633123},{"$f":"$CT$91/$CP$91*100","v":0.87041843387985063},{"$f":"$CT$20/$CP$20*100","v":0.74869748067985487},{"$f":"$CT$53/$CP$53*100","v":0.68213088386334131},{"$f":"$CT$60/$CP$60*100","v":0.62184402468674016},{"$f":"$CT$67/$CP$67*100","v":0.74390064513417531},{"$f":"$CT$85/$CP$85*100","v":0.52860208300622813},0.65175802079178102,{"$f":"$CT$98/$CP$98*100","v":0.63214409421544859},{"$f":"$CT$106/$CP$106*100","v":0.68784033766707486},{"$f":"$CT$115/$CP$115*100","v":0.49255111164997045},{"$f":"$CT$127/$CP$127*100","v":0.58881697231211794},{"$f":"$CT$136/$CP$136*100","v":0.61752424092292446},{"$f":"$CT$146/$CP$146*100","v":0.89647852621204649},{"$f":"$CT$153/$CP$153*100","v":0.80570319750274189},{"$f":"$CT$170/$CP$170*100","v":0.67312255048419123},{"$f":"$CT$162/$CP$162*100","v":0.4104021941502673},{"$f":"$CT$177/$CP$177*100","v":0.78865625882447854},{"$f":"$CT$185/$CP$185*100","v":0.62890538108430571},{"$f":"$CT$194/$CP$194*100","v":0.67155067155067161},0.73995756768377352,{"$f":"$CT$207/$CP$207*100","v":0.75474574979034836},{"$f":"$CT$245/$CP$245*100","v":1.1328819457578394},{"$f":"$CT$259/$CP$259*100","v":0.84801451951059237},{"$f":"$CT$229/$CP$229*100","v":0.72122250785489861},{"$f":"$CT$290/$CP$290*100","v":1.0792557769979474},{"$f":"$CT$300/$CP$300*100","v":0.40077902428817458},{"$f":"$CT$309/$CP$309*100","v":0.63678108430372682},{"$f":"$CT$318/$CP$318*100","v":0.61844371379364327},{"$f":"$CT$219/$CP$219*100","v":0.64799544651848395},{"$f":"$CT$266/$CP$266*100","v":0.81072403275004012},{"$f":"$CT$274/$CP$274*100","v":0.6543040439181641},{"$f":"$CT$328/$CP$328*100","v":0.60429178125760041},{"$f":"$CT$282/$CP$282*100","v":0.59737156511350065},{"$f":"$CT$238/$CP$238*100","v":0.80603173991014088},{"$f":"CU589","v":0.63152055642081451},{"$f":"$CT$334/$CP$334*100","v":0.7067321884387644},{"$f":"$CT$346/$CP$346*100","v":0.67186609826532817},{"$f":"$CT$356/$CP$356*100","v":0.3953615067320414},{"$f":"$CT$369/$CP$369*100","v":0.60068218177427635},{"$f":"$CT$379/$CP$379*100","v":0.62216094879544692},{"$f":"$CT$397/$CP$397*100","v":0.54076848659241439},{"$f":"$CT$388/$CP$388*100","v":0.60506050605060502},{"$f":"$CT$404/$CP$404*100","v":0.94244819250930234},{"$f":"$CT$409/$CP$409*100","v":0.74442562799887102},0.54691088186529513,{"$f":"$CT$423/$CP$423*100","v":0.73376884733273484},{"$f":"$CT$450/$CP$450*100","v":0.45935900133249175},{"$f":"$CT$417/$CP$417*100","v":0.49647307493794091},{"$f":"$CT$430/$CP$430*100","v":0.35705248952739743},{"$f":"$CT$436/$CP$436*100","v":0.68009807056816973},{"$f":"$CT$443/$CP$443*100","v":0.51860310210295935},{"$f":"$CT$460/$CP$460*100","v":0.57093652309017051},{"$f":"$CT$466/$CP$466*100","v":0.51255660765747224},0.70275745981613547,{"$f":"$CT$476/$CP$476*100","v":0.69803645859488772},{"$f":"$CT$485/$CP$485*100","v":0.77245820594548886},{"$f":"$CT$531/$CP$531*100","v":0.6724452240910811},{"$f":"$CT$494/$CP$494*100","v":0.6448433951754573},{"$f":"$CT$514/$CP$514*100","v":0.67238051756697859},{"$f":"$CT$505/$CP$505*100","v":0.62293375780580384},{"$f":"$CT$521/$CP$521*100","v":0.83426950772574082},0.75663037709597369,{"$f":"$CT$538/$CP$538*100","v":0.85107825851078267},{"$f":"$CT$547/$CP$547*100","v":0.54427269617143037},{"$f":"$CT$553/$CP$553*100","v":0.99482864405294069}]

{"sheet":"HB_LTCM","index":14,"n_rows":24,"n_cols":12,"rows_kept":24,"cut":false,"hidden":false,"merged":[[8,1,8,6]]}
[]
[]
[]
[]
[]
[]
[null,null,null,null,null,null,null,null,"Key:"]
[null,"ⓘ You are currently viewing the category page for long-term condition management",null,null,null,null,null,null,null,"Primary care data exists, but no PHW access"]
[null,"ⓘ You are currently viewing this information by health board",null,null,null,null,null,null,null,"No statistical comparison made, or no data available"]
[]
[]
[]
[]
[null,null,"Compare your position to others, and use the checkbox to select indicators of interest for review."]
[null,null,"After selecting indicators, scroll right to click 'Review this indicator'; this will open a web page."]
[null,null,"When complete, click the 'Next' button at the top, for the next category page."]
[]
[]
[null,null,"Long-term condition management"]
[null,null,"Indicator","Period","Wales","Abertawe BM","Aneurin Bevan","Betsi Cadwaladr","Cardiff and Vale","Cwm Taf","Hywel Dda","Powys"]
[null,null,"Management of cardiovascular disease"]
[null,null,"Management of endocrine disease"]
[null,null,"Management of respiratory disease"]
[null,null,"Management of dementia"]

{"sheet":"LA_LTCM","index":15,"n_rows":24,"n_cols":27,"rows_kept":24,"cut":false,"hidden":false,"merged":[[8,1,8,6]]}
[]
[]
[]
[]
[]
[]
[null,null,null,null,null,null,null,null,"Key:"]
[null,"ⓘ You are currently viewing the category page for long-term condition management",null,null,null,null,null,null,null,"Primary care data exists, but no PHW access"]
[null,"ⓘ You are currently viewing this information by local authority",null,null,null,null,null,null,null,"No statistical comparison made, or no data available"]
[]
[]
[]
[]
[null,null,"Compare your position to others, and use the checkbox to select indicators of interest for review."]
[null,null,"After selecting indicators, scroll right to click 'Review this indicator'; this will open a web page."]
[null,null,"When complete, click the 'Next' button at the top, for the next category page."]
[]
[]
[null,null,"Long-term condition management"]
[null,null,"Indicator","Period","Wales","Bridgend","Neath Port Talbot","Swansea","Blaenau Gwent","Caerphilly","Monmouthshire","Newport","Torfaen","Anglesey","Conwy","Denbighshire","Flintshire","Gwynedd","Wrexham","Cardiff","Vale of Glamorgan","Merthyr Tydfil","Rhondda Cynon Taf","Carmarthenshire","Ceredigion","Pembrokeshire","Powys"]
[null,null,"Management of cardiovascular disease"]
[null,null,"Management of endocrine disease"]
[null,null,"Management of respiratory disease"]
[null,null,"Management of dementia"]

{"sheet":"RPB_LTCM","index":16,"n_rows":24,"n_cols":32,"rows_kept":24,"cut":false,"hidden":false,"merged":[[8,1,8,4]]}
[]
[]
[]
[]
[]
[]
[null,null,null,null,null,null,null,"Key:"]
[null,"ⓘ You are currently viewing the category page for long-term condition management",null,null,null,null,null,null,"Primary care data exists, but no PHW access"]
[null,"ⓘ You are currently viewing this information by regional partnership board",null,null,null,null,null,null,"No statistical comparison made, or no data available"]
[]
[]
[]
[]
[null,null,"Compare your position to others, and use the checkbox to select indicators of interest for review."]
[null,null,"After selecting indicators, scroll right to click 'Review this indicator'; this will open a web page."]
[null,null,"When complete, click the 'Next' button at the top, for the next category page."]
[]
[]
[null,null,"Long-term condition management"]
[null,null,"Indicator","Period","Abertawe BM","Bridgend","Neath Port Talbot","Swansea","Aneurin Bevan","Blaenau Gwent","Caerphilly","Monmouthshire","Newport","Torfaen","Betsi Cadwaladr","Anglesey","Conwy","Denbighshire","Flintshire","Gwynedd","Wrexham","Cardiff & Vale","Cardiff","Vale of Glamorgan","Cwm Taf","Merthyr Tydfil","Rhondda Cynon Taf","Hywel Dda","Carmarthenshire","Ceredigion","Pembrokeshire","Powys"]
[null,null,"Management of cardiovascular disease"]
[null,null,"Management of endocrine disease"]
[null,null,"Management of respiratory disease"]
[null,null,"Management of dementia"]

{"sheet":"CHB_LTCM","index":17,"n_rows":25,"n_cols":79,"rows_kept":25,"cut":false,"hidden":false,"merged":[[7,1,7,5],[8,1,8,5]]}
[]
[]
[]
[]
[]
[]
[null,null,null,null,null,null,null,"Key:"]
[null,"ⓘ You are currently viewing the category page for long-term condition management",null,null,null,null,null,null,"Cluster similar to health board average"]
[null,"ⓘ You are currently viewing this information by clusters, by health board",null,null,null,null,null,null,"Cluster position lower than health board average"]
[null,null,null,null,null,null,null,null,"Cluster position higher than health board average"]
[null,null,null,null,null,null,null,null,"Primary care data exists, but no PHW access"]
[null,null,null,null,null,null,null,null,"No statistical comparison made, or no data available"]
[]
[null,null,"Compare your position to others, and use the checkbox to select indicators of interest for review."]
[null,null,"After selecting indicators, scroll right to click 'Review this indicator'; this will open a web page."]
[null,null,"When complete, click the 'Next' button at the top, for the next category page."]
[]
[]
[null,null,"Long-term condition management"]
[null,null,"Indicator","Period","Abertawe BM","Bridgend East Network","Bridgend North Network","Bridgend West Network","Afan","Neath","Upper Valleys","BayHealth","CityHealth","Cwmtawe","Llwchwr","Penderi","Aneurin Bevan","Blaenau Gwent East","Blaenau Gwent West","Caerphilly East","Caerphilly North","Caerphilly South","Monmouthshire North","Monmouthshire South","Newport Central","Newport East","Newport West","Torfaen North","Torfaen South","Betsi Cadwaladr","Anglesey","Conwy East","Conwy West","Central - South Denbighshire","North Denbighshire","North East Flintshire","Nort West Flintshire","South flintshire","Arfon","Dwyfor","Meirionnydd","South Wrexham","West - North Wrexham","Wrexham Town","Cardiff & Vale","Cardiff East","Cardiff North","Cardiff South East","Cardiff South West","Cardiff West","City - Cardiff South","Central Vale","Eastern Vale","Western Vale","Cwm Taf","North Merthyr Tydfil","South Merthyr Tydfil","North Cynon","North Rhondda","North Taf Ely","South Cynon","South Rhondda","South Taf Ely","Hywel Dda","Amman-Gwendraeth","Llanelli","Taf - Teifi - Tywi","North Ceredigion","South Ceredigion","North Pembrokeshire","South Pembrokeshire","Powys","Mid Powys","North Powys","South Powys"]
[null,null,"Management of cardiovascular disease"]
[null,null,"Management of endocrine disease"]
[null,null,"Management of respiratory disease"]
[null,null,"Management of dementia"]
[null,null,null,null,null,null,null,null,null,null,null,null,null,null,null,null,null,null,null,null,null,null,null,null,null,null,null,null,null,null,null,null,null,null,null,null,null,null,null,null,null,null,null,null,null,null,null,null,null,null,null,null,null,null,null,null,null,null,null,null,null,null,null,null,null,null,null,null,null,null,null,null,null,null,null,null,null,null," "]

{"sheet":"CLA_LTCM","index":18,"n_rows":25,"n_cols":94,"rows_kept":25,"cut":false,"hidden":false,"merged":[[7,1,7,5],[8,1,8,5]]}
[]
[]
[]
[]
[]
[]
[null,null,null,null,null,null,null,"Key:"]
[null,"ⓘ You are currently viewing the category page for long-term condition management",null,null,null,null,null,null,"Primary care data exists, but no PHW access"]
[null,"ⓘ You are currently viewing this information by clusters, by local authority (PSB)",null,null,null,null,null,null,"No statistical comparison made, or no data available"]
[]
[]
[]
[]
[null,null,"Compare your position to others, and use the checkbox to select indicators of interest for review."]
[null,null,"After selecting indicators, scroll right to click 'Review this indicator'; this will open a web page."]
[null,null,"When complete, click the 'Next' button at the top, for the next category page."]
[]
[]
[null,null,"Long-term condition management"]
[null,null,"Indicator","Period","Bridgend","Bridgend East Network","Bridgend North Network","Bridgend West Network","Neath Port Talbot","Afan","Neath","Upper Valleys","Swansea","BayHealth","CityHealth","Cwmtawe","Llwchwr","Penderi","Blaenau Gwent","Blaenau Gwent East","Blaenau Gwent West","Caerphilly","Caerphilly East","Caerphilly North","Caerphilly South","Monmouthshire","Monmouthshire North","Monmouthshire South","Newport","Newport Central","Newport East","Newport West","Torfaen","Torfaen North","Torfaen South","Anglesey LA","Anglesey Cluster","Conwy","Conwy East","Conwy West","Denbighshire","Central - South Denbighshire","North Denbighshire","Flintshire","North East Flintshire","Nort West Flintshire","South flintshire","Gwynedd","Arfon","Dwyfor","Meirionnydd","Wrexham","South Wrexham","West - North Wrexham","Wrexham Town","Cardiff","Cardiff East","Cardiff North","Cardiff South East","Cardiff South West","Cardiff West","City - Cardiff South","Vale of Glamorgan","Central Vale","Eastern Vale","Western Vale","Merthyr Tydfil","North Merthyr Tydfil","South Merthyr Tydfil","Rhondda Cynon Taf","North Cynon","North Rhondda","North Taf Ely","South Cynon","South Rhondda","South Taf Ely","Carmarthenshire","Amman-Gwendraeth","Llanelli","Taf - Teifi - Tywi","Ceredigion","North Ceredigion","South Ceredigion","Pembrokeshire","North Pembrokeshire","South Pembrokeshire","Powys","Mid Powys","North Powys","South Powys"]
[null,null,"Management of cardiovascular disease"]
[null,null,"Management of endocrine disease"]
[null,null,"Management of respiratory disease"]
[null,null,"Management of dementia"]
[null,null,null,null,null,null,null,null,null,null,null,null,null,null,null,null,null,null,null,null,null,null,null,null,null,null,null,null,null,null,null,null,null,null,null,null,null,null,null,null,null,null,null,null,null,null,null,null,null,null,null,null,null,null,null,null,null,null,null,null,null,null,null,null,null,null,null,null,null,null,null,null,null,null,null,null,null,null,null,null,null,null,null,null,null,null,null,null,null,null,null,null,null," "]

{"sheet":"HB_C&S","index":19,"n_rows":52,"n_cols":16,"rows_kept":52,"cut":false,"hidden":false,"merged":[[7,1,7,3],[8,1,8,3]]}
[]
[]
[]
[]
[]
[]
[null,null,null,null,null,"Key:"]
[null,"ⓘ You are currently viewing the category page for cancer and screening",null,null,null,null,"Primary care data exists, but no PHW access"]
[null,"ⓘ You are currently viewing this information by health board",null,null,null,null,"No statistical comparison made, or no data available"]
[]
[]
[]
[]
[null,null,"Compare your position to others, and use the checkbox to select indicators of interest for review."]
[null,null,"After selecting indicators, scroll right to click 'Review this indicator'; this will open a web page."]
[null,null,"When complete, click the 'Next' button at the top, for the next category page."]
[]
[]
[null,null,"Screening uptake"]
[null,null,"Indicator","Period","Wales","Abertawe BM","Aneurin Bevan","Betsi Cadwaladr","Cardiff and Vale","Cwm Taf","Hywel Dda","Powys"]
[null,null,"Uptake of bowel screening (%)","2017-2018",55.666075604190659,56.169557007357881,55.770880449192859,55.624175560618781,54.577157802964258,54.792488189591225,56.465648854961835,56.19740884199279]
[null,null,"Uptake of breast screening (%)","2017-2018",72.818370622108944,73.140407288317249,72.47939847339839,72.726124550665503,69.904687527732918,73.580840723483149,74.259611035730444,76.161128093876343]
[null,null,"Uptake of cervical screening (%)","2017-2018",76.108512943884776,75.13636292186051,77.454905655149489,76.40307375036825,74.861422620954826,76.415094339622641,74.172117626983677,78.240068628744879]
[null,null,"Cancer incidence"]
[null,null,"Indicator","Period","Wales","Abertawe BM","Aneurin Bevan","Betsi Cadwaladr","Cardiff and Vale","Cwm Taf","Hywel Dda","Powys"]
[null,null,"Incidence of bowel cancer in persons (crude rate per 100,000)",2015,72.900000000000006,71.2,68.599999999999994,80.3,52.2,76.2,86.4,89]
[null,null,"Incidence of breast cancer in persons (crude rate per 100,000)",2015,90.4,92.9,78.7,104.4,74.5,86.3,93.9,116.1]
[null,null,"Incidence of cervical cancer (crude rate per 100,000)",2015,9.5,10.199999999999999,8.1,10.5,7.7,12.6,10.3,4.5]
[null,null,"Incidence of bowel cancer in persons, 2015 (%)","Stage 1",13.9,12.2,11.5,15.1,17.3,15,13.7,12.9,null,null,null," "]
[null,null,null,"Stage 2",22,21.3,22.6,24.3,20.9,22.2,18.8,22.2]
[null,null,null,"Stage 3",30.3,33.1,32,25,29.1,29.7,35.700000000000003,29.7]
[null,null,null,"Stage 4",19.5,18.100000000000001,20.9,18.8,21.7,21,19.100000000000001,15.4]
[null,null,null,"Unknown stage",14.4,15.3,13.1,16.899999999999999,11,12.1,12.7,19.899999999999999]
[null,null,"Incidence of breast cancer in females, 2015 (%)","Stage 1",34.299999999999997,30.6,34.200000000000003,38.200000000000003,32.4,34,35.299999999999997,31.6]
[null,null,null,"Stage 2",34,34,37,28.7,35.799999999999997,37.799999999999997,35.700000000000003,32.299999999999997]
[null,null,null,"Stage 3",9.8000000000000007,10.5,10.9,7.6,10.3,10.4,10.7,9.6]
[null,null,null,"Stage 4",3.6,3.7,4.0999999999999996,3,3.1,3.9,4.5,3.7]
[null,null,null,"Unknown stage",17.899999999999999,20.9,13.6,22.2,18.100000000000001,13.5,13.2,22.5]
[null,null,"Cancer prevalence"]
[null,null,"Indicator","Alive at","Wales","Abertawe BM","Aneurin Bevan","Betsi Cadwaladr","Cardiff and Vale","Cwm Taf","Hywel Dda","Powys"]
[null,null,"Prevalence of bowel cancer in males, by survival (%)","Up to 1 year",12.7,12.4,13.7,12,11,13.2,14.1,12.1]
[null,null,null,"> 1 to 5 years",36.799999999999997,35.9,35.9,38.4,37,37.200000000000003,35.4,37.200000000000003]
[null,null,null,"> 5 to 10 years",27.5,28,27.5,25.9,27.1,29.8,27.1,31.4]
[null,null,null,"> 10 to 21 years",23.1,23.7,22.9,23.7,24.9,19.899999999999999,23.3,19.3]
[null,null,"Prevalence of bowel cancer in females, by survival (%)","Up to 1 year",12.3,12.2,11.3,12.5,13,13.5,12.2,12]
[null,null,null,"> 1 to 5 years",33.700000000000003,33.799999999999997,34,32.799999999999997,31.6,34.6,35.299999999999997,34.799999999999997]
[null,null,null,"> 5 to 10 years",27.3,27.2,29,29.5,26.9,26.2,23.8,24.2]
[null,null,null,"> 10 to 21 years",26.7,26.7,25.7,25.1,28.5,25.7,28.7,29]
[null,null,"Prevalence of breast cancer in females, by survival (%)","Up to 1 year",8.8000000000000007,9,8.1,9.4,8.5,9.1,8.1999999999999993,9.6]
[null,null,null,"> 1 to 5 years",29.5,28.8,29,29.7,30.5,29,31,27.6]
[null,null,null,"> 5 to 10 years",27.5,28,28.2,27.2,26.5,27.5,27.1,27.6]
[null,null,null,"> 10 to 21 years",34.200000000000003,34.200000000000003,34.6,33.700000000000003,34.5,34.4,33.799999999999997,35.299999999999997]

{"sheet":"Screening data","index":20,"n_rows":501,"n_cols":88,"rows_kept":501,"cut":false,"hidden":true,"merged":[]}
["Data type","Local Health Board","LA/Cluster","Period","Uptake % / rate per 100,000"]
["Bowel screening","Abertawe Bro Morgannwg UHB",null,"2017-18",56.169557007357881]
["Bowel screening","Aneurin Bevan UHB",null,"2017-18",55.770880449192859]
["Bowel screening","Betsi Cadwaladr UHB",null,"2017-18",55.624175560618781]
["Bowel screening","Cardiff and Vale UHB",null,"2017-18",54.577157802964258]
["Bowel screening","Cwm Taf UHB",null,"2017-18",54.792488189591225]
["Bowel screening","Hywel Dda UHB",null,"2017-18",56.465648854961835]
["Bowel screening","Powys Teaching HB",null,"2017-18",56.19740884199279]
["Bowel screening","Abertawe Bro Morgannwg UHB","Bridgend                 ","2017-18",57.680076323739861]
["Bowel screening","Abertawe Bro Morgannwg UHB","Neath Port Talbot        ","2017-18",56.20010643959553]
["Bowel screening","Abertawe Bro Morgannwg UHB","Swansea                  ","2017-18",55.215809654901193]
["Bowel screening","Aneurin Bevan UHB","Blaenau Gwent            ","2017-18",52.006578947368418]
["Bowel screening","Aneurin Bevan UHB","Caerphilly               ","2017-18",56.683277613070082]
["Bowel screening","Aneurin Bevan UHB","Monmouthshire            ","2017-18",60.975609756097562]
["Bowel screening","Aneurin Bevan UHB","Newport                  ","2017-18",53.160202940923554]
["Bowel screening","Aneurin Bevan UHB","Torfaen                  ","2017-18",54.465806765636401]
["Bowel screening","Betsi Cadwaladr UHB","Conwy                    ","2017-18",55.733398998604613]
["Bowel screening","Betsi Cadwaladr UHB","Denbighshire             ","2017-18",54.928131416837779]
["Bowel screening","Betsi Cadwaladr UHB","Flintshire               ","2017-18",56.65072433631385]
["Bowel screening","Betsi Cadwaladr UHB","Gwynedd                  ","2017-18",57.291760265971782]
["Bowel screening","Betsi Cadwaladr UHB","Isle of Anglesey         ","2017-18",57.477138246369023]
["Bowel screening","Betsi Cadwaladr UHB","Wrexham                  ","2017-18",52.08951428329236]
["Bowel screening","Cardiff and Vale UHB","Cardiff                  ","2017-18",52.542876549499063]
["Bowel screening","Cardiff and Vale UHB","The Vale of Glamorgan    ","2017-18",58.570119156736943]
["Bowel screening","Cwm Taf UHB","Merthyr Tydfil           ","2017-18",51.340771188099431]
["Bowel screening","Cwm Taf UHB","Rhondda Cynon Taf        ","2017-18",55.652555598907526]
["Bowel screening","Hywel Dda UHB","Carmarthenshire          ","2017-18",56.527526355020761]
["Bowel screening","Hywel Dda UHB","Ceredigion               ","2017-18",55.875425281339965]
["Bowel screening","Hywel Dda UHB","Pembrokeshire            ","2017-18",56.725691208449824]
["Bowel screening","Powys Teaching HB","Powys                    ","2017-18",56.19740884199279]
["Bowel screening","Abertawe Bro Morgannwg","Afan","2017-18",55.414438502673804]
["Bowel screening","Abertawe Bro Morgannwg","BayHealth","2017-18",59.442193829853537]
["Bowel screening","Abertawe Bro Morgannwg","Bridgend East Network","2017-18",58.768626166693963]
["Bowel screening","Abertawe Bro Morgannwg","Bridgend North Network","2017-18",55.487249544626593]
["Bowel screening","Abertawe Bro Morgannwg","Bridgend West Network","2017-18",60.202561811140896]
["Bowel screening","Abertawe Bro Morgannwg","CityHealth","2017-18",47.492380160709338]
["Bowel screening","Abertawe Bro Morgannwg","Cwmtawe","2017-18",56.099585062240664]
["Bowel screening","Abertawe Bro Morgannwg","Llwchwr","2017-18",57.5708688637935]
["Bowel screening","Abertawe Bro Morgannwg","Neath","2017-18",57.203065134099617]
["Bowel screening","Abertawe Bro Morgannwg","Penderi","2017-18",51.697034655234006]
["Bowel screening","Abertawe Bro Morgannwg","Upper Valleys","2017-18",55.830388692579504]
["Bowel screening","Aneurin Bevan","Blaenau Gwent East","2017-18",50.103305785123965]
["Bowel screening","Aneurin Bevan","Blaenau Gwent West","2017-18",53.803393797542419]
["Bowel screening","Aneurin Bevan","Caerphilly East","2017-18",55.541651769753308]
["Bowel screening","Aneurin Bevan","Caerphilly North","2017-18",55.488850771869636]
["Bowel screening","Aneurin Bevan","Caerphilly South","2017-18",59.238796807857582]
["Bowel screening","Aneurin Bevan","Monmouthshire North","2017-18",61.467359907567875]
["Bowel screening","Aneurin Bevan","Monmouthshire South","2017-18",60.088749673714439]
["Bowel screening","Aneurin Bevan","Newport East","2017-18",50.497949619214999]
["Bowel screening","Aneurin Bevan","Newport North","2017-18",57.945492662473796]
["Bowel screening","Aneurin Bevan","Newport West","2017-18",48.952323109626477]
["Bowel screening","Aneurin Bevan","Torfaen North","2017-18",55.581287633163498]
["Bowel screening","Aneurin Bevan","Torfaen South","2017-18",53.365023767825868]
["Bowel screening","Betsi Cadwaladr","Anglesey","2017-18",57.049922217508133]
["Bowel screening","Betsi Cadwaladr","Arfon","2017-18",57.063658956222518]
["Bowel screening","Betsi Cadwaladr","Central & South Denbighshire","2017-18",56.952730610371724]
["Bowel screening","Betsi Cadwaladr","Central Wrexham","2017-18",50.506798516687269]
["Bowel screening","Betsi Cadwaladr","Conwy East","2017-18",54.701465856274581]
["Bowel screening","Betsi Cadwaladr","Conwy West","2017-18",56.959118052365639]
["Bowel screening","Betsi Cadwaladr","Dwyfor","2017-18",58.917315535780503]
["Bowel screening","Betsi Cadwaladr","Meirionnydd","2017-18",57.36782902137233]
["Bowel screening","Betsi Cadwaladr","North & West Wrexham","2017-18",53.112840466926073]
["Bowel screening","Betsi Cadwaladr","North Denbighshire","2017-18",52.767527675276746]
["Bowel screening","Betsi Cadwaladr","North East Flintshire","2017-18",55.102431552747468]
["Bowel screening","Betsi Cadwaladr","North West Flintshire","2017-18",54.336381269049596]
["Bowel screening","Betsi Cadwaladr","South Flintshire","2017-18",60.281124497991968]
["Bowel screening","Betsi Cadwaladr","South Wrexham","2017-18",53.319357092941999]
["Bowel screening","Cardiff and Vale","Cardiff East","2017-18",49.123724823437094]
["Bowel screening","Cardiff and Vale","Cardiff North","2017-18",59.964339596763125]
["Bowel screening","Cardiff and Vale","Cardiff South East","2017-18",42.87867370007536]
["Bowel screening","Cardiff and Vale","Cardiff South West","2017-18",47.645904855321234]
["Bowel screening","Cardiff and Vale","Cardiff West","2017-18",58.79818594104308]
["Bowel screening","Cardiff and Vale","Central Vale","2017-18",53.800383877159305]
["Bowel screening","Cardiff and Vale","City & Cardiff South","2017-18",39.624853458382184]
["Bowel screening","Cardiff and Vale","Eastern Vale","2017-18",60.942562592047132]
["Bowel screening","Cardiff and Vale","Western Vale","2017-18",62.235757792905765]
["Bowel screening","Cwm Taf","North Cynon","2017-18",55.164774300747709]
["Bowel screening","Cwm Taf","North Merthyr Tydfil","2017-18",47.868362004487658]
["Bowel screening","Cwm Taf","North Rhondda","2017-18",54.413191076624635]
["Bowel screening","Cwm Taf","North Taf Ely","2017-18",56.140837260881618]
["Bowel screening","Cwm Taf","South Cynon","2017-18",54.04624277456648]
["Bowel screening","Cwm Taf","South Merthyr Tydfil","2017-18",54.580152671755719]
["Bowel screening","Cwm Taf","South Rhondda","2017-18",54.186413902053708]
["Bowel screening","Cwm Taf","South Taf Ely","2017-18",60.482725982016092]
["Bowel screening","Hywel Dda","Amman/Gwendraeth","2017-18",56.539735099337754]
["Bowel screening","Hywel Dda","Llanelli","2017-18",55.380719840839213]
["Bowel screening","Hywel Dda","North Ceredigion","2017-18",56.669159810521066]
["Bowel screening","Hywel Dda","North Pembrokeshire","2017-18",56.256651968982816]
["Bowel screening","Hywel Dda","South Ceredigion","2017-18",55.285412262156456]
["Bowel screening","Hywel Dda","South Pembrokeshire","2017-18",57.009027422926252]
["Bowel screening","Hywel Dda","Taf / Tywi","2017-18",57.415010674987684]
["Bowel screening","Powys","Mid Powys","2017-18",54.924681344148318]
["Bowel screening","Powys","North Powys","2017-18",55.783832067887452]
["Bowel screening","Powys","South Powys","2017-18",58.276001618777819]
["Bowel screening","WALES TOTAL*",null,"2017-18",55.666075604190659]
["Breast screening","Abertawe Bro Morgannwg University",null,"2017-18",73.140407288317249]
["Breast screening","Aneurin Bevan University",null,"2017-18",72.47939847339839]
["Breast screening","Betsi Cadwaladr University",null,"2017-18",72.726124550665503]
["Breast screening","Cardiff & Vale University",null,"2017-18",69.904687527732918]
["Breast screening","Cwm Taf University",null,"2017-18",73.580840723483149]
["Breast screening","Hywel Dda University",null,"2017-18",74.259611035730444]
["Breast screening","Powys Teaching",null,"2017-18",76.161128093876343]
["Breast screening","Abertawe Bro Morgannwg University","Bridgend","2017-18",74.629418472063861]
["Breast screening","Abertawe Bro Morgannwg University","Neath Port Talbot","2017-18",73.255017647368703]
["Breast screening","Abertawe Bro Morgannwg University","Swansea","2017-18",72.02110606465402]
["Breast screening","Aneurin Bevan University","Blaenau Gwent","2017-18",72.136415465947962]
["Breast screening","Aneurin Bevan University","Caerphilly","2017-18",72.619756320196842]
["Breast screening","Aneurin Bevan University","Monmouthshire","2017-18",76.821892954339276]
["Breast screening","Aneurin Bevan University","Newport","2017-18",68.394667254297048]
["Breast screening","Aneurin Bevan University","Torfaen","2017-18",73.769080234833666]
["Breast screening","Betsi Cadwaladr University","Anglesey","2017-18",73.374194888842709]
["Breast screening","Betsi Cadwaladr University","Conwy","2017-18",71.436198611852646]
["Breast screening","Betsi Cadwaladr University","Denbighshire","2017-18",70.929671154980952]
["Breast screening","Betsi Cadwaladr University","Flintshire","2017-18",75.061016197026845]
["Breast screening","Betsi Cadwaladr University","Gwynedd","2017-18",74.211431848594913]
["Breast screening","Betsi Cadwaladr University","Wrexham","2017-18",71.341428974865863]
["Breast screening","Cardiff & Vale University","Cardiff","2017-18",68.260791689056063]
["Breast screening","Cardiff & Vale University","Vale of Glamorgan","2017-18",73.626882966396295]
["Breast screening","Cwm Taf University","Merthyr Tydfil","2017-18",72.875467664350609]
["Breast screening","Cwm Taf University","Rhondda Cynon Taf","2017-18",73.743602392551026]
["Breast screening","Hywel Dda University","Carmarthenshire","2017-18",73.789263166150349]
["Breast screening","Hywel Dda University","Ceredigion","2017-18",71.796222439611711]
["Breast screening","Hywel Dda University","Pembrokeshire","2017-18",76.97300576281468]
["Breast screening","Powys Teaching","Powys","2017-18",76.161128093876343]
["Breast screening","ABMU","Afan","2017-18",71.816860465116278]
["Breast screening","ABMU","BayHealth","2017-18",76.32268827454719]
["Breast screening","ABMU","Bridgend East Network","2017-18",74.991974317817011]
["Breast screening","ABMU","Bridgend North Network","2017-18",74.412151307141812]
["Breast screening","ABMU","Bridgend West Network","2017-18",74.238056013179573]
["Breast screening","ABMU","CityHealth","2017-18",65.152565880721227]
["Breast screening","ABMU","Cwmtawe","2017-18",72.348284960422163]
["Breast screening","ABMU","Llwchwr","2017-18",73.506039415130317]
["Breast screening","ABMU","Neath","2017-18",74.813314770282247]
["Breast screening","ABMU","Penderi","2017-18",70.002626740215391]
["Breast screening","ABMU","Upper Valleys","2017-18",72.679676344597809]
["Breast screening","Aneurin Bevan","Blaenau Gwent East","2017-18",71.507150715071504]
["Breast screening","Aneurin Bevan","Blaenau Gwent West","2017-18",72.696981575852604]
["Breast screening","Aneurin Bevan","Caerphilly East","2017-18",73.509469254150105]
["Breast screening","Aneurin Bevan","Caerphilly North","2017-18",70.592680557054948]
["Breast screening","Aneurin Bevan","Caerphilly South","2017-18",74.132791327913282]
["Breast screening","Aneurin Bevan","Monmouthshire North","2017-18",76.152386117136658]
["Breast screening","Aneurin Bevan","Monmouthshire South","2017-18",77.665755297334243]
["Breast screening","Aneurin Bevan","Newport East","2017-18",67.530163236337827]
["Breast screening","Aneurin Bevan","Newport North","2017-18",72.792395646783305]
["Breast screening","Aneurin Bevan","Newport West","2017-18",63.24900133155792]
["Breast screening","Aneurin Bevan","Torfaen North","2017-18",73.516728624535318]
["Breast screening","Aneurin Bevan","Torfaen South","2017-18",74.049586776859499]
["Breast screening","Betsi Cadwaladr","Anglesey","2017-18",73.374194888842709]
["Breast screening","Betsi Cadwaladr","Arfon","2017-18",72.844082036076102]
["Breast screening","Betsi Cadwaladr","Central & South Denbighshire","2017-18",75.902950096498472]
["Breast screening","Betsi Cadwaladr","Central Wrexham","2017-18",71.136675824175825]
["Breast screening","Betsi Cadwaladr","Conwy East","2017-18",68.083261058109272]
["Breast screening","Betsi Cadwaladr","Conwy West","2017-18",74.689669682305919]
["Breast screening","Betsi Cadwaladr","Dwyfor","2017-18",79.460217315106902]
["Breast screening","Betsi Cadwaladr","Meirionnydd","2017-18",73.388116308470288]
["Breast screening","Betsi Cadwaladr","North & West Wrexham","2017-18",71.827364554637285]
["Breast screening","Betsi Cadwaladr","North Denbighshire","2017-18",67.761482392201628]
["Breast screening","Betsi Cadwaladr","North East Flintshire","2017-18",75.081710027454577]
["Breast screening","Betsi Cadwaladr","North West Flintshire","2017-18",73.760548523206751]
["Breast screening","Betsi Cadwaladr","South Flintshire","2017-18",76.390030128731851]
["Breast screening","Betsi Cadwaladr","South Wrexham","2017-18",71.115599751398378]
["Breast screening","Cardiff and Vale","Cardiff East","2017-18",66.254201038802321]
["Breast screening","Cardiff and Vale","Cardiff North","2017-18",73.242269337132328]
["Breast screening","Cardiff and Vale","Cardiff South East","2017-18",60.901542111506522]
["Breast screening","Cardiff and Vale","Cardiff South West","2017-18",66.613232293791896]
["Breast screening","Cardiff and Vale","Cardiff West","2017-18",73.43594128544963]
["Breast screening","Cardiff and Vale","Central Vale","2017-18",71.16864085968983]
["Breast screening","Cardiff and Vale","City & Cardiff South","2017-18",52.192982456140349]
["Breast screening","Cardiff and Vale","Eastern Vale","2017-18",75.17075130574527]
["Breast screening","Cardiff and Vale","Western Vale","2017-18",76.667481065233318]
["Breast screening","Cwm Taf","North Cynon","2017-18",74.675805854020012]
["Breast screening","Cwm Taf","North Merthyr Tydfil","2017-18",71.706547462529585]
["Breast screening","Cwm Taf","North Rhondda","2017-18",73.006003430531734]
["Breast screening","Cwm Taf","North Taf Ely","2017-18",72.065482410309997]
["Breast screening","Cwm Taf","South Cynon","2017-18",73.48207754206291]
["Breast screening","Cwm Taf","South Merthyr Tydfil","2017-18",74.083129584352079]
["Breast screening","Cwm Taf","South Rhondda","2017-18",71.849829351535831]
["Breast screening","Cwm Taf","South Taf Ely","2017-18",77.187642672348204]
["Breast screening","Hywel Dda","Amman/Gwendraeth","2017-18",74.435732953195526]
["Breast screening","Hywel Dda","Llanelli","2017-18",72.254749671406387]
["Breast screening","Hywel Dda","North Ceredigion","2017-18",73.057086964253955]
["Breast screening","Hywel Dda","North Pembrokeshire","2017-18",75.542470831970348]
["Breast screening","Hywel Dda","South Ceredigion","2017-18",70.871380120010443]
["Breast screening","Hywel Dda","South Pembrokeshire","2017-18",78.766748701121131]
["Breast screening","Hywel Dda","Taf / Tywi","2017-18",74.638512738122557]
["Breast screening","Powys","Mid Powys","2017-18",74.125058329444698]
["Breast screening","Powys","North Powys","2017-18",76.785714285714292]
["Breast screening","Powys","South Powys","2017-18",76.604584527220638]
["Breast screening","WALES TOTAL*",null,"2017-18",72.818370622108944]
["Cervical screening","Abertawe Bro Morgannwg University",null,"2017-18",75.13636292186051]
["Cervical screening","Aneurin Bevan University",null,"2017-18",77.454905655149489]
["Cervical screening","Betsi Cadwaladr University",null,"2017-18",76.40307375036825]
["Cervical screening","Cardiff & Vale University",null,"2017-18",74.861422620954826]
["Cervical screening","Cwm Taf University",null,"2017-18",76.415094339622641]
["Cervical screening","Hywel Dda University",null,"2017-18",74.172117626983677]
["Cervical screening","Powys Teaching",null,"2017-18",78.240068628744879]
["Cervical screening","Abertawe Bro Morgannwg University","Bridgend","2017-18",75.824175824175825]
["Cervical screening","Abertawe Bro Morgannwg University","Neath Port Talbot","2017-18",74.968189705031804]
["Cervical screening","Abertawe Bro Morgannwg University","Swansea","2017-18",74.825379852715443]
["Cervical screening","Aneurin Bevan University","Blaenau Gwent","2017-18",76.725464662010182]
["Cervical screening","Aneurin Bevan University","Caerphilly","2017-18",78.326979143305678]
["Cervical screening","Aneurin Bevan University","Monmouthshire","2017-18",80.555429915419069]
["Cervical screening","Aneurin Bevan University","Newport","2017-18",74.698195721056905]
["Cervical screening","Aneurin Bevan University","Torfaen","2017-18",77.904711300035416]
["Cervical screening","Betsi Cadwaladr University","Anglesey","2017-18",76.965517241379317]
["Cervical screening","Betsi Cadwaladr University","Conwy","2017-18",76.145662847790504]
["Cervical screening","Betsi Cadwaladr University","Denbighshire","2017-18",76.282560706401767]
["Cervical screening","Betsi Cadwaladr University","Flintshire","2017-18",77.449331090282783]
["Cervical screening","Betsi Cadwaladr University","Gwynedd","2017-18",75.215501086875051]
["Cervical screening","Betsi Cadwaladr University","Wrexham","2017-18",76.198481073454801]
["Cervical screening","Cardiff & Vale University","Cardiff","2017-18",73.515383293227913]
["Cervical screening","Cardiff & Vale University","Vale of Glamorgan","2017-18",78.807634164777014]
["Cervical screening","Cwm Taf University","Merthyr Tydfil","2017-18",74.53358208955224]
["Cervical screening","Cwm Taf University","Rhondda Cynon Taf","2017-18",76.901733705580256]
["Cervical screening","Hywel Dda University","Carmarthenshire","2017-18",74.366582971924217]
["Cervical screening","Hywel Dda University","Ceredigion","2017-18",73.049119555143648]
["Cervical screening","Hywel Dda University","Pembrokeshire","2017-18",74.518093873163735]
["Cervical screening","Powys Teaching","Powys","2017-18",78.240068628744879]
["Cervical screening","Abertawe Bro Morgannwg","Afan","2017-18",75.242718446601941]
["Cervical screening","Abertawe Bro Morgannwg","BayHealth","2017-18",76.930881420418515]
["Cervical screening","Abertawe Bro Morgannwg","Bridgend East Network","2017-18",77.453551912568315]
["Cervical screening","Abertawe Bro Morgannwg","Bridgend North Network","2017-18",75.750177207214293]
["Cervical screening","Abertawe Bro Morgannwg","Bridgend West Network","2017-18",75.284891557407178]
["Cervical screening","Abertawe Bro Morgannwg","CityHealth","2017-18",67.791077257889015]
["Cervical screening","Abertawe Bro Morgannwg","Cwmtawe","2017-18",76.910206358059114]
["Cervical screening","Abertawe Bro Morgannwg","Llwchwr","2017-18",79.063477305384154]
["Cervical screening","Abertawe Bro Morgannwg","Neath","2017-18",75.621711237655873]
["Cervical screening","Abertawe Bro Morgannwg","Penderi","2017-18",73.782811176968664]
["Cervical screening","Abertawe Bro Morgannwg","Upper Valleys","2017-18",74.870569494225407]
["Cervical screening","Aneurin Bevan","Blaenau Gwent East","2017-18",75.560181217093174]
["Cervical screening","Aneurin Bevan","Blaenau Gwent West","2017-18",78.179298582240691]
["Cervical screening","Aneurin Bevan","Caerphilly East","2017-18",78.633425669436747]
["Cervical screening","Aneurin Bevan","Caerphilly North","2017-18",77.185407671610037]
["Cervical screening","Aneurin Bevan","Caerphilly South","2017-18",79.393290506780872]
["Cervical screening","Aneurin Bevan","Monmouthshire North","2017-18",79.809743954480794]
["Cervical screening","Aneurin Bevan","Monmouthshire South","2017-18",82.047244094488192]
["Cervical screening","Aneurin Bevan","Newport East","2017-18",71.888237210817849]
["Cervical screening","Aneurin Bevan","Newport North","2017-18",80.41222559469189]
["Cervical screening","Aneurin Bevan","Newport West","2017-18",71.940616797900262]
["Cervical screening","Aneurin Bevan","Torfaen North","2017-18",77.166345105276406]
["Cervical screening","Aneurin Bevan","Torfaen South","2017-18",79.188759278897138]
["Cervical screening","Betsi Cadwaladr","Anglesey","2017-18",76.607953029089941]
["Cervical screening","Betsi Cadwaladr","Arfon","2017-18",75.3410486842956]
["Cervical screening","Betsi Cadwaladr","Central & South Denbighshire","2017-18",79.916742816529592]
["Cervical screening","Betsi Cadwaladr","Central Wrexham","2017-18",73.389750822755047]
["Cervical screening","Betsi Cadwaladr","Conwy East","2017-18",74.438745480534777]
["Cervical screening","Betsi Cadwaladr","Conwy West","2017-18",77.808913797704832]
["Cervical screening","Betsi Cadwaladr","Dwyfor","2017-18",76.343106902203601]
["Cervical screening","Betsi Cadwaladr","Meirionnydd","2017-18",75.3]
["Cervical screening","Betsi Cadwaladr","North & West Wrexham","2017-18",78.193701723113492]
["Cervical screening","Betsi Cadwaladr","North Denbighshire","2017-18",73.172905525846701]
["Cervical screening","Betsi Cadwaladr","North East Flintshire","2017-18",77.95408727320023]
["Cervical screening","Betsi Cadwaladr","North West Flintshire","2017-18",74.720119415715956]
["Cervical screening","Betsi Cadwaladr","South Flintshire","2017-18",80.890734408076852]
["Cervical screening","Betsi Cadwaladr","South Wrexham","2017-18",77.90328273914578]
["Cervical screening","Cardiff and Vale","Cardiff East","2017-18",75.656916212196336]
["Cervical screening","Cardiff and Vale","Cardiff North","2017-18",77.92102489256466]
["Cervical screening","Cardiff and Vale","Cardiff South East","2017-18",65.711167697344479]
["Cervical screening","Cardiff and Vale","Cardiff South West","2017-18",73.713613643046159]
["Cervical screening","Cardiff and Vale","Cardiff West","2017-18",80.543947386449261]
["Cervical screening","Cardiff and Vale","Central Vale","2017-18",76.825175710757932]
["Cervical screening","Cardiff and Vale","City & Cardiff South","2017-18",62.96801872074883]
["Cervical screening","Cardiff and Vale","Eastern Vale","2017-18",81.55670216269624]
["Cervical screening","Cardiff and Vale","Western Vale","2017-18",81.248164464023503]
["Cervical screening","Cwm Taf","North Cynon","2017-18",75.727554179566553]
["Cervical screening","Cwm Taf","North Merthyr Tydfil","2017-18",72.705496722138179]
["Cervical screening","Cwm Taf","North Rhondda","2017-18",77.750789409764394]
["Cervical screening","Cwm Taf","North Taf Ely","2017-18",73.302957039241207]
["Cervical screening","Cwm Taf","South Cynon","2017-18",77.27627979679562]
["Cervical screening","Cwm Taf","South Merthyr Tydfil","2017-18",77.063696086832337]
["Cervical screening","Cwm Taf","South Rhondda","2017-18",77.850620463591667]
["Cervical screening","Cwm Taf","South Taf Ely","2017-18",81.699083748593466]
["Cervical screening","Hywel Dda","Amman/Gwendraeth","2017-18",75.965969514356615]
["Cervical screening","Hywel Dda","Llanelli","2017-18",72.977412731006169]
["Cervical screening","Hywel Dda","North Ceredigion","2017-18",71.910821327163745]
["Cervical screening","Hywel Dda","North Pembrokeshire","2017-18",75.63822027716995]
["Cervical screening","Hywel Dda","South Ceredigion","2017-18",74.972170686456394]
["Cervical screening","Hywel Dda","South Pembrokeshire","2017-18",73.486820696387895]
["Cervical screening","Hywel Dda","Taf / Tywi","2017-18",74.577505827505831]
["Cervical screening","Powys","Mid Powys","2017-18",78.670988654781198]
["Cervical screening","Powys","North Powys","2017-18",77.868625277161868]
["Cervical screening","Powys","South Powys","2017-18",78.808890577507597]
["Cervical screening","WALES TOTAL*",null,"2017-18",76.108512943884776]
["Bowel incidence","Cwm Taf UHB",null,2015,76.2]
["Bowel incidence","Hywel Dda UHB",null,2015,86.4]
["Bowel incidence","Betsi Cadwaladr UHB",null,2015,80.3]
["Bowel incidence","Abertawe Bro Morgannwg UHB",null,2015,71.2]
["Bowel incidence","Aneurin Bevan UHB",null,2015,68.599999999999994]
["Bowel incidence","Powys THB",null,2015,89]
["Bowel incidence","Cardiff & Vale UHB",null,2015,52.2]
["Bowel incidence","Wales",null,2015,72.900000000000006]
["Bowel incidence",null,"Rhondda Cynon Taf",2015,81.3]
["Bowel incidence",null,"Wrexham",2015,80.5]
["Bowel incidence",null,"Gwynedd",2015,87.9]
["Bowel incidence",null,"Pembrokeshire",2015,97.2]
["Bowel incidence",null,"Neath Port Talbot",2015,78]
["Bowel incidence",null,"Newport",2015,66.3]
["Bowel incidence",null,"Carmarthenshire",2015,85.9]
["Bowel incidence",null,"Blaenau Gwent",2015,71.900000000000006]
["Bowel incidence",null,"Vale of Glamorgan",2015,75.2]
["Bowel incidence",null,"Wales",2015,72.900000000000006]
["Bowel incidence",null,"Caerphilly",2015,66.599999999999994]
["Bowel incidence",null,"Swansea",2015,68.099999999999994]
["Bowel incidence",null,"Isle of Anglesey",2015,87.2]
["Bowel incidence",null,"Bridgend",2015,69.7]
["Bowel incidence",null,"Powys",2015,89]
["Bowel incidence",null,"Monmouthshire",2015,83.3]
["Bowel incidence",null,"Conwy",2015,88.6]
["Bowel incidence",null,"Denbighshire",2015,77.099999999999994]
["Bowel incidence",null,"Flintshire",2015,66.900000000000006]
["Bowel incidence",null,"Ceredigion",2015,69.7]
["Bowel incidence",null,"Cardiff",2015,44]
["Bowel incidence",null,"Torfaen",2015,58.8]
["Bowel incidence",null,"Merthyr Tydfil",2015,55.6]
["Breast incidence","Betsi Cadwaladr UHB",null,2015,104.4]
["Breast incidence","Powys THB",null,2015,116.1]
["Breast incidence","Abertawe Bro Morgannwg UHB",null,2015,92.9]
["Breast incidence","Cwm Taf UHB",null,2015,86.3]
["Breast incidence","Wales",null,2015,90.4]
["Breast incidence","Hywel Dda UHB",null,2015,93.9]
["Breast incidence","Cardiff & Vale UHB",null,2015,74.5]
["Breast incidence","Aneurin Bevan UHB",null,2015,78.7]
["Breast incidence",null,"Gwynedd",2015,130.19999999999999]
["Breast incidence",null,"Pembrokeshire",2015,119.9]
["Breast incidence",null,"Merthyr Tydfil",2015,99.5]
["Breast incidence",null,"Flintshire",2015,108.4]
["Breast incidence",null,"Torfaen",2015,104.5]
["Breast incidence",null,"Ceredigion",2015,103.2]
["Breast incidence",null,"Swansea",2015,97]
["Breast incidence",null,"Denbighshire",2015,109.8]
["Breast incidence",null,"Conwy",2015,117.9]
["Breast incidence",null,"Bridgend",2015,100.6]
["Breast incidence",null,"Powys",2015,116.1]
["Breast incidence",null,"Wales",2015,90.4]
["Breast incidence",null,"Cardiff",2015,70]
["Breast incidence",null,"Newport",2015,79.900000000000006]
["Breast incidence",null,"Rhondda Cynon Taf",2015,83]
["Breast incidence",null,"Caerphilly",2015,79.900000000000006]
["Breast incidence",null,"Vale of Glamorgan",2015,87]
["Breast incidence",null,"Wrexham",2015,73.2]
["Breast incidence",null,"Isle of Anglesey",2015,81.5]
["Breast incidence",null,"Neath Port Talbot",2015,78]
["Breast incidence",null,"Carmarthenshire",2015,72.900000000000006]
["Breast incidence",null,"Blaenau Gwent",2015,56.1]
["Breast incidence",null,"Monmouthshire",2015,66]
["Cervical incidence","Cwm Taf UHB",null,2015,12.6]
["Cervical incidence","Betsi Cadwaladr UHB",null,2015,10.5]
["Cervical incidence","Hywel Dda UHB",null,2015,10.3]
["Cervical incidence","Abertawe Bro Morgannwg UHB",null,2015,10.199999999999999]
["Cervical incidence","Wales",null,2015,9.5]
["Cervical incidence","Aneurin Bevan UHB",null,2015,8.1]
["Cervical incidence","Cardiff & Vale UHB",null,2015,7.7]
["Cervical incidence","Powys THB",null,2015,4.5]
["Cervical incidence",null,"Rhondda Cynon Taf",2015,14.9]
["Cervical incidence",null,"Ceredigion",2015,13.5]
["Cervical incidence",null,"Bridgend",2015,15.3]
["Cervical incidence",null,"Flintshire",2015,12.8]
["Cervical incidence",null,"Gwynedd",2015,12.9]
["Cervical incidence",null,"Wrexham",2015,10.199999999999999]
["Cervical incidence",null,"Denbighshire",2015,8.3000000000000007]
["Cervical incidence",null,"Swansea",2015,9.9]
["Cervical incidence",null,"Carmarthenshire",2015,9.5]
["Cervical incidence",null,"Wales",2015,9.5]
["Cervical incidence",null,"Cardiff",2015,8.8000000000000007]
["Cervical incidence",null,"Torfaen",2015,8.5]
["Cervical incidence",null,"Monmouthshire",2015,8.5]
["Cervical incidence",null,"Pembrokeshire",2015,9.5]
["Cervical incidence",null,"Caerphilly",2015,9.8000000000000007]
["Cervical incidence",null,"Isle of Anglesey",2015,8.4]
["Cervical incidence",null,"Conwy",2015,8.4]
["Cervical incidence",null,"Blaenau Gwent",2015,8.5]
["Cervical incidence",null,"Powys",2015,4.5]
["Cervical incidence",null,"Neath Port Talbot",2015,5.6]
["Cervical incidence",null,"Newport",2015,5.3]
["Cervical incidence",null,"Vale of Glamorgan",2015,4.5999999999999996]
["Cervical incidence",null,"Merthyr Tydfil",2015,3.3]
["HB"]
["Screening uptake"]
["Indicator","Period","Wales","ABM","AB","BC","CV","CT","HD","Powys"]
["Uptake of bowel screening (%)","2017-18",{"$f":"E95","v":55.666075604190659},{"$f":"E2","v":56.169557007357881},{"$f":"E3","v":55.770880449192859},{"$f":"E4","v":55.624175560618781},{"$f":"E5","v":54.577157802964258},{"$f":"E6","v":54.792488189591225},{"$f":"E7","v":56.465648854961835},{"$f":"E8","v":56.19740884199279}]
["Uptake of breast screening (%)","2017-18",{"$f":"E189","v":72.818370622108944},{"$f":"E96","v":73.140407288317249},{"$f":"E97","v":72.47939847339839},{"$f":"E98","v":72.726124550665503},{"$f":"E99","v":69.904687527732918},{"$f":"E100","v":73.580840723483149},{"$f":"E101","v":74.259611035730444},{"$f":"E102","v":76.161128093876343}]
["Uptake of cervical screening (%)","2017-18",{"$f":"E283","v":76.108512943884776},{"$f":"E190","v":75.13636292186051},{"$f":"E191","v":77.454905655149489},{"$f":"E192","v":76.40307375036825},{"$f":"E193","v":74.861422620954826},{"$f":"E194","v":76.415094339622641},{"$f":"E195","v":74.172117626983677},{"$f":"E196","v":78.240068628744879}]
["Cancer incidence"]
["Indicator","Period","Wales","ABM","AB","BC","CV","CT","HD","Powys"]
["Incidence of bowel cancer (rate per 100,000)",2015,{"$f":"E291","v":72.900000000000006},{"$f":"E287","v":71.2},{"$f":"E288","v":68.599999999999994},{"$f":"E286","v":80.3},{"$f":"E290","v":52.2},{"$f":"E284","v":76.2},{"$f":"E285","v":86.4},{"$f":"E289","v":89}]
["Incidence of breast cancer (rate per 100,000)",2015,{"$f":"E319","v":90.4},{"$f":"E317","v":92.9},{"$f":"E322","v":78.7},{"$f":"E315","v":104.4},{"$f":"E321","v":74.5},{"$f":"E318","v":86.3},{"$f":"E320","v":93.9},{"$f":"E316","v":116.1}]
["Incidence of cervical cancer (rate per 100,000)",2015,{"$f":"E350","v":9.5},{"$f":"E349","v":10.199999999999999},{"$f":"E351","v":8.1},{"$f":"E347","v":10.5},{"$f":"E352","v":7.7},{"$f":"E346","v":12.6},{"$f":"E348","v":10.3},{"$f":"E353","v":4.5}]
["Incidence of bowel cancer at stage 1","2011-2015",{"$f":"'stage at diag data'!E2","v":13.9},{"$f":"'stage at diag data'!E3","v":12.2},{"$f":"'stage at diag data'!E4","v":11.5},{"$f":"'stage at diag data'!E5","v":15.1},{"$f":"'stage at diag data'!E6","v":17.3},{"$f":"'stage at diag data'!E7","v":15},{"$f":"'stage at diag data'!E8","v":13.7},{"$f":"'stage at diag data'!E9","v":12.9}]
["Incidence of bowel cancer at stage 2","2011-2015",{"$f":"'stage at diag data'!F2","v":22},{"$f":"'stage at diag data'!F3","v":21.3},{"$f":"'stage at diag data'!F4","v":22.6},{"$f":"'stage at diag data'!F5","v":24.3},{"$f":"'stage at diag data'!F6","v":20.9},{"$f":"'stage at diag data'!F7","v":22.2},{"$f":"'stage at diag data'!F8","v":18.8},{"$f":"'stage at diag data'!F9","v":22.2}]
["Incidence of bowel cancer at stage 3","2011-2015",{"$f":"'stage at diag data'!G2","v":30.3},{"$f":"'stage at diag data'!G3","v":33.1},{"$f":"'stage at diag data'!G4","v":32},{"$f":"'stage at diag data'!G5","v":25},{"$f":"'stage at diag data'!G6","v":29.1},{"$f":"'stage at diag data'!G7","v":29.7},{"$f":"'stage at diag data'!G8","v":35.700000000000003},{"$f":"'stage at diag data'!G9","v":29.7}]
["Incidence of bowel cancer at stage 4","2011-2015",{"$f":"'stage at diag data'!H2","v":19.5},{"$f":"'stage at diag data'!H3","v":18.100000000000001},{"$f":"'stage at diag data'!H4","v":20.9},{"$f":"'stage at diag data'!H5","v":18.8},{"$f":"'stage at diag data'!H6","v":21.7},{"$f":"'stage at diag data'!H7","v":21},{"$f":"'stage at diag data'!H8","v":19.100000000000001},{"$f":"'stage at diag data'!H9","v":15.4}]
["Incidence of bowel cancer at unknown stage","2011-2015",{"$f":"'stage at diag data'!I2","v":14.4},{"$f":"'stage at diag data'!I3","v":15.3},{"$f":"'stage at diag data'!I4","v":13.1},{"$f":"'stage at diag data'!I5","v":16.899999999999999},{"$f":"'stage at diag data'!I6","v":11},{"$f":"'stage at diag data'!I7","v":12.1},{"$f":"'stage at diag data'!I8","v":12.7},{"$f":"'stage at diag data'!I9","v":19.899999999999999}]
["Incidence of breast cancer at stage 1","2011-2015",{"$f":"'stage at diag data'!E70","v":34.299999999999997},{"$f":"'stage at diag data'!E71","v":30.6},{"$f":"'stage at diag data'!E72","v":34.200000000000003},{"$f":"'stage at diag data'!E73","v":38.200000000000003},{"$f":"'stage at diag data'!E74","v":32.4},{"$f":"'stage at diag data'!E75","v":34},{"$f":"'stage at diag data'!E76","v":35.299999999999997},{"$f":"'stage at diag data'!E77","v":31.6}]
["Incidence of breast cancer at stage 2","2011-2015",{"$f":"'stage at diag data'!F70","v":34},{"$f":"'stage at diag data'!F71","v":34},{"$f":"'stage at diag data'!F72","v":37},{"$f":"'stage at diag data'!F73","v":28.7},{"$f":"'stage at diag data'!F74","v":35.799999999999997},{"$f":"'stage at diag data'!F75","v":37.799999999999997},{"$f":"'stage at diag data'!F76","v":35.700000000000003},{"$f":"'stage at diag data'!F77","v":32.299999999999997}]
["Incidence of breast cancer at stage 3","2011-2015",{"$f":"'stage at diag data'!G70","v":9.8000000000000007},{"$f":"'stage at diag data'!G71","v":10.5},{"$f":"'stage at diag data'!G72","v":10.9},{"$f":"'stage at diag data'!G73","v":7.6},{"$f":"'stage at diag data'!G74","v":10.3},{"$f":"'stage at diag data'!G75","v":10.4},{"$f":"'stage at diag data'!G76","v":10.7},{"$f":"'stage at diag data'!G77","v":9.6}]
["Incidence of breast cancer at stage 4","2011-2015",{"$f":"'stage at diag data'!H70","v":3.6},{"$f":"'stage at diag data'!H71","v":3.7},{"$f":"'stage at diag data'!H72","v":4.0999999999999996},{"$f":"'stage at diag data'!H73","v":3},{"$f":"'stage at diag data'!H74","v":3.1},{"$f":"'stage at diag data'!H75","v":3.9},{"$f":"'stage at diag data'!H76","v":4.5},{"$f":"'stage at diag data'!H77","v":3.7}]
["Incidence of breast cancer at unknown stage","2011-2015",{"$f":"'stage at diag data'!I70","v":17.899999999999999},{"$f":"'stage at diag data'!I71","v":20.9},{"$f":"'stage at diag data'!I72","v":13.6},{"$f":"'stage at diag data'!I73","v":22.2},{"$f":"'stage at diag data'!I74","v":18.100000000000001},{"$f":"'stage at diag data'!I75","v":13.5},{"$f":"'stage at diag data'!I76","v":13.2},{"$f":"'stage at diag data'!I77","v":22.5}]
["Cancer prevalence"]
["Indicator","Period","Wales","ABM","AB","BC","CV","CT","HD","Powys"]
["Prevalence of bowel cancer (%)","Not available"]
["Prevalence of breast cancer (%)","Not available"]
["LA"]
["Screening uptake"]
["Indicator","Period","Wales","Bridgend","Neath Port Talbot","Swansea","Blaenau Gwent","Caerphilly","Monmouthshire","Newport","Torfaen","Anglesey","Conwy","Denbighshire","Flintshire","Gwynedd","Wrexham","Cardiff","Vale of Glamorgan","Merthyr Tydfil","Rhondda Cynon Taf","Carmarthenshire","Ceredigion","Pembrokeshire","Powys"]
["Uptake of bowel screening (%)","2017-18",{"$f":"C380","v":55.666075604190659},{"$f":"E9","v":57.680076323739861},{"$f":"E10","v":56.20010643959553},{"$f":"E11","v":55.215809654901193},{"$f":"E12","v":52.006578947368418},{"$f":"E13","v":56.683277613070082},{"$f":"E14","v":60.975609756097562},{"$f":"E15","v":53.160202940923554},{"$f":"E16","v":54.465806765636401},{"$f":"E21","v":57.477138246369023},{"$f":"E17","v":55.733398998604613},{"$f":"E18","v":54.928131416837779},{"$f":"E19","v":56.65072433631385},{"$f":"E20","v":57.291760265971782},{"$f":"E22","v":52.08951428329236},{"$f":"E23","v":52.542876549499063},{"$f":"E24","v":58.570119156736943},{"$f":"E25","v":51.340771188099431},{"$f":"E26","v":55.652555598907526},{"$f":"E27","v":56.527526355020761},{"$f":"E28","v":55.875425281339965},{"$f":"E29","v":56.725691208449824},{"$f":"E30","v":56.19740884199279}]
["Uptake of breast screening (%)","2017-18",{"$f":"C381","v":72.818370622108944},{"$f":"E103","v":74.629418472063861},{"$f":"E104","v":73.255017647368703},{"$f":"E105","v":72.02110606465402},{"$f":"E106","v":72.136415465947962},{"$f":"E107","v":72.619756320196842},{"$f":"E108","v":76.821892954339276},{"$f":"E109","v":68.394667254297048},{"$f":"E110","v":73.769080234833666},{"$f":"E111","v":73.374194888842709},{"$f":"E112","v":71.436198611852646},{"$f":"E113","v":70.929671154980952},{"$f":"E114","v":75.061016197026845},{"$f":"E115","v":74.211431848594913},{"$f":"E116","v":71.341428974865863},{"$f":"E117","v":68.260791689056063},{"$f":"E118","v":73.626882966396295},{"$f":"E119","v":72.875467664350609},{"$f":"E120","v":73.743602392551026},{"$f":"E121","v":73.789263166150349},{"$f":"E122","v":71.796222439611711},{"$f":"E123","v":76.97300576281468},{"$f":"E124","v":76.161128093876343}]
["Uptake of cervical screening (%)","2017-18",{"$f":"C382","v":76.108512943884776},{"$f":"E197","v":75.824175824175825},{"$f":"E198","v":74.968189705031804},{"$f":"E199","v":74.825379852715443},{"$f":"E200","v":76.725464662010182},{"$f":"E201","v":78.326979143305678},{"$f":"E202","v":80.555429915419069},{"$f":"E203","v":74.698195721056905},{"$f":"E204","v":77.904711300035416},{"$f":"E205","v":76.965517241379317},{"$f":"E206","v":76.145662847790504},{"$f":"E207","v":76.282560706401767},{"$f":"E208","v":77.449331090282783},{"$f":"E209","v":75.215501086875051},{"$f":"E210","v":76.198481073454801},{"$f":"E211","v":73.515383293227913},{"$f":"E212","v":78.807634164777014},{"$f":"E213","v":74.53358208955224},{"$f":"E214","v":76.901733705580256},{"$f":"E215","v":74.366582971924217},{"$f":"E216","v":73.049119555143648},{"$f":"E217","v":74.518093873163735},{"$f":"E218","v":78.240068628744879}]
["Cancer incidence"]
["Indicator","Period","Wales","Bridgend","Neath Port Talbot","Swansea","Blaenau Gwent","Caerphilly","Monmouthshire","Newport","Torfaen","Anglesey","Conwy","Denbighshire","Flintshire","Gwynedd","Wrexham","Cardiff","Vale of Glamorgan","Merthyr Tydfil","Rhondda Cynon Taf","Carmarthenshire","Ceredigion","Pembrokeshire","Powys"]
[{"$f":"A385","v":"Incidence of bowel cancer (rate per 100,000)"},2015,72.900000000000006,{"$f":"E305","v":69.7},{"$f":"E296","v":78},{"$f":"E303","v":68.099999999999994},{"$f":"E299","v":71.900000000000006},{"$f":"E302","v":66.599999999999994},{"$f":"E307","v":83.3},{"$f":"E297","v":66.3},{"$f":"E313","v":58.8},{"$f":"E304","v":87.2},{"$f":"E308","v":88.6},{"$f":"E309","v":77.099999999999994},{"$f":"E310","v":66.900000000000006},{"$f":"E294","v":87.9},{"$f":"E293","v":80.5},{"$f":"E312","v":44},{"$f":"E300","v":75.2},{"$f":"E314","v":55.6},{"$f":"E292","v":81.3},{"$f":"E298","v":85.9},{"$f":"E311","v":69.7},{"$f":"E295","v":97.2},{"$f":"E306","v":89}]
["Incidence of breast cancer (rate per 100,000)",2015,90.4,{"$f":"E332","v":100.6},{"$f":"E342","v":78},{"$f":"E329","v":97},{"$f":"E344","v":56.1},{"$f":"E338","v":79.900000000000006},{"$f":"E345","v":66},{"$f":"E336","v":79.900000000000006},{"$f":"E327","v":104.5},{"$f":"E369","v":8.4},{"$f":"E331","v":117.9},{"$f":"E330","v":109.8},{"$f":"E326","v":108.4},{"$f":"E323","v":130.19999999999999},{"$f":"E340","v":73.2},{"$f":"E335","v":70},{"$f":"E339","v":87},{"$f":"E325","v":99.5},{"$f":"E337","v":83},{"$f":"E343","v":72.900000000000006},{"$f":"E328","v":103.2},{"$f":"E324","v":119.9},{"$f":"E333","v":116.1}]
[{"$f":"A387","v":"Incidence of cervical cancer (rate per 100,000)"},2015,{"$f":"C387","v":9.5},{"$f":"E356","v":15.3},{"$f":"E373","v":5.6},{"$f":"E361","v":9.9},{"$f":"E371","v":8.5},{"$f":"E368","v":9.8000000000000007},{"$f":"E366","v":8.5},{"$f":"E374","v":5.3},{"$f":"E365","v":8.5},{"$f":"E369","v":8.4},{"$f":"E370","v":8.4},{"$f":"E360","v":8.3000000000000007},{"$f":"E357","v":12.8},{"$f":"E358","v":12.9},{"$f":"E359","v":10.199999999999999},{"$f":"E364","v":8.8000000000000007},{"$f":"E375","v":4.5999999999999996},{"$f":"E376","v":3.3},{"$f":"E354","v":14.9},{"$f":"E362","v":9.5},{"$f":"E355","v":13.5},{"$f":"E367","v":9.5},{"$f":"E372","v":4.5}]
["Incidence of bowel cancer at stage 1","Not available",{"$f":"C388","v":13.9}]
["Incidence of bowel cancer at stage 2","Not available",{"$f":"C389","v":22}]
["Incidence of bowel cancer at stage 3","Not available",{"$f":"C390","v":30.3}]
["Incidence of bowel cancer at stage 4","Not available",{"$f":"C391","v":19.5}]
["Incidence of bowel cancer at unknown stage","Not available",{"$f":"C392","v":14.4}]
["Incidence of breast cancer at stage 1","Not available",{"$f":"C393","v":34.299999999999997}]
["Incidence of breast cancer at stage 2","Not available",{"$f":"C394","v":34}]
["Incidence of breast cancer at stage 3","Not available",{"$f":"C395","v":9.8000000000000007}]
["Incidence of breast cancer at stage 4","Not available",{"$f":"C396","v":3.6}]
["Incidence of breast cancer at unknown stage","Not available",{"$f":"C397","v":17.899999999999999}]
["Cancer prevalence"]
["Indicator","Period","Wales","Bridgend","Neath Port Talbot","Swansea","Blaenau Gwent","Caerphilly","Monmouthshire","Newport","Torfaen","Anglesey","Conwy","Denbighshire","Flintshire","Gwynedd","Wrexham","Cardiff","Vale of Glamorgan","Merthyr Tydfil","Rhondda Cynon Taf","Carmarthenshire","Ceredigion","Pembrokeshire","Powys"]
["Prevalence of bowel cancer (%)","Not available"]
["Prevalence of breast cancer (%)","Not available"]
["RBP"]
["Screening uptake"]
["Indicator","Period","ABM","Bridgend","Neath Port Talbot","Swansea","AB","Blaenau Gwent","Caerphilly","Monmouthshire","Newport","Torfaen","BC","Anglesey","Conwy","Denbighshire","Flintshire","Gwynedd","Wrexham","CV","Cardiff","Vale of Glamorgan","CT","Merthyr Tydfil","Rhondda Cynon Taf","HD","Carmarthenshire","Ceredigion","Pembrokeshire","Powys HB","Powys LA"]
["Uptake of bowel screening (%)",2019,56.169557007357881,57.680076323739861,56.20010643959553,55.215809654901193,55.770880449192859,52.006578947368418,56.683277613070082,60.975609756097562,53.160202940923554,54.465806765636401,55.624175560618781,57.477138246369023,55.733398998604613,54.928131416837779,56.65072433631385,57.291760265971782,52.08951428329236,54.577157802964258,52.542876549499063,58.570119156736943,54.792488189591225,51.340771188099431,55.652555598907526,56.465648854961835,56.527526355020761,55.875425281339965,56.725691208449824,56.19740884199279,56.19740884199279]
["Uptake of breast screening (%)",2019,73.140407288317249,74.629418472063861,73.255017647368703,72.02110606465402,72.47939847339839,72.136415465947962,72.619756320196842,76.821892954339276,68.394667254297048,73.769080234833666,72.726124550665503,73.374194888842709,71.436198611852646,70.929671154980952,75.061016197026845,74.211431848594913,71.341428974865863,69.904687527732918,68.260791689056063,73.626882966396295,73.580840723483149,72.875467664350609,73.743602392551026,74.259611035730444,73.789263166150349,71.796222439611711,76.97300576281468,76.161128093876343,76.161128093876343]
["Uptake of cervical screening (%)",2019,75.13636292186051,75.824175824175825,74.968189705031804,74.825379852715443,77.454905655149489,76.725464662010182,78.326979143305678,80.555429915419069,74.698195721056905,77.904711300035416,76.40307375036825,76.965517241379317,76.145662847790504,76.282560706401767,77.449331090282783,75.215501086875051,76.198481073454801,74.861422620954826,73.515383293227913,78.807634164777014,76.415094339622641,74.53358208955224,76.901733705580256,74.172117626983677,74.366582971924217,73.049119555143648,74.518093873163735,78.240068628744879,78.240068628744879]
["Cancer incidence"]
["Indicator","Period","ABM","Bridgend","Neath Port Talbot","Swansea","AB","Blaenau Gwent","Caerphilly","Monmouthshire","Newport","Torfaen","BC","Anglesey","Conwy","Denbighshire","Flintshire","Gwynedd","Wrexham","CV","Cardiff","Vale of Glamorgan","CT","Merthyr Tydfil","Rhondda Cynon Taf","HD","Carmarthenshire","Ceredigion","Pembrokeshire","Powys HB","Powys LA"]
[{"$f":"A410","v":"Incidence of bowel cancer (rate per 100,000)"},{"$f":"B410","v":2015},71.2,69.7,78,68.099999999999994,68.599999999999994,71.900000000000006,66.599999999999994,83.3,66.3,58.8,80.3,87.2,88.6,77.099999999999994,66.900000000000006,87.9,80.5,52.2,44,75.2,76.2,55.6,81.3,86.4,85.9,69.7,97.2,89,89]
[{"$f":"A411","v":"Incidence of breast cancer (rate per 100,000)"},{"$f":"B411","v":2015},92.9,100.6,78,97,78.7,56.1,79.900000000000006,66,79.900000000000006,104.5,104.4,8.4,117.9,109.8,108.4,130.19999999999999,73.2,74.5,70,87,86.3,99.5,83,93.9,72.900000000000006,103.2,119.9,116.1,116.1]
[{"$f":"A412","v":"Incidence of cervical cancer (rate per 100,000)"},2015,10.199999999999999,15.3,5.6,9.9,8.1,8.5,9.8000000000000007,8.5,5.3,8.5,10.5,8.4,8.4,8.3000000000000007,12.8,12.9,10.199999999999999,7.7,8.8000000000000007,4.5999999999999996,12.6,3.3,14.9,10.3,9.5,13.5,9.5,4.5,4.5]
[{"$f":"A413","v":"Incidence of bowel cancer at stage 1"},"Not available",{"$f":"'stage at diag data'!E3","v":12.2},null,null,null,11.5,null,null,null,null,null,15.1,null,null,null,null,null,null,17.3,null,null,15,null,null,13.7,null,null,null,12.9]
[{"$f":"A414","v":"Incidence of bowel cancer at stage 2"},"Not available",21.3,null,null,null,22.6,null,null,null,null,null,24.3,null,null,null,null,null,null,20.9,null,null,22.2,null,null,18.8,null,null,null,22.2]
[{"$f":"A415","v":"Incidence of bowel cancer at stage 3"},"Not available",33.1,null,null,null,32,null,null,null,null,null,25,null,null,null,null,null,null,29.1,null,null,29.7,null,null,35.700000000000003,null,null,null,29.7]
[{"$f":"A416","v":"Incidence of bowel cancer at stage 4"},"Not available",18.100000000000001,null,null,null,20.9,null,null,null,null,null,18.8,null,null,null,null,null,null,21.7,null,null,21,null,null,19.100000000000001,null,null,null,15.4]
[{"$f":"A417","v":"Incidence of bowel cancer at unknown stage"},"Not available",15.3,null,null,null,13.1,null,null,null,null,null,16.899999999999999,null,null,null,null,null,null,11,null,null,12.1,null,null,12.7,null,null,null,19.899999999999999]
[{"$f":"A418","v":"Incidence of breast cancer at stage 1"},"Not available",30.6,null,null,null,34.200000000000003,null,null,null,null,null,38.200000000000003,null,null,null,null,null,null,32.4,null,null,34,null,null,35.299999999999997,null,null,null,31.6]
[{"$f":"A419","v":"Incidence of breast cancer at stage 2"},"Not available",34,null,null,null,37,null,null,null,null,null,28.7,null,null,null,null,null,null,35.799999999999997,null,null,37.799999999999997,null,null,35.700000000000003,null,null,null,32.299999999999997]
[{"$f":"A420","v":"Incidence of breast cancer at stage 3"},"Not available",10.5,null,null,null,10.9,null,null,null,null,null,7.6,null,null,null,null,null,null,10.3,null,null,10.4,null,null,10.7,null,null,null,9.6]
[{"$f":"A421","v":"Incidence of breast cancer at stage 4"},"Not available",3.7,null,null,null,4.0999999999999996,null,null,null,null,null,3,null,null,null,null,null,null,3.1,null,null,3.9,null,null,4.5,null,null,null,3.7]
[{"$f":"A422","v":"Incidence of breast cancer at unknown stage"},"Not available",20.9,null,null,null,13.6,null,null,null,null,null,22.2,null,null,null,null,null,null,18.100000000000001,null,null,13.5,null,null,13.2,null,null,null,22.5]
["Cancer prevalence"]
["Indicator","Period","ABM","Bridgend","Neath Port Talbot","Swansea","AB","Blaenau Gwent","Caerphilly","Monmouthshire","Newport","Torfaen","BC","Anglesey","Conwy","Denbighshire","Flintshire","Gwynedd","Wrexham","CV","Cardiff","Vale of Glamorgan","CT","Merthyr Tydfil","Rhondda Cynon Taf","HD","Carmarthenshire","Ceredigion","Pembrokeshire","Powys HB","Powys LA"]
["Prevalence of bowel cancer (%)","Not available"]
["Prevalence of breast cancer (%)","Not available"]
["CHB"]
["Screening uptake",null,null,null,null,null,null,null,null,null,null,null,null,null,null,null,null,null,null,null,null,null,null,null,null,null,null,null,null,null,null,null,null,"North east flint","North west flint","South flint"]
["Indicator","Period","ABM","Bridgend East Network","Bridgend North Network","Bridgend West Network","Afan","Neath","Upper Valleys","BayHealth","CityHealth","Cwmtawe","Llwchwr","Penderi","AB","Blaenau Gwent East","Blaenau Gwent West","Caerphilly East","Caerphilly North","Caerphilly South","Monmouthshire North","Monmouthshire South","Newport Central","Newport East","Newport West","Torfaen North","Torfaen South","BC","Anglesey","Conwy East","Conwy West","Central - South Denbighshire","North Denbighshire","Deeside Hawarden - Saltney","Holywell - Flint","Mold Buckley - Caergwle","Arfon","Dwyfor","Meirionnydd","South Wrexham","West - North Wrexham","Wrexham Town","CV","Cardiff East","Cardiff North","Cardiff South East","Cardiff South West","Cardiff West","City - Cardiff South","Central Vale","Eastern Vale","Western Vale","CT","North Merthyr Tydfil","South Merthyr Tydfil","North Cynon","North Rhondda","North Taf Ely","South Cynon","South Rhondda","South Taf Ely","HD","Amman-Gwendraeth","Llanelli","Taf - Teifi - Tywi","North Ceredigion","South Ceredigion","North Pembrokeshire","South Pembrokeshire","Powys","Mid Powys","North Powys","South Powys"]
["Uptake of bowel screening (%)","Not available",{"$f":"D380","v":56.169557007357881},{"$f":"E33","v":58.768626166693963},{"$f":"E34","v":55.487249544626593},{"$f":"E35","v":60.202561811140896},{"$f":"E31","v":55.414438502673804},{"$f":"E39","v":57.203065134099617},{"$f":"E41","v":55.830388692579504},{"$f":"E32","v":59.442193829853537},{"$f":"E36","v":47.492380160709338},{"$f":"E37","v":56.099585062240664},{"$f":"E38","v":57.5708688637935},{"$f":"E40","v":51.697034655234006},{"$f":"E380","v":55.770880449192859},{"$f":"E42","v":50.103305785123965},{"$f":"E43","v":53.803393797542419},{"$f":"E44","v":55.541651769753308},{"$f":"E45","v":55.488850771869636},{"$f":"E46","v":59.238796807857582},{"$f":"E47","v":61.467359907567875},{"$f":"E48","v":60.088749673714439},{"$f":"E50","v":57.945492662473796},{"$f":"E49","v":50.497949619214999},{"$f":"E51","v":48.952323109626477},{"$f":"E52","v":55.581287633163498},{"$f":"E53","v":53.365023767825868},{"$f":"F380","v":55.624175560618781},{"$f":"E54","v":57.049922217508133},{"$f":"E58","v":54.701465856274581},{"$f":"E59","v":56.959118052365639},{"$f":"E56","v":56.952730610371724},{"$f":"E63","v":52.767527675276746},{"$f":"E64","v":55.102431552747468},{"$f":"E65","v":54.336381269049596},{"$f":"E66","v":60.281124497991968},{"$f":"E55","v":57.063658956222518},{"$f":"E60","v":58.917315535780503},{"$f":"E61","v":57.36782902137233},{"$f":"E67","v":53.319357092941999},{"$f":"E62","v":53.112840466926073},{"$f":"E57","v":50.506798516687269},{"$f":"G380","v":54.577157802964258},{"$f":"E68","v":49.123724823437094},{"$f":"E69","v":59.964339596763125},{"$f":"E70","v":42.87867370007536},{"$f":"E71","v":47.645904855321234},{"$f":"E72","v":58.79818594104308},{"$f":"E74","v":39.624853458382184},{"$f":"E73","v":53.800383877159305},{"$f":"E75","v":60.942562592047132},{"$f":"E76","v":62.235757792905765},{"$f":"H380","v":54.792488189591225},{"$f":"E78","v":47.868362004487658},{"$f":"E82","v":54.580152671755719},{"$f":"E77","v":55.164774300747709},{"$f":"E79","v":54.413191076624635},{"$f":"E80","v":56.140837260881618},{"$f":"E81","v":54.04624277456648},{"$f":"E83","v":54.186413902053708},{"$f":"E84","v":60.482725982016092},{"$f":"I380","v":56.465648854961835},{"$f":"E85","v":56.539735099337754},{"$f":"E86","v":55.380719840839213},{"$f":"E91","v":57.415010674987684},{"$f":"E87","v":56.669159810521066},{"$f":"E89","v":55.285412262156456},{"$f":"E88","v":56.256651968982816},{"$f":"E90","v":57.009027422926252},{"$f":"J380","v":56.19740884199279},{"$f":"E92","v":54.924681344148318},{"$f":"E93","v":55.783832067887452},{"$f":"E94","v":58.276001618777819}]
["Uptake of breast screening (%)","Not available",{"$f":"D381","v":73.140407288317249},{"$f":"E127","v":74.991974317817011},{"$f":"E128","v":74.412151307141812},{"$f":"E129","v":74.238056013179573},{"$f":"E125","v":71.816860465116278},{"$f":"E133","v":74.813314770282247},{"$f":"E135","v":72.679676344597809},{"$f":"E126","v":76.32268827454719},{"$f":"E130","v":65.152565880721227},{"$f":"E131","v":72.348284960422163},{"$f":"E132","v":73.506039415130317},{"$f":"E134","v":70.002626740215391},{"$f":"E381","v":72.47939847339839},{"$f":"E136","v":71.507150715071504},{"$f":"E137","v":72.696981575852604},{"$f":"E138","v":73.509469254150105},{"$f":"E139","v":70.592680557054948},{"$f":"E140","v":74.132791327913282},{"$f":"E141","v":76.152386117136658},{"$f":"E142","v":77.665755297334243},{"$f":"E144","v":72.792395646783305},{"$f":"E143","v":67.530163236337827},{"$f":"E145","v":63.24900133155792},{"$f":"E146","v":73.516728624535318},{"$f":"E147","v":74.049586776859499},{"$f":"F381","v":72.726124550665503},{"$f":"E148","v":73.374194888842709},{"$f":"E152","v":68.083261058109272},{"$f":"E153","v":74.689669682305919},{"$f":"E150","v":75.902950096498472},{"$f":"E157","v":67.761482392201628},{"$f":"E158","v":75.081710027454577},{"$f":"E159","v":73.760548523206751},{"$f":"E160","v":76.390030128731851},{"$f":"E149","v":72.844082036076102},{"$f":"E154","v":79.460217315106902},{"$f":"E155","v":73.388116308470288},{"$f":"E161","v":71.115599751398378},{"$f":"E156","v":71.827364554637285},{"$f":"E151","v":71.136675824175825},{"$f":"G381","v":69.904687527732918},{"$f":"E162","v":66.254201038802321},{"$f":"E163","v":73.242269337132328},{"$f":"E164","v":60.901542111506522},{"$f":"E165","v":66.613232293791896},{"$f":"E166","v":73.43594128544963},{"$f":"E168","v":52.192982456140349},{"$f":"E167","v":71.16864085968983},{"$f":"E169","v":75.17075130574527},{"$f":"E170","v":76.667481065233318},{"$f":"H381","v":73.580840723483149},{"$f":"E172","v":71.706547462529585},{"$f":"E176","v":74.083129584352079},{"$f":"E171","v":74.675805854020012},{"$f":"E173","v":73.006003430531734},{"$f":"E174","v":72.065482410309997},{"$f":"E175","v":73.48207754206291},{"$f":"E177","v":71.849829351535831},{"$f":"E178","v":77.187642672348204},{"$f":"I381","v":74.259611035730444},{"$f":"E179","v":74.435732953195526},{"$f":"E180","v":72.254749671406387},{"$f":"E185","v":74.638512738122557},{"$f":"E181","v":73.057086964253955},{"$f":"E183","v":70.871380120010443},{"$f":"E182","v":75.542470831970348},{"$f":"E184","v":78.766748701121131},{"$f":"J381","v":76.161128093876343},{"$f":"E186","v":74.125058329444698},{"$f":"E187","v":76.785714285714292},{"$f":"E188","v":76.604584527220638}]
["Uptake of cervical screening (%)","Not available",{"$f":"D382","v":75.13636292186051},{"$f":"E221","v":77.453551912568315},{"$f":"E222","v":75.750177207214293},{"$f":"E223","v":75.284891557407178},{"$f":"E219","v":75.242718446601941},{"$f":"E227","v":75.621711237655873},{"$f":"E229","v":74.870569494225407},{"$f":"E220","v":76.930881420418515},{"$f":"E224","v":67.791077257889015},{"$f":"E225","v":76.910206358059114},{"$f":"E226","v":79.063477305384154},{"$f":"E228","v":73.782811176968664},{"$f":"E382","v":77.454905655149489},{"$f":"E230","v":75.560181217093174},{"$f":"E231","v":78.179298582240691},{"$f":"E232","v":78.633425669436747},{"$f":"E233","v":77.185407671610037},{"$f":"E234","v":79.393290506780872},{"$f":"E235","v":79.809743954480794},{"$f":"E236","v":82.047244094488192},{"$f":"E238","v":80.41222559469189},{"$f":"E237","v":71.888237210817849},{"$f":"E239","v":71.940616797900262},{"$f":"E240","v":77.166345105276406},{"$f":"E241","v":79.188759278897138},{"$f":"F382","v":76.40307375036825},{"$f":"E242","v":76.607953029089941},{"$f":"E246","v":74.438745480534777},{"$f":"E247","v":77.808913797704832},{"$f":"E244","v":79.916742816529592},{"$f":"E251","v":73.172905525846701},{"$f":"E252","v":77.95408727320023},{"$f":"E253","v":74.720119415715956},{"$f":"E254","v":80.890734408076852},{"$f":"E243","v":75.3410486842956},{"$f":"E248","v":76.343106902203601},{"$f":"E249","v":75.3},{"$f":"E255","v":77.90328273914578},{"$f":"E250","v":78.193701723113492},{"$f":"E245","v":73.389750822755047},{"$f":"G382","v":74.861422620954826},{"$f":"E256","v":75.656916212196336},{"$f":"E257","v":77.92102489256466},{"$f":"E258","v":65.711167697344479},{"$f":"E259","v":73.713613643046159},{"$f":"E260","v":80.543947386449261},{"$f":"E262","v":62.96801872074883},{"$f":"E261","v":76.825175710757932},{"$f":"E263","v":81.55670216269624},{"$f":"E264","v":81.248164464023503},{"$f":"H382","v":76.415094339622641},{"$f":"E266","v":72.705496722138179},{"$f":"E270","v":77.063696086832337},{"$f":"E265","v":75.727554179566553},{"$f":"E267","v":77.750789409764394},{"$f":"E268","v":73.302957039241207},{"$f":"E269","v":77.27627979679562},{"$f":"E271","v":77.850620463591667},{"$f":"E272","v":81.699083748593466},{"$f":"I382","v":74.172117626983677},{"$f":"E273","v":75.965969514356615},{"$f":"E274","v":72.977412731006169},{"$f":"E279","v":74.577505827505831},{"$f":"E275","v":71.910821327163745},{"$f":"E277","v":74.972170686456394},{"$f":"E276","v":75.63822027716995},{"$f":"E278","v":73.486820696387895},{"$f":"J382","v":78.240068628744879},{"$f":"E280","v":78.670988654781198},{"$f":"E281","v":77.868625277161868},{"$f":"E282","v":78.808890577507597}]
["Cancer incidence"]
["Indicator","Period","ABM","Bridgend East Network","Bridgend North Network","Bridgend West Network","Afan","Neath","Upper Valleys","BayHealth","CityHealth","Cwmtawe","Llwchwr","Penderi","AB","Blaenau Gwent East","Blaenau Gwent West","Caerphilly East","Caerphilly North","Caerphilly South","Monmouthshire North","Monmouthshire South","Newport Central","Newport East","Newport West","Torfaen North","Torfaen South","BC","Anglesey","Conwy East","Conwy West","Central - South Denbighshire","North Denbighshire","Deeside Hawarden - Saltney","Holywell - Flint","Mold Buckley - Caergwle","Arfon","Dwyfor","Meirionnydd","South Wrexham","West - North Wrexham","Wrexham Town","CV","Cardiff East","Cardiff North","Cardiff South East","Cardiff South West","Cardiff West","City - Cardiff South","Central Vale","Eastern Vale","Western Vale","CT","North Merthyr Tydfil","South Merthyr Tydfil","North Cynon","North Rhondda","North Taf Ely","South Cynon","South Rhondda","South Taf Ely","HD","Amman-Gwendraeth","Llanelli","Taf - Teifi - Tywi","North Ceredigion","South Ceredigion","North Pembrokeshire","South Pembrokeshire","Powys","Mid Powys","North Powys","South Powys"]
[{"$f":"A435","v":"Incidence of bowel cancer (rate per 100,000)"},"Not available"]
[{"$f":"A436","v":"Incidence of breast cancer (rate per 100,000)"},"Not available"]
[{"$f":"A437","v":"Incidence of cervical cancer (rate per 100,000)"},"Not available"]
[{"$f":"A438","v":"Incidence of bowel cancer at stage 1"},"2011-2015",{"$f":"C438","v":12.2},{"$f":"'stage at diag data'!$E$12","v":13.9},{"$f":"'stage at diag data'!$E$13","v":7.9},{"$f":"'stage at diag data'!$E$14","v":10.3},{"$f":"'stage at diag data'!$E$10","v":12},{"$f":"'stage at diag data'!$E$18","v":15.5},{"$f":"'stage at diag data'!$E$20","v":11.9},{"$f":"'stage at diag data'!$E$11","v":11.5},{"$f":"'stage at diag data'!$E$15","v":10},{"$f":"'stage at diag data'!$E$16","v":12.3},{"$f":"'stage at diag data'!$E$17","v":14.5},{"$f":"'stage at diag data'!$E$19","v":13.9},{"$f":"'stage at diag data'!E$4","v":11.5},{"$f":"'stage at diag data'!$E$21","v":9.3000000000000007},{"$f":"'stage at diag data'!$E$22","v":6.3},{"$f":"'stage at diag data'!$E$23","v":14.7},{"$f":"'stage at diag data'!$E$24","v":16.3},{"$f":"'stage at diag data'!$E$25","v":13},{"$f":"'stage at diag data'!$E$26","v":7.9},{"$f":"'stage at diag data'!$E$27","v":11.8},{"$f":"'stage at diag data'!$E$28","v":10.3},{"$f":"'stage at diag data'!$E$29","v":13.7},{"$f":"'stage at diag data'!$E$30","v":5.0999999999999996},{"$f":"'stage at diag data'!$E$31","v":10.3},{"$f":"'stage at diag data'!$E$32","v":14.2},{"$f":"'stage at diag data'!E$5","v":15.1},{"$f":"'stage at diag data'!$E$33","v":16.2},{"$f":"'stage at diag data'!$E$37","v":12.9},{"$f":"'stage at diag data'!$E$38","v":13.1},{"$f":"'stage at diag data'!$E$35","v":15.8},{"$f":"'stage at diag data'!$E$42","v":11.5},{"$f":"'stage at diag data'!$E$43","v":11.9},{"$f":"'stage at diag data'!$E$44","v":15.3},{"$f":"'stage at diag data'!$E$45","v":17.899999999999999},{"$f":"'stage at diag data'!$E$34","v":16.5},{"$f":"'stage at diag data'!$E$39","v":15.6},{"$f":"'stage at diag data'!$E$40","v":13},{"$f":"'stage at diag data'!$E$46","v":17.3},{"$f":"'stage at diag data'!$E$41","v":21.8},{"$f":"'stage at diag data'!$E$36","v":15},{"$f":"'stage at diag data'!E$6","v":17.3},{"$f":"'stage at diag data'!$E$47","v":18.3},{"$f":"'stage at diag data'!$E$48","v":16.5},{"$f":"'stage at diag data'!$E$49","v":16.7},{"$f":"'stage at diag data'!$E$50","v":13.5},{"$f":"'stage at diag data'!$E$51","v":14.9},{"$f":"'stage at diag data'!$E$53","v":24.6},{"$f":"'stage at diag data'!$E$52","v":17.8},{"$f":"'stage at diag data'!$E$54","v":23.5},{"$f":"'stage at diag data'!$E$55","v":15.6},{"$f":"'stage at diag data'!E$7","v":15},null,null,null,null,null,null,null,null,{"$f":"'stage at diag data'!E$8","v":13.7},{"$f":"'stage at diag data'!$E$60","v":14.1},{"$f":"'stage at diag data'!$E$61","v":13.8},{"$f":"'stage at diag data'!$E$66","v":12.7},{"$f":"'stage at diag data'!$E$62","v":14.6},{"$f":"'stage at diag data'!$E$64","v":15.3},{"$f":"'stage at diag data'!$E$63","v":10.9},{"$f":"'stage at diag data'!$E$65","v":15.2},{"$f":"'stage at diag data'!E$9","v":12.9},{"$f":"'stage at diag data'!$E$67","v":13.4},{"$f":"'stage at diag data'!$E$68","v":15.5},{"$f":"'stage at diag data'!$E$69","v":8.6999999999999993}]
[{"$f":"A439","v":"Incidence of bowel cancer at stage 2"},"2011-2015",21.3,{"$f":"'stage at diag data'!$F$12","v":22.4},{"$f":"'stage at diag data'!$F$13","v":21.2},{"$f":"'stage at diag data'!$F$14","v":22.4},{"$f":"'stage at diag data'!$F$10","v":21.7},{"$f":"'stage at diag data'!$F$18","v":19.3},{"$f":"'stage at diag data'!$F$20","v":19.3},{"$f":"'stage at diag data'!$F$11","v":20.399999999999999},{"$f":"'stage at diag data'!$F$15","v":20},{"$f":"'stage at diag data'!$F$16","v":25.2},{"$f":"'stage at diag data'!$F$17","v":22.4},{"$f":"'stage at diag data'!$F$19","v":20},{"$f":"'stage at diag data'!F$4","v":22.6},{"$f":"'stage at diag data'!$F$21","v":14.7},{"$f":"'stage at diag data'!$F$22","v":16},{"$f":"'stage at diag data'!$F$23","v":25.8},{"$f":"'stage at diag data'!$F$24","v":24.3},{"$f":"'stage at diag data'!$F$25","v":22.8},{"$f":"'stage at diag data'!$F$26","v":24.3},{"$f":"'stage at diag data'!$F$27","v":21.6},{"$f":"'stage at diag data'!$F$28","v":18.8},{"$f":"'stage at diag data'!$F$29","v":25.8},{"$f":"'stage at diag data'!$F$30","v":29.7},{"$f":"'stage at diag data'!$F$31","v":18.600000000000001},{"$f":"'stage at diag data'!$F$32","v":25.3},{"$f":"'stage at diag data'!F$5","v":24.3},{"$f":"'stage at diag data'!$F$33","v":19.600000000000001},{"$f":"'stage at diag data'!$F$37","v":27.9},{"$f":"'stage at diag data'!$F$38","v":25.9},{"$f":"'stage at diag data'!$F$35","v":15.8},{"$f":"'stage at diag data'!$F$42","v":24.7},{"$f":"'stage at diag data'!$F43","v":27.4},{"$f":"'stage at diag data'!$F44","v":20.100000000000001},{"$f":"'stage at diag data'!$F45","v":23.1},{"$f":"'stage at diag data'!$F$34","v":27.3},{"$f":"'stage at diag data'!$F$39","v":27.9},{"$f":"'stage at diag data'!$F$40","v":26.6},{"$f":"'stage at diag data'!$F$46","v":22.5},{"$f":"'stage at diag data'!$F$41","v":24.6},{"$f":"'stage at diag data'!$F$36","v":26.5},{"$f":"'stage at diag data'!F$6","v":20.9},{"$f":"'stage at diag data'!$F$47","v":21.1},{"$f":"'stage at diag data'!$F$48","v":21},{"$f":"'stage at diag data'!$F$49","v":13.9},{"$f":"'stage at diag data'!$F$50","v":19.600000000000001},{"$f":"'stage at diag data'!$F$51","v":24.7},{"$f":"'stage at diag data'!$F$53","v":22.8},{"$f":"'stage at diag data'!$F$52","v":25.2},{"$f":"'stage at diag data'!$F$54","v":15.9},{"$f":"'stage at diag data'!$F$55","v":20.2},{"$f":"'stage at diag data'!F$7","v":22.2},null,null,null,null,null,null,null,null,{"$f":"'stage at diag data'!F$8","v":18.8},{"$f":"'stage at diag data'!$F$60","v":20.5},{"$f":"'stage at diag data'!$F$61","v":16.399999999999999},{"$f":"'stage at diag data'!$F$66","v":17.100000000000001},{"$f":"'stage at diag data'!$F$62","v":21},{"$f":"'stage at diag data'!$F$64","v":16.8},{"$f":"'stage at diag data'!$F$63","v":24.6},{"$f":"'stage at diag data'!$F$65","v":15.5},{"$f":"'stage at diag data'!F$9","v":22.2},{"$f":"'stage at diag data'!$F$67","v":26.1},{"$f":"'stage at diag data'!$F$68","v":18.100000000000001},{"$f":"'stage at diag data'!$F$69","v":25.7}]
[{"$f":"A440","v":"Incidence of bowel cancer at stage 3"},"2011-2015",33.1,{"$f":"'stage at diag data'!$G$12","v":33.200000000000003},{"$f":"'stage at diag data'!$G$13","v":33.9},{"$f":"'stage at diag data'!$G$14","v":29.5},{"$f":"'stage at diag data'!$G$10","v":34.9},{"$f":"'stage at diag data'!$G$18","v":31.4},{"$f":"'stage at diag data'!$G$20","v":33.299999999999997},{"$f":"'stage at diag data'!$G$11","v":33.5},{"$f":"'stage at diag data'!$G$15","v":40},{"$f":"'stage at diag data'!$G$16","v":28.4},{"$f":"'stage at diag data'!$G$17","v":32.700000000000003},{"$f":"'stage at diag data'!$G$19","v":33.9},{"$f":"'stage at diag data'!G$4","v":32},{"$f":"'stage at diag data'!$G$21","v":34.1},{"$f":"'stage at diag data'!$G$22","v":47.2},{"$f":"'stage at diag data'!$G$23","v":25.8},{"$f":"'stage at diag data'!$G$24","v":26.8},{"$f":"'stage at diag data'!$G$25","v":38.1},{"$f":"'stage at diag data'!$G$26","v":36},{"$f":"'stage at diag data'!$G$27","v":30.1},{"$f":"'stage at diag data'!$G$28","v":29.1},{"$f":"'stage at diag data'!$G$29","v":27.5},{"$f":"'stage at diag data'!$G$30","v":34.1},{"$f":"'stage at diag data'!$G$31","v":29.5},{"$f":"'stage at diag data'!$G$32","v":28.4},{"$f":"'stage at diag data'!G$5","v":25},{"$f":"'stage at diag data'!$G$33","v":25},{"$f":"'stage at diag data'!$G$37","v":18.5},{"$f":"'stage at diag data'!$G$38","v":23.6},{"$f":"'stage at diag data'!$G$35","v":26},{"$f":"'stage at diag data'!$G$42","v":30.6},{"$f":"'stage at diag data'!$G43","v":23.9},{"$f":"'stage at diag data'!$G44","v":30.6},{"$f":"'stage at diag data'!$G45","v":28.7},{"$f":"'stage at diag data'!$G$34","v":24.7},{"$f":"'stage at diag data'!$G$39","v":19.7},{"$f":"'stage at diag data'!$G$40","v":28.8},{"$f":"'stage at diag data'!$G$46","v":22.5},{"$f":"'stage at diag data'!$G$41","v":21.2},{"$f":"'stage at diag data'!$G$36","v":26.5},{"$f":"'stage at diag data'!G$6","v":29.1},{"$f":"'stage at diag data'!$G$47","v":26.1},{"$f":"'stage at diag data'!$G$48","v":30},{"$f":"'stage at diag data'!$G$49","v":35.200000000000003},{"$f":"'stage at diag data'!$G$50","v":29.4},{"$f":"'stage at diag data'!$G$51","v":29.3},{"$f":"'stage at diag data'!$G$53","v":26.3},{"$f":"'stage at diag data'!$G$52","v":23.4},{"$f":"'stage at diag data'!$G$54","v":29.5},{"$f":"'stage at diag data'!$G$55","v":35.799999999999997},{"$f":"'stage at diag data'!G$7","v":29.7},null,null,null,null,null,null,null,null,{"$f":"'stage at diag data'!G$8","v":35.700000000000003},{"$f":"'stage at diag data'!$G$60","v":31.4},{"$f":"'stage at diag data'!$G$61","v":37.1},{"$f":"'stage at diag data'!$G$66","v":36.9},{"$f":"'stage at diag data'!$G$62","v":28.7},{"$f":"'stage at diag data'!$G$64","v":36.700000000000003},{"$f":"'stage at diag data'!$G$63","v":36.6},{"$f":"'stage at diag data'!$G$65","v":39.200000000000003},{"$f":"'stage at diag data'!G$9","v":29.7},{"$f":"'stage at diag data'!$G$67","v":32.1},{"$f":"'stage at diag data'!$G$68","v":27.3},{"$f":"'stage at diag data'!$G$69","v":31.6}]
[{"$f":"A441","v":"Incidence of bowel cancer at stage 4"},"2011-2015",18.100000000000001,{"$f":"'stage at diag data'!$H$12","v":22},{"$f":"'stage at diag data'!$H$13","v":23.8},{"$f":"'stage at diag data'!$H$14","v":26.3},{"$f":"'stage at diag data'!$H$10","v":15.4},{"$f":"'stage at diag data'!$H$18","v":16.399999999999999},{"$f":"'stage at diag data'!$H$20","v":11.9},{"$f":"'stage at diag data'!$H$11","v":17.100000000000001},{"$f":"'stage at diag data'!$H$15","v":18.100000000000001},{"$f":"'stage at diag data'!$H$16","v":16.100000000000001},{"$f":"'stage at diag data'!$H$17","v":13.9},{"$f":"'stage at diag data'!$H$19","v":15.7},{"$f":"'stage at diag data'!H$4","v":20.9},{"$f":"'stage at diag data'!$H$21","v":24.8},{"$f":"'stage at diag data'!$H$22","v":20.8},{"$f":"'stage at diag data'!$H$23","v":20},{"$f":"'stage at diag data'!$H$24","v":19.7},{"$f":"'stage at diag data'!$H$25","v":17.7},{"$f":"'stage at diag data'!$H$26","v":19.2},{"$f":"'stage at diag data'!$H$27","v":23.5},{"$f":"'stage at diag data'!$H$28","v":25.5},{"$f":"'stage at diag data'!$H$29","v":19.2},{"$f":"'stage at diag data'!$H$30","v":18.8},{"$f":"'stage at diag data'!$H$31","v":23.1},{"$f":"'stage at diag data'!$H$32","v":21.6},{"$f":"'stage at diag data'!H$5","v":18.8},{"$f":"'stage at diag data'!$H$33","v":19.600000000000001},{"$f":"'stage at diag data'!$H$37","v":24.9},{"$f":"'stage at diag data'!$H$38","v":20.7},{"$f":"'stage at diag data'!$H$35","v":23.7},{"$f":"'stage at diag data'!$H$42","v":20.9},{"$f":"'stage at diag data'!$H43","v":13.3},{"$f":"'stage at diag data'!$H44","v":24.3},{"$f":"'stage at diag data'!$H45","v":15.9},{"$f":"'stage at diag data'!$H$34","v":16.100000000000001},{"$f":"'stage at diag data'!$H$39","v":12.3},{"$f":"'stage at diag data'!$H$40","v":12.5},{"$f":"'stage at diag data'!$H$46","v":20.9},{"$f":"'stage at diag data'!$H$41","v":17.899999999999999},{"$f":"'stage at diag data'!$H$36","v":17},{"$f":"'stage at diag data'!H$6","v":21.7},{"$f":"'stage at diag data'!$H$47","v":23.2},{"$f":"'stage at diag data'!$H$48","v":22.5},{"$f":"'stage at diag data'!$H$49","v":23.1},{"$f":"'stage at diag data'!$H$50","v":20.9},{"$f":"'stage at diag data'!$H$51","v":21.3},{"$f":"'stage at diag data'!$H$53","v":12.3},{"$f":"'stage at diag data'!$H$52","v":22},{"$f":"'stage at diag data'!$H$54","v":21.2},{"$f":"'stage at diag data'!$H$55","v":23.9},{"$f":"'stage at diag data'!H$7","v":21},null,null,null,null,null,null,null,null,{"$f":"'stage at diag data'!H$8","v":19.100000000000001},{"$f":"'stage at diag data'!$H$60","v":25.9},{"$f":"'stage at diag data'!$H$61","v":22},{"$f":"'stage at diag data'!$H$66","v":20.6},{"$f":"'stage at diag data'!$H$62","v":13.4},{"$f":"'stage at diag data'!$H$64","v":19.899999999999999},{"$f":"'stage at diag data'!$H$63","v":14.9},{"$f":"'stage at diag data'!$H$65","v":16.600000000000001},{"$f":"'stage at diag data'!H$9","v":15.4},{"$f":"'stage at diag data'!$H$67","v":9},{"$f":"'stage at diag data'!$H$68","v":14.1},{"$f":"'stage at diag data'!$H$69","v":21.4}]
[{"$f":"A442","v":"Incidence of bowel cancer at unknown stage"},"2011-2015",15.3,{"$f":"'stage at diag data'!$I$12","v":8.5},{"$f":"'stage at diag data'!$I$13","v":13.2},{"$f":"'stage at diag data'!$I$14","v":11.5},{"$f":"'stage at diag data'!$I$10","v":16},{"$f":"'stage at diag data'!$I$18","v":17.399999999999999},{"$f":"'stage at diag data'!$I$20","v":23.7},{"$f":"'stage at diag data'!$I$11","v":17.5},{"$f":"'stage at diag data'!$I$15","v":11.9},{"$f":"'stage at diag data'!$I$16","v":18.100000000000001},{"$f":"'stage at diag data'!$I$17","v":16.399999999999999},{"$f":"'stage at diag data'!$I$19","v":16.5},{"$f":"'stage at diag data'!I$4","v":13.1},{"$f":"'stage at diag data'!$I$21","v":17.100000000000001},{"$f":"'stage at diag data'!$I$22","v":9.6999999999999993},{"$f":"'stage at diag data'!$I$23","v":13.7},{"$f":"'stage at diag data'!$I$24","v":13},{"$f":"'stage at diag data'!$I$25","v":8.4},{"$f":"'stage at diag data'!$I$26","v":12.6},{"$f":"'stage at diag data'!$I$27","v":13.1},{"$f":"'stage at diag data'!$I$28","v":16.399999999999999},{"$f":"'stage at diag data'!$I$29","v":13.7},{"$f":"'stage at diag data'!$I$30","v":12.3},{"$f":"'stage at diag data'!$I$31","v":18.600000000000001},{"$f":"'stage at diag data'!$I$32","v":10.5},{"$f":"'stage at diag data'!I$5","v":16.899999999999999},{"$f":"'stage at diag data'!$I$33","v":19.600000000000001},{"$f":"'stage at diag data'!$I$37","v":15.9},{"$f":"'stage at diag data'!$I$38","v":16.7},{"$f":"'stage at diag data'!$I$35","v":18.600000000000001},{"$f":"'stage at diag data'!$I$42","v":12.3},{"$f":"'stage at diag data'!$I43","v":23.5},{"$f":"'stage at diag data'!$I44","v":9.6999999999999993},{"$f":"'stage at diag data'!$I45","v":14.4},{"$f":"'stage at diag data'!$I$34","v":15.4},{"$f":"'stage at diag data'!$I$39","v":24.6},{"$f":"'stage at diag data'!$I$40","v":19},{"$f":"'stage at diag data'!$I$46","v":16.8},{"$f":"'stage at diag data'!$I$41","v":14.5},{"$f":"'stage at diag data'!$I$36","v":15},{"$f":"'stage at diag data'!I$6","v":11},{"$f":"'stage at diag data'!$I$47","v":11.3},{"$f":"'stage at diag data'!$I$48","v":10.1},{"$f":"'stage at diag data'!$I$49","v":11.1},{"$f":"'stage at diag data'!$I$50","v":16.600000000000001},{"$f":"'stage at diag data'!$I$51","v":9.8000000000000007},{"$f":"'stage at diag data'!$I$53","v":14},{"$f":"'stage at diag data'!$I$52","v":11.7},{"$f":"'stage at diag data'!$I$54","v":9.8000000000000007},{"$f":"'stage at diag data'!$I$55","v":4.5999999999999996},{"$f":"'stage at diag data'!I$7","v":12.1},null,null,null,null,null,null,null,null,{"$f":"'stage at diag data'!I$8","v":12.7},{"$f":"'stage at diag data'!$I$60","v":8.1999999999999993},{"$f":"'stage at diag data'!$I$61","v":10.8},{"$f":"'stage at diag data'!$I$66","v":12.7},{"$f":"'stage at diag data'!$I$62","v":22.3},{"$f":"'stage at diag data'!$I$64","v":11.2},{"$f":"'stage at diag data'!$I$63","v":13},{"$f":"'stage at diag data'!$I$65","v":13.4},{"$f":"'stage at diag data'!I$9","v":19.899999999999999},{"$f":"'stage at diag data'!$I$67","v":19.399999999999999},{"$f":"'stage at diag data'!$I$68","v":25},{"$f":"'stage at diag data'!$I$69","v":12.6}]
[{"$f":"A443","v":"Incidence of breast cancer at stage 1"},"2011-2015",30.6,{"$f":"'stage at diag data'!$E$80","v":21},{"$f":"'stage at diag data'!$E$81","v":35.5},{"$f":"'stage at diag data'!$E$82","v":30.6},{"$f":"'stage at diag data'!$E$78","v":26},{"$f":"'stage at diag data'!$E$86","v":26.8},{"$f":"'stage at diag data'!$E$88","v":29.1},{"$f":"'stage at diag data'!E79","v":32.4},{"$f":"'stage at diag data'!$E$83","v":34.9},{"$f":"'stage at diag data'!$E$84","v":36},{"$f":"'stage at diag data'!$E$85","v":35.200000000000003},{"$f":"'stage at diag data'!$E$87","v":30.5},{"$f":"'stage at diag data'!E72","v":34.200000000000003},{"$f":"'stage at diag data'!$E$89","v":36.200000000000003},{"$f":"'stage at diag data'!$E$90","v":42},{"$f":"'stage at diag data'!$E$91","v":33.6},{"$f":"'stage at diag data'!$E$92","v":32.799999999999997},{"$f":"'stage at diag data'!$E$93","v":38.200000000000003},{"$f":"'stage at diag data'!$E$94","v":32.1},{"$f":"'stage at diag data'!$E$95","v":31.2},{"$f":"'stage at diag data'!$E$97","v":29.7},{"$f":"'stage at diag data'!$E$96","v":37.200000000000003},{"$f":"'stage at diag data'!$E$98","v":27.7},{"$f":"'stage at diag data'!$E$99","v":35.4},{"$f":"'stage at diag data'!$E$100","v":34},{"$f":"'stage at diag data'!E$73","v":38.200000000000003},{"$f":"'stage at diag data'!$E$101","v":39.799999999999997},{"$f":"'stage at diag data'!$E$105","v":35.299999999999997},{"$f":"'stage at diag data'!$E$106","v":43.9},{"$f":"'stage at diag data'!$E$103","v":37.9},{"$f":"'stage at diag data'!$E$110","v":40.799999999999997},{"$f":"'stage at diag data'!E$111","v":35.799999999999997},{"$f":"'stage at diag data'!E$112","v":39.9},{"$f":"'stage at diag data'!E$113","v":37.799999999999997},{"$f":"'stage at diag data'!$E$102","v":42.3},{"$f":"'stage at diag data'!$E$107","v":46.9},{"$f":"'stage at diag data'!$E$108","v":33.200000000000003},{"$f":"'stage at diag data'!$E$114","v":35.6},{"$f":"'stage at diag data'!$E$109","v":32.1},{"$f":"'stage at diag data'!$E$104","v":28.2},{"$f":"'stage at diag data'!E$74","v":32.4},{"$f":"'stage at diag data'!$E$115","v":33.299999999999997},{"$f":"'stage at diag data'!$E$116","v":34.299999999999997},{"$f":"'stage at diag data'!$E$117","v":28.6},{"$f":"'stage at diag data'!$E$118","v":22.6},{"$f":"'stage at diag data'!$E$119","v":36.5},{"$f":"'stage at diag data'!$E$121","v":20.5},{"$f":"'stage at diag data'!$E$120","v":38.9},{"$f":"'stage at diag data'!$E$122","v":33.5},{"$f":"'stage at diag data'!$E$123","v":30},{"$f":"'stage at diag data'!E$75","v":34},null,null,null,null,null,null,null,null,{"$f":"'stage at diag data'!E$76","v":35.299999999999997},{"$f":"'stage at diag data'!$E$128","v":37.6},{"$f":"'stage at diag data'!$E$129","v":37.6},{"$f":"'stage at diag data'!$E$134","v":40.5},{"$f":"'stage at diag data'!$E$130","v":31.8},{"$f":"'stage at diag data'!$E$132","v":35.700000000000003},{"$f":"'stage at diag data'!$E$131","v":33.4},{"$f":"'stage at diag data'!$E$133","v":29.3},{"$f":"'stage at diag data'!E$77","v":31.6},{"$f":"'stage at diag data'!$E$135","v":32.9},{"$f":"'stage at diag data'!$E$136","v":29.8},{"$f":"'stage at diag data'!$E$137","v":33}]
[{"$f":"A444","v":"Incidence of breast cancer at stage 2"},"2011-2015",34,{"$f":"'stage at diag data'!$F$80","v":39.299999999999997},{"$f":"'stage at diag data'!$F$81","v":37.9},{"$f":"'stage at diag data'!$F$82","v":33.299999999999997},{"$f":"'stage at diag data'!$F$78","v":41.2},{"$f":"'stage at diag data'!$F$86","v":33.299999999999997},{"$f":"'stage at diag data'!$F$88","v":35.9},{"$f":"'stage at diag data'!E80","v":21},{"$f":"'stage at diag data'!$F$83","v":25.5},{"$f":"'stage at diag data'!$F$84","v":31.1},{"$f":"'stage at diag data'!$F$85","v":30.7},{"$f":"'stage at diag data'!$F$87","v":33.799999999999997},{"$f":"'stage at diag data'!F72","v":37},{"$f":"'stage at diag data'!$F$89","v":33.6},{"$f":"'stage at diag data'!$F$90","v":27.4},{"$f":"'stage at diag data'!$F$91","v":39.5},{"$f":"'stage at diag data'!$F$92","v":36.4},{"$f":"'stage at diag data'!$F$93","v":39.799999999999997},{"$f":"'stage at diag data'!$F$94","v":38.299999999999997},{"$f":"'stage at diag data'!$F$95","v":39},{"$f":"'stage at diag data'!$F$97","v":40.5},{"$f":"'stage at diag data'!$F$96","v":36.6},{"$f":"'stage at diag data'!$F$98","v":36.5},{"$f":"'stage at diag data'!$F$99","v":36.4},{"$f":"'stage at diag data'!$F$100","v":35.1},{"$f":"'stage at diag data'!F$73","v":28.7},{"$f":"'stage at diag data'!$F$101","v":28.9},{"$f":"'stage at diag data'!$F$105","v":34.299999999999997},{"$f":"'stage at diag data'!$F$106","v":25.3},{"$f":"'stage at diag data'!$F$103","v":27.9},{"$f":"'stage at diag data'!$F$110","v":27.7},{"$f":"'stage at diag data'!F$111","v":31.5},{"$f":"'stage at diag data'!F$112","v":32.200000000000003},{"$f":"'stage at diag data'!F$113","v":28.6},{"$f":"'stage at diag data'!$F$102","v":25.4},{"$f":"'stage at diag data'!$F$107","v":23.5},{"$f":"'stage at diag data'!$F$108","v":31.6},{"$f":"'stage at diag data'!$F$114","v":24.7},{"$f":"'stage at diag data'!$F$109","v":32.700000000000003},{"$f":"'stage at diag data'!$F$104","v":30.1},{"$f":"'stage at diag data'!F$74","v":35.799999999999997},{"$f":"'stage at diag data'!$F$115","v":37},{"$f":"'stage at diag data'!$F$116","v":34.5},{"$f":"'stage at diag data'!$F$117","v":43.7},{"$f":"'stage at diag data'!$F$118","v":38.200000000000003},{"$f":"'stage at diag data'!$F$119","v":36.5},{"$f":"'stage at diag data'!$F$121","v":40.9},{"$f":"'stage at diag data'!$F$120","v":31.1},{"$f":"'stage at diag data'!$F$122","v":28.9},{"$f":"'stage at diag data'!$F$123","v":41.5},{"$f":"'stage at diag data'!F$75","v":37.799999999999997},null,null,null,null,null,null,null,null,{"$f":"'stage at diag data'!F$76","v":35.700000000000003},{"$f":"'stage at diag data'!$F$128","v":35.299999999999997},{"$f":"'stage at diag data'!$F$129","v":34.700000000000003},{"$f":"'stage at diag data'!$F$134","v":35.799999999999997},{"$f":"'stage at diag data'!$F$130","v":38.700000000000003},{"$f":"'stage at diag data'!$F$132","v":37.299999999999997},{"$f":"'stage at diag data'!$F$131","v":34.299999999999997},{"$f":"'stage at diag data'!$F$133","v":35.1},{"$f":"'stage at diag data'!F$77","v":32.299999999999997},{"$f":"'stage at diag data'!$F$135","v":29.9},{"$f":"'stage at diag data'!$F$136","v":32.1},{"$f":"'stage at diag data'!$F$137","v":34.5}]
[{"$f":"A445","v":"Incidence of breast cancer at stage 3"},"2011-2015",10.5,{"$f":"'stage at diag data'!$G$80","v":14.9},{"$f":"'stage at diag data'!$G$81","v":8.9},{"$f":"'stage at diag data'!$G$82","v":9.1},{"$f":"'stage at diag data'!$G$78","v":10.8},{"$f":"'stage at diag data'!$G$86","v":13},{"$f":"'stage at diag data'!$G$88","v":11.1},{"$f":"'stage at diag data'!E81","v":35.5},{"$f":"'stage at diag data'!$G$83","v":10.1},{"$f":"'stage at diag data'!$G$84","v":11.7},{"$f":"'stage at diag data'!$G$85","v":8},{"$f":"'stage at diag data'!$G$87","v":9.6999999999999993},{"$f":"'stage at diag data'!G72","v":10.9},{"$f":"'stage at diag data'!$G$89","v":10.1},{"$f":"'stage at diag data'!$G$90","v":10.199999999999999},{"$f":"'stage at diag data'!$G$91","v":10.9},{"$f":"'stage at diag data'!$G$92","v":13.2},{"$f":"'stage at diag data'!$G$93","v":10.8},{"$f":"'stage at diag data'!$G$94","v":8.6},{"$f":"'stage at diag data'!$G$95","v":10.6},{"$f":"'stage at diag data'!$G$97","v":12.6},{"$f":"'stage at diag data'!$G$96","v":11.6},{"$f":"'stage at diag data'!$G$98","v":10.9},{"$f":"'stage at diag data'!$G$99","v":7.7},{"$f":"'stage at diag data'!$G$100","v":12.9},{"$f":"'stage at diag data'!G$73","v":7.6},{"$f":"'stage at diag data'!$G$101","v":7.6},{"$f":"'stage at diag data'!$G$105","v":5.7},{"$f":"'stage at diag data'!$G$106","v":9.5},{"$f":"'stage at diag data'!$G$103","v":6.4},{"$f":"'stage at diag data'!$G$110","v":6.2},{"$f":"'stage at diag data'!G$111","v":8.1999999999999993},{"$f":"'stage at diag data'!G$112","v":10.5},{"$f":"'stage at diag data'!G$113","v":8.4},{"$f":"'stage at diag data'!$G$102","v":8.1},{"$f":"'stage at diag data'!$G$107","v":8},{"$f":"'stage at diag data'!$G$108","v":4.8},{"$f":"'stage at diag data'!$G$114","v":6.8},{"$f":"'stage at diag data'!$G$109","v":9.1},{"$f":"'stage at diag data'!$G$104","v":8.1},{"$f":"'stage at diag data'!G$74","v":10.3},{"$f":"'stage at diag data'!$G$115","v":6.8},{"$f":"'stage at diag data'!$G$116","v":9.3000000000000007},{"$f":"'stage at diag data'!$G$117","v":5.6},{"$f":"'stage at diag data'!$G$118","v":12.4},{"$f":"'stage at diag data'!$G$119","v":10},{"$f":"'stage at diag data'!$G$121","v":5.7},{"$f":"'stage at diag data'!$G$120","v":12.3},{"$f":"'stage at diag data'!$G$122","v":13.7},{"$f":"'stage at diag data'!$G$123","v":13.8},{"$f":"'stage at diag data'!G$75","v":10.4},null,null,null,null,null,null,null,null,{"$f":"'stage at diag data'!G$76","v":10.7},{"$f":"'stage at diag data'!$G$128","v":11.3},{"$f":"'stage at diag data'!$G$129","v":12.5},{"$f":"'stage at diag data'!$G$134","v":11.7},{"$f":"'stage at diag data'!$G$130","v":8.8000000000000007},{"$f":"'stage at diag data'!$G$132","v":11.2},{"$f":"'stage at diag data'!$G$131","v":7.8},{"$f":"'stage at diag data'!$G$133","v":12},{"$f":"'stage at diag data'!G$77","v":9.6},{"$f":"'stage at diag data'!$G$135","v":11.6},{"$f":"'stage at diag data'!$G$136","v":8.1999999999999993},{"$f":"'stage at diag data'!$G$137","v":10.199999999999999}]
[{"$f":"A446","v":"Incidence of breast cancer at stage 4"},"2011-2015",3.7,{"$f":"'stage at diag data'!$H$80","v":4.5999999999999996},{"$f":"'stage at diag data'!$H$81","v":2.5},{"$f":"'stage at diag data'!$H$82","v":6.5},{"$f":"'stage at diag data'!$H$78","v":3.9},{"$f":"'stage at diag data'!$H$86","v":4.0999999999999996},{"$f":"'stage at diag data'!$H$88","v":1.7},{"$f":"'stage at diag data'!E82","v":30.6},{"$f":"'stage at diag data'!$H$83","v":2.7},{"$f":"'stage at diag data'!$H$84","v":4.0999999999999996},{"$f":"'stage at diag data'!$H$85","v":2.7},{"$f":"'stage at diag data'!$H$87","v":5.2},{"$f":"'stage at diag data'!H72","v":4.0999999999999996},{"$f":"'stage at diag data'!$H$89","v":6},{"$f":"'stage at diag data'!$H$90","v":4.5},{"$f":"'stage at diag data'!$H$91","v":3.1},{"$f":"'stage at diag data'!$H$92","v":4},{"$f":"'stage at diag data'!$H$93","v":2.2999999999999998},{"$f":"'stage at diag data'!$H$94","v":5.3},{"$f":"'stage at diag data'!$H$95","v":2.8},{"$f":"'stage at diag data'!$H$97","v":4.0999999999999996},{"$f":"'stage at diag data'!$H$96","v":2.2999999999999998},{"$f":"'stage at diag data'!$H$98","v":7.3},{"$f":"'stage at diag data'!$H$99","v":5.3},{"$f":"'stage at diag data'!$H$100","v":3.1},{"$f":"'stage at diag data'!H$73","v":3},{"$f":"'stage at diag data'!$H$101","v":3.6},{"$f":"'stage at diag data'!$H$105","v":3.7},{"$f":"'stage at diag data'!$H$106","v":3.5},{"$f":"'stage at diag data'!$H$103","v":2.7},{"$f":"'stage at diag data'!$H$110","v":0.7},{"$f":"'stage at diag data'!H$111","v":1.6},{"$f":"'stage at diag data'!H$112","v":2.1},{"$f":"'stage at diag data'!H$113","v":3.4},{"$f":"'stage at diag data'!$H$102","v":5.0999999999999996},{"$f":"'stage at diag data'!$H$107","v":1.9},{"$f":"'stage at diag data'!$H$108","v":3.2},{"$f":"'stage at diag data'!$H$114","v":3.2},{"$f":"'stage at diag data'!$H$109","v":3},{"$f":"'stage at diag data'!$H$104","v":3.3},{"$f":"'stage at diag data'!H$74","v":3.1},{"$f":"'stage at diag data'!$H$115","v":3.7},{"$f":"'stage at diag data'!$H$116","v":3.6},{"$f":"'stage at diag data'!$H$117","v":1.6},{"$f":"'stage at diag data'!$H$118","v":3.8},{"$f":"'stage at diag data'!$H$119","v":2.2999999999999998},{"$f":"'stage at diag data'!$H$121","v":6.8},{"$f":"'stage at diag data'!$H$120","v":2},{"$f":"'stage at diag data'!$H$122","v":3},{"$f":"'stage at diag data'!$H$123","v":2.2999999999999998},{"$f":"'stage at diag data'!H$75","v":3.9},null,null,null,null,null,null,null,null,{"$f":"'stage at diag data'!H$76","v":4.5},{"$f":"'stage at diag data'!$H$128","v":4.5},{"$f":"'stage at diag data'!$H$129","v":6.3},{"$f":"'stage at diag data'!$H$134","v":2.8},{"$f":"'stage at diag data'!$H$130","v":4.5999999999999996},{"$f":"'stage at diag data'!$H$132","v":3.7},{"$f":"'stage at diag data'!$H$131","v":4.2},{"$f":"'stage at diag data'!$H$133","v":5.4},{"$f":"'stage at diag data'!H$77","v":3.7},{"$f":"'stage at diag data'!$H$135","v":4.3},{"$f":"'stage at diag data'!$H$136","v":3},{"$f":"'stage at diag data'!$H$137","v":4.4000000000000004}]
[{"$f":"A447","v":"Incidence of breast cancer at unknown stage"},"2011-2015",20.9,{"$f":"'stage at diag data'!$I$80","v":19.8},{"$f":"'stage at diag data'!$I$81","v":14.8},{"$f":"'stage at diag data'!$I$82","v":20.399999999999999},{"$f":"'stage at diag data'!$I$78","v":18.100000000000001},{"$f":"'stage at diag data'!$I$86","v":22.8},{"$f":"'stage at diag data'!$I$88","v":22.2},{"$f":"'stage at diag data'!E83","v":34.9},{"$f":"'stage at diag data'!$I$83","v":26.2},{"$f":"'stage at diag data'!$I$84","v":16.7},{"$f":"'stage at diag data'!$I$85","v":22.6},{"$f":"'stage at diag data'!$I$87","v":20.100000000000001},{"$f":"'stage at diag data'!I72","v":13.6},{"$f":"'stage at diag data'!$I$89","v":14.1},{"$f":"'stage at diag data'!$I$90","v":15.9},{"$f":"'stage at diag data'!$I$91","v":12.9},{"$f":"'stage at diag data'!$I$92","v":12.8},{"$f":"'stage at diag data'!$I$93","v":8.9},{"$f":"'stage at diag data'!$I$94","v":15.6},{"$f":"'stage at diag data'!$I$95","v":16.3},{"$f":"'stage at diag data'!$I$97","v":12.2},{"$f":"'stage at diag data'!$I$96","v":12.2},{"$f":"'stage at diag data'!$I$98","v":17.5},{"$f":"'stage at diag data'!$I$99","v":14.8},{"$f":"'stage at diag data'!$I$100","v":14.4},{"$f":"'stage at diag data'!I$73","v":22.2},{"$f":"'stage at diag data'!$I$101","v":19.7},{"$f":"'stage at diag data'!$I$105","v":20.7},{"$f":"'stage at diag data'!$I$106","v":17.8},{"$f":"'stage at diag data'!$I$103","v":25.1},{"$f":"'stage at diag data'!$I$110","v":24},{"$f":"'stage at diag data'!I$111","v":22.2},{"$f":"'stage at diag data'!I$112","v":15.4},{"$f":"'stage at diag data'!I$113","v":21.4},{"$f":"'stage at diag data'!$I$102","v":18.8},{"$f":"'stage at diag data'!$I$107","v":19.8},{"$f":"'stage at diag data'!$I$108","v":25.7},{"$f":"'stage at diag data'!$I$114","v":29.7},{"$f":"'stage at diag data'!$I$109","v":23},{"$f":"'stage at diag data'!$I$104","v":30.1},{"$f":"'stage at diag data'!I$74","v":18.100000000000001},{"$f":"'stage at diag data'!$I$115","v":19.100000000000001},{"$f":"'stage at diag data'!$I$116","v":17.5},{"$f":"'stage at diag data'!$I$117","v":20.6},{"$f":"'stage at diag data'!$I$118","v":22.6},{"$f":"'stage at diag data'!$I$119","v":14.6},{"$f":"'stage at diag data'!$I$121","v":26.1},{"$f":"'stage at diag data'!$I$120","v":15.2},{"$f":"'stage at diag data'!$I$122","v":20.8},{"$f":"'stage at diag data'!$I$123","v":11.5},{"$f":"'stage at diag data'!I$75","v":13.5},null,null,null,null,null,null,null,null,{"$f":"'stage at diag data'!I$76","v":13.2},{"$f":"'stage at diag data'!$I$128","v":10.5},{"$f":"'stage at diag data'!$I$129","v":8.1},{"$f":"'stage at diag data'!$I$134","v":9.1999999999999993},{"$f":"'stage at diag data'!$I$130","v":15.7},{"$f":"'stage at diag data'!$I$132","v":10.8},{"$f":"'stage at diag data'!$I$131","v":19.7},{"$f":"'stage at diag data'!$I$133","v":17.8},{"$f":"'stage at diag data'!I77","v":22.5},{"$f":"'stage at diag data'!$I$135","v":20.100000000000001},{"$f":"'stage at diag data'!$I$136","v":26.9},{"$f":"'stage at diag data'!$I$137","v":18}]
["Cancer prevalence"]
["Indicator","Period","ABM","Bridgend East Network","Bridgend North Network","Bridgend West Network","Afan","Neath","Upper Valleys","BayHealth","CityHealth","Cwmtawe","Llwchwr","Penderi","AB","Blaenau Gwent East","Blaenau Gwent West","Caerphilly East","Caerphilly North","Caerphilly South","Monmouthshire North","Monmouthshire South","Newport Central","Newport East","Newport West","Torfaen North","Torfaen South","BC","Anglesey","Conwy East","Conwy West","Central - South Denbighshire","North Denbighshire","Deeside Hawarden - Saltney","Holywell - Flint","Mold Buckley - Caergwle","Arfon","Dwyfor","Meirionnydd","South Wrexham","West - North Wrexham","Wrexham Town","CV","Cardiff East","Cardiff North","Cardiff South East","Cardiff South West","Cardiff West","City - Cardiff South","Central Vale","Eastern Vale","Western Vale","CT","North Merthyr Tydfil","South Merthyr Tydfil","North Cynon","North Rhondda","North Taf Ely","South Cynon","South Rhondda","South Taf Ely","HD","Amman-Gwendraeth","Llanelli","Taf - Teifi - Tywi","North Ceredigion","South Ceredigion","North Pembrokeshire","South Pembrokeshire","Powys","Mid Powys","North Powys","South Powys"]
["Prevalence of bowel cancer (%)","Not available"]
["Prevalence of breast cancer (%)","Not available"]
["CLA"]
["Screening uptake"]
["Indicator","Period","Bridgend","Bridgend East Network","Bridgend North Network","Bridgend West Network","Neath Port Talbot","Afan","Neath","Upper Valleys","Swansea","BayHealth","CityHealth","Cwmtawe","Llwchwr","Penderi","Blaenau Gwent","Blaenau Gwent East","Blaenau Gwent West","Caerphilly","Caerphilly East","Caerphilly North","Caerphilly South","Monmouthshire","Monmouthshire North","Monmouthshire South","Newport","Newport Central","Newport East","Newport West","Torfaen","Torfaen North","Torfaen South","Anglesey LA","Anglesey Cluster","Conwy","Conwy East","Conwy West","Denbighshire","Central - South Denbighshire","North Denbighshire","Flintshire","Deeside Hawarden - Saltney","Holywell - Flint","Mold Buckley - Caergwle","Gwynedd","Arfon","Dwyfor","Meirionnydd","Wrexham","South Wrexham","West - North Wrexham","Wrexham Town","Cardiff","Cardiff East","Cardiff North","Cardiff South East","Cardiff South West","Cardiff West","City - Cardiff South","Vale of Glamorgan","Central Vale","Eastern Vale","Western Vale","Merthyr Tydfil","North Merthyr Tydfil","South Merthyr Tydfil","Rhondda Cynon Taf","North Cynon","North Rhondda","North Taf Ely","South Cynon","South Rhondda","South Taf Ely","Carmarthenshire","Amman-Gwendraeth","Llanelli","Taf - Teifi - Tywi","Ceredigion","North Ceredigion","South Ceredigion","Pembrokeshire","North Pembrokeshire","South Pembrokeshire","Powys","Mid Powys","North Powys","South Powys"]
["Uptake of bowel screening (%)","Not available"]
["Uptake of breast screening (%)","Not available"]
["Uptake of cervical screening (%)","Not available"]
["Cancer incidence"]
["Indicator","Period","Bridgend","Bridgend East Network","Bridgend North Network","Bridgend West Network","Neath Port Talbot","Afan","Neath","Upper Valleys","Swansea","BayHealth","CityHealth","Cwmtawe","Llwchwr","Penderi","Blaenau Gwent","Blaenau Gwent East","Blaenau Gwent West","Caerphilly","Caerphilly East","Caerphilly North","Caerphilly South","Monmouthshire","Monmouthshire North","Monmouthshire South","Newport","Newport Central","Newport East","Newport West","Torfaen","Torfaen North","Torfaen South","Anglesey LA","Anglesey Cluster","Conwy","Conwy East","Conwy West","Denbighshire","Central - South Denbighshire","North Denbighshire","Flintshire","Deeside Hawarden - Saltney","Holywell - Flint","Mold Buckley - Caergwle","Gwynedd","Arfon","Dwyfor","Meirionnydd","Wrexham","South Wrexham","West - North Wrexham","Wrexham Town","Cardiff","Cardiff East","Cardiff North","Cardiff South East","Cardiff South West","Cardiff West","City - Cardiff South","Vale of Glamorgan","Central Vale","Eastern Vale","Western Vale","Merthyr Tydfil","North Merthyr Tydfil","South Merthyr Tydfil","Rhondda Cynon Taf","North Cynon","North Rhondda","North Taf Ely","South Cynon","South Rhondda","South Taf Ely","Carmarthenshire","Amman-Gwendraeth","Llanelli","Taf - Teifi - Tywi","Ceredigion","North Ceredigion","South Ceredigion","Pembrokeshire","North Pembrokeshire","South Pembrokeshire","Powys","Mid Powys","North Powys","South Powys"]
[{"$f":"A460","v":"Incidence of bowel cancer (rate per 100,000)"},"Not available"]
[{"$f":"A461","v":"Incidence of breast cancer (rate per 100,000)"},"Not available"]
[{"$f":"A462","v":"Incidence of cervical cancer (rate per 100,000)"},"Not available"]
[{"$f":"A463","v":"Incidence of bowel cancer at stage 1"},"Not available"]
[{"$f":"A464","v":"Incidence of bowel cancer at stage 2"},"Not available"]
[{"$f":"A465","v":"Incidence of bowel cancer at stage 3"},"Not available"]
[{"$f":"A466","v":"Incidence of bowel cancer at stage 4"},"Not available"]
[{"$f":"A467","v":"Incidence of bowel cancer at unknown stage"},"Not available"]
[{"$f":"A468","v":"Incidence of breast cancer at stage 1"},"Not available"]
[{"$f":"A469","v":"Incidence of breast cancer at stage 2"},"Not available"]
[{"$f":"A470","v":"Incidence of breast cancer at stage 3"},"Not available"]
[{"$f":"A471","v":"Incidence of breast cancer at stage 4"},"Not available"]
[{"$f":"A472","v":"Incidence of breast cancer at unknown stage"},"Not available"]
["Cancer prevalence"]
["Indicator","Period","Bridgend","Bridgend East Network","Bridgend North Network","Bridgend West Network","Neath Port Talbot","Afan","Neath","Upper Valleys","Swansea","BayHealth","CityHealth","Cwmtawe","Llwchwr","Penderi","Blaenau Gwent","Blaenau Gwent East","Blaenau Gwent West","Caerphilly","Caerphilly East","Caerphilly North","Caerphilly South","Monmouthshire","Monmouthshire North","Monmouthshire South","Newport","Newport Central","Newport East","Newport West","Torfaen","Torfaen North","Torfaen South","Anglesey LA","Anglesey Cluster","Conwy","Conwy East","Conwy West","Denbighshire","Central - South Denbighshire","North Denbighshire","Flintshire","Deeside Hawarden - Saltney","Holywell - Flint","Mold Buckley - Caergwle","Gwynedd","Arfon","Dwyfor","Meirionnydd","Wrexham","South Wrexham","West - North Wrexham","Wrexham Town","Cardiff","Cardiff East","Cardiff North","Cardiff South East","Cardiff South West","Cardiff West","City - Cardiff South","Vale of Glamorgan","Central Vale","Eastern Vale","Western Vale","Merthyr Tydfil","North Merthyr Tydfil","South Merthyr Tydfil","Rhondda Cynon Taf","North Cynon","North Rhondda","North Taf Ely","South Cynon","South Rhondda","South Taf Ely","Carmarthenshire","Amman-Gwendraeth","Llanelli","Taf - Teifi - Tywi","Ceredigion","North Ceredigion","South Ceredigion","Pembrokeshire","North Pembrokeshire","South Pembrokeshire","Powys","Mid Powys","North Powys","South Powys"]
["Prevalence of bowel cancer (%)","Not available"]
["Prevalence of breast cancer (%)","Not available"]

{"sheet":"stage at diag data","index":21,"n_rows":137,"n_cols":9,"rows_kept":137,"cut":false,"hidden":true,"merged":[]}
["Indicator","HB","Cluster","Type","Stage 1","Stage 2","Stage 3","Stage 4","Unknown stage"]
["Bowel (Colorectal)","Wales",null,"Proportion (%)",13.9,22,30.3,19.5,14.4]
["Bowel (Colorectal)","Abertawe Bro Morgannwg",null,"Proportion (%)",12.2,21.3,33.1,18.100000000000001,15.3]
["Bowel (Colorectal)","Aneurin Bevan",null,"Proportion (%)",11.5,22.6,32,20.9,13.1]
["Bowel (Colorectal)","Betsi Cadwaladr",null,"Proportion (%)",15.1,24.3,25,18.8,16.899999999999999]
["Bowel (Colorectal)","Cardiff and Vale",null,"Proportion (%)",17.3,20.9,29.1,21.7,11]
["Bowel (Colorectal)","Cwm Taf",null,"Proportion (%)",15,22.2,29.7,21,12.1]
["Bowel (Colorectal)","Hywel Dda",null,"Proportion (%)",13.7,18.8,35.700000000000003,19.100000000000001,12.7]
["Bowel (Colorectal)","Powys",null,"Proportion (%)",12.9,22.2,29.7,15.4,19.899999999999999]
["Bowel (Colorectal)","Abertawe Bro Morgannwg","Afan","Proportion (%)",12,21.7,34.9,15.4,16]
["Bowel (Colorectal)","Abertawe Bro Morgannwg","BayHealth","Proportion (%)",11.5,20.399999999999999,33.5,17.100000000000001,17.5]
["Bowel (Colorectal)","Abertawe Bro Morgannwg","Bridgend East Network","Proportion (%)",13.9,22.4,33.200000000000003,22,8.5]
["Bowel (Colorectal)","Abertawe Bro Morgannwg","Bridgend North Network","Proportion (%)",7.9,21.2,33.9,23.8,13.2]
["Bowel (Colorectal)","Abertawe Bro Morgannwg","Bridgend West Network","Proportion (%)",10.3,22.4,29.5,26.3,11.5]
["Bowel (Colorectal)","Abertawe Bro Morgannwg","CityHealth","Proportion (%)",10,20,40,18.100000000000001,11.9]
["Bowel (Colorectal)","Abertawe Bro Morgannwg","Cwmtawe","Proportion (%)",12.3,25.2,28.4,16.100000000000001,18.100000000000001]
["Bowel (Colorectal)","Abertawe Bro Morgannwg","Llwchwr","Proportion (%)",14.5,22.4,32.700000000000003,13.9,16.399999999999999]
["Bowel (Colorectal)","Abertawe Bro Morgannwg","Neath","Proportion (%)",15.5,19.3,31.4,16.399999999999999,17.399999999999999]
["Bowel (Colorectal)","Abertawe Bro Morgannwg","Penderi","Proportion (%)",13.9,20,33.9,15.7,16.5]
["Bowel (Colorectal)","Abertawe Bro Morgannwg","Upper Valleys","Proportion (%)",11.9,19.3,33.299999999999997,11.9,23.7]
["Bowel (Colorectal)","Aneurin Bevan","Blaenau Gwent East","Proportion (%)",9.3000000000000007,14.7,34.1,24.8,17.100000000000001]
["Bowel (Colorectal)","Aneurin Bevan","Blaenau Gwent West","Proportion (%)",6.3,16,47.2,20.8,9.6999999999999993]
["Bowel (Colorectal)","Aneurin Bevan","Caerphilly East","Proportion (%)",14.7,25.8,25.8,20,13.7]
["Bowel (Colorectal)","Aneurin Bevan","Caerphilly North","Proportion (%)",16.3,24.3,26.8,19.7,13]
["Bowel (Colorectal)","Aneurin Bevan","Caerphilly South","Proportion (%)",13,22.8,38.1,17.7,8.4]
["Bowel (Colorectal)","Aneurin Bevan","Monmouthshire North","Proportion (%)",7.9,24.3,36,19.2,12.6]
["Bowel (Colorectal)","Aneurin Bevan","Monmouthshire South","Proportion (%)",11.8,21.6,30.1,23.5,13.1]
["Bowel (Colorectal)","Aneurin Bevan","Newport East","Proportion (%)",10.3,18.8,29.1,25.5,16.399999999999999]
["Bowel (Colorectal)","Aneurin Bevan","Newport North","Proportion (%)",13.7,25.8,27.5,19.2,13.7]
["Bowel (Colorectal)","Aneurin Bevan","Newport West","Proportion (%)",5.0999999999999996,29.7,34.1,18.8,12.3]
["Bowel (Colorectal)","Aneurin Bevan","Torfaen North","Proportion (%)",10.3,18.600000000000001,29.5,23.1,18.600000000000001]
["Bowel (Colorectal)","Aneurin Bevan","Torfaen South","Proportion (%)",14.2,25.3,28.4,21.6,10.5]
["Bowel (Colorectal)","Betsi Cadwaladr","Anglesey","Proportion (%)",16.2,19.600000000000001,25,19.600000000000001,19.600000000000001]
["Bowel (Colorectal)","Betsi Cadwaladr","Arfon","Proportion (%)",16.5,27.3,24.7,16.100000000000001,15.4]
["Bowel (Colorectal)","Betsi Cadwaladr","Central & South Denbighshire","Proportion (%)",15.8,15.8,26,23.7,18.600000000000001]
["Bowel (Colorectal)","Betsi Cadwaladr","Central Wrexham","Proportion (%)",15,26.5,26.5,17,15]
["Bowel (Colorectal)","Betsi Cadwaladr","Conwy East","Proportion (%)",12.9,27.9,18.5,24.9,15.9]
["Bowel (Colorectal)","Betsi Cadwaladr","Conwy West","Proportion (%)",13.1,25.9,23.6,20.7,16.7]
["Bowel (Colorectal)","Betsi Cadwaladr","Dwyfor","Proportion (%)",15.6,27.9,19.7,12.3,24.6]
["Bowel (Colorectal)","Betsi Cadwaladr","Meirionnydd","Proportion (%)",13,26.6,28.8,12.5,19]
["Bowel (Colorectal)","Betsi Cadwaladr","North & West Wrexham","Proportion (%)",21.8,24.6,21.2,17.899999999999999,14.5]
["Bowel (Colorectal)","Betsi Cadwaladr","North Denbighshire","Proportion (%)",11.5,24.7,30.6,20.9,12.3]
["Bowel (Colorectal)","Betsi Cadwaladr","North East Flintshire","Proportion (%)",11.9,27.4,23.9,13.3,23.5]
["Bowel (Colorectal)","Betsi Cadwaladr","North West Flintshire","Proportion (%)",15.3,20.100000000000001,30.6,24.3,9.6999999999999993]
["Bowel (Colorectal)","Betsi Cadwaladr","South Flintshire","Proportion (%)",17.899999999999999,23.1,28.7,15.9,14.4]
["Bowel (Colorectal)","Betsi Cadwaladr","South Wrexham","Proportion (%)",17.3,22.5,22.5,20.9,16.8]
["Bowel (Colorectal)","Cardiff and Vale","Cardiff East","Proportion (%)",18.3,21.1,26.1,23.2,11.3]
["Bowel (Colorectal)","Cardiff and Vale","Cardiff North","Proportion (%)",16.5,21,30,22.5,10.1]
["Bowel (Colorectal)","Cardiff and Vale","Cardiff South East","Proportion (%)",16.7,13.9,35.200000000000003,23.1,11.1]
["Bowel (Colorectal)","Cardiff and Vale","Cardiff South West","Proportion (%)",13.5,19.600000000000001,29.4,20.9,16.600000000000001]
["Bowel (Colorectal)","Cardiff and Vale","Cardiff West","Proportion (%)",14.9,24.7,29.3,21.3,9.8000000000000007]
["Bowel (Colorectal)","Cardiff and Vale","Central Vale","Proportion (%)",17.8,25.2,23.4,22,11.7]
["Bowel (Colorectal)","Cardiff and Vale","City & Cardiff South","Proportion (%)",24.6,22.8,26.3,12.3,14]
["Bowel (Colorectal)","Cardiff and Vale","Eastern Vale","Proportion (%)",23.5,15.9,29.5,21.2,9.8000000000000007]
["Bowel (Colorectal)","Cardiff and Vale","Western Vale","Proportion (%)",15.6,20.2,35.799999999999997,23.9,4.5999999999999996]
["Bowel (Colorectal)","Cwm Taf","Cynon","Proportion (%)",15.9,26.9,30,17.600000000000001,9.6999999999999993]
["Bowel (Colorectal)","Cwm Taf","Merthyr","Proportion (%)",15.7,22.7,35.6,14.8,11.1]
["Bowel (Colorectal)","Cwm Taf","Rhondda","Proportion (%)",11.9,20.9,25.2,25.8,16.2]
["Bowel (Colorectal)","Cwm Taf","Taf Ely","Proportion (%)",17,20.3,30.4,22.2,10.1]
["Bowel (Colorectal)","Hywel Dda","Amman/Gwendraeth","Proportion (%)",14.1,20.5,31.4,25.9,8.1999999999999993]
["Bowel (Colorectal)","Hywel Dda","Llanelli","Proportion (%)",13.8,16.399999999999999,37.1,22,10.8]
["Bowel (Colorectal)","Hywel Dda","North Ceredigion","Proportion (%)",14.6,21,28.7,13.4,22.3]
["Bowel (Colorectal)","Hywel Dda","North Pembrokeshire","Proportion (%)",10.9,24.6,36.6,14.9,13]
["Bowel (Colorectal)","Hywel Dda","South Ceredigion","Proportion (%)",15.3,16.8,36.700000000000003,19.899999999999999,11.2]
["Bowel (Colorectal)","Hywel Dda","South Pembrokeshire","Proportion (%)",15.2,15.5,39.200000000000003,16.600000000000001,13.4]
["Bowel (Colorectal)","Hywel Dda","Taf / Tywi","Proportion (%)",12.7,17.100000000000001,36.9,20.6,12.7]
["Bowel (Colorectal)","Powys","Mid Powys","Proportion (%)",13.4,26.1,32.1,9,19.399999999999999]
["Bowel (Colorectal)","Powys","North Powys","Proportion (%)",15.5,18.100000000000001,27.3,14.1,25]
["Bowel (Colorectal)","Powys","South Powys","Proportion (%)",8.6999999999999993,25.7,31.6,21.4,12.6]
["Female breast","Wales",null,"Proportion (%)",34.299999999999997,34,9.8000000000000007,3.6,17.899999999999999]
["Female breast","Abertawe Bro Morgannwg",null,"Proportion (%)",30.6,34,10.5,3.7,20.9]
["Female breast","Aneurin Bevan",null,"Proportion (%)",34.200000000000003,37,10.9,4.0999999999999996,13.6]
["Female breast","Betsi Cadwaladr",null,"Proportion (%)",38.200000000000003,28.7,7.6,3,22.2]
["Female breast","Cardiff and Vale",null,"Proportion (%)",32.4,35.799999999999997,10.3,3.1,18.100000000000001]
["Female breast","Cwm Taf",null,"Proportion (%)",34,37.799999999999997,10.4,3.9,13.5]
["Female breast","Hywel Dda",null,"Proportion (%)",35.299999999999997,35.700000000000003,10.7,4.5,13.2]
["Female breast","Powys",null,"Proportion (%)",31.6,32.299999999999997,9.6,3.7,22.5]
["Female breast","Abertawe Bro Morgannwg","Afan","Proportion (%)",26,41.2,10.8,3.9,18.100000000000001]
["Female breast","Abertawe Bro Morgannwg","BayHealth","Proportion (%)",32.4,31.8,8.6,2.6,24.6]
["Female breast","Abertawe Bro Morgannwg","Bridgend East Network","Proportion (%)",21,39.299999999999997,14.9,4.5999999999999996,19.8]
["Female breast","Abertawe Bro Morgannwg","Bridgend North Network","Proportion (%)",35.5,37.9,8.9,2.5,14.8]
["Female breast","Abertawe Bro Morgannwg","Bridgend West Network","Proportion (%)",30.6,33.299999999999997,9.1,6.5,20.399999999999999]
["Female breast","Abertawe Bro Morgannwg","CityHealth","Proportion (%)",34.9,25.5,10.1,2.7,26.2]
["Female breast","Abertawe Bro Morgannwg","Cwmtawe","Proportion (%)",36,31.1,11.7,4.0999999999999996,16.7]
["Female breast","Abertawe Bro Morgannwg","Llwchwr","Proportion (%)",35.200000000000003,30.7,8,2.7,22.6]
["Female breast","Abertawe Bro Morgannwg","Neath","Proportion (%)",26.8,33.299999999999997,13,4.0999999999999996,22.8]
["Female breast","Abertawe Bro Morgannwg","Penderi","Proportion (%)",30.5,33.799999999999997,9.6999999999999993,5.2,20.100000000000001]
["Female breast","Abertawe Bro Morgannwg","Upper Valleys","Proportion (%)",29.1,35.9,11.1,1.7,22.2]
["Female breast","Aneurin Bevan","Blaenau Gwent East","Proportion (%)",36.200000000000003,33.6,10.1,6,14.1]
["Female breast","Aneurin Bevan","Blaenau Gwent West","Proportion (%)",42,27.4,10.199999999999999,4.5,15.9]
["Female breast","Aneurin Bevan","Caerphilly East","Proportion (%)",33.6,39.5,10.9,3.1,12.9]
["Female breast","Aneurin Bevan","Caerphilly North","Proportion (%)",32.799999999999997,36.4,13.2,4,12.8]
["Female breast","Aneurin Bevan","Caerphilly South","Proportion (%)",38.200000000000003,39.799999999999997,10.8,2.2999999999999998,8.9]
["Female breast","Aneurin Bevan","Monmouthshire North","Proportion (%)",32.1,38.299999999999997,8.6,5.3,15.6]
["Female breast","Aneurin Bevan","Monmouthshire South","Proportion (%)",31.2,39,10.6,2.8,16.3]
["Female breast","Aneurin Bevan","Newport East","Proportion (%)",37.200000000000003,36.6,11.6,2.2999999999999998,12.2]
["Female breast","Aneurin Bevan","Newport North","Proportion (%)",29.7,40.5,12.6,4.0999999999999996,12.2]
["Female breast","Aneurin Bevan","Newport West","Proportion (%)",27.7,36.5,10.9,7.3,17.5]
["Female breast","Aneurin Bevan","Torfaen North","Proportion (%)",35.4,36.4,7.7,5.3,14.8]
["Female breast","Aneurin Bevan","Torfaen South","Proportion (%)",34,35.1,12.9,3.1,14.4]
["Female breast","Betsi Cadwaladr","Anglesey","Proportion (%)",39.799999999999997,28.9,7.6,3.6,19.7]
["Female breast","Betsi Cadwaladr","Arfon","Proportion (%)",42.3,25.4,8.1,5.0999999999999996,18.8]
["Female breast","Betsi Cadwaladr","Central & South Denbighshire","Proportion (%)",37.9,27.9,6.4,2.7,25.1]
["Female breast","Betsi Cadwaladr","Central Wrexham","Proportion (%)",28.2,30.1,8.1,3.3,30.1]
["Female breast","Betsi Cadwaladr","Conwy East","Proportion (%)",35.299999999999997,34.299999999999997,5.7,3.7,20.7]
["Female breast","Betsi Cadwaladr","Conwy West","Proportion (%)",43.9,25.3,9.5,3.5,17.8]
["Female breast","Betsi Cadwaladr","Dwyfor","Proportion (%)",46.9,23.5,8,1.9,19.8]
["Female breast","Betsi Cadwaladr","Meirionnydd","Proportion (%)",33.200000000000003,31.6,4.8,3.2,25.7]
["Female breast","Betsi Cadwaladr","North & West Wrexham","Proportion (%)",32.1,32.700000000000003,9.1,3,23]
["Female breast","Betsi Cadwaladr","North Denbighshire","Proportion (%)",40.799999999999997,27.7,6.2,0.7,24]
["Female breast","Betsi Cadwaladr","North East Flintshire","Proportion (%)",35.799999999999997,31.5,8.1999999999999993,1.6,22.2]
["Female breast","Betsi Cadwaladr","North West Flintshire","Proportion (%)",39.9,32.200000000000003,10.5,2.1,15.4]
["Female breast","Betsi Cadwaladr","South Flintshire","Proportion (%)",37.799999999999997,28.6,8.4,3.4,21.4]
["Female breast","Betsi Cadwaladr","South Wrexham","Proportion (%)",35.6,24.7,6.8,3.2,29.7]
["Female breast","Cardiff and Vale","Cardiff East","Proportion (%)",33.299999999999997,37,6.8,3.7,19.100000000000001]
["Female breast","Cardiff and Vale","Cardiff North","Proportion (%)",34.299999999999997,34.5,9.3000000000000007,3.6,17.5]
["Female breast","Cardiff and Vale","Cardiff South East","Proportion (%)",28.6,43.7,5.6,1.6,20.6]
["Female breast","Cardiff and Vale","Cardiff South West","Proportion (%)",22.6,38.200000000000003,12.4,3.8,22.6]
["Female breast","Cardiff and Vale","Cardiff West","Proportion (%)",36.5,36.5,10,2.2999999999999998,14.6]
["Female breast","Cardiff and Vale","Central Vale","Proportion (%)",38.9,31.1,12.3,2,15.2]
["Female breast","Cardiff and Vale","City & Cardiff South","Proportion (%)",20.5,40.9,5.7,6.8,26.1]
["Female breast","Cardiff and Vale","Eastern Vale","Proportion (%)",33.5,28.9,13.7,3,20.8]
["Female breast","Cardiff and Vale","Western Vale","Proportion (%)",30,41.5,13.8,2.2999999999999998,11.5]
["Female breast","Cwm Taf","Cynon","Proportion (%)",33.200000000000003,37.4,8,5,15.6]
["Female breast","Cwm Taf","Merthyr","Proportion (%)",31.9,33.200000000000003,15.5,2.1,17.2]
["Female breast","Cwm Taf","Rhondda","Proportion (%)",33.200000000000003,40.4,10.3,4.5999999999999996,11.2]
["Female breast","Cwm Taf","Taf Ely","Proportion (%)",36.700000000000003,38.6,8.6999999999999993,3.5,11.7]
["Female breast","Hywel Dda","Amman/Gwendraeth","Proportion (%)",37.6,35.299999999999997,11.3,4.5,10.5]
["Female breast","Hywel Dda","Llanelli","Proportion (%)",37.6,34.700000000000003,12.5,6.3,8.1]
["Female breast","Hywel Dda","North Ceredigion","Proportion (%)",31.8,38.700000000000003,8.8000000000000007,4.5999999999999996,15.7]
["Female breast","Hywel Dda","North Pembrokeshire","Proportion (%)",33.4,34.299999999999997,7.8,4.2,19.7]
["Female breast","Hywel Dda","South Ceredigion","Proportion (%)",35.700000000000003,37.299999999999997,11.2,3.7,10.8]
["Female breast","Hywel Dda","South Pembrokeshire","Proportion (%)",29.3,35.1,12,5.4,17.8]
["Female breast","Hywel Dda","Taf / Tywi","Proportion (%)",40.5,35.799999999999997,11.7,2.8,9.1999999999999993]
["Female breast","Powys","Mid Powys","Proportion (%)",32.9,29.9,11.6,4.3,20.100000000000001]
["Female breast","Powys","North Powys","Proportion (%)",29.8,32.1,8.1999999999999993,3,26.9]
["Female breast","Powys","South Powys","Proportion (%)",33,34.5,10.199999999999999,4.4000000000000004,18]

{"sheet":"Prevalence data","index":22,"n_rows":238,"n_cols":69,"rows_kept":238,"cut":false,"hidden":true,"merged":[]}
["Geography","Sex","Type","Unit","up to 1 year",">1 to 5 years",">5 to 10 years",">10 to 21 years"]
["Wales","Men","Bowel (Colorectal)","Proportion (%)",12.7,36.799999999999997,27.5,23.1]
["Wales","Women","Bowel (Colorectal)","Proportion (%)",12.3,33.700000000000003,27.3,26.7]
["Abertawe Bro Morgannwg","Men","Bowel (Colorectal)","Proportion (%)",12.4,35.9,28,23.7]
["Abertawe Bro Morgannwg","Women","Bowel (Colorectal)","Proportion (%)",12.2,33.799999999999997,27.2,26.7]
["Aneurin Bevan","Men","Bowel (Colorectal)","Proportion (%)",13.7,35.9,27.5,22.9]
["Aneurin Bevan","Women","Bowel (Colorectal)","Proportion (%)",11.3,34,29,25.7]
["Betsi Cadwaladr","Men","Bowel (Colorectal)","Proportion (%)",12,38.4,25.9,23.7]
["Betsi Cadwaladr","Women","Bowel (Colorectal)","Proportion (%)",12.5,32.799999999999997,29.5,25.1]
["Cardiff and Vale","Men","Bowel (Colorectal)","Proportion (%)",11,37,27.1,24.9]
["Cardiff and Vale","Women","Bowel (Colorectal)","Proportion (%)",13,31.6,26.9,28.5]
["Cwm Taf","Men","Bowel (Colorectal)","Proportion (%)",13.2,37.200000000000003,29.8,19.899999999999999]
["Cwm Taf","Women","Bowel (Colorectal)","Proportion (%)",13.5,34.6,26.2,25.7]
["Hywel Dda","Men","Bowel (Colorectal)","Proportion (%)",14.1,35.4,27.1,23.3]
["Hywel Dda","Women","Bowel (Colorectal)","Proportion (%)",12.2,35.299999999999997,23.8,28.7]
["Powys","Men","Bowel (Colorectal)","Proportion (%)",12.1,37.200000000000003,31.4,19.3]
["Powys","Women","Bowel (Colorectal)","Proportion (%)",12,34.799999999999997,24.2,29]
["Afan","Men","Bowel (Colorectal)","Proportion (%)",14.5,27.3,26.4,31.8]
["Afan","Women","Bowel (Colorectal)","Proportion (%)",10.6,40.4,25.5,23.4]
["BayHealth","Men","Bowel (Colorectal)","Proportion (%)",12.6,35.9,28.3,23.2]
["BayHealth","Women","Bowel (Colorectal)","Proportion (%)",11.8,28.9,32.200000000000003,27]
["Bridgend East Network","Men","Bowel (Colorectal)","Proportion (%)",12.2,34.299999999999997,29.7,23.8]
["Bridgend East Network","Women","Bowel (Colorectal)","Proportion (%)",10.9,42.2,21.9,25]
["Bridgend North Network","Men","Bowel (Colorectal)","Proportion (%)",12.1,30.6,36.299999999999997,21]
["Bridgend North Network","Women","Bowel (Colorectal)","Proportion (%)",20.6,29.4,25,25]
["Bridgend West Network","Men","Bowel (Colorectal)","Proportion (%)",9.3000000000000007,42.3,24.7,23.7]
["Bridgend West Network","Women","Bowel (Colorectal)","Proportion (%)",12.7,35.4,21.5,30.4]
["CityHealth","Men","Bowel (Colorectal)","Proportion (%)",17,40.4,24.5,18.100000000000001]
["CityHealth","Women","Bowel (Colorectal)","Proportion (%)",14.8,32.1,30.9,22.2]
["Cwmtawe","Men","Bowel (Colorectal)","Proportion (%)",6.5,36.6,30.1,26.9]
["Cwmtawe","Women","Bowel (Colorectal)","Proportion (%)",6.9,41.7,33.299999999999997,18.100000000000001]
["Llwchwr","Men","Bowel (Colorectal)","Proportion (%)",8.6,38.299999999999997,30.5,22.7]
["Llwchwr","Women","Bowel (Colorectal)","Proportion (%)",14.1,34.6,24.4,26.9]
["Neath","Men","Bowel (Colorectal)","Proportion (%)",12,39.299999999999997,20.7,28]
["Neath","Women","Bowel (Colorectal)","Proportion (%)",8.5,27.7,30.8,33.1]
["Penderi","Men","Bowel (Colorectal)","Proportion (%)",12.4,36,31.5,20.2]
["Penderi","Women","Bowel (Colorectal)","Proportion (%)",12.3,36.9,24.6,26.2]
["Upper Valleys","Men","Bowel (Colorectal)","Proportion (%)",20.399999999999999,36.9,22.3,20.399999999999999]
["Upper Valleys","Women","Bowel (Colorectal)","Proportion (%)",17.3,21.2,25,36.5]
["Blaenau Gwent East","Men","Bowel (Colorectal)","Proportion (%)",8.5,36.200000000000003,28.7,26.6]
["Blaenau Gwent East","Women","Bowel (Colorectal)","Proportion (%)",9.8000000000000007,36.1,31.1,23]
["Blaenau Gwent West","Men","Bowel (Colorectal)","Proportion (%)",14,28,30.1,28]
["Blaenau Gwent West","Women","Bowel (Colorectal)","Proportion (%)",18.3,40.799999999999997,21.1,19.7]
["Caerphilly East","Men","Bowel (Colorectal)","Proportion (%)",15.6,40.700000000000003,23,20.7]
["Caerphilly East","Women","Bowel (Colorectal)","Proportion (%)",9.4,29.2,29.2,32.299999999999997]
["Caerphilly North","Men","Bowel (Colorectal)","Proportion (%)",8.1999999999999993,39.9,24.7,27.2]
["Caerphilly North","Women","Bowel (Colorectal)","Proportion (%)",15.4,30.8,29.2,24.6]
["Caerphilly South","Men","Bowel (Colorectal)","Proportion (%)",18.2,39.9,30.8,11.2]
["Caerphilly South","Women","Bowel (Colorectal)","Proportion (%)",14.6,37.1,25.8,22.5]
["Monmouthshire North","Men","Bowel (Colorectal)","Proportion (%)",14.9,36.9,27.7,20.6]
["Monmouthshire North","Women","Bowel (Colorectal)","Proportion (%)",10.4,31.1,35.799999999999997,22.6]
["Monmouthshire South","Men","Bowel (Colorectal)","Proportion (%)",15.8,33.700000000000003,23.2,27.4]
["Monmouthshire South","Women","Bowel (Colorectal)","Proportion (%)",12.3,40.700000000000003,29.6,17.3]
["Newport East","Men","Bowel (Colorectal)","Proportion (%)",12.1,32.700000000000003,34.6,20.6]
["Newport East","Women","Bowel (Colorectal)","Proportion (%)",10.199999999999999,35.200000000000003,25,29.5]
["Newport North","Men","Bowel (Colorectal)","Proportion (%)",12.4,43,29.8,14.9]
["Newport North","Women","Bowel (Colorectal)","Proportion (%)",8.6,33.299999999999997,25.9,32.1]
["Newport West","Men","Bowel (Colorectal)","Proportion (%)",12.5,33,23.9,30.7]
["Newport West","Women","Bowel (Colorectal)","Proportion (%)",11,28.8,27.4,32.9]
["Torfaen North","Men","Bowel (Colorectal)","Proportion (%)",16.8,23.8,31.7,27.7]
["Torfaen North","Women","Bowel (Colorectal)","Proportion (%)",7.9,32.9,34.200000000000003,25]
["Torfaen South","Men","Bowel (Colorectal)","Proportion (%)",15.2,35.200000000000003,22.9,26.7]
["Torfaen South","Women","Bowel (Colorectal)","Proportion (%)",6.5,35.9,31.5,26.1]
["Anglesey","Men","Bowel (Colorectal)","Proportion (%)",10.9,42.3,24.5,22.3]
["Anglesey","Women","Bowel (Colorectal)","Proportion (%)",12.1,24.9,30.1,32.9]
["Arfon","Men","Bowel (Colorectal)","Proportion (%)",12.4,37.1,27.5,23]
["Arfon","Women","Bowel (Colorectal)","Proportion (%)",9,36.799999999999997,32.6,21.5]
["Central & South Denbighshire","Men","Bowel (Colorectal)","Proportion (%)",10.1,33.6,31.1,25.2]
["Central & South Denbighshire","Women","Bowel (Colorectal)","Proportion (%)",14.9,29.7,31.7,23.8]
["Central Wrexham","Men","Bowel (Colorectal)","Proportion (%)",8.5,40.700000000000003,21.2,29.7]
["Central Wrexham","Women","Bowel (Colorectal)","Proportion (%)",12.2,30.5,31.7,25.6]
["Conwy East","Men","Bowel (Colorectal)","Proportion (%)",9.6,36.299999999999997,26,28.1]
["Conwy East","Women","Bowel (Colorectal)","Proportion (%)",13.7,35,25.6,25.6]
["Conwy West","Men","Bowel (Colorectal)","Proportion (%)",15.7,34,27.9,22.3]
["Conwy West","Women","Bowel (Colorectal)","Proportion (%)",12.4,33.5,31.7,22.4]
["Dwyfor","Men","Bowel (Colorectal)","Proportion (%)",7.3,40.200000000000003,30.5,22]
["Dwyfor","Women","Bowel (Colorectal)","Proportion (%)",14.3,31.4,30,24.3]
["Meirionnydd","Men","Bowel (Colorectal)","Proportion (%)",12.7,36.4,28,22.9]
["Meirionnydd","Women","Bowel (Colorectal)","Proportion (%)",21.7,36.1,20.5,21.7]
["North & West Wrexham","Men","Bowel (Colorectal)","Proportion (%)",18.399999999999999,39.700000000000003,21.3,20.6]
["North & West Wrexham","Women","Bowel (Colorectal)","Proportion (%)",13.2,25,30.3,31.6]
["North Denbighshire","Men","Bowel (Colorectal)","Proportion (%)",12.8,35.9,23.1,28.2]
["North Denbighshire","Women","Bowel (Colorectal)","Proportion (%)",9.1999999999999993,33.6,34.5,22.7]
["North East Flintshire","Men","Bowel (Colorectal)","Proportion (%)",10,44.7,24.7,20.7]
["North East Flintshire","Women","Bowel (Colorectal)","Proportion (%)",12.6,39.6,26.1,21.6]
["North West Flintshire","Men","Bowel (Colorectal)","Proportion (%)",12.5,42.3,25,20.2]
["North West Flintshire","Women","Bowel (Colorectal)","Proportion (%)",6.8,28.4,35.1,29.7]
["South Flintshire","Men","Bowel (Colorectal)","Proportion (%)",11.2,36.1,24.9,27.8]
["South Flintshire","Women","Bowel (Colorectal)","Proportion (%)",16.2,33.299999999999997,23.8,26.7]
["South Wrexham","Men","Bowel (Colorectal)","Proportion (%)",12.9,39.5,29.8,17.7]
["South Wrexham","Women","Bowel (Colorectal)","Proportion (%)",9.5,41.7,27.4,21.4]
["Cardiff East","Men","Bowel (Colorectal)","Proportion (%)",19.3,41,21.7,18.100000000000001]
["Cardiff East","Women","Bowel (Colorectal)","Proportion (%)",19.5,28.6,26,26]
["Cardiff North","Men","Bowel (Colorectal)","Proportion (%)",11.6,35.9,29.8,22.7]
["Cardiff North","Women","Bowel (Colorectal)","Proportion (%)",6.4,29.8,31,32.700000000000003]
["Cardiff South East","Men","Bowel (Colorectal)","Proportion (%)",7.6,27.8,41.8,22.8]
["Cardiff South East","Women","Bowel (Colorectal)","Proportion (%)",14.7,29.4,26.5,29.4]
["Cardiff South West","Men","Bowel (Colorectal)","Proportion (%)",10.8,36.299999999999997,21.6,31.4]
["Cardiff South West","Women","Bowel (Colorectal)","Proportion (%)",15.2,21.5,25.3,38]
["Cardiff West","Men","Bowel (Colorectal)","Proportion (%)",8,43.4,17.7,31]
["Cardiff West","Women","Bowel (Colorectal)","Proportion (%)",11.4,36.200000000000003,22.9,29.5]
["Central Vale","Men","Bowel (Colorectal)","Proportion (%)",13.3,35.700000000000003,26.6,24.5]
["Central Vale","Women","Bowel (Colorectal)","Proportion (%)",17.399999999999999,33,29.4,20.2]
["City & Cardiff South","Men","Bowel (Colorectal)","Proportion (%)",6.8,47.7,38.6,6.8]
["City & Cardiff South","Women","Bowel (Colorectal)","Proportion (%)",12,32,24,32]
["Eastern Vale","Men","Bowel (Colorectal)","Proportion (%)",7.5,32.1,29.2,31.1]
["Eastern Vale","Women","Bowel (Colorectal)","Proportion (%)",11.4,38,25.3,25.3]
["Western Vale","Men","Bowel (Colorectal)","Proportion (%)",11.4,40,22.9,25.7]
["Western Vale","Women","Bowel (Colorectal)","Proportion (%)",18,36,24,22]
["Cynon","Men","Bowel (Colorectal)","Proportion (%)",11.9,33.1,36.299999999999997,18.8]
["Cynon","Women","Bowel (Colorectal)","Proportion (%)",11.6,39.700000000000003,24,24.8]
["Merthyr","Men","Bowel (Colorectal)","Proportion (%)",10.7,44.4,26,18.899999999999999]
["Merthyr","Women","Bowel (Colorectal)","Proportion (%)",9.3000000000000007,39.200000000000003,24.7,26.8]
["Rhondda","Men","Bowel (Colorectal)","Proportion (%)",14,30.9,31.9,23.2]
["Rhondda","Women","Bowel (Colorectal)","Proportion (%)",12.9,34.5,25.1,27.5]
["Taf Ely","Men","Bowel (Colorectal)","Proportion (%)",15.1,40.200000000000003,26.4,18.399999999999999]
["Taf Ely","Women","Bowel (Colorectal)","Proportion (%)",18.100000000000001,28.1,30,23.8]
["Amman/Gwendraeth","Men","Bowel (Colorectal)","Proportion (%)",12.8,31.8,24.3,31.1]
["Amman/Gwendraeth","Women","Bowel (Colorectal)","Proportion (%)",9,35.1,19.8,36]
["Llanelli","Men","Bowel (Colorectal)","Proportion (%)",14.8,39.4,23.2,22.5]
["Llanelli","Women","Bowel (Colorectal)","Proportion (%)",11.2,37.799999999999997,25.5,25.5]
["North Ceredigion","Men","Bowel (Colorectal)","Proportion (%)",15.2,38.4,19.600000000000001,26.8]
["North Ceredigion","Women","Bowel (Colorectal)","Proportion (%)",12.5,35,22.5,30]
["North Pembrokeshire","Men","Bowel (Colorectal)","Proportion (%)",12.4,34.5,31.4,21.6]
["North Pembrokeshire","Women","Bowel (Colorectal)","Proportion (%)",13.4,40.200000000000003,22.6,23.8]
["South Ceredigion","Men","Bowel (Colorectal)","Proportion (%)",16.5,33.1,24.8,25.6]
["South Ceredigion","Women","Bowel (Colorectal)","Proportion (%)",9.1,38.200000000000003,16.399999999999999,36.4]
["South Pembrokeshire","Men","Bowel (Colorectal)","Proportion (%)",16.100000000000001,37.4,28.2,18.399999999999999]
["South Pembrokeshire","Women","Bowel (Colorectal)","Proportion (%)",13.5,27,33.1,26.4]
["Taf / Tywi","Men","Bowel (Colorectal)","Proportion (%)",12.4,34.1,33.5,20]
["Taf / Tywi","Women","Bowel (Colorectal)","Proportion (%)",15,34.6,24.1,26.3]
["Mid Powys","Men","Bowel (Colorectal)","Proportion (%)",13.4,37.1,30.9,18.600000000000001]
["Mid Powys","Women","Bowel (Colorectal)","Proportion (%)",12.2,35.1,28.4,24.3]
["North Powys","Men","Bowel (Colorectal)","Proportion (%)",12.6,37.200000000000003,31.9,18.3]
["North Powys","Women","Bowel (Colorectal)","Proportion (%)",13.2,35.299999999999997,23.4,28.1]
["South Powys","Men","Bowel (Colorectal)","Proportion (%)",10.3,37.299999999999997,31,21.4]
["South Powys","Women","Bowel (Colorectal)","Proportion (%)",10.199999999999999,33.9,22.9,33.1]
["Wales","Women","Female breast ","Proportion (%)",8.8000000000000007,29.5,27.5,34.200000000000003]
["Abertawe Bro Morgannwg","Women","Female breast ","Proportion (%)",9,28.8,28,34.200000000000003]
["Aneurin Bevan","Women","Female breast ","Proportion (%)",8.1,29,28.2,34.6]
["Betsi Cadwaladr","Women","Female breast ","Proportion (%)",9.4,29.7,27.2,33.700000000000003]
["Cardiff and Vale","Women","Female breast ","Proportion (%)",8.5,30.5,26.5,34.5]
["Cwm Taf","Women","Female breast ","Proportion (%)",9.1,29,27.5,34.4]
["Hywel Dda","Women","Female breast ","Proportion (%)",8.1999999999999993,31,27.1,33.799999999999997]
["Powys","Women","Female breast ","Proportion (%)",9.6,27.6,27.6,35.299999999999997]
["Afan","Women","Female breast ","Proportion (%)",5.8,29.9,29.5,34.799999999999997]
["BayHealth","Women","Female breast ","Proportion (%)",9.1,30,24.3,36.5]
["Bridgend East Network","Women","Female breast ","Proportion (%)",6.9,27.1,31.7,34.200000000000003]
["Bridgend North Network","Women","Female breast ","Proportion (%)",10.1,28.1,29.7,32.1]
["Bridgend West Network","Women","Female breast ","Proportion (%)",15.1,25.6,28.5,30.8]
["CityHealth","Women","Female breast ","Proportion (%)",5.6,29.7,28.2,36.5]
["Cwmtawe","Women","Female breast ","Proportion (%)",11.6,30,25.6,32.799999999999997]
["Llwchwr","Women","Female breast ","Proportion (%)",12,33,22.2,32.799999999999997]
["Neath","Women","Female breast ","Proportion (%)",9.1,25.6,31.1,34.200000000000003]
["Penderi","Women","Female breast ","Proportion (%)",4.0999999999999996,31.8,30.9,33.200000000000003]
["Upper Valleys","Women","Female breast ","Proportion (%)",10.5,24.4,28.4,36.700000000000003]
["Blaenau Gwent East","Women","Female breast ","Proportion (%)",5,33.799999999999997,26.2,35]
["Blaenau Gwent West","Women","Female breast ","Proportion (%)",4.3,33.299999999999997,28.7,33.6]
["Caerphilly East","Women","Female breast ","Proportion (%)",10.7,29.1,25.5,34.700000000000003]
["Caerphilly North","Women","Female breast ","Proportion (%)",7.1,30.1,24.1,38.700000000000003]
["Caerphilly South","Women","Female breast ","Proportion (%)",8.1999999999999993,36.700000000000003,21.4,33.6]
["Monmouthshire North","Women","Female breast ","Proportion (%)",6.8,27.1,31.5,34.6]
["Monmouthshire South","Women","Female breast ","Proportion (%)",4,26.3,36.299999999999997,33.299999999999997]
["Newport East","Women","Female breast ","Proportion (%)",8.8000000000000007,29.8,27.8,33.5]
["Newport North","Women","Female breast ","Proportion (%)",11.6,23.4,30.4,34.6]
["Newport West","Women","Female breast ","Proportion (%)",7.3,25.2,28.4,39]
["Torfaen North","Women","Female breast ","Proportion (%)",5.6,32.9,31.5,30]
["Torfaen South","Women","Female breast ","Proportion (%)",15.2,21.6,28.9,34.4]
["Anglesey","Women","Female breast ","Proportion (%)",6.9,26.1,33.1,33.9]
["Arfon","Women","Female breast ","Proportion (%)",11.1,24.9,25.7,38.299999999999997]
["Central & South Denbighshire","Women","Female breast ","Proportion (%)",8.6999999999999993,27.4,32.299999999999997,31.6]
["Central Wrexham","Women","Female breast ","Proportion (%)",8.3000000000000007,31,28,32.6]
["Conwy East","Women","Female breast ","Proportion (%)",11.5,28.7,24.1,35.799999999999997]
["Conwy West","Women","Female breast ","Proportion (%)",7.6,33.4,23,35.9]
["Dwyfor","Women","Female breast ","Proportion (%)",15.8,28.6,27,28.6]
["Meirionnydd","Women","Female breast ","Proportion (%)",10.8,29.8,26.5,32.9]
["North & West Wrexham","Women","Female breast ","Proportion (%)",6.8,31.5,29.6,32.1]
["North Denbighshire","Women","Female breast ","Proportion (%)",8.6999999999999993,31.5,27.2,32.6]
["North East Flintshire","Women","Female breast ","Proportion (%)",13.6,27.6,24.7,34.1]
["North West Flintshire","Women","Female breast ","Proportion (%)",7.6,27.7,30.6,34.1]
["South Flintshire","Women","Female breast ","Proportion (%)",9.4,31.3,23.3,35.9]
["South Wrexham","Women","Female breast ","Proportion (%)",6.5,36.299999999999997,29.1,28.1]
["Cardiff East","Women","Female breast ","Proportion (%)",10.199999999999999,27.7,25.8,36.299999999999997]
["Cardiff North","Women","Female breast ","Proportion (%)",8.6999999999999993,29.4,26.6,35.299999999999997]
["Cardiff South East","Women","Female breast ","Proportion (%)",8.3000000000000007,26.8,31.3,33.6]
["Cardiff South West","Women","Female breast ","Proportion (%)",6.9,29.7,26.1,37.299999999999997]
["Cardiff West","Women","Female breast ","Proportion (%)",7.5,31.5,26.9,34]
["Central Vale","Women","Female breast ","Proportion (%)",5.2,36.700000000000003,20.5,37.6]
["City & Cardiff South","Women","Female breast ","Proportion (%)",14.9,35.5,28.4,21.3]
["Eastern Vale","Women","Female breast ","Proportion (%)",11.5,28.1,25.7,34.6]
["Western Vale","Women","Female breast ","Proportion (%)",7.6,30.6,32.299999999999997,29.6]
["Cynon","Women","Female breast ","Proportion (%)",9,29.6,26.2,35.200000000000003]
["Merthyr","Women","Female breast ","Proportion (%)",12.3,29.5,27.2,31]
["Rhondda","Women","Female breast ","Proportion (%)",8,29.4,26.7,35.9]
["Taf Ely","Women","Female breast ","Proportion (%)",8.3000000000000007,27.9,29.3,34.5]
["Amman/Gwendraeth","Women","Female breast ","Proportion (%)",4.3,31.4,26.4,37.799999999999997]
["Llanelli","Women","Female breast ","Proportion (%)",7.1,28.6,30.1,34.200000000000003]
["North Ceredigion","Women","Female breast ","Proportion (%)",8.6999999999999993,33.200000000000003,23,35.1]
["North Pembrokeshire","Women","Female breast ","Proportion (%)",11.6,29.1,27.9,31.4]
["South Ceredigion","Women","Female breast ","Proportion (%)",8.8000000000000007,32,26.2,33]
["South Pembrokeshire","Women","Female breast ","Proportion (%)",9.1,28.2,29.3,33.299999999999997]
["Taf / Tywi","Women","Female breast ","Proportion (%)",7.6,35.200000000000003,25.3,31.9]
["Mid Powys","Women","Female breast ","Proportion (%)",12.9,24.6,26.7,35.700000000000003]
["North Powys","Women","Female breast ","Proportion (%)",11.5,28.6,28.7,31.2]
["South Powys","Women","Female breast ","Proportion (%)",4.7,28.4,26.7,40.299999999999997]
[]
[]
["HB"]
["Cancer prevalence"]
["Indicator","Survival","Wales","Abertawe BM","Aneurin Bevan","Betsi Cadwaladr","Cardiff and Vale","Cwm Taf","Hywel Dda","Powys"]
["Prevalence of bowel cancer in males, by survival (%)","Up to 1 year",12.7,12.4,13.7,12,11,13.2,14.1,12.1]
[null,"> 1 to 5 years",36.799999999999997,35.9,35.9,38.4,37,37.200000000000003,35.4,37.200000000000003]
[null,"> 5 to 10 years",27.5,28,27.5,25.9,27.1,29.8,27.1,31.4]
[null,"> 10 to 21 years",23.1,23.7,22.9,23.7,24.9,19.899999999999999,23.3,19.3]
["Prevalence of bowel cancer in females, by survival (%)","Up to 1 year",12.3,12.2,11.3,12.5,13,13.5,12.2,12]
[null,"> 1 to 5 years",33.700000000000003,33.799999999999997,34,32.799999999999997,31.6,34.6,35.299999999999997,34.799999999999997]
[null,"> 5 to 10 years",27.3,27.2,29,29.5,26.9,26.2,23.8,24.2]
[null,"> 10 to 21 years",26.7,26.7,25.7,25.1,28.5,25.7,28.7,29]
["Prevalence of breast cancer in females, by survival (%)","Up to 1 year",8.8000000000000007,9,8.1,9.4,8.5,9.1,8.1999999999999993,9.6]
[null,"> 1 to 5 years",29.5,28.8,29,29.7,30.5,29,31,27.6]
[null,"> 5 to 10 years",27.5,28,28.2,27.2,26.5,27.5,27.1,27.6]
[null,"> 10 to 21 years",34.200000000000003,34.200000000000003,34.6,33.700000000000003,34.5,34.4,33.799999999999997,35.299999999999997]
[]
["CHB"]
["Cancer prevalence"]
["Indicator","Survival","Abertawe BM","Afan","BayHealth","Bridgend East Network","Bridgend North Network","Bridgend West Network","CityHealth","Cwmtawe","Llwchwr","Neath","Penderi","Upper Valleys","Aneurin Bevan","Blaenau Gwent East","Blaenau Gwent West","Caerphilly East","Caerphilly North","Caerphilly South","Monmouthshire North","Monmouthshire South","Newport East","Newport North","Newport West","Torfaen North","Torfaen South","Betsi Cadwaladr","Anglesey","Arfon","Central & South Denbighshire","Central Wrexham","Conwy East","Conwy West","Dwyfor","Meirionnydd","North & West Wrexham","North Denbighshire","North East Flintshire","North West Flintshire","South Flintshire","South Wrexham","Cardiff & Vale","Cardiff East","Cardiff North","Cardiff South East","Cardiff South West","Cardiff West","Central Vale","City & Cardiff South","Eastern Vale","Western Vale","Cwm Taf","Cynon","Merthyr","Rhondda","Taf Ely","Hywel Dda","Amman/Gwendraeth","Llanelli","North Ceredigion","North Pembrokeshire","South Ceredigion","South Pembrokeshire","Taf / Tywi","Powys","Mid Powys","North Powys","South Powys"]
["Prevalence of bowel cancer in males, by survival (%)","Up to 1 year",12.4,14.5,12.6,12.2,12.1,9.3000000000000007,17,6.5,8.6,12,12.4,20.399999999999999,13.7,8.5,14,15.6,8.1999999999999993,18.2,14.9,15.8,12.1,12.4,12.5,16.8,15.2,12,10.9,12.4,10.1,8.5,9.6,15.7,7.3,12.7,18.399999999999999,12.8,10,12.5,11.2,12.9,11,19.3,11.6,7.6,10.8,8,13.3,6.8,7.5,11.4,13.2,11.9,10.7,14,15.1,14.1,12.8,14.8,15.2,12.4,16.5,16.100000000000001,12.4,12.1,13.4,12.6,10.3]
[null,"> 1 to 5 years",35.9,27.3,35.9,34.299999999999997,30.6,42.3,40.4,36.6,38.299999999999997,39.299999999999997,36,36.9,35.9,36.200000000000003,28,40.700000000000003,39.9,39.9,36.9,33.700000000000003,32.700000000000003,43,33,23.8,35.200000000000003,38.4,42.3,37.1,33.6,40.700000000000003,36.299999999999997,34,40.200000000000003,36.4,39.700000000000003,35.9,44.7,42.3,36.1,39.5,37,41,35.9,27.8,36.299999999999997,43.4,35.700000000000003,47.7,32.1,40,37.200000000000003,33.1,44.4,30.9,40.200000000000003,35.4,31.8,39.4,38.4,34.5,33.1,37.4,34.1,37.200000000000003,37.1,37.200000000000003,37.299999999999997]
[null,"> 5 to 10 years",28,26.4,28.3,29.7,36.299999999999997,24.7,24.5,30.1,30.5,20.7,31.5,22.3,27.5,28.7,30.1,23,24.7,30.8,27.7,23.2,34.6,29.8,23.9,31.7,22.9,25.9,24.5,27.5,31.1,21.2,26,27.9,30.5,28,21.3,23.1,24.7,25,24.9,29.8,27.1,21.7,29.8,41.8,21.6,17.7,26.6,38.6,29.2,22.9,29.8,36.299999999999997,26,31.9,26.4,27.1,24.3,23.2,19.600000000000001,31.4,24.8,28.2,33.5,31.4,30.9,31.9,31]
[null,"> 10 to 21 years",23.7,31.8,23.2,23.8,21,23.7,18.100000000000001,26.9,22.7,28,20.2,20.399999999999999,22.9,26.6,28,20.7,27.2,11.2,20.6,27.4,20.6,14.9,30.7,27.7,26.7,23.7,22.3,23,25.2,29.7,28.1,22.3,22,22.9,20.6,28.2,20.7,20.2,27.8,17.7,24.9,18.100000000000001,22.7,22.8,31.4,31,24.5,6.8,31.1,25.7,19.899999999999999,18.8,18.899999999999999,23.2,18.399999999999999,23.3,31.1,22.5,26.8,21.6,25.6,18.399999999999999,20,19.3,18.600000000000001,18.3,21.4]
["Prevalence of bowel cancer in females, by survival (%)","Up to 1 year",12.2,10.6,11.8,10.9,20.6,12.7,14.8,6.9,14.1,8.5,12.3,17.3,11.3,9.8000000000000007,18.3,9.4,15.4,14.6,10.4,12.3,10.199999999999999,8.6,11,7.9,6.5,12.5,12.1,9,14.9,12.2,13.7,12.4,14.3,21.7,13.2,9.1999999999999993,12.6,6.8,16.2,9.5,13,19.5,6.4,14.7,15.2,11.4,17.399999999999999,12,11.4,18,13.5,11.6,9.3000000000000007,12.9,18.100000000000001,12.2,9,11.2,12.5,13.4,9.1,13.5,15,12,12.2,13.2,10.199999999999999]
[null,"> 1 to 5 years",33.799999999999997,40.4,28.9,42.2,29.4,35.4,32.1,41.7,34.6,27.7,36.9,21.2,34,36.1,40.799999999999997,29.2,30.8,37.1,31.1,40.700000000000003,35.200000000000003,33.299999999999997,28.8,32.9,35.9,32.799999999999997,24.9,36.799999999999997,29.7,30.5,35,33.5,31.4,36.1,25,33.6,39.6,28.4,33.299999999999997,41.7,31.6,28.6,29.8,29.4,21.5,36.200000000000003,33,32,38,36,34.6,39.700000000000003,39.200000000000003,34.5,28.1,35.299999999999997,35.1,37.799999999999997,35,40.200000000000003,38.200000000000003,27,34.6,34.799999999999997,35.1,35.299999999999997,33.9]
[null,"> 5 to 10 years",27.2,25.5,32.200000000000003,21.9,25,21.5,30.9,33.299999999999997,24.4,30.8,24.6,25,29,31.1,21.1,29.2,29.2,25.8,35.799999999999997,29.6,25,25.9,27.4,34.200000000000003,31.5,29.5,30.1,32.6,31.7,31.7,25.6,31.7,30,20.5,30.3,34.5,26.1,35.1,23.8,27.4,26.9,26,31,26.5,25.3,22.9,29.4,24,25.3,24,26.2,24,24.7,25.1,30,23.8,19.8,25.5,22.5,22.6,16.399999999999999,33.1,24.1,24.2,28.4,23.4,22.9]
[null,"> 10 to 21 years",26.7,23.4,27,25,25,30.4,22.2,18.100000000000001,26.9,33.1,26.2,36.5,25.7,23,19.7,32.299999999999997,24.6,22.5,22.6,17.3,29.5,32.1,32.9,25,26.1,25.1,32.9,21.5,23.8,25.6,25.6,22.4,24.3,21.7,31.6,22.7,21.6,29.7,26.7,21.4,28.5,26,32.700000000000003,29.4,38,29.5,20.2,32,25.3,22,25.7,24.8,26.8,27.5,23.8,28.7,36,25.5,30,23.8,36.4,26.4,26.3,29,24.3,28.1,33.1]
["Prevalence of breast cancer in females, by survival (%)","Up to 1 year",9,5.8,9.1,6.9,10.1,15.1,5.6,11.6,12,9.1,4.0999999999999996,10.5,8.1,5,4.3,10.7,7.1,8.1999999999999993,6.8,4,8.8000000000000007,11.6,7.3,5.6,15.2,9.4,6.9,11.1,8.6999999999999993,8.3000000000000007,11.5,7.6,15.8,10.8,6.8,8.6999999999999993,13.6,7.6,9.4,6.5,8.5,10.199999999999999,8.6999999999999993,8.3000000000000007,6.9,7.5,5.2,14.9,11.5,7.6,9.1,9,12.3,8,8.3000000000000007,8.1999999999999993,4.3,7.1,8.6999999999999993,11.6,8.8000000000000007,9.1,7.6,9.6,12.9,11.5,4.7]
[null,"> 1 to 5 years",28.8,29.9,30,27.1,28.1,25.6,29.7,30,33,25.6,31.8,24.4,29,33.799999999999997,33.299999999999997,29.1,30.1,36.700000000000003,27.1,26.3,29.8,23.4,25.2,32.9,21.6,29.7,26.1,24.9,27.4,31,28.7,33.4,28.6,29.8,31.5,31.5,27.6,27.7,31.3,36.299999999999997,30.5,27.7,29.4,26.8,29.7,31.5,36.700000000000003,35.5,28.1,30.6,29,29.6,29.5,29.4,27.9,31,31.4,28.6,33.200000000000003,29.1,32,28.2,35.200000000000003,27.6,24.6,28.6,28.4]
[null,"> 5 to 10 years",28,29.5,24.3,31.7,29.7,28.5,28.2,25.6,22.2,31.1,30.9,28.4,28.2,26.2,28.7,25.5,24.1,21.4,31.5,36.299999999999997,27.8,30.4,28.4,31.5,28.9,27.2,33.1,25.7,32.299999999999997,28,24.1,23,27,26.5,29.6,27.2,24.7,30.6,23.3,29.1,26.5,25.8,26.6,31.3,26.1,26.9,20.5,28.4,25.7,32.299999999999997,27.5,26.2,27.2,26.7,29.3,27.1,26.4,30.1,23,27.9,26.2,29.3,25.3,27.6,26.7,28.7,26.7]
[null,"> 10 to 21 years",34.200000000000003,34.799999999999997,36.5,34.200000000000003,32.1,30.8,36.5,32.799999999999997,32.799999999999997,34.200000000000003,33.200000000000003,36.700000000000003,34.6,35,33.6,34.700000000000003,38.700000000000003,33.6,34.6,33.299999999999997,33.5,34.6,39,30,34.4,33.700000000000003,33.9,38.299999999999997,31.6,32.6,35.799999999999997,35.9,28.6,32.9,32.1,32.6,34.1,34.1,35.9,28.1,34.5,36.299999999999997,35.299999999999997,33.6,37.299999999999997,34,37.6,21.3,34.6,29.6,34.4,35.200000000000003,31,35.9,34.5,33.799999999999997,37.799999999999997,34.200000000000003,35.1,31.4,33,33.299999999999997,31.9,35.299999999999997,35.700000000000003,31.2,40.299999999999997]

{"sheet":"LA_C&S","index":23,"n_rows":52,"n_cols":31,"rows_kept":52,"cut":false,"hidden":false,"merged":[[7,1,7,3],[8,1,8,3]]}
[]
[]
[]
[]
[]
[]
[null,null,null,null,null,"Key:"]
[null,"ⓘ You are currently viewing the category page for cancer and screening",null,null,null,null,"Primary care data exists, but no PHW access"]
[null,"ⓘ You are currently viewing this information by local authority",null,null,null,null,"No statistical comparison made, or no data available"]
[]
[]
[]
[]
[null,null,"Compare your position to others, and use the checkbox to select indicators of interest for review."]
[null,null,"After selecting indicators, scroll right to click 'Review this indicator'; this will open a web page."]
[null,null,"When complete, click the 'Next' button at the top, for the next category page."]
[]
[]
[null,null,"Screening uptake"]
[null,null,"Indicator","Period","Wales","Bridgend","Neath Port Talbot","Swansea","Blaenau Gwent","Caerphilly","Monmouthshire","Newport","Torfaen","Anglesey","Conwy","Denbighshire","Flintshire","Gwynedd","Wrexham","Cardiff","Vale of Glamorgan","Merthyr Tydfil","Rhondda Cynon Taf","Carmarthenshire","Ceredigion","Pembrokeshire","Powys"]
[null,null,"Uptake of bowel screening (%)","2017-2018",55.666075604190659,57.680076323739861,56.20010643959553,55.215809654901193,52.006578947368418,56.683277613070082,60.975609756097562,53.160202940923554,54.465806765636401,57.477138246369023,55.733398998604613,54.928131416837779,56.65072433631385,57.291760265971782,52.08951428329236,52.542876549499063,58.570119156736943,51.340771188099431,55.652555598907526,56.527526355020761,55.875425281339965,56.725691208449824,56.19740884199279]
[null,null,"Uptake of breast screening (%)","2017-2018",72.818370622108944,74.629418472063861,73.255017647368703,72.02110606465402,72.136415465947962,72.619756320196842,76.821892954339276,68.394667254297048,73.769080234833666,73.374194888842709,71.436198611852646,70.929671154980952,75.061016197026845,74.211431848594913,71.341428974865863,68.260791689056063,73.626882966396295,72.875467664350609,73.743602392551026,73.789263166150349,71.796222439611711,76.97300576281468,76.161128093876343]
[null,null,"Uptake of cervical screening (%)","2017-2018",76.108512943884776,75.824175824175825,74.968189705031804,74.825379852715443,76.725464662010182,78.326979143305678,80.555429915419069,74.698195721056905,77.904711300035416,76.965517241379317,76.145662847790504,76.282560706401767,77.449331090282783,75.215501086875051,76.198481073454801,73.515383293227913,78.807634164777014,74.53358208955224,76.901733705580256,74.366582971924217,73.049119555143648,74.518093873163735,78.240068628744879]
[null,null,"Cancer incidence"]
[null,null,"Indicator","Period / Stage","Wales","Bridgend","Neath Port Talbot","Swansea","Blaenau Gwent","Caerphilly","Monmouthshire","Newport","Torfaen","Anglesey","Conwy","Denbighshire","Flintshire","Gwynedd","Wrexham","Cardiff","Vale of Glamorgan","Merthyr Tydfil","Rhondda Cynon Taf","Carmarthenshire","Ceredigion","Pembrokeshire","Powys"]
[null,null,"Incidence of bowel cancer in persons (crude rate per 100,000)",2015,72.900000000000006,69.7,78,68.099999999999994,71.900000000000006,66.599999999999994,83.3,66.3,58.8,87.2,88.6,77.099999999999994,66.900000000000006,87.9,80.5,44,75.2,55.6,81.3,85.9,69.7,97.2,89,null,null,null," "]
[null,null,"Incidence of breast cancer in persons (crude rate per 100,000)",2015,90.4,100.6,78,97,56.1,79.900000000000006,66,79.900000000000006,104.5,8.4,117.9,109.8,108.4,130.19999999999999,73.2,70,87,99.5,83,72.900000000000006,103.2,119.9,116.1]
[null,null,"Incidence of cervical cancer (crude rate per 100,000)",2015,9.5,15.3,5.6,9.9,8.5,9.8000000000000007,8.5,5.3,8.5,8.4,8.4,8.3000000000000007,12.8,12.9,10.199999999999999,8.8000000000000007,4.5999999999999996,3.3,14.9,9.5,13.5,9.5,4.5]
[null,null,"Incidence of bowel cancer in persons, 2015 (%)","Stage 1",13.9]
[null,null,null,"Stage 2",22]
[null,null,null,"Stage 3",30.3]
[null,null,null,"Stage 4",19.5]
[null,null,null,"Unknown stage",14.4]
[null,null,"Incidence of breast cancer in females, 2015 (%)","Stage 1",34.299999999999997]
[null,null,null,"Stage 2",34]
[null,null,null,"Stage 3",9.8000000000000007]
[null,null,null,"Stage 4",3.6]
[null,null,null,"Unknown stage",17.899999999999999]
[null,null,"Cancer prevalence"]
[null,null,"Indicator","Alive at","Wales","Bridgend","Neath Port Talbot","Swansea","Blaenau Gwent","Caerphilly","Monmouthshire","Newport","Torfaen","Anglesey","Conwy","Denbighshire","Flintshire","Gwynedd","Wrexham","Cardiff","Vale of Glamorgan","Merthyr Tydfil","Rhondda Cynon Taf","Carmarthenshire","Ceredigion","Pembrokeshire","Powys"]
[null,null,"Prevalence of bowel cancer in males, by survival (%)","Up to 1 year",12.7]
[null,null,null,"> 1 to 5 years",36.799999999999997]
[null,null,null,"> 5 to 10 years",27.5]
[null,null,null,"> 10 to 21 years",23.1]
[null,null,"Prevalence of bowel cancer in females, by survival (%)","Up to 1 year",12.3]
[null,null,null,"> 1 to 5 years",33.700000000000003]
[null,null,null,"> 5 to 10 years",27.3]
[null,null,null,"> 10 to 21 years",26.7]
[null,null,"Prevalence of breast cancer in females, by survival (%)","Up to 1 year",8.8000000000000007]
[null,null,null,"> 1 to 5 years",29.5]
[null,null,null,"> 5 to 10 years",27.5]
[null,null,null,"> 10 to 21 years",34.200000000000003]

{"sheet":"RPB_C&S","index":24,"n_rows":52,"n_cols":36,"rows_kept":52,"cut":false,"hidden":false,"merged":[[7,1,7,3],[8,1,8,3]]}
[]
[]
[]
[]
[]
[]
[null,null,null,null,null,"Key:"]
[null,"ⓘ You are currently viewing the category page for cancer and screening",null,null,null,null,"Primary care data exists, but no PHW access"]
[null,"ⓘ You are currently viewing this information by regional partnership board",null,null,null,null,"No statistical comparison made, or no data available"]
[]
[]
[]
[]
[null,null,"Compare your position to others, and use the checkbox to select indicators of interest for review."]
[null,null,"After selecting indicators, scroll right to click 'Review this indicator'; this will open a web page."]
[null,null,"When complete, click the 'Next' button at the top, for the next category page."]
[]
[]
[null,null,"Screening uptake"]
[null,null,"Indicator","Period","Abertawe BM","Bridgend","Neath Port Talbot","Swansea","Aneurin Bevan","Blaenau Gwent","Caerphilly","Monmouthshire","Newport","Torfaen","Betsi Cadwaladr","Anglesey","Conwy","Denbighshire","Flintshire","Gwynedd","Wrexham","Cardiff & Vale","Cardiff","Vale of Glamorgan","Cwm Taf","Merthyr Tydfil","Rhondda Cynon Taf","Hywel Dda","Carmarthenshire","Ceredigion","Pembrokeshire","Powys","Powys LA"]
[null,null,"Uptake of bowel screening (%)","2017-2018",56.169557007357881,57.680076323739861,56.20010643959553,55.215809654901193,55.770880449192859,52.006578947368418,56.683277613070082,60.975609756097562,53.160202940923554,54.465806765636401,55.624175560618781,57.477138246369023,55.733398998604613,54.928131416837779,56.65072433631385,57.291760265971782,52.08951428329236,54.577157802964258,52.542876549499063,58.570119156736943,54.792488189591225,51.340771188099431,55.652555598907526,56.465648854961835,56.527526355020761,55.875425281339965,56.725691208449824,56.19740884199279,56.19740884199279]
[null,null,"Uptake of breast screening (%)","2017-2018",73.140407288317249,74.629418472063861,73.255017647368703,72.02110606465402,72.47939847339839,72.136415465947962,72.619756320196842,76.821892954339276,68.394667254297048,73.769080234833666,72.726124550665503,73.374194888842709,71.436198611852646,70.929671154980952,75.061016197026845,74.211431848594913,71.341428974865863,69.904687527732918,68.260791689056063,73.626882966396295,73.580840723483149,72.875467664350609,73.743602392551026,74.259611035730444,73.789263166150349,71.796222439611711,76.97300576281468,76.161128093876343,76.161128093876343]
[null,null,"Uptake of cervical screening (%)","2017-2018",75.13636292186051,75.824175824175825,74.968189705031804,74.825379852715443,77.454905655149489,76.725464662010182,78.326979143305678,80.555429915419069,74.698195721056905,77.904711300035416,76.40307375036825,76.965517241379317,76.145662847790504,76.282560706401767,77.449331090282783,75.215501086875051,76.198481073454801,74.861422620954826,73.515383293227913,78.807634164777014,76.415094339622641,74.53358208955224,76.901733705580256,74.172117626983677,74.366582971924217,73.049119555143648,74.518093873163735,78.240068628744879,78.240068628744879]
[null,null,"Cancer incidence"]
[null,null,"Indicator","Period / Stage","Abertawe BM","Bridgend","Neath Port Talbot","Swansea","Aneurin Bevan","Blaenau Gwent","Caerphilly","Monmouthshire","Newport","Torfaen","Betsi Cadwaladr","Anglesey","Conwy","Denbighshire","Flintshire","Gwynedd","Wrexham","Cardiff and Vale","Cardiff","Vale of Glamorgan","Cwm Taf","Merthyr Tydfil","Rhondda Cynon Taf","Hywel Dda","Carmarthenshire","Ceredigion","Pembrokeshire","Powys","Powys LA"]
[null,null,"Incidence of bowel cancer in persons (crude rate per 100,000)",2015,71.2,69.7,78,68.099999999999994,68.599999999999994,71.900000000000006,66.599999999999994,83.3,66.3,58.8,80.3,87.2,88.6,77.099999999999994,66.900000000000006,87.9,80.5,52.2,44,75.2,76.2,55.6,81.3,86.4,85.9,69.7,97.2,89,89]
[null,null,"Incidence of breast cancer in persons (crude rate per 100,000)",2015,92.9,100.6,78,97,78.7,56.1,79.900000000000006,66,79.900000000000006,104.5,104.4,8.4,117.9,109.8,108.4,130.19999999999999,73.2,74.5,70,87,86.3,99.5,83,93.9,72.900000000000006,103.2,119.9,116.1,116.1]
[null,null,"Incidence of cervical cancer (crude rate per 100,000)",2015,10.199999999999999,15.3,5.6,9.9,8.1,8.5,9.8000000000000007,8.5,5.3,8.5,10.5,8.4,8.4,8.3000000000000007,12.8,12.9,10.199999999999999,7.7,8.8000000000000007,4.5999999999999996,12.6,3.3,14.9,10.3,9.5,13.5,9.5,4.5,4.5]
[null,null,"Incidence of bowel cancer in persons, 2015 (%)","Stage 1",12.2,null,null,null,11.5,null,null,null,null,null,15.1,null,null,null,null,null,null,17.3,null,null,15,null,null,13.7,null,null,null,12.9]
[null,null,null,"Stage 2",21.3,null,null,null,22.6,null,null,null,null,null,24.3,null,null,null,null,null,null,20.9,null,null,22.2,null,null,18.8,null,null,null,22.2]
[null,null,null,"Stage 3",33.1,null,null,null,32,null,null,null,null,null,25,null,null,null,null,null,null,29.1,null,null,29.7,null,null,35.700000000000003,null,null,null,29.7]
[null,null,null,"Stage 4",18.100000000000001,null,null,null,20.9,null,null,null,null,null,18.8,null,null,null,null,null,null,21.7,null,null,21,null,null,19.100000000000001,null,null,null,15.4]
[null,null,null,"Unknown stage",15.3,null,null,null,13.1,null,null,null,null,null,16.899999999999999,null,null,null,null,null,null,11,null,null,12.1,null,null,12.7,null,null,null,19.899999999999999]
[null,null,"Incidence of breast cancer in females, 2015 (%)","Stage 1",30.6,null,null,null,34.200000000000003,null,null,null,null,null,38.200000000000003,null,null,null,null,null,null,32.4,null,null,34,null,null,35.299999999999997,null,null,null,31.6]
[null,null,null,"Stage 2",34,null,null,null,37,null,null,null,null,null,28.7,null,null,null,null,null,null,35.799999999999997,null,null,37.799999999999997,null,null,35.700000000000003,null,null,null,32.299999999999997]
[null,null,null,"Stage 3",10.5,null,null,null,10.9,null,null,null,null,null,7.6,null,null,null,null,null,null,10.3,null,null,10.4,null,null,10.7,null,null,null,9.6]
[null,null,null,"Stage 4",3.7,null,null,null,4.0999999999999996,null,null,null,null,null,3,null,null,null,null,null,null,3.1,null,null,3.9,null,null,4.5,null,null,null,3.7]
[null,null,null,"Unknown stage",20.9,null,null,null,13.6,null,null,null,null,null,22.2,null,null,null,null,null,null,18.100000000000001,null,null,13.5,null,null,13.2,null,null,null,22.5]
[null,null,"Cancer prevalence"]
[null,null,"Indicator","Alive at","Abertawe BM","Bridgend","Neath Port Talbot","Swansea","Aneurin Bevan","Blaenau Gwent","Caerphilly","Monmouthshire","Newport","Torfaen","Betsi Cadwaladr","Anglesey","Conwy","Denbighshire","Flintshire","Gwynedd","Wrexham","Cardiff and Vale","Cardiff","Vale of Glamorgan","Cwm Taf","Merthyr Tydfil","Rhondda Cynon Taf","Hywel Dda","Carmarthenshire","Ceredigion","Pembrokeshire","Powys","Powys LA"]
[null,null,"Prevalence of bowel cancer in males, by survival (%)","Up to 1 year",12.4,null,null,null,13.7,null,null,null,null,null,12,null,null,null,null,null,null,11,null,null,13.2,null,null,14.1,null,null,null,12.1]
[null,null,null,"> 1 to 5 years",35.9,null,null,null,35.9,null,null,null,null,null,38.4,null,null,null,null,null,null,37,null,null,37.200000000000003,null,null,35.4,null,null,null,37.200000000000003]
[null,null,null,"> 5 to 10 years",28,null,null,null,27.5,null,null,null,null,null,25.9,null,null,null,null,null,null,27.1,null,null,29.8,null,null,27.1,null,null,null,31.4,null,null,null," "]
[null,null,null,"> 10 to 21 years",23.7,null,null,null,22.9,null,null,null,null,null,23.7,null,null,null,null,null,null,24.9,null,null,19.899999999999999,null,null,23.3,null,null,null,19.3]
[null,null,"Prevalence of bowel cancer in females, by survival (%)","Up to 1 year",12.2,null,null,null,11.3,null,null,null,null,null,12.5,null,null,null,null,null,null,13,null,null,13.5,null,null,12.2,null,null,null,12]
[null,null,null,"> 1 to 5 years",33.799999999999997,null,null,null,34,null,null,null,null,null,32.799999999999997,null,null,null,null,null,null,31.6,null,null,34.6,null,null,35.299999999999997,null,null,null,34.799999999999997]
[null,null,null,"> 5 to 10 years",27.2,null,null,null,29,null,null,null,null,null,29.5,null,null,null,null,null,null,26.9,null,null,26.2,null,null,23.8,null,null,null,24.2]
[null,null,null,"> 10 to 21 years",26.7,null,null,null,25.7,null,null,null,null,null,25.1,null,null,null,null,null,null,28.5,null,null,25.7,null,null,28.7,null,null,null,29]
[null,null,"Prevalence of breast cancer in females, by survival (%)","Up to 1 year",9,null,null,null,8.1,null,null,null,null,null,9.4,null,null,null,null,null,null,8.5,null,null,9.1,null,null,8.1999999999999993,null,null,null,9.6]
[null,null,null,"> 1 to 5 years",28.8,null,null,null,29,null,null,null,null,null,29.7,null,null,null,null,null,null,30.5,null,null,29,null,null,31,null,null,null,27.6]
[null,null,null,"> 5 to 10 years",28,null,null,null,28.2,null,null,null,null,null,27.2,null,null,null,null,null,null,26.5,null,null,27.5,null,null,27.1,null,null,null,27.6]
[null,null,null,"> 10 to 21 years",34.200000000000003,null,null,null,34.6,null,null,null,null,null,33.700000000000003,null,null,null,null,null,null,34.5,null,null,34.4,null,null,33.799999999999997,null,null,null,35.299999999999997]

{"sheet":"CHB_C&S","index":25,"n_rows":52,"n_cols":84,"rows_kept":52,"cut":false,"hidden":false,"merged":[[7,1,7,4],[8,1,8,4]]}
[]
[]
[]
[]
[]
[]
[null,null,null,null,null,null,"Key:"]
[null,"ⓘ You are currently viewing the category page for cancer and screening",null,null,null,null,null,"Cluster similar to health board average"]
[null,"ⓘ You are currently viewing this information by clusters, by health board",null,null,null,null,null,"Cluster position lower than health board average"]
[null,null,null,null,null,null,null,"Cluster position higher than health board average"]
[null,null,null,null,null,null,null,"Primary care data exists, but no PHW access"]
[null,null,null,null,null,null,null,"No statistical comparison made, or no data available"]
[]
[null,null,"Compare your position to others, and use the checkbox to select indicators of interest for review."]
[null,null,"After selecting indicators, scroll right to click 'Review this indicator'; this will open a web page."]
[null,null,"When complete, click the 'Next' button at the top, for the next category page."]
[]
[]
[null,null,"Screening uptake"]
[null,null,"Indicator","Period","Abertawe BM","Bridgend East Network","Bridgend North Network","Bridgend West Network","Afan","Neath","Upper Valleys","BayHealth","CityHealth","Cwmtawe","Llwchwr","Penderi","Aneurin Bevan","Blaenau Gwent East","Blaenau Gwent West","Caerphilly East","Caerphilly North","Caerphilly South","Monmouthshire North","Monmouthshire South","Newport Central","Newport East","Newport West","Torfaen North","Torfaen South","Betsi Cadwaladr","Anglesey","Conwy East","Conwy West","Central - South Denbighshire","North Denbighshire","North East Flintshire","Nort West Flintshire","South flintshire","Arfon","Dwyfor","Meirionnydd","South Wrexham","West - North Wrexham","Wrexham Town","Cardiff & Vale","Cardiff East","Cardiff North","Cardiff South East","Cardiff South West","Cardiff West","City - Cardiff South","Central Vale","Eastern Vale","Western Vale","Cwm Taf","Cynon","Merthyr","Rhondda","Taf Ely","Cwm Taf x8","North Merthyr Tydfil","South Merthyr Tydfil","North Cynon","North Rhondda","North Taf Ely","South Cynon","South Rhondda","South Taf Ely","Hywel Dda","Amman-Gwendraeth","Llanelli","Taf - Teifi - Tywi","North Ceredigion","South Ceredigion","North Pembrokeshire","South Pembrokeshire","Powys","Mid Powys","North Powys","South Powys"]
[null,null,"Uptake of bowel screening (%)","2017-2018",56.169557007357881,58.768626166693963,55.487249544626593,60.202561811140896,55.414438502673804,57.203065134099617,55.830388692579504,59.442193829853537,47.492380160709338,56.099585062240664,57.5708688637935,51.697034655234006,55.770880449192859,50.103305785123965,53.803393797542419,55.541651769753308,55.488850771869636,59.238796807857582,61.467359907567875,60.088749673714439,57.945492662473796,50.497949619214999,48.952323109626477,55.581287633163498,53.365023767825868,55.624175560618781,57.049922217508133,54.701465856274581,56.959118052365639,56.952730610371724,52.767527675276746,55.102431552747468,54.336381269049596,60.281124497991968,57.063658956222518,58.917315535780503,57.36782902137233,53.319357092941999,53.112840466926073,50.506798516687269,54.577157802964258,49.123724823437094,59.964339596763125,42.87867370007536,47.645904855321234,58.79818594104308,39.624853458382184,53.800383877159305,60.942562592047132,62.235757792905765,null,null,null,null,null,54.792488189591225,47.868362004487658,54.580152671755719,55.164774300747709,54.413191076624635,56.140837260881618,54.04624277456648,54.186413902053708,60.482725982016092,56.465648854961835,56.539735099337754,55.380719840839213,57.415010674987684,56.669159810521066,55.285412262156456,56.256651968982816,57.009027422926252,56.19740884199279,54.924681344148318,55.783832067887452,58.276001618777819]
[null,null,"Uptake of breast screening (%)","2017-2018",73.140407288317249,74.991974317817011,74.412151307141812,74.238056013179573,71.816860465116278,74.813314770282247,72.679676344597809,76.32268827454719,65.152565880721227,72.348284960422163,73.506039415130317,70.002626740215391,72.47939847339839,71.507150715071504,72.696981575852604,73.509469254150105,70.592680557054948,74.132791327913282,76.152386117136658,77.665755297334243,72.792395646783305,67.530163236337827,63.24900133155792,73.516728624535318,74.049586776859499,72.726124550665503,73.374194888842709,68.083261058109272,74.689669682305919,75.902950096498472,67.761482392201628,75.081710027454577,73.760548523206751,76.390030128731851,72.844082036076102,79.460217315106902,73.388116308470288,71.115599751398378,71.827364554637285,71.136675824175825,69.904687527732918,66.254201038802321,73.242269337132328,60.901542111506522,66.613232293791896,73.43594128544963,52.192982456140349,71.16864085968983,75.17075130574527,76.667481065233318,null,null,null,null,null,73.580840723483149,71.706547462529585,74.083129584352079,74.675805854020012,73.006003430531734,72.065482410309997,73.48207754206291,71.849829351535831,77.187642672348204,74.259611035730444,74.435732953195526,72.254749671406387,74.638512738122557,73.057086964253955,70.871380120010443,75.542470831970348,78.766748701121131,76.161128093876343,74.125058329444698,76.785714285714292,76.604584527220638]
[null,null,"Uptake of cervical screening (%)","2017-2018",75.13636292186051,77.453551912568315,75.750177207214293,75.284891557407178,75.242718446601941,75.621711237655873,74.870569494225407,76.930881420418515,67.791077257889015,76.910206358059114,79.063477305384154,73.782811176968664,77.454905655149489,75.560181217093174,78.179298582240691,78.633425669436747,77.185407671610037,79.393290506780872,79.809743954480794,82.047244094488192,80.41222559469189,71.888237210817849,71.940616797900262,77.166345105276406,79.188759278897138,76.40307375036825,76.607953029089941,74.438745480534777,77.808913797704832,79.916742816529592,73.172905525846701,77.95408727320023,74.720119415715956,80.890734408076852,75.3410486842956,76.343106902203601,75.3,77.90328273914578,78.193701723113492,73.389750822755047,74.861422620954826,75.656916212196336,77.92102489256466,65.711167697344479,73.713613643046159,80.543947386449261,62.96801872074883,76.825175710757932,81.55670216269624,81.248164464023503,null,null,null,null,null,76.415094339622641,72.705496722138179,77.063696086832337,75.727554179566553,77.750789409764394,73.302957039241207,77.27627979679562,77.850620463591667,81.699083748593466,74.172117626983677,75.965969514356615,72.977412731006169,74.577505827505831,71.910821327163745,74.972170686456394,75.63822027716995,73.486820696387895,78.240068628744879,78.670988654781198,77.868625277161868,78.808890577507597,null,null,null," "]
[null,null,"Cancer incidence"]
[null,null,"Indicator","Period / Stage","Abertawe BM","Bridgend East Network","Bridgend North Network","Bridgend West Network","Afan","Neath","Upper Valleys","BayHealth","CityHealth","Cwmtawe","Llwchwr","Penderi","Aneurin Bevan","Blaenau Gwent East","Blaenau Gwent West","Caerphilly East","Caerphilly North","Caerphilly South","Monmouthshire North","Monmouthshire South","Newport Central","Newport East","Newport West","Torfaen North","Torfaen South","Betsi Cadwaladr","Anglesey","Conwy East","Conwy West","Central - South Denbighshire","North Denbighshire","North East Flintshire","Nort West Flintshire","South flintshire","Arfon","Dwyfor","Meirionnydd","South Wrexham","West - North Wrexham","Wrexham Town","Cardiff & Vale","Cardiff East","Cardiff North","Cardiff South East","Cardiff South West","Cardiff West","City - Cardiff South","Central Vale","Eastern Vale","Western Vale","Cwm Taf","Cynon","Merthyr","Rhondda","Taf Ely","Cwm Taf x8","North Merthyr Tydfil","South Merthyr Tydfil","North Cynon","North Rhondda","North Taf Ely","South Cynon","South Rhondda","South Taf Ely","Hywel Dda","Amman-Gwendraeth","Llanelli","Taf - Teifi - Tywi","North Ceredigion","South Ceredigion","North Pembrokeshire","South Pembrokeshire","Powys","Mid Powys","North Powys","South Powys"]
[null,null,"Incidence of bowel cancer in persons (crude rate per 100,000)",2015,71.2,null,null,null,null,null,null,null,null,null,null,null,68.599999999999994,null,null,null,null,null,null,null,null,null,null,null,null,80.3,null,null,null,null,null,null,null,null,null,null,null,null,null,null,52.2,null,null,null,null,null,null,null,null,null,76.2,null,null,null,null,null,null,null,null,null,null,null,null,null,86.4,null,null,null,null,null,null,null,89]
[null,null,"Incidence of breast cancer in persons (crude rate per 100,000)",2015,92.9,null,null,null,null,null,null,null,null,null,null,null,78.7,null,null,null,null,null,null,null,null,null,null,null,null,104.4,null,null,null,null,null,null,null,null,null,null,null,null,null,null,74.5,null,null,null,null,null,null,null,null,null,86.3,null,null,null,null,null,null,null,null,null,null,null,null,null,93.9,null,null,null,null,null,null,null,116.1]
[null,null,"Incidence of cervical cancer (crude rate per 100,000)",2015,10.199999999999999,null,null,null,null,null,null,null,null,null,null,null,8.1,null,null,null,null,null,null,null,null,null,null,null,null,10.5,null,null,null,null,null,null,null,null,null,null,null,null,null,null,7.7,null,null,null,null,null,null,null,null,null,12.6,null,null,null,null,null,null,null,null,null,null,null,null,null,10.3,null,null,null,null,null,null,null,4.5]
[null,null,"Incidence of bowel cancer in persons, 2015 (%)","Stage 1",12.2,13.9,7.9,10.3,12,15.5,11.9,11.5,10,12.3,14.5,13.9,11.5,9.3000000000000007,6.3,14.7,16.3,13,7.9,11.8,10.3,13.7,5.0999999999999996,10.3,14.2,15.1,16.2,12.9,13.1,15.8,11.5,11.9,15.3,17.899999999999999,16.5,15.6,13,17.3,21.8,15,17.3,18.3,16.5,16.7,13.5,14.9,24.6,17.8,23.5,15.6,15,15.9,15.7,11.9,17,null,null,null,null,null,null,null,null,null,13.7,14.1,13.8,12.7,14.6,15.3,10.9,15.2,12.9,13.4,15.5,8.6999999999999993]
[null,null,null,"Stage 2",21.3,22.4,21.2,22.4,21.7,19.3,19.3,20.399999999999999,20,25.2,22.4,20,22.6,14.7,16,25.8,24.3,22.8,24.3,21.6,18.8,25.8,29.7,18.600000000000001,25.3,24.3,19.600000000000001,27.9,25.9,15.8,24.7,27.4,20.100000000000001,23.1,27.3,27.9,26.6,22.5,24.6,26.5,20.9,21.1,21,13.9,19.600000000000001,24.7,22.8,25.2,15.9,20.2,22.2,26.9,22.7,20.9,20.3,null,null,null,null,null,null,null,null,null,18.8,20.5,16.399999999999999,17.100000000000001,21,16.8,24.6,15.5,22.2,26.1,18.100000000000001,25.7]
[null,null,null,"Stage 3",33.1,33.200000000000003,33.9,29.5,34.9,31.4,33.299999999999997,33.5,40,28.4,32.700000000000003,33.9,32,34.1,47.2,25.8,26.8,38.1,36,30.1,29.1,27.5,34.1,29.5,28.4,25,25,18.5,23.6,26,30.6,23.9,30.6,28.7,24.7,19.7,28.8,22.5,21.2,26.5,29.1,26.1,30,35.200000000000003,29.4,29.3,26.3,23.4,29.5,35.799999999999997,29.7,30,35.6,25.2,30.4,null,null,null,null,null,null,null,null,null,35.700000000000003,31.4,37.1,36.9,28.7,36.700000000000003,36.6,39.200000000000003,29.7,32.1,27.3,31.6]
[null,null,null,"Stage 4",18.100000000000001,22,23.8,26.3,15.4,16.399999999999999,11.9,17.100000000000001,18.100000000000001,16.100000000000001,13.9,15.7,20.9,24.8,20.8,20,19.7,17.7,19.2,23.5,25.5,19.2,18.8,23.1,21.6,18.8,19.600000000000001,24.9,20.7,23.7,20.9,13.3,24.3,15.9,16.100000000000001,12.3,12.5,20.9,17.899999999999999,17,21.7,23.2,22.5,23.1,20.9,21.3,12.3,22,21.2,23.9,21,17.600000000000001,14.8,25.8,22.2,null,null,null,null,null,null,null,null,null,19.100000000000001,25.9,22,20.6,13.4,19.899999999999999,14.9,16.600000000000001,15.4,9,14.1,21.4]
[null,null,null,"Unknown stage",15.3,8.5,13.2,11.5,16,17.399999999999999,23.7,17.5,11.9,18.100000000000001,16.399999999999999,16.5,13.1,17.100000000000001,9.6999999999999993,13.7,13,8.4,12.6,13.1,16.399999999999999,13.7,12.3,18.600000000000001,10.5,16.899999999999999,19.600000000000001,15.9,16.7,18.600000000000001,12.3,23.5,9.6999999999999993,14.4,15.4,24.6,19,16.8,14.5,15,11,11.3,10.1,11.1,16.600000000000001,9.8000000000000007,14,11.7,9.8000000000000007,4.5999999999999996,12.1,9.6999999999999993,11.1,16.2,10.1,null,null,null,null,null,null,null,null,null,12.7,8.1999999999999993,10.8,12.7,22.3,11.2,13,13.4,19.899999999999999,19.399999999999999,25,12.6]
[null,null,"Incidence of breast cancer in females, 2015 (%)","Stage 1",30.6,21,35.5,30.6,26,26.8,29.1,32.4,34.9,36,35.200000000000003,30.5,34.200000000000003,36.200000000000003,42,33.6,32.799999999999997,38.200000000000003,32.1,31.2,29.7,37.200000000000003,27.7,35.4,34,38.200000000000003,39.799999999999997,35.299999999999997,43.9,37.9,40.799999999999997,35.799999999999997,39.9,37.799999999999997,42.3,46.9,33.200000000000003,35.6,32.1,28.2,32.4,33.299999999999997,34.299999999999997,28.6,22.6,36.5,20.5,38.9,33.5,30,34,33.200000000000003,31.9,33.200000000000003,36.700000000000003,null,null,null,null,null,null,null,null,null,35.299999999999997,37.6,37.6,40.5,31.8,35.700000000000003,33.4,29.3,31.6,32.9,29.8,33]
[null,null,null,"Stage 2",34,39.299999999999997,37.9,33.299999999999997,41.2,33.299999999999997,35.9,21,25.5,31.1,30.7,33.799999999999997,37,33.6,27.4,39.5,36.4,39.799999999999997,38.299999999999997,39,40.5,36.6,36.5,36.4,35.1,28.7,28.9,34.299999999999997,25.3,27.9,27.7,31.5,32.200000000000003,28.6,25.4,23.5,31.6,24.7,32.700000000000003,30.1,35.799999999999997,37,34.5,43.7,38.200000000000003,36.5,40.9,31.1,28.9,41.5,37.799999999999997,37.4,33.200000000000003,40.4,38.6,null,null,null,null,null,null,null,null,null,35.700000000000003,35.299999999999997,34.700000000000003,35.799999999999997,38.700000000000003,37.299999999999997,34.299999999999997,35.1,32.299999999999997,29.9,32.1,34.5]
[null,null,null,"Stage 3",10.5,14.9,8.9,9.1,10.8,13,11.1,35.5,10.1,11.7,8,9.6999999999999993,10.9,10.1,10.199999999999999,10.9,13.2,10.8,8.6,10.6,12.6,11.6,10.9,7.7,12.9,7.6,7.6,5.7,9.5,6.4,6.2,8.1999999999999993,10.5,8.4,8.1,8,4.8,6.8,9.1,8.1,10.3,6.8,9.3000000000000007,5.6,12.4,10,5.7,12.3,13.7,13.8,10.4,8,15.5,10.3,8.6999999999999993,null,null,null,null,null,null,null,null,null,10.7,11.3,12.5,11.7,8.8000000000000007,11.2,7.8,12,9.6,11.6,8.1999999999999993,10.199999999999999]
[null,null,null,"Stage 4",3.7,4.5999999999999996,2.5,6.5,3.9,4.0999999999999996,1.7,30.6,2.7,4.0999999999999996,2.7,5.2,4.0999999999999996,6,4.5,3.1,4,2.2999999999999998,5.3,2.8,4.0999999999999996,2.2999999999999998,7.3,5.3,3.1,3,3.6,3.7,3.5,2.7,0.7,1.6,2.1,3.4,5.0999999999999996,1.9,3.2,3.2,3,3.3,3.1,3.7,3.6,1.6,3.8,2.2999999999999998,6.8,2,3,2.2999999999999998,3.9,5,2.1,4.5999999999999996,3.5,null,null,null,null,null,null,null,null,null,4.5,4.5,6.3,2.8,4.5999999999999996,3.7,4.2,5.4,3.7,4.3,3,4.4000000000000004]
[null,null,null,"Unknown stage",20.9,19.8,14.8,20.399999999999999,18.100000000000001,22.8,22.2,34.9,26.2,16.7,22.6,20.100000000000001,13.6,14.1,15.9,12.9,12.8,8.9,15.6,16.3,12.2,12.2,17.5,14.8,14.4,22.2,19.7,20.7,17.8,25.1,24,22.2,15.4,21.4,18.8,19.8,25.7,29.7,23,30.1,18.100000000000001,19.100000000000001,17.5,20.6,22.6,14.6,26.1,15.2,20.8,11.5,13.5,15.6,17.2,11.2,11.7,null,null,null,null,null,null,null,null,null,13.2,10.5,8.1,9.1999999999999993,15.7,10.8,19.7,17.8,22.5,20.100000000000001,26.9,18]
[null,null,"Cancer prevalence"]
[null,null,"Indicator","Alive at","Abertawe BM","Afan","BayHealth","Bridgend East Network","Bridgend North Network","Bridgend West Network","CityHealth","Cwmtawe","Llwchwr","Neath","Penderi","Upper Valleys","Aneurin Bevan","Blaenau Gwent East","Blaenau Gwent West","Caerphilly East","Caerphilly North","Caerphilly South","Monmouthshire North","Monmouthshire South","Newport East","Newport North","Newport West","Torfaen North","Torfaen South","Betsi Cadwaladr","Anglesey","Conwy East","Conwy West","Central - South Denbighshire","North Denbighshire","North East Flintshire","North West Flintshire","South Flintshire","Arfon","Dwyfor","Meirionnydd","South Wrexham","West - North Wrexham","Wrexham Town","Cardiff & Vale","Cardiff East","Cardiff North","Cardiff South East","Cardiff South West","Cardiff West","Central Vale","City & Cardiff South","Eastern Vale","Western Vale","Cwm Taf","Cynon","Merthyr","Rhondda","Taf Ely","Cwm Taf x8","North Merthyr Tydfil","South Merthyr Tydfil","North Cynon","North Rhondda","North Taf Ely","South Cynon","South Rhondda","South Taf Ely","Hywel Dda","Amman/Gwendraeth","Llanelli","North Ceredigion","North Pembrokeshire","South Ceredigion","South Pembrokeshire","Taf / Tywi","Powys","Mid Powys","North Powys","South Powys"]
[null,null,"Prevalence of bowel cancer in males, by survival (%)","Up to 1 year",12.4,14.5,12.6,12.2,12.1,9.3000000000000007,17,6.5,8.6,12,12.4,20.399999999999999,13.7,8.5,14,15.6,8.1999999999999993,18.2,14.9,15.8,12.1,12.4,12.5,16.8,15.2,12,10.9,9.6,15.7,10.1,12.8,10,12.5,11.2,12.4,7.3,12.7,12.9,18.399999999999999,8.5,11,19.3,11.6,7.6,10.8,8,13.3,6.8,7.5,11.4,13.2,11.9,10.7,14,15.1,null,null,null,null,null,null,null,null,null,14.1,12.8,14.8,15.2,12.4,16.5,16.100000000000001,12.4,12.1,13.4,12.6,10.3]
[null,null,null,"> 1 to 5 years",35.9,27.3,35.9,34.299999999999997,30.6,42.3,40.4,36.6,38.299999999999997,39.299999999999997,36,36.9,35.9,36.200000000000003,28,40.700000000000003,39.9,39.9,36.9,33.700000000000003,32.700000000000003,43,33,23.8,35.200000000000003,38.4,42.3,36.299999999999997,34,33.6,35.9,44.7,42.3,36.1,37.1,40.200000000000003,36.4,39.5,39.700000000000003,40.700000000000003,37,41,35.9,27.8,36.299999999999997,43.4,35.700000000000003,47.7,32.1,40,37.200000000000003,33.1,44.4,30.9,40.200000000000003,null,null,null,null,null,null,null,null,null,35.4,31.8,39.4,38.4,34.5,33.1,37.4,34.1,37.200000000000003,37.1,37.200000000000003,37.299999999999997]
[null,null,null,"> 5 to 10 years",28,26.4,28.3,29.7,36.299999999999997,24.7,24.5,30.1,30.5,20.7,31.5,22.3,27.5,28.7,30.1,23,24.7,30.8,27.7,23.2,34.6,29.8,23.9,31.7,22.9,25.9,24.5,26,27.9,31.1,23.1,24.7,25,24.9,27.5,30.5,28,29.8,21.3,21.2,27.1,21.7,29.8,41.8,21.6,17.7,26.6,38.6,29.2,22.9,29.8,36.299999999999997,26,31.9,26.4,null,null,null,null,null,null,null,null,null,27.1,24.3,23.2,19.600000000000001,31.4,24.8,28.2,33.5,31.4,30.9,31.9,31]
[null,null,null,"> 10 to 21 years",23.7,31.8,23.2,23.8,21,23.7,18.100000000000001,26.9,22.7,28,20.2,20.399999999999999,22.9,26.6,28,20.7,27.2,11.2,20.6,27.4,20.6,14.9,30.7,27.7,26.7,23.7,22.3,28.1,22.3,25.2,28.2,20.7,20.2,27.8,23,22,22.9,17.7,20.6,29.7,24.9,18.100000000000001,22.7,22.8,31.4,31,24.5,6.8,31.1,25.7,19.899999999999999,18.8,18.899999999999999,23.2,18.399999999999999,null,null,null,null,null,null,null,null,null,23.3,31.1,22.5,26.8,21.6,25.6,18.399999999999999,20,19.3,18.600000000000001,18.3,21.4]
[null,null,"Prevalence of bowel cancer in females, by survival (%)","Up to 1 year",12.2,10.6,11.8,10.9,20.6,12.7,14.8,6.9,14.1,8.5,12.3,17.3,11.3,9.8000000000000007,18.3,9.4,15.4,14.6,10.4,12.3,10.199999999999999,8.6,11,7.9,6.5,12.5,12.1,13.7,12.4,14.9,9.1999999999999993,12.6,6.8,16.2,9,14.3,21.7,9.5,13.2,12.2,13,19.5,6.4,14.7,15.2,11.4,17.399999999999999,12,11.4,18,13.5,11.6,9.3000000000000007,12.9,18.100000000000001,null,null,null,null,null,null,null,null,null,12.2,9,11.2,12.5,13.4,9.1,13.5,15,12,12.2,13.2,10.199999999999999]
[null,null,null,"> 1 to 5 years",33.799999999999997,40.4,28.9,42.2,29.4,35.4,32.1,41.7,34.6,27.7,36.9,21.2,34,36.1,40.799999999999997,29.2,30.8,37.1,31.1,40.700000000000003,35.200000000000003,33.299999999999997,28.8,32.9,35.9,32.799999999999997,24.9,35,33.5,29.7,33.6,39.6,28.4,33.299999999999997,36.799999999999997,31.4,36.1,41.7,25,30.5,31.6,28.6,29.8,29.4,21.5,36.200000000000003,33,32,38,36,34.6,39.700000000000003,39.200000000000003,34.5,28.1,null,null,null,null,null,null,null,null,null,35.299999999999997,35.1,37.799999999999997,35,40.200000000000003,38.200000000000003,27,34.6,34.799999999999997,35.1,35.299999999999997,33.9]
[null,null,null,"> 5 to 10 years",27.2,25.5,32.200000000000003,21.9,25,21.5,30.9,33.299999999999997,24.4,30.8,24.6,25,29,31.1,21.1,29.2,29.2,25.8,35.799999999999997,29.6,25,25.9,27.4,34.200000000000003,31.5,29.5,30.1,25.6,31.7,31.7,34.5,26.1,35.1,23.8,32.6,30,20.5,27.4,30.3,31.7,26.9,26,31,26.5,25.3,22.9,29.4,24,25.3,24,26.2,24,24.7,25.1,30,null,null,null,null,null,null,null,null,null,23.8,19.8,25.5,22.5,22.6,16.399999999999999,33.1,24.1,24.2,28.4,23.4,22.9]
[null,null,null,"> 10 to 21 years",26.7,23.4,27,25,25,30.4,22.2,18.100000000000001,26.9,33.1,26.2,36.5,25.7,23,19.7,32.299999999999997,24.6,22.5,22.6,17.3,29.5,32.1,32.9,25,26.1,25.1,32.9,25.6,22.4,23.8,22.7,21.6,29.7,26.7,21.5,24.3,21.7,21.4,31.6,25.6,28.5,26,32.700000000000003,29.4,38,29.5,20.2,32,25.3,22,25.7,24.8,26.8,27.5,23.8,null,null,null,null,null,null,null,null,null,28.7,36,25.5,30,23.8,36.4,26.4,26.3,29,24.3,28.1,33.1]
[null,null,"Prevalence of breast cancer in females, by survival (%)","Up to 1 year",9,5.8,9.1,6.9,10.1,15.1,5.6,11.6,12,9.1,4.0999999999999996,10.5,8.1,5,4.3,10.7,7.1,8.1999999999999993,6.8,4,8.8000000000000007,11.6,7.3,5.6,15.2,9.4,6.9,11.5,7.6,8.6999999999999993,8.6999999999999993,13.6,7.6,9.4,11.1,15.8,10.8,6.5,6.8,8.3000000000000007,8.5,10.199999999999999,8.6999999999999993,8.3000000000000007,6.9,7.5,5.2,14.9,11.5,7.6,9.1,9,12.3,8,8.3000000000000007,null,null,null,null,null,null,null,null,null,8.1999999999999993,4.3,7.1,8.6999999999999993,11.6,8.8000000000000007,9.1,7.6,9.6,12.9,11.5,4.7]
[null,null,null,"> 1 to 5 years",28.8,29.9,30,27.1,28.1,25.6,29.7,30,33,25.6,31.8,24.4,29,33.799999999999997,33.299999999999997,29.1,30.1,36.700000000000003,27.1,26.3,29.8,23.4,25.2,32.9,21.6,29.7,26.1,28.7,33.4,27.4,31.5,27.6,27.7,31.3,24.9,28.6,29.8,36.299999999999997,31.5,31,30.5,27.7,29.4,26.8,29.7,31.5,36.700000000000003,35.5,28.1,30.6,29,29.6,29.5,29.4,27.9,null,null,null,null,null,null,null,null,null,31,31.4,28.6,33.200000000000003,29.1,32,28.2,35.200000000000003,27.6,24.6,28.6,28.4]
[null,null,null,"> 5 to 10 years",28,29.5,24.3,31.7,29.7,28.5,28.2,25.6,22.2,31.1,30.9,28.4,28.2,26.2,28.7,25.5,24.1,21.4,31.5,36.299999999999997,27.8,30.4,28.4,31.5,28.9,27.2,33.1,24.1,23,32.299999999999997,27.2,24.7,30.6,23.3,25.7,27,26.5,29.1,29.6,28,26.5,25.8,26.6,31.3,26.1,26.9,20.5,28.4,25.7,32.299999999999997,27.5,26.2,27.2,26.7,29.3,null,null,null,null,null,null,null,null,null,27.1,26.4,30.1,23,27.9,26.2,29.3,25.3,27.6,26.7,28.7,26.7]
[null,null,null,"> 10 to 21 years",34.200000000000003,34.799999999999997,36.5,34.200000000000003,32.1,30.8,36.5,32.799999999999997,32.799999999999997,34.200000000000003,33.200000000000003,36.700000000000003,34.6,35,33.6,34.700000000000003,38.700000000000003,33.6,34.6,33.299999999999997,33.5,34.6,39,30,34.4,33.700000000000003,33.9,35.799999999999997,35.9,31.6,32.6,34.1,34.1,35.9,38.299999999999997,28.6,32.9,28.1,32.1,32.6,34.5,36.299999999999997,35.299999999999997,33.6,37.299999999999997,34,37.6,21.3,34.6,29.6,34.4,35.200000000000003,31,35.9,34.5,null,null,null,null,null,null,null,null,null,33.799999999999997,37.799999999999997,34.200000000000003,35.1,31.4,33,33.299999999999997,31.9,35.299999999999997,35.700000000000003,31.2,40.299999999999997]

{"sheet":"CLA_C&S","index":26,"n_rows":52,"n_cols":93,"rows_kept":52,"cut":false,"hidden":false,"merged":[[7,1,7,4],[8,1,8,4]]}
[]
[]
[]
[]
[]
[]
[null,null,null,null,null,null,"Key:"]
[null,"ⓘ You are currently viewing the category page for cancer and screening",null,null,null,null,null,"Primary care data exists, but no PHW access"]
[null,"ⓘ You are currently viewing this information by clusters, by local authority (PSB)",null,null,null,null,null,"No statistical comparison made, or no data available"]
[]
[]
[]
[]
[null,null,"Compare your position to others, and use the checkbox to select indicators of interest for review."]
[null,null,"After selecting indicators, scroll right to click 'Review this indicator'; this will open a web page."]
[null,null,"When complete, click the 'Next' button at the top, for the next category page."]
[]
[]
[null,null,"Screening uptake"]
[null,null,"Indicator","Period","Bridgend","Bridgend East Network","Bridgend North Network","Bridgend West Network","Neath Port Talbot","Afan","Neath","Upper Valleys","Swansea","BayHealth","CityHealth","Cwmtawe","Llwchwr","Penderi","Blaenau Gwent","Blaenau Gwent East","Blaenau Gwent West","Caerphilly","Caerphilly East","Caerphilly North","Caerphilly South","Monmouthshire","Monmouthshire North","Monmouthshire South","Newport","Newport Central","Newport East","Newport West","Torfaen","Torfaen North","Torfaen South","Anglesey LA","Anglesey","Conwy","Conwy East","Conwy West","Denbighshire","Central - South Denbighshire","North Denbighshire","Flintshire","North East Flintshire","Nort West Flintshire","South flintshire","Gwynedd","Arfon","Dwyfor","Meirionnydd","Wrexham","South Wrexham","West - North Wrexham","Wrexham Town","Cardiff","Cardiff East","Cardiff North","Cardiff South East","Cardiff South West","Cardiff West","City - Cardiff South","Vale of Glamorgan","Central Vale","Eastern Vale","Western Vale","Merthyr Tydfil","North Merthyr Tydfil","South Merthyr Tydfil","Rhondda Cynon Taf","North Cynon","North Rhondda","North Taf Ely","South Cynon","South Rhondda","South Taf Ely","Carmarthenshire","Amman-Gwendraeth","Llanelli","Taf - Teifi - Tywi","Ceredigion","North Ceredigion","South Ceredigion","Pembrokeshire","North Pembrokeshire","South Pembrokeshire","Powys","Mid Powys","North Powys","South Powys"]
[null,null,"Uptake of bowel screening (%)","2017-2018",57.680076323739861,58.768626166693963,55.487249544626593,60.202561811140896,56.20010643959553,55.414438502673804,57.203065134099617,55.830388692579504,55.215809654901193,59.442193829853537,47.492380160709338,56.099585062240664,57.5708688637935,51.697034655234006,52.006578947368418,50.103305785123965,53.803393797542419,56.683277613070082,55.541651769753308,55.488850771869636,59.238796807857582,60.975609756097562,61.467359907567875,60.088749673714439,53.160202940923554,57.945492662473796,50.497949619214999,48.952323109626477,54.465806765636401,55.581287633163498,53.365023767825868,57.477138246369023,57.049922217508133,55.733398998604613,54.701465856274581,56.959118052365639,54.928131416837779,56.952730610371724,52.767527675276746,56.65072433631385,55.102431552747468,54.336381269049596,60.281124497991968,57.291760265971782,57.063658956222518,58.917315535780503,57.36782902137233,52.08951428329236,53.319357092941999,53.112840466926073,50.506798516687269,52.542876549499063,49.123724823437094,59.964339596763125,42.87867370007536,47.645904855321234,58.79818594104308,39.624853458382184,58.570119156736943,53.800383877159305,60.942562592047132,62.235757792905765,51.340771188099431,47.868362004487658,54.580152671755719,55.652555598907526,55.164774300747709,54.413191076624635,56.140837260881618,54.04624277456648,54.186413902053708,60.482725982016092,56.527526355020761,56.539735099337754,55.380719840839213,57.415010674987684,55.875425281339965,56.669159810521066,55.285412262156456,56.725691208449824,56.256651968982816,57.009027422926252,56.19740884199279,54.924681344148318,55.783832067887452,58.276001618777819]
[null,null,"Uptake of breast screening (%)","2017-2018",74.629418472063861,74.991974317817011,74.412151307141812,74.238056013179573,73.255017647368703,71.816860465116278,74.813314770282247,72.679676344597809,72.02110606465402,76.32268827454719,65.152565880721227,72.348284960422163,73.506039415130317,70.002626740215391,72.136415465947962,71.507150715071504,72.696981575852604,72.619756320196842,73.509469254150105,70.592680557054948,74.132791327913282,76.821892954339276,76.152386117136658,77.665755297334243,68.394667254297048,72.792395646783305,67.530163236337827,63.24900133155792,73.769080234833666,73.516728624535318,74.049586776859499,73.374194888842709,73.374194888842709,71.436198611852646,68.083261058109272,74.689669682305919,70.929671154980952,75.902950096498472,67.761482392201628,75.061016197026845,75.081710027454577,73.760548523206751,76.390030128731851,74.211431848594913,72.844082036076102,79.460217315106902,73.388116308470288,71.341428974865863,71.115599751398378,71.827364554637285,71.136675824175825,68.260791689056063,66.254201038802321,73.242269337132328,60.901542111506522,66.613232293791896,73.43594128544963,52.192982456140349,73.626882966396295,71.16864085968983,75.17075130574527,76.667481065233318,72.875467664350609,71.706547462529585,74.083129584352079,73.743602392551026,74.675805854020012,73.006003430531734,72.065482410309997,73.48207754206291,71.849829351535831,77.187642672348204,73.789263166150349,74.435732953195526,72.254749671406387,74.638512738122557,71.796222439611711,73.057086964253955,70.871380120010443,76.97300576281468,75.542470831970348,78.766748701121131,76.161128093876343,74.125058329444698,76.785714285714292,76.604584527220638]
[null,null,"Uptake of cervical screening (%)","2017-2018",75.824175824175825,77.453551912568315,75.750177207214293,75.284891557407178,74.968189705031804,75.242718446601941,75.621711237655873,74.870569494225407,74.825379852715443,76.930881420418515,67.791077257889015,76.910206358059114,79.063477305384154,73.782811176968664,76.725464662010182,75.560181217093174,78.179298582240691,78.326979143305678,78.633425669436747,77.185407671610037,79.393290506780872,80.555429915419069,79.809743954480794,82.047244094488192,74.698195721056905,80.41222559469189,71.888237210817849,71.940616797900262,77.904711300035416,77.166345105276406,79.188759278897138,76.965517241379317,76.607953029089941,76.145662847790504,74.438745480534777,77.808913797704832,76.282560706401767,79.916742816529592,73.172905525846701,77.449331090282783,77.95408727320023,74.720119415715956,80.890734408076852,75.215501086875051,75.3410486842956,76.343106902203601,75.3,76.198481073454801,77.90328273914578,78.193701723113492,73.389750822755047,73.515383293227913,75.656916212196336,77.92102489256466,65.711167697344479,73.713613643046159,80.543947386449261,62.96801872074883,78.807634164777014,76.825175710757932,81.55670216269624,81.248164464023503,74.53358208955224,72.705496722138179,77.063696086832337,76.901733705580256,75.727554179566553,77.750789409764394,73.302957039241207,77.27627979679562,77.850620463591667,81.699083748593466,74.366582971924217,75.965969514356615,72.977412731006169,74.577505827505831,73.049119555143648,71.910821327163745,74.972170686456394,74.518093873163735,75.63822027716995,73.486820696387895,78.240068628744879,78.670988654781198,77.868625277161868,78.808890577507597]
[null,null,"Cancer incidence"]
[null,null,"Indicator","Period / Stage","Bridgend","Bridgend East Network","Bridgend North Network","Bridgend West Network","Neath Port Talbot","Afan","Neath","Upper Valleys","Swansea","BayHealth","CityHealth","Cwmtawe","Llwchwr","Penderi","Blaenau Gwent","Blaenau Gwent East","Blaenau Gwent West","Caerphilly","Caerphilly East","Caerphilly North","Caerphilly South","Monmouthshire","Monmouthshire North","Monmouthshire South","Newport","Newport Central","Newport East","Newport West","Torfaen","Torfaen North","Torfaen South","Anglesey","Anglesey","Conwy","Conwy East","Conwy West","Denbighshire","Central - South Denbighshire","North Denbighshire","Flintshire","North East Flintshire","Nort West Flintshire","South flintshire","Gwynedd","Arfon","Dwyfor","Meirionnydd","Wrexham","South Wrexham","West - North Wrexham","Wrexham Town","Cardiff","Cardiff East","Cardiff North","Cardiff South East","Cardiff South West","Cardiff West","City - Cardiff South","Vale of Glamorgan","Central Vale","Eastern Vale","Western Vale","Merthyr Tydfil","North Merthyr Tydfil","South Merthyr Tydfil","Rhondda Cynon Taf","North Cynon","North Rhondda","North Taf Ely","South Cynon","South Rhondda","South Taf Ely","Carmarthenshire","Amman-Gwendraeth","Llanelli","Taf - Teifi - Tywi","Ceredigion","North Ceredigion","South Ceredigion","Pembrokeshire","North Pembrokeshire","South Pembrokeshire","Powys","Mid Powys","North Powys","South Powys"]
[null,null,"Incidence of bowel cancer in persons (crude rate per 100,000)",2015,69.7,null,null,null,78,null,null,null,68.099999999999994,null,null,null,null,null,71.900000000000006,null,null,66.599999999999994,null,null,null,83.3,null,null,66.3,null,null,null,58.8,null,null,87.2,null,88.6,null,null,77.099999999999994,null,null,66.900000000000006,null,null,null,87.9,null,null,null,80.5,null,null,null,44,null,null,null,null,null,null,75.2,null,null,null,55.6,null,null,81.3,null,null,null,null,null,null,85.9,null,null,null,69.7,null,null,97.2,null,null,89]
[null,null,"Incidence of breast cancer in persons (crude rate per 100,000)",2015,100.6,null,null,null,78,null,null,null,97,null,null,null,null,null,56.1,null,null,79.900000000000006,null,null,null,66,null,null,79.900000000000006,null,null,null,104.5,null,null,8.4,null,117.9,null,null,109.8,null,null,108.4,null,null,null,130.19999999999999,null,null,null,73.2,null,null,null,70,null,null,null,null,null,null,87,null,null,null,99.5,null,null,83,null,null,null,null,null,null,72.900000000000006,null,null,null,103.2,null,null,119.9,null,null,116.1]
[null,null,"Incidence of cervical cancer (crude rate per 100,000)",2015,15.3,null,null,null,5.6,null,null,null,9.9,null,null,null,null,null,8.5,null,null,9.8000000000000007,null,null,null,8.5,null,null,5.3,null,null,null,8.5,null,null,8.4,null,8.4,null,null,8.3000000000000007,null,null,12.8,null,null,null,12.9,null,null,null,10.199999999999999,null,null,null,8.8000000000000007,null,null,null,null,null,null,4.5999999999999996,null,null,null,3.3,null,null,14.9,null,null,null,null,null,null,9.5,null,null,null,13.5,null,null,9.5,null,null,4.5]
[null,null,"Incidence of bowel cancer in persons, 2015 (%)","Stage 1",null,13.9,7.9,10.3,null,12,15.5,11.9,null,11.5,10,12.3,14.5,13.9,null,9.3000000000000007,6.3,null,14.7,16.3,13,null,7.9,11.8,null,10.3,13.7,5.0999999999999996,null,10.3,14.2,null,16.2,null,12.9,13.1,null,15.8,11.5,null,11.9,15.3,17.899999999999999,null,16.5,15.6,13,null,17.3,21.8,15,null,18.3,16.5,16.7,13.5,14.9,24.6,null,17.8,23.5,15.6,null,null,null,null,null,null,null,null,null,null,null,14.1,13.8,12.7,null,14.6,15.3,null,10.9,15.2,null,13.4,15.5,8.6999999999999993]
[null,null,null,"Stage 2",null,22.4,21.2,22.4,null,21.7,19.3,19.3,null,20.399999999999999,20,25.2,22.4,20,null,14.7,16,null,25.8,24.3,22.8,null,24.3,21.6,null,18.8,25.8,29.7,null,18.600000000000001,25.3,null,19.600000000000001,null,27.9,25.9,null,15.8,24.7,null,27.4,20.100000000000001,23.1,null,27.3,27.9,26.6,null,22.5,24.6,26.5,null,21.1,21,13.9,19.600000000000001,24.7,22.8,null,25.2,15.9,20.2,null,null,null,null,null,null,null,null,null,null,null,20.5,16.399999999999999,17.100000000000001,null,21,16.8,null,24.6,15.5,null,26.1,18.100000000000001,25.7]
[null,null,null,"Stage 3",null,33.200000000000003,33.9,29.5,null,34.9,31.4,33.299999999999997,null,33.5,40,28.4,32.700000000000003,33.9,null,34.1,47.2,null,25.8,26.8,38.1,null,36,30.1,null,29.1,27.5,34.1,null,29.5,28.4,null,25,null,18.5,23.6,null,26,30.6,null,23.9,30.6,28.7,null,24.7,19.7,28.8,null,22.5,21.2,26.5,null,26.1,30,35.200000000000003,29.4,29.3,26.3,null,23.4,29.5,35.799999999999997,null,null,null,null,null,null,null,null,null,null,null,31.4,37.1,36.9,null,28.7,36.700000000000003,null,36.6,39.200000000000003,null,32.1,27.3,31.6]
[null,null,null,"Stage 4",null,22,23.8,26.3,null,15.4,16.399999999999999,11.9,null,17.100000000000001,18.100000000000001,16.100000000000001,13.9,15.7,null,24.8,20.8,null,20,19.7,17.7,null,19.2,23.5,null,25.5,19.2,18.8,null,23.1,21.6,null,19.600000000000001,null,24.9,20.7,null,23.7,20.9,null,13.3,24.3,15.9,null,16.100000000000001,12.3,12.5,null,20.9,17.899999999999999,17,null,23.2,22.5,23.1,20.9,21.3,12.3,null,22,21.2,23.9,null,null,null,null,null,null,null,null,null,null,null,25.9,22,20.6,null,13.4,19.899999999999999,null,14.9,16.600000000000001,null,9,14.1,21.4]
[null,null,null,"Unknown stage",null,8.5,13.2,11.5,null,16,17.399999999999999,23.7,null,17.5,11.9,18.100000000000001,16.399999999999999,16.5,null,17.100000000000001,9.6999999999999993,null,13.7,13,8.4,null,12.6,13.1,null,16.399999999999999,13.7,12.3,null,18.600000000000001,10.5,null,19.600000000000001,null,15.9,16.7,null,18.600000000000001,12.3,null,23.5,9.6999999999999993,14.4,null,15.4,24.6,19,null,16.8,14.5,15,null,11.3,10.1,11.1,16.600000000000001,9.8000000000000007,14,null,11.7,9.8000000000000007,4.5999999999999996,null,null,null,null,null,null,null,null,null,null,null,8.1999999999999993,10.8,12.7,null,22.3,11.2,null,13,13.4,null,19.399999999999999,25,12.6]
[null,null,"Incidence of breast cancer in females, 2015 (%)","Stage 1",null,21,35.5,30.6,null,26,26.8,29.1,null,32.4,34.9,36,35.200000000000003,30.5,null,36.200000000000003,42,null,33.6,32.799999999999997,38.200000000000003,null,32.1,31.2,null,29.7,37.200000000000003,27.7,null,35.4,34,null,39.799999999999997,null,35.299999999999997,43.9,null,37.9,40.799999999999997,null,35.799999999999997,39.9,37.799999999999997,null,42.3,46.9,33.200000000000003,null,35.6,32.1,28.2,null,33.299999999999997,34.299999999999997,28.6,22.6,36.5,20.5,null,38.9,33.5,30,null,null,null,null,null,null,null,null,null,null,null,37.6,37.6,40.5,null,31.8,35.700000000000003,null,33.4,29.3,null,32.9,29.8,33]
[null,null,null,"Stage 2",null,39.299999999999997,37.9,33.299999999999997,null,41.2,33.299999999999997,35.9,null,21,25.5,31.1,30.7,33.799999999999997,null,33.6,27.4,null,39.5,36.4,39.799999999999997,null,38.299999999999997,39,null,40.5,36.6,36.5,null,36.4,35.1,null,28.9,null,34.299999999999997,25.3,null,27.9,27.7,null,31.5,32.200000000000003,28.6,null,25.4,23.5,31.6,null,24.7,32.700000000000003,30.1,null,37,34.5,43.7,38.200000000000003,36.5,40.9,null,31.1,28.9,41.5,null,null,null,null,null,null,null,null,null,null,null,35.299999999999997,34.700000000000003,35.799999999999997,null,38.700000000000003,37.299999999999997,null,34.299999999999997,35.1,null,29.9,32.1,34.5]
[null,null,null,"Stage 3",null,14.9,8.9,9.1,null,10.8,13,11.1,null,35.5,10.1,11.7,8,9.6999999999999993,null,10.1,10.199999999999999,null,10.9,13.2,10.8,null,8.6,10.6,null,12.6,11.6,10.9,null,7.7,12.9,null,7.6,null,5.7,9.5,null,6.4,6.2,null,8.1999999999999993,10.5,8.4,null,8.1,8,4.8,null,6.8,9.1,8.1,null,6.8,9.3000000000000007,5.6,12.4,10,5.7,null,12.3,13.7,13.8,null,null,null,null,null,null,null,null,null,null,null,11.3,12.5,11.7,null,8.8000000000000007,11.2,null,7.8,12,null,11.6,8.1999999999999993,10.199999999999999]
[null,null,null,"Stage 4",null,4.5999999999999996,2.5,6.5,null,3.9,4.0999999999999996,1.7,null,30.6,2.7,4.0999999999999996,2.7,5.2,null,6,4.5,null,3.1,4,2.2999999999999998,null,5.3,2.8,null,4.0999999999999996,2.2999999999999998,7.3,null,5.3,3.1,null,3.6,null,3.7,3.5,null,2.7,0.7,null,1.6,2.1,3.4,null,5.0999999999999996,1.9,3.2,null,3.2,3,3.3,null,3.7,3.6,1.6,3.8,2.2999999999999998,6.8,null,2,3,2.2999999999999998,null,null,null,null,null,null,null,null,null,null,null,4.5,6.3,2.8,null,4.5999999999999996,3.7,null,4.2,5.4,null,4.3,3,4.4000000000000004]
[null,null,null,"Unknown stage",null,19.8,14.8,20.399999999999999,null,18.100000000000001,22.8,22.2,null,34.9,26.2,16.7,22.6,20.100000000000001,null,14.1,15.9,null,12.9,12.8,8.9,null,15.6,16.3,null,12.2,12.2,17.5,null,14.8,14.4,null,19.7,null,20.7,17.8,null,25.1,24,null,22.2,15.4,21.4,null,18.8,19.8,25.7,null,29.7,23,30.1,null,19.100000000000001,17.5,20.6,22.6,14.6,26.1,null,15.2,20.8,11.5,null,null,null,null,null,null,null,null,null,null,null,10.5,8.1,9.1999999999999993,null,15.7,10.8,null,19.7,17.8,null,20.100000000000001,26.9,18]
[null,null,"Cancer prevalence"]
[null,null,"Indicator","Alive at","Bridgend","Bridgend East Network","Bridgend North Network","Bridgend West Network","Neath Port Talbot","Afan","Neath","Upper Valleys","Swansea","BayHealth","CityHealth","Cwmtawe","Llwchwr","Penderi","Blaenau Gwent","Blaenau Gwent East","Blaenau Gwent West","Caerphilly","Caerphilly East","Caerphilly North","Caerphilly South","Monmouthshire","Monmouthshire North","Monmouthshire South","Newport","Newport North","Newport East","Newport West","Torfaen","Torfaen North","Torfaen South","Anglesey LA","Anglesey Cluster","Conwy","Conwy East","Conwy West","Denbighshire","Central - South Denbighshire","North Denbighshire","Flintshire","North East Flintshire","Nort West Flintshire","South flintshire","Gwynedd","Arfon","Dwyfor","Meirionnydd","Wrexham","South Wrexham","West - North Wrexham","Wrexham Town","Cardiff","Cardiff East","Cardiff North","Cardiff South East","Cardiff South West","Cardiff West","City & Cardiff South","Vale of Glamorgan","Central Vale","Eastern Vale","Western Vale","Merthyr Tydfil","North Merthyr Tydfil","South Merthyr Tydfil","Rhondda Cynon Taf","North Cynon","North Rhondda","North Taf Ely","South Cynon","South Rhondda","South Taf Ely","Carmarthenshire","Amman-Gwendraeth","Llanelli","Taf - Teifi - Tywi","Ceredigion","North Ceredigion","South Ceredigion","Pembrokeshire","North Pembrokeshire","South Pembrokeshire","Powys","Mid Powys","North Powys","South Powys"]
[null,null,"Prevalence of bowel cancer in males, by survival (%)","Up to 1 year",null,12.2,12.1,9.3000000000000007,null,14.5,12,20.399999999999999,null,12.6,17,6.5,8.6,12.4,null,8.5,14,null,15.6,8.1999999999999993,18.2,null,14.9,15.8,null,12.4,12.1,12.5,null,16.8,15.2,null,10.9,null,9.6,15.7,null,10.1,12.8,null,10,12.5,11.2,null,12.4,7.3,12.7,null,12.9,18.399999999999999,8.5,null,19.3,11.6,7.6,10.8,8,6.8,null,13.3,7.5,11.4,null,null,null,null,null,null,null,null,null,null,null,12.8,14.8,12.4,null,15.2,16.5,null,12.4,16.100000000000001,null,13.4,12.6,10.3]
[null,null,null,"> 1 to 5 years",null,34.299999999999997,30.6,42.3,null,27.3,39.299999999999997,36.9,null,35.9,40.4,36.6,38.299999999999997,36,null,36.200000000000003,28,null,40.700000000000003,39.9,39.9,null,36.9,33.700000000000003,null,43,32.700000000000003,33,null,23.8,35.200000000000003,null,42.3,null,36.299999999999997,34,null,33.6,35.9,null,44.7,42.3,36.1,null,37.1,40.200000000000003,36.4,null,39.5,39.700000000000003,40.700000000000003,null,41,35.9,27.8,36.299999999999997,43.4,47.7,null,35.700000000000003,32.1,40,null,null,null,null,null,null,null,null,null,null,null,31.8,39.4,34.1,null,38.4,33.1,null,34.5,37.4,null,37.1,37.200000000000003,37.299999999999997]
[null,null,null,"> 5 to 10 years",null,29.7,36.299999999999997,24.7,null,26.4,20.7,22.3,null,28.3,24.5,30.1,30.5,31.5,null,28.7,30.1,null,23,24.7,30.8,null,27.7,23.2,null,29.8,34.6,23.9,null,31.7,22.9,null,24.5,null,26,27.9,null,31.1,23.1,null,24.7,25,24.9,null,27.5,30.5,28,null,29.8,21.3,21.2,null,21.7,29.8,41.8,21.6,17.7,38.6,null,26.6,29.2,22.9,null,null,null,null,null,null,null,null,null,null,null,24.3,23.2,33.5,null,19.600000000000001,24.8,null,31.4,28.2,null,30.9,31.9,31,null,null," "]
[null,null,null,"> 10 to 21 years",null,23.8,21,23.7,null,31.8,28,20.399999999999999,null,23.2,18.100000000000001,26.9,22.7,20.2,null,26.6,28,null,20.7,27.2,11.2,null,20.6,27.4,null,14.9,20.6,30.7,null,27.7,26.7,null,22.3,null,28.1,22.3,null,25.2,28.2,null,20.7,20.2,27.8,null,23,22,22.9,null,17.7,20.6,29.7,null,18.100000000000001,22.7,22.8,31.4,31,6.8,null,24.5,31.1,25.7,null,null,null,null,null,null,null,null,null,null,null,31.1,22.5,20,null,26.8,25.6,null,21.6,18.399999999999999,null,18.600000000000001,18.3,21.4]
[null,null,"Prevalence of bowel cancer in females, by survival (%)","Up to 1 year",null,10.9,20.6,12.7,null,10.6,8.5,17.3,null,11.8,14.8,6.9,14.1,12.3,null,9.8000000000000007,18.3,null,9.4,15.4,14.6,null,10.4,12.3,null,8.6,10.199999999999999,11,null,7.9,6.5,null,12.1,null,13.7,12.4,null,14.9,9.1999999999999993,null,12.6,6.8,16.2,null,9,14.3,21.7,null,9.5,13.2,12.2,null,19.5,6.4,14.7,15.2,11.4,12,null,17.399999999999999,11.4,18,null,null,null,null,null,null,null,null,null,null,null,9,11.2,15,null,12.5,9.1,null,13.4,13.5,null,12.2,13.2,10.199999999999999]
[null,null,null,"> 1 to 5 years",null,42.2,29.4,35.4,null,40.4,27.7,21.2,null,28.9,32.1,41.7,34.6,36.9,null,36.1,40.799999999999997,null,29.2,30.8,37.1,null,31.1,40.700000000000003,null,33.299999999999997,35.200000000000003,28.8,null,32.9,35.9,null,24.9,null,35,33.5,null,29.7,33.6,null,39.6,28.4,33.299999999999997,null,36.799999999999997,31.4,36.1,null,41.7,25,30.5,null,28.6,29.8,29.4,21.5,36.200000000000003,32,null,33,38,36,null,null,null,null,null,null,null,null,null,null,null,35.1,37.799999999999997,34.6,null,35,38.200000000000003,null,40.200000000000003,27,null,35.1,35.299999999999997,33.9]
[null,null,null,"> 5 to 10 years",null,21.9,25,21.5,null,25.5,30.8,25,null,32.200000000000003,30.9,33.299999999999997,24.4,24.6,null,31.1,21.1,null,29.2,29.2,25.8,null,35.799999999999997,29.6,null,25.9,25,27.4,null,34.200000000000003,31.5,null,30.1,null,25.6,31.7,null,31.7,34.5,null,26.1,35.1,23.8,null,32.6,30,20.5,null,27.4,30.3,31.7,null,26,31,26.5,25.3,22.9,24,null,29.4,25.3,24,null,null,null,null,null,null,null,null,null,null,null,19.8,25.5,24.1,null,22.5,16.399999999999999,null,22.6,33.1,null,28.4,23.4,22.9]
[null,null,null,"> 10 to 21 years",null,25,25,30.4,null,23.4,33.1,36.5,null,27,22.2,18.100000000000001,26.9,26.2,null,23,19.7,null,32.299999999999997,24.6,22.5,null,22.6,17.3,null,32.1,29.5,32.9,null,25,26.1,null,32.9,null,25.6,22.4,null,23.8,22.7,null,21.6,29.7,26.7,null,21.5,24.3,21.7,null,21.4,31.6,25.6,null,26,32.700000000000003,29.4,38,29.5,32,null,20.2,25.3,22,null,null,null,null,null,null,null,null,null,null,null,36,25.5,26.3,null,30,36.4,null,23.8,26.4,null,24.3,28.1,33.1]
[null,null,"Prevalence of breast cancer in females, by survival (%)","Up to 1 year",null,6.9,10.1,15.1,null,5.8,9.1,10.5,null,9.1,5.6,11.6,12,4.0999999999999996,null,5,4.3,null,10.7,7.1,8.1999999999999993,null,6.8,4,null,11.6,8.8000000000000007,7.3,null,5.6,15.2,null,6.9,null,11.5,7.6,null,8.6999999999999993,8.6999999999999993,null,13.6,7.6,9.4,null,11.1,15.8,10.8,null,6.5,6.8,8.3000000000000007,null,10.199999999999999,8.6999999999999993,8.3000000000000007,6.9,7.5,14.9,null,5.2,11.5,7.6,null,null,null,null,null,null,null,null,null,null,null,4.3,7.1,7.6,null,8.6999999999999993,8.8000000000000007,null,11.6,9.1,null,12.9,11.5,4.7]
[null,null,null,"> 1 to 5 years",null,27.1,28.1,25.6,null,29.9,25.6,24.4,null,30,29.7,30,33,31.8,null,33.799999999999997,33.299999999999997,null,29.1,30.1,36.700000000000003,null,27.1,26.3,null,23.4,29.8,25.2,null,32.9,21.6,null,26.1,null,28.7,33.4,null,27.4,31.5,null,27.6,27.7,31.3,null,24.9,28.6,29.8,null,36.299999999999997,31.5,31,null,27.7,29.4,26.8,29.7,31.5,35.5,null,36.700000000000003,28.1,30.6,null,null,null,null,null,null,null,null,null,null,null,31.4,28.6,35.200000000000003,null,33.200000000000003,32,null,29.1,28.2,null,24.6,28.6,28.4]
[null,null,null,"> 5 to 10 years",null,31.7,29.7,28.5,null,29.5,31.1,28.4,null,24.3,28.2,25.6,22.2,30.9,null,26.2,28.7,null,25.5,24.1,21.4,null,31.5,36.299999999999997,null,30.4,27.8,28.4,null,31.5,28.9,null,33.1,null,24.1,23,null,32.299999999999997,27.2,null,24.7,30.6,23.3,null,25.7,27,26.5,null,29.1,29.6,28,null,25.8,26.6,31.3,26.1,26.9,28.4,null,20.5,25.7,32.299999999999997,null,null,null,null,null,null,null,null,null,null,null,26.4,30.1,25.3,null,23,26.2,null,27.9,29.3,null,26.7,28.7,26.7]
[null,null,null,"> 10 to 21 years",null,34.200000000000003,32.1,30.8,null,34.799999999999997,34.200000000000003,36.700000000000003,null,36.5,36.5,32.799999999999997,32.799999999999997,33.200000000000003,null,35,33.6,null,34.700000000000003,38.700000000000003,33.6,null,34.6,33.299999999999997,null,34.6,33.5,39,null,30,34.4,null,33.9,null,35.799999999999997,35.9,null,31.6,32.6,null,34.1,34.1,35.9,null,38.299999999999997,28.6,32.9,null,28.1,32.1,32.6,null,36.299999999999997,35.299999999999997,33.6,37.299999999999997,34,21.3,null,37.6,34.6,29.6,null,null,null,null,null,null,null,null,null,null,null,37.799999999999997,34.200000000000003,31.9,null,35.1,33,null,31.4,33.299999999999997,null,35.700000000000003,31.2,40.299999999999997]

{"sheet":"HB_IDP","index":27,"n_rows":30,"n_cols":15,"rows_kept":30,"cut":false,"hidden":false,"merged":[[7,1,7,4],[8,1,8,4]]}
[]
[]
[]
[]
[]
[]
[null,null,null,null,null,null,null,"Key:"]
[null,"ⓘ You are currently viewing the category page for infectious disease prevention",null,null,null,null,null,null,"Primary care data exists, but no PHW access"]
[null,"ⓘ You are currently viewing this information by health board",null,null,null,null,null,null,"No statistical comparison made, or no data available"]
[]
[]
[]
[]
[null,null,"Compare your position to others, and use the checkbox to select indicators of interest for review."]
[null,null,"After selecting indicators, scroll right to click 'Review this indicator'; this will open a web page."]
[null,null,"When complete, click the 'Next' button at the top, for the next category page."]
[]
[]
[null,null,"Influenza vaccination uptake"]
[null,null,"Indicator","Period","Wales","Abertawe BM","Aneurin Bevan","Betsi Cadwaladr","Cardiff and Vale","Cwm Taf","Hywel Dda","Powys"]
[null,null,"At risk aged 6m to 64y (%)","2017-2018",48.505859812517627,46.698790853585535,50.767671306933373,51.55563623162098,48.994839539207341,46.813064848580943,42.901844166796124,47.85126093669583]
[null,null,"Two and three year olds (%)","2017-2018",50.247244478206653,49.148772350072718,49.14400805639476,54.279735385446202,49.195710455764072,53.026634382566584,43.104332222507047,56.852207293666027]
[null,null,"Aged 65+ (%)","2017-2018",68.592680223614948,68.230288815556221,69.800975155176147,70.599716669290103,70.964700558153567,67.697036678869921,65.007149077070281,62.355328835499968]
[null,null,"Childhood vaccination uptake"]
[null,null,"Indicator","Period","Wales","Abertawe BM","Aneurin Bevan","Betsi Cadwaladr","Cardiff and Vale","Cwm Taf","Hywel Dda","Powys"]
[null,null,"Uptake of the 5 in 1 at 1y (%)","2017-2018",95.9,96.4,96.1,96.4,94.8,97.4,94.2,96.4]
[null,null,"Up to date with immunisations by age 4y (%)","2017-2018",84.9,86.2,81,87.9,82.6,88.2,84,86.2]
[null,null,"MMR2 at 5y (%)","2017-2018",89.5,91,89,91.4,86.8,90.6,87.6,87.9]
[null,null,"MMR2 at 16y (%)","2017-2018",87.4,85.6,88,90.3,84.5,88.7,87.9,82]
[null,null,null,null,null,null,null,null,null,null,null,null,null,null," "]

{"sheet":"LA_IDP","index":28,"n_rows":29,"n_cols":31,"rows_kept":29,"cut":false,"hidden":false,"merged":[[7,1,7,4],[8,1,8,4]]}
[]
[]
[]
[]
[]
[]
[null,null,null,null,null,null,null,"Key:"]
[null,"ⓘ You are currently viewing the category page for infectious disease prevention",null,null,null,null,null,null,"Primary care data exists, but no PHW access"]
[null,"ⓘ You are currently viewing this information by local authority",null,null,null,null,null,null,"No statistical comparison made, or no data available"]
[]
[]
[]
[]
[null,null,"Compare your position to others, and use the checkbox to select indicators of interest for review."]
[null,null,"After selecting indicators, scroll right to click 'Review this indicator'; this will open a web page."]
[null,null,"When complete, click the 'Next' button at the top, for the next category page."]
[]
[]
[null,null,"Influenza vaccination uptake"]
[null,null,"Indicator","Period","Wales","Bridgend","Neath Port Talbot","Swansea","Blaenau Gwent","Caerphilly","Monmouthshire","Newport","Torfaen","Anglesey","Conwy","Denbighshire","Flintshire","Gwynedd","Wrexham","Cardiff","Vale of Glamorgan","Merthyr Tydfil","Rhondda Cynon Taf","Carmarthenshire","Ceredigion","Pembrokeshire","Powys",null,null,null," "]
[null,null,"At risk aged 6m to 64y (%)","2017-2018",48.505859812517627,45.038817931379917,48.951960117833671,46.471736227616667,48.655941878567724,50.139017608897127,55.325206868938515,50.329241071428577,50.067799314030466,53.689129365469746,48.568382576911361,47.980845969672785,54.955866644178329,48.663721300789454,55.181736257134276,49.386132167604515,47.838042208015395,45.669497060744611,47.103057607579423,42.205269143290366,43.056423068915265,43.822730123336349,47.85126093669583,null,null,null," "]
[null,null,"Two and three year olds (%)","2017-2018",50.247244478206653,50.257289879931392,51.020408163265309,47.362407160540847,44.306930693069305,49.461105904404874,54.616384915474647,46.646869586735953,49.856459330143544,55.914768552534902,53.405017921146957,47.321428571428569,58.819836785938485,53.406326034063255,55.181736257134276,47.999560342932512,53.030303030303031,45.490716180371358,55.087973879920192,45.88171752633,43.167701863354033,38.931297709923662,56.852207293666027]
[null,null,"Aged 65+ (%)","2017-2018",68.592680223614948,70.028355387523632,67.419197661198638,67.419197661198638,66.310347236777758,66.93230387425892,73.435944241619637,71.135926359074958,71.432331420750643,71.586828169699928,68.756991511482539,68.504456916474084,73.000478545222521,68.179669030732853,73.428966470791565,70.666691678547309,71.570121951219505,68.60443959243085,67.484440276238388,66.045159083133768,61.130144605116797,66.514752548781303,66.316078539063568]
[null,null,"Childhood vaccination uptake"]
[null,null,"Indicator","Period","Wales","Bridgend","Neath Port Talbot","Swansea","Blaenau Gwent","Caerphilly","Monmouthshire","Newport","Torfaen","Anglesey","Conwy","Denbighshire","Flintshire","Gwynedd","Wrexham","Cardiff","Vale of Glamorgan","Merthyr Tydfil","Rhondda Cynon Taf","Carmarthenshire","Ceredigion","Pembrokeshire","Powys"]
[null,null,"Uptake of the 5 in 1 at 1y (%)","2017-2018",95.9,97,96.4,96,97.4,97.1,95.1,94.5,97.1,97.4,95.8,93.9,96.8,97.3,96.9,94.5,95.7,97.7,97.4,94.5,93.9,93.9,94]
[null,null,"Up to date with immunisations by age 4y (%)","2017-2018",84.9,88,86.3,85,79.7,86,83.8,73,84.9,90.4,85.5,84.3,88.9,87.7,89.9,82.1,84.3,91,87.5,84,86.4,86.4,82.5]
[null,null,"MMR2 at 5y (%)","2017-2018",89.5,91.8,91.2,90.3,90.8,91.5,86.6,86.4,90.1,93.5,91.9,91,90.3,90.7,92.1,86.1,88.8,92.1,90.3,87.9,90.1,90.1,85.7]
[null,null,"MMR2 at 16y (%)","2017-2018",87.4,87.1,85.3,84.8,89.8,91.5,78.2,87.4,90.8,91.3,88.1,87.1,89.9,91.2,93.8,83.4,87.4,87.7,89,88.9,88.2,88.2,85.9]

{"sheet":"RPB_IDP","index":29,"n_rows":29,"n_cols":37,"rows_kept":29,"cut":false,"hidden":false,"merged":[[7,1,7,4],[8,1,8,4]]}
[]
[]
[]
[]
[]
[]
[null,null,null,null,null,null,null,"Key:"]
[null,"ⓘ You are currently viewing the category page for infectious disease prevention",null,null,null,null,null,null,"Primary care data exists, but no PHW access"]
[null,"ⓘ You are currently viewing this information by regional partnership board",null,null,null,null,null,null,"No statistical comparison made, or no data available"]
[]
[]
[]
[]
[null,null,"Compare your position to others, and use the checkbox to select indicators of interest for review."]
[null,null,"After selecting indicators, scroll right to click 'Review this indicator'; this will open a web page."]
[null,null,"When complete, click the 'Next' button at the top, for the next category page."]
[]
[]
[null,null,"Influenza vaccination uptake"]
[null,null,"Indicator","Period","Abertawe BM","Bridgend","Neath Port Talbot","Swansea","Aneurin Bevan","Blaenau Gwent","Caerphilly","Monmouthshire","Newport","Torfaen","Betsi Cadwaladr","Anglesey","Conwy","Denbighshire","Flintshire","Gwynedd","Wrexham","Cardiff & Vale","Cardiff","Vale of Glamorgan","Cwm Taf","Merthyr Tydfil","Rhondda Cynon Taf","Hywel Dda","Carmarthenshire","Ceredigion","Pembrokeshire","Powys","Powys LA"]
[null,null,"At risk aged 6m to 64y (%)","2017-2018",46.698790853585535,45.038817931379917,48.951960117833671,46.471736227616667,50.767671306933373,48.655941878567724,50.139017608897127,55.325206868938515,50.329241071428577,50.067799314030466,51.55563623162098,53.689129365469746,48.568382576911361,47.980845969672785,54.955866644178329,48.663721300789454,55.181736257134276,48.994839539207341,49.386132167604515,47.838042208015395,46.813064848580943,45.669497060744611,47.103057607579423,42.901844166796124,42.205269143290366,43.056423068915265,43.822730123336349,47.85126093669583,47.85126093669583,null,null,null," "]
[null,null,"Two and three year olds (%)","2017-2018",49.148772350072718,50.257289879931392,51.020408163265309,47.362407160540847,49.14400805639476,44.306930693069305,49.461105904404874,54.616384915474647,46.646869586735953,49.856459330143544,54.279735385446202,55.914768552534902,53.405017921146957,47.321428571428569,58.819836785938485,53.406326034063255,55.181736257134276,49.195710455764072,47.999560342932512,53.030303030303031,53.026634382566584,45.490716180371358,55.087973879920192,43.104332222507047,45.88171752633,43.167701863354033,38.931297709923662,56.852207293666027,56.852207293666027]
[null,null,"Aged 65+ (%)","2017-2018",68.230288815556221,70.028355387523632,67.419197661198638,67.419197661198638,69.800975155176147,66.310347236777758,66.93230387425892,73.435944241619637,71.135926359074958,71.432331420750643,70.599716669290103,71.586828169699928,68.756991511482539,68.504456916474084,73.000478545222521,68.179669030732853,73.428966470791565,70.964700558153567,70.666691678547309,71.570121951219505,67.697036678869921,68.60443959243085,67.484440276238388,65.007149077070281,66.045159083133768,61.130144605116797,66.514752548781303,66.316078539063568,66.316078539063568]
[null,null,"Childhood vaccination uptake"]
[null,null,"Indicator","Period","Abertawe BM","Bridgend","Neath Port Talbot","Swansea","Aneurin Bevan","Blaenau Gwent","Caerphilly","Monmouthshire","Newport","Torfaen","Betsi Cadwaladr","Anglesey","Conwy","Denbighshire","Flintshire","Gwynedd","Wrexham","Cardiff & Vale","Cardiff","Vale of Glamorgan","Cwm Taf","Merthyr Tydfil","Rhondda Cynon Taf","Hywel Dda","Carmarthenshire","Ceredigion","Pembrokeshire","Powys","Powys LA"]
[null,null,"Uptake of the 5 in 1 at 1y (%)","2017-2018",96.4,97,96.4,96,96.1,97.4,97.1,95.1,94.5,97.1,96.4,97.4,95.8,93.9,96.8,97.3,96.9,94.8,94.5,95.7,97.4,97.7,97.4,94.2,94.5,93.9,94,96.4,96.4]
[null,null,"Up to date with immunisations by age 4y (%)","2017-2018",86.2,88,86.3,85,81,79.7,86,83.8,73,84.9,87.9,90.4,85.5,84.3,88.9,87.7,89.9,82.6,82.1,84.3,88.2,91,87.5,84,84,86.4,82.5,86.2,86.2]
[null,null,"MMR2 at 5y (%)","2017-2018",91,91.8,91.2,90.3,89,90.8,91.5,86.6,86.4,90.1,91.4,93.5,91.9,91,90.3,90.7,92.1,86.8,86.1,88.8,90.6,92.1,90.3,87.6,87.9,90.1,85.7,87.9,87.9]
[null,null,"MMR2 at 16y (%)","2017-2018",85.6,87.1,85.3,84.8,88,89.8,91.5,78.2,87.4,90.8,90.3,91.3,88.1,87.1,89.9,91.2,93.8,84.5,83.4,87.4,88.7,87.7,89,87.9,88.9,88.2,85.9,82,82]

{"sheet":"CHB_IDP","index":30,"n_rows":29,"n_cols":79,"rows_kept":29,"cut":false,"hidden":false,"merged":[[7,1,7,4],[8,1,8,4]]}
[]
[]
[]
[]
[]
[]
[null,null,null,null,null,null,"Key:"]
[null,"ⓘ You are currently viewing the category page for infectious disease prevention",null,null,null,null,null,"Cluster similar to health board average"]
[null,"ⓘ You are currently viewing this information by clusters, by health board",null,null,null,null,null,"Cluster position lower than health board average"]
[null,null,null,null,null,null,null,"Cluster position higher than health board average"]
[null,null,null,null,null,null,null,"Primary care data exists, but no PHW access"]
[null,null,null,null,null,null,null,"No statistical comparison made, or no data available"]
[]
[null,null,"Compare your position to others, and use the checkbox to select indicators of interest for review."]
[null,null,"After selecting indicators, scroll right to click 'Review this indicator'; this will open a web page."]
[null,null,"When complete, click the 'Next' button at the top, for the next category page."]
[]
[]
[null,null,"Influenza vaccination uptake",null,null,null,null,null,null,null,null,null,null,null,null,null,null,null,null,null,null,null,null,null,null,null,null,null,null,null,null,null,null,null,null,null,null,null,null,null,null,null,null,null,null,null,null,null,null,null,null,null,null,null,null,null,null,null,null,null,null,null,null,null,null,null,null,null,null,null,null,null,null,null,null,null,null,null," "]
[null,null,"Indicator","Period","Abertawe BM","Bridgend East Network","Bridgend North Network","Bridgend West Network","Afan","Neath","Upper Valleys","BayHealth","CityHealth","Cwmtawe","Llwchwr","Penderi","Aneurin Bevan","Blaenau Gwent East","Blaenau Gwent West","Caerphilly East","Caerphilly North","Caerphilly South","Monmouthshire North","Monmouthshire South","Newport Central","Newport East","Newport West","Torfaen North","Torfaen South","Betsi Cadwaladr","Anglesey","Conwy East","Conwy West","Central - South Denbighshire","North Denbighshire","North East Flintshire","Nort West Flintshire","South flintshire","Arfon","Dwyfor","Meirionnydd","South Wrexham","West - North Wrexham","Wrexham Town","Cardiff & Vale","Cardiff East","Cardiff North","Cardiff South East","Cardiff South West","Cardiff West","City - Cardiff South","Central Vale","Eastern Vale","Western Vale","Cwm Taf","North Merthyr Tydfil","South Merthyr Tydfil","North Cynon","North Rhondda","North Taf Ely","South Cynon","South Rhondda","South Taf Ely","Hywel Dda","Amman-Gwendraeth","Llanelli","Taf - Teifi - Tywi","North Ceredigion","South Ceredigion","North Pembrokeshire","South Pembrokeshire","Powys","Mid Powys","North Powys","South Powys"]
[null,null,"At risk aged 6m to 64y (%)","2017-2018",46.698790853585535,49.123009462266324,43.082727780883175,39.874487086652181,51.719557195571952,49.060631938514092,43.884705271358087,45.698308001147119,51.79704016913319,42.893550284257984,41.462982642578815,49.897203947368425,50.767671306933373,43.787112381790187,53.007075471698116,49.23744412306074,48.789932236205232,52.791280011783769,54.710144927536234,55.980158001102332,52.502360717658171,50.191171359054579,48.090158293186505,49.858103061986561,50.308113659705576,51.55563623162098,53.689129365469746,45.951612903225808,50.908828620888634,50.030469226081649,46.654397265676351,57.160874439461885,51.77496367033423,54.885155982173458,46.566077003121748,52.868217054263567,50.155411133088442,58.241585404215158,50.363958292347043,53.220806062693761,48.994839539207341,49.986409350366948,49.889400921658989,50.756959140485101,48.567916410571605,50.790103750997609,44.5828437132785,45.682908356475636,46.198986396372362,55.910987482614736,46.813064848580943,44.18224299065421,47.555555555555557,47.411616161616159,49.680511182108624,46.213487197980527,50.927546377318869,47.284162378502003,43.5620799434029,42.901844166796124,43.724235963041934,42.932007524858903,39.776671193601928,41.613958560523443,44.373630750846445,44.598087361075208,42.915469529714201,47.85126093669583,49.760191846522787,45.661971830985912,49.647611589663271,null,null,null," "]
[null,null,"Two and three year olds (%)","2017-2018",49.148772350072718,57.221542227662184,49.308380797396254,34.173228346456689,57.528285465622275,47.63986013986014,45.440494590417316,48.546255506607928,48.243992606284657,43.363728470111454,50.567107750472594,45.601617795753285,49.14400805639476,37.608966376089661,50.922509225092249,49.858557284299856,44.526034712950604,54.498525073746315,56.589147286821706,57.621951219512191,52.380952380952387,46.893063583815028,40.704647676161919,42.053571428571431,58.865979381443303,54.279735385446202,55.914768552534902,48.708133971291865,57.54001684919966,60.595238095238088,39.357142857142854,61.655773420479299,49.812734082397,62.103174603174608,49.787535410764875,65.869565217391298,52.35690235690236,59.283088235294116,51.111111111111107,54.836131095123896,49.195710455764072,36.217303822937623,60.756709194896608,49.070945945945951,45.054316752429962,63.943028485757125,20.993439550140579,52.864938608458388,49.744245524296673,57.796610169491522,53.026634382566584,42.441860465116278,49.537037037037038,45.191313340227509,57.105606258148633,47.002141327623129,37.295081967213115,58.559322033898312,72.217502124044174,43.104332222507047,48.892405063291136,38.822652757078984,51.04831358249772,40.745672436750993,45.285215366705472,43.991416309012877,32.447296058661777,56.852207293666027,54.820415879017013,55.967078189300409,59.349593495934961]
[null,null,"Aged 65+ (%)","2017-2018",68.230288815556221,73.858267716535437,67.251108424022576,67.256219785402664,70.038336773813043,67.904021402892738,63.629748217144524,69.300321621457613,68.126372285923395,67.291539866098603,64.359441408621734,66.56896019746992,69.800975155176147,63.374242200207007,68.940397350993379,64.410224341436731,66.934594168636721,69.922092376182533,73.427947598253269,73.446545735237351,73.544877606527649,70.33898305084746,68.487449603329438,69.652131308182263,73.498635122838934,70.599716669290103,71.586828169699928,66.885506096241258,70.326014637391893,68.932508218913171,68.185745140388761,73.932026367605502,69.135333586529953,74.670633234169145,68.417542104385532,68.776119402985074,67.401431655493695,74.074399017371476,71.705001825483748,74.159957058507786,70.964700558153567,70.258513547104144,73.389186908564881,70.076681770651788,65.254333295570405,74.676437000380659,61.534185658699279,69.010737546206656,71.799452185304276,75.759913593581246,67.697036678869921,64.972840371473623,72.526017029328287,66.259818731117832,67.185992003308982,68.237680467724616,71.96729957805907,68.104653485120835,65.612433431148787,65.007149077070281,64.054034530087407,68.871595330739297,65.429756131843419,61.573246398149116,60.805182785747334,67.447731244740766,65.497777464192481,62.355328835499968,65.784893839192478,65.902217741935488,67.250922509225092]
[null,null,"Childhood vaccination uptake"]
[null,null,"Indicator","Period","Abertawe BM","Bridgend East Network","Bridgend North Network","Bridgend West Network","Afan","Neath","Upper Valleys","BayHealth","CityHealth","Cwmtawe","Llwchwr","Penderi","Aneurin Bevan","Blaenau Gwent East","Blaenau Gwent West","Caerphilly East","Caerphilly North","Caerphilly South","Monmouthshire North","Monmouthshire South","Newport Central","Newport East","Newport West","Torfaen North","Torfaen South","Betsi Cadwaladr","Anglesey","Conwy East","Conwy West","Central - South Denbighshire","North Denbighshire","North East Flintshire","Nort West Flintshire","South flintshire","Arfon","Dwyfor","Meirionnydd","South Wrexham","West - North Wrexham","Wrexham Town","Cardiff & Vale","Cardiff East","Cardiff North","Cardiff South East","Cardiff South West","Cardiff West","City - Cardiff South","Central Vale","Eastern Vale","Western Vale","Cwm Taf","North Merthyr Tydfil","South Merthyr Tydfil","North Cynon","North Rhondda","North Taf Ely","South Cynon","South Rhondda","South Taf Ely","Hywel Dda","Amman-Gwendraeth","Llanelli","Taf - Teifi - Tywi","North Ceredigion","South Ceredigion","North Pembrokeshire","South Pembrokeshire","Powys","Mid Powys","North Powys","South Powys"]
[null,null,"Uptake of the 5 in 1 at 1y (%)","2017-2018",96.4,97.317073170731703,96.903460837887067,97.27272727272728,95.979020979020973,96.892138939670929,96.166134185303505,94.230769230769226,93.28358208955224,98.191214470284237,98.687089715536104,96.666666666666671,96.1,97.247706422018354,96.798029556650249,98.420221169036338,97.635605006954108,95.799676898222941,94.087403598971719,98.01136363636364,95.847750865051907,95.171339563862929,94.07616361071932,95.945945945945937,97.99599198396794,96.4,97.608370702541109,92.824074074074076,98.226950354609926,94.946808510638306,93.670886075949369,97.519379844961236,97.38903394255874,96.701030927835049,96.943231441048042,98.598130841121502,97.802197802197796,97.5,98.608349900596423,94.555353901996369,94.8,94.936708860759495,96.64107485604606,94.205298013245027,94.147582697201017,97.61904761904762,90.090090090090087,94.798439531859557,98.005698005698008,94.841269841269835,97.4,98.285714285714292,97.5,97.05215419501134,96.464646464646464,97.968397291196382,97.757847533632287,97.352342158859472,97.923875432525946,94.2,95.081967213114751,94.303797468354432,93.950850661625708,96.951219512195124,92.506459948320412,93.629629629629633,94.600431965442766,96.4,98.222222222222229,95.44592030360532,98.205128205128204]
[null,null,"Up to date with immunisations by age 4y (%)","2017-2018",86.2,91.19047619047619,87.354409317803658,82.972136222910223,84.81481481481481,86.785714285714292,91.071428571428569,85.043478260869563,79.770992366412216,91.906005221932119,88.783269961977183,83.983572895277206,81,78.534031413612567,82.448036951501152,89.033189033189032,86.024423337856177,84.591679506933744,82.185273159144884,88.746803069053698,78.020134228187914,69.924812030075188,73.030303030303031,85.464098073555164,85.631067961165058,87.9,91.798561151079141,87.05636743215031,86.356073211314481,87.331536388140165,82.532751091703062,88.490284005979063,92.071611253196934,90.595009596928989,85.81460674157303,91.701244813278009,92.114695340501797,91.493775933609953,90.853658536585371,88.941548183254355,82.6,83.10991957104558,87.331536388140165,79.926335174953948,81.937799043062199,89.583333333333343,69.728601252609607,85.006518904823992,86.4,83.333333333333343,88.2,89.189189189189193,94.648829431438131,88.131868131868131,84.920634920634924,87.389380530973455,90.909090909090907,87.795275590551185,89.816124469589823,84,85.761047463175117,81.470588235294116,86.175942549371626,85.828877005347593,86.77884615384616,82.82674772036475,83.011583011583014,86.2,89.211618257261421,88.162544169611309,84.095860566448806]
[null,null,"MMR2 at 5y (%)","2017-2018",91,93.017751479289942,93.079584775086516,89.672544080604538,92.949907235621524,90.256410256410263,92.452830188679243,88.187702265372167,86.174242424242422,95.945945945945937,95.948434622467772,88.63636363636364,89,90.745501285347046,90.238095238095241,94.297082228116707,91.902834008097173,90.151515151515156,86.257928118393238,91.079812206572768,87.304347826086953,89.317507418397625,85.714285714285708,89.508196721311478,91.746641074856043,91.4,95.6,91.952054794520549,92.066115702479337,92.071611253196934,90.778097982708942,90.767045454545453,94.988610478359917,89.173228346456696,90.170380078636953,95.019157088122611,91.19496855345912,93,94.059405940594047,91.230769230769226,86.8,87.716955941255009,89.813994685562449,83.720930232558146,87.108013937282223,90.936106983655279,77.37373737373737,89.948453608247419,88.520408163265301,87.868852459016395,90.6,91.94805194805194,93.21533923303835,91.590909090909093,92.20779220779221,86.354378818737274,91.666666666666657,89.962121212121218,93.22766570605188,87.6,90.178571428571431,87.899860917941581,87.430683918669132,89.838337182448029,91.516709511568124,87.375886524822704,84.229390681003579,87.9,88.679245283018872,90,88.131313131313121]
[null,null,"MMR2 at 16y (%)","2017-2018",85.6,87.821380243572406,91.155234657039713,87.202380952380949,87.010309278350519,84.070796460176993,91.034482758620697,83.743842364532014,83.665338645418331,86.802030456852791,89.503816793893137,87.703016241299309,88,89.274447949526817,90.979381443298962,92.220650636492223,93.53383458646617,93.15789473684211,75.702811244979912,85.846867749419957,90.636704119850179,90.07633587786259,88.148148148148152,93.810444874274651,92.256637168141594,90.3,90.317700453857796,86.941580756013749,87.085514834205938,85.125858123569799,86.912751677852356,91.542288557213936,90.488431876606683,92.079207920792086,91.679273827534033,94.444444444444443,93.181818181818173,95.100222717149222,96.049382716049379,94.020618556701024,84.5,85.736434108527121,86.218302094818071,82.159624413145536,85.94202898550725,90.556492411467119,77.840909090909093,90.275526742301466,83.651226158038156,82.554517133956381,88.7,86.138613861386133,91.025641025641022,86.618004866180058,91.17647058823529,86.511627906976742,86.919831223628691,91.666666666666657,89.279731993299833,87.9,91.692789968652036,87.716763005780351,90.100671140939596,88.985507246376812,88.828337874659397,86.006289308176093,89.320388349514573,82,82.083333333333329,86.148648648648646,83.602771362586608]

{"sheet":"CLA_IDP","index":31,"n_rows":29,"n_cols":94,"rows_kept":29,"cut":false,"hidden":false,"merged":[[7,1,7,4],[8,1,8,4]]}
[]
[]
[]
[]
[]
[]
[null,null,null,null,null,null,"Key:"]
[null,"ⓘ You are currently viewing the category page for infectious disease prevention",null,null,null,null,null,"Primary care data exists, but no PHW access"]
[null,"ⓘ You are currently viewing this information by clusters, by local authority (PSB)",null,null,null,null,null,"No statistical comparison made, or no data available"]
[]
[]
[]
[]
[null,null,"Compare your position to others, and use the checkbox to select indicators of interest for review."]
[null,null,"After selecting indicators, scroll right to click 'Review this indicator'; this will open a web page."]
[null,null,"When complete, click the 'Next' button at the top, for the next category page."]
[]
[]
[null,null,"Influenza vaccination uptake"]
[null,null,"Indicator","Period","Bridgend","Bridgend East Network","Bridgend North Network","Bridgend West Network","Neath Port Talbot","Afan","Neath","Upper Valleys","Swansea","BayHealth","CityHealth","Cwmtawe","Llwchwr","Penderi","Blaenau Gwent","Blaenau Gwent East","Blaenau Gwent West","Caerphilly","Caerphilly East","Caerphilly North","Caerphilly South","Monmouthshire","Monmouthshire North","Monmouthshire South","Newport","Newport Central","Newport East","Newport West","Torfaen","Torfaen North","Torfaen South","Anglesey LA","Anglesey Cluster","Conwy","Conwy East","Conwy West","Denbighshire","Central - South Denbighshire","North Denbighshire","Flintshire","North East Flintshire","Nort West Flintshire","South flintshire","Gwynedd","Arfon","Dwyfor","Meirionnydd","Wrexham","South Wrexham","West - North Wrexham","Wrexham Town","Cardiff","Cardiff East","Cardiff North","Cardiff South East","Cardiff South West","Cardiff West","City - Cardiff South","Vale of Glamorgan","Central Vale","Eastern Vale","Western Vale","Merthyr Tydfil","North Merthyr Tydfil","South Merthyr Tydfil","Rhondda Cynon Taf","North Cynon","North Rhondda","North Taf Ely","South Cynon","South Rhondda","South Taf Ely","Carmarthenshire","Amman-Gwendraeth","Llanelli","Taf - Teifi - Tywi","Ceredigion","North Ceredigion","South Ceredigion","Pembrokeshire","North Pembrokeshire","South Pembrokeshire","Powys","Mid Powys","North Powys","South Powys"]
[null,null,"At risk aged 6m to 64y (%)","2017-2018",45.038817931379917,49.123009462266324,43.082727780883175,39.874487086652181,48.951960117833671,51.719557195571952,49.060631938514092,43.884705271358087,46.471736227616667,45.698308001147119,51.79704016913319,42.893550284257984,41.462982642578815,49.897203947368425,48.655941878567724,43.787112381790187,53.007075471698116,50.139017608897127,49.23744412306074,48.789932236205232,52.791280011783769,55.325206868938515,54.710144927536234,55.980158001102332,50.329241071428577,52.502360717658171,50.191171359054579,48.090158293186505,50.067799314030466,49.858103061986561,50.308113659705576,53.689129365469746,53.689129365469746,48.568382576911361,45.951612903225808,50.908828620888634,47.980845969672785,50.030469226081649,46.654397265676351,54.955866644178329,57.160874439461885,51.77496367033423,54.885155982173458,48.663721300789454,46.566077003121748,52.868217054263567,50.155411133088442,55.181736257134276,58.241585404215158,50.363958292347043,53.220806062693761,49.386132167604515,49.986409350366948,49.889400921658989,50.756959140485101,48.567916410571605,50.790103750997609,44.5828437132785,47.838042208015395,45.682908356475636,46.198986396372362,55.910987482614736,45.669497060744611,44.18224299065421,47.555555555555557,47.103057607579423,47.411616161616159,49.680511182108624,46.213487197980527,50.927546377318869,47.284162378502003,43.5620799434029,42.205269143290366,43.724235963041934,42.932007524858903,39.776671193601928,43.056423068915265,41.613958560523443,44.373630750846445,43.822730123336349,44.598087361075208,42.915469529714201,47.85126093669583,49.760191846522787,45.661971830985912,49.647611589663271,null,null,null," "]
[null,null,"Two and three year olds (%)","2017-2018",50.257289879931392,57.221542227662184,49.308380797396254,34.173228346456689,51.020408163265309,57.528285465622275,47.63986013986014,45.440494590417316,47.362407160540847,48.546255506607928,48.243992606284657,43.363728470111454,50.567107750472594,45.601617795753285,44.306930693069305,37.608966376089661,50.922509225092249,49.461105904404874,49.858557284299856,44.526034712950604,54.498525073746315,54.616384915474647,56.589147286821706,57.621951219512191,46.646869586735953,52.380952380952387,46.893063583815028,40.704647676161919,49.856459330143544,42.053571428571431,58.865979381443303,55.914768552534902,55.914768552534902,53.405017921146957,48.708133971291865,57.54001684919966,47.321428571428569,60.595238095238088,39.357142857142854,58.819836785938485,61.655773420479299,49.812734082397,62.103174603174608,53.406326034063255,49.787535410764875,65.869565217391298,52.35690235690236,55.181736257134276,59.283088235294116,51.111111111111107,54.836131095123896,47.999560342932512,36.217303822937623,60.756709194896608,49.070945945945951,45.054316752429962,63.943028485757125,20.993439550140579,53.030303030303031,52.864938608458388,49.744245524296673,57.796610169491522,45.490716180371358,42.441860465116278,49.537037037037038,55.087973879920192,45.191313340227509,57.105606258148633,47.002141327623129,37.295081967213115,58.559322033898312,72.217502124044174,45.88171752633,48.892405063291136,38.822652757078984,51.04831358249772,43.167701863354033,40.745672436750993,45.285215366705472,38.931297709923662,43.991416309012877,32.447296058661777,56.852207293666027,54.820415879017013,55.967078189300409,59.349593495934961]
[null,null,"Aged 65+ (%)","2017-2018",70.028355387523632,73.858267716535437,67.251108424022576,67.256219785402664,67.419197661198638,70.038336773813043,67.904021402892738,63.629748217144524,67.419197661198638,69.300321621457613,68.126372285923395,67.291539866098603,64.359441408621734,66.56896019746992,66.310347236777758,63.374242200207007,68.940397350993379,66.93230387425892,64.410224341436731,66.934594168636721,69.922092376182533,73.435944241619637,73.427947598253269,73.446545735237351,71.135926359074958,73.544877606527649,70.33898305084746,68.487449603329438,71.432331420750643,69.652131308182263,73.498635122838934,71.586828169699928,71.586828169699928,68.756991511482539,66.885506096241258,70.326014637391893,68.504456916474084,68.932508218913171,68.185745140388761,73.000478545222521,73.932026367605502,69.135333586529953,74.670633234169145,68.179669030732853,68.417542104385532,68.776119402985074,67.401431655493695,73.428966470791565,74.074399017371476,71.705001825483748,74.159957058507786,70.666691678547309,70.258513547104144,73.389186908564881,70.076681770651788,65.254333295570405,74.676437000380659,61.534185658699279,71.570121951219505,69.010737546206656,71.799452185304276,75.759913593581246,68.60443959243085,64.972840371473623,72.526017029328287,67.484440276238388,66.259818731117832,67.185992003308982,68.237680467724616,71.96729957805907,68.104653485120835,65.612433431148787,66.045159083133768,64.054034530087407,68.871595330739297,65.429756131843419,61.130144605116797,61.573246398149116,60.805182785747334,66.514752548781303,67.447731244740766,65.497777464192481,66.316078539063568,65.784893839192478,65.902217741935488,67.250922509225092]
[null,null,"Childhood vaccination uptake"]
[null,null,"Indicator","Period","Bridgend","Bridgend East Network","Bridgend North Network","Bridgend West Network","Neath Port Talbot","Afan","Neath","Upper Valleys","Swansea","BayHealth","CityHealth","Cwmtawe","Llwchwr","Penderi","Blaenau Gwent","Blaenau Gwent East","Blaenau Gwent West","Caerphilly","Caerphilly East","Caerphilly North","Caerphilly South","Monmouthshire","Monmouthshire North","Monmouthshire South","Newport","Newport Central","Newport East","Newport West","Torfaen","Torfaen North","Torfaen South","Anglesey LA","Anglesey Cluster","Conwy","Conwy East","Conwy West","Denbighshire","Central - South Denbighshire","North Denbighshire","Flintshire","North East Flintshire","Nort West Flintshire","South flintshire","Gwynedd","Arfon","Dwyfor","Meirionnydd","Wrexham","South Wrexham","West - North Wrexham","Wrexham Town","Cardiff","Cardiff East","Cardiff North","Cardiff South East","Cardiff South West","Cardiff West","City - Cardiff South","Vale of Glamorgan","Central Vale","Eastern Vale","Western Vale","Merthyr Tydfil","North Merthyr Tydfil","South Merthyr Tydfil","Rhondda Cynon Taf","North Cynon","North Rhondda","North Taf Ely","South Cynon","South Rhondda","South Taf Ely","Carmarthenshire","Amman-Gwendraeth","Llanelli","Taf - Teifi - Tywi","Ceredigion","North Ceredigion","South Ceredigion","Pembrokeshire","North Pembrokeshire","South Pembrokeshire","Powys","Mid Powys","North Powys","South Powys"]
[null,null,"Uptake of the 5 in 1 at 1y (%)","2017-2018",97,97.317073170731703,96.903460837887067,97.27272727272728,96.4,95.979020979020973,96.892138939670929,96.166134185303505,96,94.230769230769226,93.28358208955224,98.191214470284237,98.687089715536104,96.666666666666671,97.4,97.247706422018354,96.798029556650249,97.1,98.420221169036338,97.635605006954108,95.799676898222941,95.1,94.087403598971719,98.01136363636364,94.5,95.847750865051907,95.171339563862929,94.07616361071932,97.1,95.945945945945937,97.99599198396794,97.4,97.608370702541109,95.8,92.824074074074076,98.226950354609926,93.9,94.946808510638306,93.670886075949369,96.8,97.519379844961236,97.38903394255874,96.701030927835049,97.3,96.943231441048042,98.598130841121502,97.802197802197796,96.9,97.5,98.608349900596423,94.555353901996369,94.5,94.936708860759495,96.64107485604606,94.205298013245027,94.147582697201017,97.61904761904762,90.090090090090087,95.7,94.798439531859557,98.005698005698008,94.841269841269835,97.7,98.285714285714292,97.5,97.4,97.05215419501134,96.464646464646464,97.968397291196382,97.757847533632287,97.352342158859472,97.923875432525946,94.5,95.081967213114751,94.303797468354432,93.950850661625708,93.9,96.951219512195124,92.506459948320412,94,93.629629629629633,94.600431965442766,96.4,98.222222222222229,95.44592030360532,98.205128205128204]
[null,null,"Up to date with immunisations by age 4y (%)","2017-2018",88,91.19047619047619,87.354409317803658,82.972136222910223,86.3,84.81481481481481,86.785714285714292,91.071428571428569,85,85.043478260869563,79.770992366412216,91.906005221932119,88.783269961977183,83.983572895277206,79.7,78.534031413612567,82.448036951501152,86,89.033189033189032,86.024423337856177,84.591679506933744,83.8,82.185273159144884,88.746803069053698,73,78.020134228187914,69.924812030075188,73.030303030303031,84.9,85.464098073555164,85.631067961165058,90.4,91.798561151079141,85.5,87.05636743215031,86.356073211314481,84.3,87.331536388140165,82.532751091703062,88.9,88.490284005979063,92.071611253196934,90.595009596928989,87.7,85.81460674157303,91.701244813278009,92.114695340501797,89.9,91.493775933609953,90.853658536585371,88.941548183254355,82.1,83.10991957104558,87.331536388140165,79.926335174953948,81.937799043062199,89.583333333333343,69.728601252609607,84.3,85.006518904823992,86.4,83.333333333333343,91,89.189189189189193,94.648829431438131,87.5,88.131868131868131,84.920634920634924,87.389380530973455,90.909090909090907,87.795275590551185,89.816124469589823,84,85.761047463175117,81.470588235294116,86.175942549371626,86.4,85.828877005347593,86.77884615384616,82.5,82.82674772036475,83.011583011583014,86.2,89.211618257261421,88.162544169611309,84.095860566448806]
[null,null,"MMR2 at 5y (%)","2017-2018",91.8,93.017751479289942,93.079584775086516,89.672544080604538,91.2,92.949907235621524,90.256410256410263,92.452830188679243,90.3,88.187702265372167,86.174242424242422,95.945945945945937,95.948434622467772,88.63636363636364,90.8,90.745501285347046,90.238095238095241,91.5,94.297082228116707,91.902834008097173,90.151515151515156,86.6,86.257928118393238,91.079812206572768,86.4,87.304347826086953,89.317507418397625,85.714285714285708,90.1,89.508196721311478,91.746641074856043,93.5,95.6,91.9,91.952054794520549,92.066115702479337,91,92.071611253196934,90.778097982708942,90.3,90.767045454545453,94.988610478359917,89.173228346456696,90.7,90.170380078636953,95.019157088122611,91.19496855345912,92.1,93,94.059405940594047,91.230769230769226,86.1,87.716955941255009,89.813994685562449,83.720930232558146,87.108013937282223,90.936106983655279,77.37373737373737,88.8,89.948453608247419,88.520408163265301,87.868852459016395,92.1,91.94805194805194,93.21533923303835,90.3,91.590909090909093,92.20779220779221,86.354378818737274,91.666666666666657,89.962121212121218,93.22766570605188,87.9,90.178571428571431,87.899860917941581,87.430683918669132,90.1,89.838337182448029,91.516709511568124,85.7,87.375886524822704,84.229390681003579,87.9,88.679245283018872,90,88.131313131313121]
[null,null,"MMR2 at 16y (%)","2017-2018",87.1,87.821380243572406,91.155234657039713,87.202380952380949,85.3,87.010309278350519,84.070796460176993,91.034482758620697,84.8,83.743842364532014,83.665338645418331,86.802030456852791,89.503816793893137,87.703016241299309,89.8,89.274447949526817,90.979381443298962,91.5,92.220650636492223,93.53383458646617,93.15789473684211,78.2,75.702811244979912,85.846867749419957,87.4,90.636704119850179,90.07633587786259,88.148148148148152,90.8,93.810444874274651,92.256637168141594,91.3,90.317700453857796,88.1,86.941580756013749,87.085514834205938,87.1,85.125858123569799,86.912751677852356,89.9,91.542288557213936,90.488431876606683,92.079207920792086,91.2,91.679273827534033,94.444444444444443,93.181818181818173,93.8,95.100222717149222,96.049382716049379,94.020618556701024,83.4,85.736434108527121,86.218302094818071,82.159624413145536,85.94202898550725,90.556492411467119,77.840909090909093,87.4,90.275526742301466,83.651226158038156,82.554517133956381,87.7,86.138613861386133,91.025641025641022,89,86.618004866180058,91.17647058823529,86.511627906976742,86.919831223628691,91.666666666666657,89.279731993299833,88.9,91.692789968652036,87.716763005780351,90.100671140939596,88.2,88.985507246376812,88.828337874659397,85.9,86.006289308176093,89.320388349514573,82,82.083333333333329,86.148648648648646,83.602771362586608]

{"sheet":"HB_DOH","index":32,"n_rows":35,"n_cols":12,"rows_kept":35,"cut":false,"hidden":false,"merged":[[7,1,7,2],[8,1,8,2]]}
[]
[]
[]
[]
[]
[]
[null,null,null,null,"Key:"]
[null,"ⓘ You are currently viewing the category page for determinants of health",null,null,null,"Primary care data exists, but no PHW access"]
[null,"ⓘ You are currently viewing this information by health board",null,null,null,"No statistical comparison made, or no data available"]
[]
[]
[]
[]
[null,null,"Compare your position to others, and use the checkbox to select indicators of interest for review."]
[null,null,"After selecting indicators, scroll right to click 'Review this indicator'; this will open a web page."]
[null,null,"When complete, click the 'Finished!' button at the top, to return to the Home page."]
[]
[]
[null,null,"Learning & training"]
[null,null,"Indicator","Period","Wales","Abertawe BM","Aneurin Bevan","Betsi Cadwaladr","Cardiff and Vale","Cwm Taf","Hywel Dda","Powys"]
[null,null,"School leavers with qualifications, PHOF 9"]
[null,null,"People not in education, employment or training, PHOF 12"]
[null,null,"Home & housing"]
[null,null,"Indicator","Period","Wales","Abertawe BM","Aneurin Bevan","Betsi Cadwaladr","Cardiff and Vale","Cwm Taf","Hywel Dda","Powys"]
[null,null,"A sense of community, PHOF 14 (%)",2018,50,46.072499999999998,43.226799999999997,52.710120000000003,55.086359999999999,43.298349999999999,54.368479999999998,64.682910000000007]
[null,null,"People who volunteer, PHOF 15 (%)",2018,28.473140000000001,28.559620000000002,27.015850000000004,26.589289999999998,30.823270000000001,22.260160000000003,31.991880000000002,37.462519999999998]
[null,null,"People feeling lonely, PHOF 16 (%)",2018,16.731729999999999,16.52759,18.191600000000001,15.56658,17.553279999999997,17.912980000000001,16.12603,12.982859999999999]
[null,null,"Quality of housing, PHOF 17"]
[null,null,"Money & jobs"]
[null,null,"Indicator","Period","Wales","Abertawe BM","Aneurin Bevan","Betsi Cadwaladr","Cardiff and Vale","Cwm Taf","Hywel Dda","Powys"]
[null,null,"Children living in poverty, PHOF 7 (%)",2018,24]
[null,null,"People able to afford everyday goods and activities, PHOF 11 (%)",2018,84.345219999999998,83.49015,83.022670000000005,85.937309999999997,83.820269999999994,81.252380000000002,86.410750000000007,87.904139999999998]
[null,null,"Working age adults in good health, PHOF 35a (%)",2018,75.922370000000001,73.276229999999998,73.834350000000001,77.336680000000001,80.769040000000004,71.992149999999995,75.870450000000005,79.316640000000007]
[null,null,"Working age adults free from limiting long term illness, PHOF 36a (%)",2018,73.010170000000002,67.535679999999999,71.804990000000004,75.352900000000005,77.222030000000004,73.096770000000006,71.836219999999997,75.286439999999999]
[null,null,"Working age adults of healthy weight, PHOF 38a (%)",2018,39.16339,39.178289999999997,33.222679999999997,41.313499999999998,44.521329999999999,33.504620000000003,40.123180000000005,44.700050000000005]

{"sheet":"LA_DOH","index":33,"n_rows":35,"n_cols":31,"rows_kept":35,"cut":false,"hidden":false,"merged":[[7,1,7,2],[8,1,8,2]]}
[]
[]
[]
[]
[]
[]
[null,null,null,null,"Key:"]
[null,"ⓘ You are currently viewing the category page for determinants of health",null,null,null,"Primary care data exists, but no PHW access"]
[null,"ⓘ You are currently viewing this information by local authority",null,null,null,"No statistical comparison made, or no data available"]
[]
[]
[]
[]
[null,null,"Compare your position to others, and use the checkbox to select indicators of interest for review."]
[null,null,"After selecting indicators, scroll right to click 'Review this indicator'; this will open a web page."]
[null,null,"When complete, click the 'Finished!' button at the top, to return to the Home page."]
[]
[]
[null,null,"Learning & training"]
[null,null,"Indicator","Period","Wales","Bridgend","Neath Port Talbot","Swansea","Blaenau Gwent","Caerphilly","Monmouthshire","Newport","Torfaen","Anglesey","Conwy","Denbighshire","Flintshire","Gwynedd","Wrexham","Cardiff","Vale of Glamorgan","Merthyr Tydfil","Rhondda Cynon Taf","Carmarthenshire","Ceredigion","Pembrokeshire","Powys"]
[null,null,"School leavers with qualifications, PHOF 9"]
[null,null,"People not in education, employment or training, PHOF 12"]
[null,null,"Home & housing",null,null,null,null,null,null,null,null,null,null,null,null,null,null,null,null,null,null,null,null,null,null,null,null,null,null,null," "]
[null,null,"Indicator","Period","Wales","Bridgend","Neath Port Talbot","Swansea","Blaenau Gwent","Caerphilly","Monmouthshire","Newport","Torfaen","Anglesey","Conwy","Denbighshire","Flintshire","Gwynedd","Wrexham","Cardiff","Vale of Glamorgan","Merthyr Tydfil","Rhondda Cynon Taf","Carmarthenshire","Ceredigion","Pembrokeshire","Powys"]
[null,null,"A sense of community, PHOF 14 (%)",2018,50,49.968389999999999,40.991520000000001,46.591120000000004,38.168959999999998,42.127389999999998,53.682580000000002,38.896839999999997,45.772730000000003,52.997720000000001,57.502900000000004,60.396410000000003,50.123720000000006,60.859459999999999,38.86271,55.271279999999997,55.933790000000002,43.91451,42.127389999999998,47.080919999999999,65.650719999999993,58.95317,64.682910000000007]
[null,null,"People who volunteer, PHOF 15 (%)",2018,28.473140000000001,27.802070000000001,26.415369999999999,30.682839999999999,23.23724,22.910869999999999,35.887329999999999,26.897569999999998,29.265699999999999,31.231560000000002,28.400180000000002,25.019209999999998,23.827680000000001,30.860159999999997,23.278850000000002,30.985780000000002,30.475300000000001,21.744309999999999,22.484860000000001,33.722580000000001,33.339410000000001,28.780349999999999,37.462519999999998]
[null,null,"People feeling lonely, PHOF 16 (%)",2018,16.731729999999999,11.750159999999999,18.943560000000002,17.971630000000001,19.25159,20.69707,15.762039999999999,16.72373,17.695,17.11449,14.269129999999999,14.11722,12.607589999999998,15.5474,19.781869999999998,17.924340000000001,17.298160000000003,20.8414,17.459440000000001,16.986899999999999,12.535070000000001,17.34177,12.982859999999999]
[null,null,"Quality of housing, PHOF 17"]
[null,null,"Money & jobs"]
[null,null,"Indicator","Period","Wales","Bridgend","Neath Port Talbot","Swansea","Blaenau Gwent","Caerphilly","Monmouthshire","Newport","Torfaen","Anglesey","Conwy","Denbighshire","Flintshire","Gwynedd","Wrexham","Cardiff","Vale of Glamorgan","Merthyr Tydfil","Rhondda Cynon Taf","Carmarthenshire","Ceredigion","Pembrokeshire","Powys"]
[null,null,"Children living in poverty, PHOF 7 (%)",2018,24,25,28,25,32,26,14,27,26,22,22,25,19,18,22,27,19,29,28,23,19,22,15]
[null,null,"People able to afford everyday goods and activities, PHOF 11 (%)",2018,84.345219999999998,88.852130000000002,82.747839999999997,80.792029999999997,81.171459999999996,82.248359999999991,87.199669999999998,82.256129999999999,82.888959999999997,82.791840000000008,88.153009999999995,84.719459999999998,86.199159999999992,85.533950000000004,86.565919999999991,82.493960000000001,87.49024,78.929259999999999,81.825119999999998,84.471919999999997,87.737529999999992,88.482349999999997,87.886350000000007]
[null,null,"Working age adults in good health, PHOF 35a (%)",2018,75.922370000000001,77.826720000000009,70.996160000000003,71.991479999999996,69.000399999999999,73.080219999999997,81.787140000000008,71.922799999999995,73.950819999999993,76.432950000000005,79.387990000000002,74.835220000000007,79.618340000000003,81.913129999999995,71.092060000000004,80.900720000000007,80.36872000000001,73.350059999999999,71.652540000000002,74.797470000000004,79.431149999999988,75.288820000000001,79.47775]
[null,null,"Working age adults free from limiting long term illness, PHOF 36a (%)",2018,73.010170000000002,75.82495999999999,64.032420000000002,64.82987,62.826269999999994,71.828180000000003,75.785780000000003,72.857230000000001,72.574309999999997,75.182859999999991,74.400210000000001,72.066479999999999,76.755330000000001,79.010100000000008,73.611590000000007,76.917690000000007,78.151089999999996,75.865409999999997,72.403649999999999,69.102329999999995,75.3874,74.021110000000007,75.439660000000003]
[null,null,"Working age adults of healthy weight, PHOF 38a (%)",2018,39.16339,38.810230000000004,33.059190000000001,42.432379999999995,30.558710000000001,27.1067,43.277900000000002,36.20881,32.600839999999998,38.49877,47.858280000000001,42.707659999999997,43.533439999999999,42.283029999999997,32.367960000000004,46.371139999999997,38.713140000000003,36.937049999999999,32.640349999999998,42.075899999999997,41.20064,36.267229999999998,44.700050000000005]

{"sheet":"RPB_DOH","index":34,"n_rows":36,"n_cols":36,"rows_kept":36,"cut":false,"hidden":false,"merged":[[7,1,7,2],[8,1,8,2]]}
[]
[]
[]
[]
[]
[]
[null,null,null,null,"Key:"]
[null,"ⓘ You are currently viewing the category page for determinants of health",null,null,null,"Primary care data exists, but no PHW access"]
[null,"ⓘ You are currently viewing this information by regional partnership board",null,null,null,"No statistical comparison made, or no data available"]
[]
[]
[]
[]
[null,null,"Compare your position to others, and use the checkbox to select indicators of interest for review."]
[null,null,"After selecting indicators, scroll right to click 'Review this indicator'; this will open a web page."]
[null,null,"When complete, click the 'Finished!' button at the top, to return to the Home page."]
[]
[]
[null,null,"Learning & training"]
[null,null,"Indicator","Period","Abertawe BM","Bridgend","Neath Port Talbot","Swansea","Aneurin Bevan","Blaenau Gwent","Caerphilly","Monmouthshire","Newport","Torfaen","Betsi Cadwaladr","Anglesey","Conwy","Denbighshire","Flintshire","Gwynedd","Wrexham","Cardiff & Vale","Cardiff","Vale of Glamorgan","Cwm Taf","Merthyr Tydfil","Rhondda Cynon Taf","Hywel Dda","Carmarthenshire","Ceredigion","Pembrokeshire","Powys","Powys LA"]
[null,null,"School leavers with qualifications, PHOF 9"]
[null,null,"People not in education, employment or training, PHOF 12"]
[null,null,"Home & housing"]
[null,null,"Indicator","Period","Abertawe BM","Bridgend","Neath Port Talbot","Swansea","Aneurin Bevan","Blaenau Gwent","Caerphilly","Monmouthshire","Newport","Torfaen","Betsi Cadwaladr","Anglesey","Conwy","Denbighshire","Flintshire","Gwynedd","Wrexham","Cardiff & Vale","Cardiff","Vale of Glamorgan","Cwm Taf","Merthyr Tydfil","Rhondda Cynon Taf","Hywel Dda","Carmarthenshire","Ceredigion","Pembrokeshire","Powys","Powys LA"]
[null,null,"A sense of community, PHOF 14 (%)",2018,46.072499999999998,49.968389999999999,40.991520000000001,46.591120000000004,43.226799999999997,38.168959999999998,42.127389999999998,53.682580000000002,38.896839999999997,45.772730000000003,52.710120000000003,52.997720000000001,57.502900000000004,60.396410000000003,50.123720000000006,60.859459999999999,38.86271,55.086359999999999,55.271279999999997,55.933790000000002,43.298349999999999,43.91451,42.127389999999998,54.368479999999998,47.080919999999999,65.650719999999993,58.95317,64.682910000000007,64.682910000000007]
[null,null,"People who volunteer, PHOF 15 (%)",2018,28.559620000000002,27.802070000000001,26.415369999999999,30.682839999999999,27.015850000000004,23.23724,22.910869999999999,35.887329999999999,26.897569999999998,29.265699999999999,26.589289999999998,31.231560000000002,28.400180000000002,25.019209999999998,23.827680000000001,30.860159999999997,23.278850000000002,30.823270000000001,30.985780000000002,30.475300000000001,22.260160000000003,21.744309999999999,22.484860000000001,31.991880000000002,33.722580000000001,33.339410000000001,28.780349999999999,37.462519999999998,37.462519999999998]
[null,null,"People feeling lonely, PHOF 16 (%)",2018,16.52759,11.750159999999999,18.943560000000002,17.971630000000001,18.191600000000001,19.25159,20.69707,15.762039999999999,16.72373,17.695,15.56658,17.11449,14.269129999999999,14.11722,12.607589999999998,15.5474,19.781869999999998,17.553279999999997,17.924340000000001,17.298160000000003,17.912980000000001,20.8414,17.459440000000001,16.12603,16.986899999999999,12.535070000000001,17.34177,12.982859999999999,12.982859999999999]
[null,null,"Quality of housing, PHOF 17"]
[null,null,"Money & jobs"]
[null,null,"Indicator","Period","Abertawe BM","Bridgend","Neath Port Talbot","Swansea","Aneurin Bevan","Blaenau Gwent","Caerphilly","Monmouthshire","Newport","Torfaen","Betsi Cadwaladr","Anglesey","Conwy","Denbighshire","Flintshire","Gwynedd","Wrexham","Cardiff & Vale","Cardiff","Vale of Glamorgan","Cwm Taf","Merthyr Tydfil","Rhondda Cynon Taf","Hywel Dda","Carmarthenshire","Ceredigion","Pembrokeshire","Powys","Powys LA"]
[null,null,"Children living in poverty, PHOF 7 (%)",2018,null,25,28,25,null,32,26,14,27,26,null,22,22,25,19,18,22,null,27,19,null,29,28,null,23,19,22,null,15]
[null,null,"People able to afford everyday goods and activities, PHOF 11 (%)",2018,83.49015,88.852130000000002,82.747839999999997,80.792029999999997,83.022670000000005,81.171459999999996,82.248359999999991,87.199669999999998,82.256129999999999,82.888959999999997,85.937309999999997,82.791840000000008,88.153009999999995,84.719459999999998,86.199159999999992,85.533950000000004,86.565919999999991,83.820269999999994,82.493960000000001,87.49024,81.252380000000002,78.929259999999999,81.825119999999998,86.410750000000007,84.471919999999997,87.737529999999992,88.482349999999997,87.904139999999998,87.886350000000007]
[null,null,"Working age adults in good health, PHOF 35a (%)",2018,73.276229999999998,77.826720000000009,70.996160000000003,71.991479999999996,73.834350000000001,69.000399999999999,73.080219999999997,81.787140000000008,71.922799999999995,73.950819999999993,77.336680000000001,76.432950000000005,79.387990000000002,74.835220000000007,79.618340000000003,81.913129999999995,71.092060000000004,80.769040000000004,80.900720000000007,80.36872000000001,71.992149999999995,73.350059999999999,71.652540000000002,75.870450000000005,74.797470000000004,79.431149999999988,75.288820000000001,79.316640000000007,79.47775]
[null,null,"Working age adults free from limiting long term illness, PHOF 36a (%)",2018,67.535679999999999,75.82495999999999,64.032420000000002,64.82987,71.804990000000004,62.826269999999994,71.828180000000003,75.785780000000003,72.857230000000001,72.574309999999997,75.352900000000005,75.182859999999991,74.400210000000001,72.066479999999999,76.755330000000001,79.010100000000008,73.611590000000007,77.222030000000004,76.917690000000007,78.151089999999996,73.096770000000006,75.865409999999997,72.403649999999999,71.836219999999997,69.102329999999995,75.3874,74.021110000000007,75.286439999999999,75.439660000000003]
[null,null,"Working age adults of healthy weight, PHOF 38a (%)",2018,39.178289999999997,38.810230000000004,33.059190000000001,42.432379999999995,33.222679999999997,30.558710000000001,27.1067,43.277900000000002,36.20881,32.600839999999998,41.313499999999998,38.49877,47.858280000000001,42.707659999999997,43.533439999999999,42.283029999999997,32.367960000000004,44.521329999999999,46.371139999999997,38.713140000000003,33.504620000000003,36.937049999999999,32.640349999999998,40.123180000000005,42.075899999999997,41.20064,36.267229999999998,44.700050000000005,44.700050000000005]
[null,null,null,null,null,null,null,null,null,null,null,null,null,null,null,null,null,null,null,null,null,null,null,null,null,null,null,null,null,null,null,null,null,null,null," "]

{"sheet":"CHB_DOH","index":35,"n_rows":36,"n_cols":78,"rows_kept":36,"cut":false,"hidden":false,"merged":[[7,1,7,2],[8,1,8,2]]}
[]
[]
[]
[]
[]
[]
[null,null,null,null,null,"Key:"]
[null,"ⓘ You are currently viewing the category page for determinants of health",null,null,null,null,"Cluster similar to health board average"]
[null,"ⓘ You are currently viewing this information by clusters, by health board",null,null,null,null,"Cluster position lower than health board average"]
[null,null,null,null,null,null,"Cluster position higher than health board average"]
[null,null,null,null,null,null,"Primary care data exists, but no PHW access"]
[null,null,null,null,null,null,"No statistical comparison made, or no data available"]
[]
[null,null,"Compare your position to others, and use the checkbox to select indicators of interest for review."]
[null,null,"After selecting indicators, scroll right to click 'Review this indicator'; this will open a web page."]
[null,null,"When complete, click the 'Finished!' button at the top, to return to the Home page."]
[]
[]
[null,null,"Learning & training"]
[null,null,"Indicator","Period","Abertawe BM","Bridgend East Network","Bridgend North Network","Bridgend West Network","Afan","Neath","Upper Valleys","BayHealth","CityHealth","Cwmtawe","Llwchwr","Penderi","Aneurin Bevan","Blaenau Gwent East","Blaenau Gwent West","Caerphilly East","Caerphilly North","Caerphilly South","Monmouthshire North","Monmouthshire South","Newport Central","Newport East","Newport West","Torfaen North","Torfaen South","Betsi Cadwaladr","Anglesey","Conwy East","Conwy West","Central - South Denbighshire","North Denbighshire","North East Flintshire","Nort West Flintshire","South flintshire","Arfon","Dwyfor","Meirionnydd","South Wrexham","West - North Wrexham","Wrexham Town","Cardiff & Vale","Cardiff East","Cardiff North","Cardiff South East","Cardiff South West","Cardiff West","City - Cardiff South","Central Vale","Eastern Vale","Western Vale","Cwm Taf","North Merthyr Tydfil","South Merthyr Tydfil","North Cynon","North Rhondda","North Taf Ely","South Cynon","South Rhondda","South Taf Ely","Hywel Dda","Amman-Gwendraeth","Llanelli","Taf - Teifi - Tywi","North Ceredigion","South Ceredigion","North Pembrokeshire","South Pembrokeshire","Powys","Mid Powys","North Powys","South Powys"]
[null,null,"School leavers with qualifications, PHOF 9"]
[null,null,"People not in education, employment or training, PHOF 12"]
[null,null,"Home & housing"]
[null,null,"Indicator","Period","Abertawe BM","Bridgend East Network","Bridgend North Network","Bridgend West Network","Afan","Neath","Upper Valleys","BayHealth","CityHealth","Cwmtawe","Llwchwr","Penderi","Aneurin Bevan","Blaenau Gwent East","Blaenau Gwent West","Caerphilly East","Caerphilly North","Caerphilly South","Monmouthshire North","Monmouthshire South","Newport Central","Newport East","Newport West","Torfaen North","Torfaen South","Betsi Cadwaladr","Anglesey","Conwy East","Conwy West","Central - South Denbighshire","North Denbighshire","North East Flintshire","Nort West Flintshire","South flintshire","Arfon","Dwyfor","Meirionnydd","South Wrexham","West - North Wrexham","Wrexham Town","Cardiff & Vale","Cardiff East","Cardiff North","Cardiff South East","Cardiff South West","Cardiff West","City - Cardiff South","Central Vale","Eastern Vale","Western Vale","Cwm Taf","North Merthyr Tydfil","South Merthyr Tydfil","North Cynon","North Rhondda","North Taf Ely","South Cynon","South Rhondda","South Taf Ely","Hywel Dda","Amman-Gwendraeth","Llanelli","Taf - Teifi - Tywi","North Ceredigion","South Ceredigion","North Pembrokeshire","South Pembrokeshire","Powys","Mid Powys","North Powys","South Powys"]
[null,null,"A sense of community, PHOF 14 (%)",2018,46.072499999999998,null,null,null,null,null,null,null,null,null,null,null,43.226799999999997,null,null,null,null,null,null,null,null,null,null,null,null,52.710120000000003,null,null,null,null,null,null,null,null,null,null,null,null,null,null,55.086359999999999,null,null,null,null,null,null,null,null,null,43.298349999999999,null,null,null,null,null,null,null,null,54.368479999999998,null,null,null,null,null,null,null,64.682910000000007]
[null,null,"People who volunteer, PHOF 15 (%)",2018,28.559620000000002,null,null,null,null,null,null,null,null,null,null,null,27.015850000000004,null,null,null,null,null,null,null,null,null,null,null,null,26.589289999999998,null,null,null,null,null,null,null,null,null,null,null,null,null,null,30.823270000000001,null,null,null,null,null,null,null,null,null,22.260160000000003,null,null,null,null,null,null,null,null,31.991880000000002,null,null,null,null,null,null,null,37.462519999999998]
[null,null,"People feeling lonely, PHOF 16 (%)",2018,16.52759,null,null,null,null,null,null,null,null,null,null,null,18.191600000000001,null,null,null,null,null,null,null,null,null,null,null,null,15.56658,null,null,null,null,null,null,null,null,null,null,null,null,null,null,17.553279999999997,null,null,null,null,null,null,null,null,null,17.912980000000001,null,null,null,null,null,null,null,null,16.12603,null,null,null,null,null,null,null,12.982859999999999]
[null,null,"Quality of housing, PHOF 17"]
[null,null,"Money & jobs"]
[null,null,"Indicator","Period","Abertawe BM","Bridgend East Network","Bridgend North Network","Bridgend West Network","Afan","Neath","Upper Valleys","BayHealth","CityHealth","Cwmtawe","Llwchwr","Penderi","Aneurin Bevan","Blaenau Gwent East","Blaenau Gwent West","Caerphilly East","Caerphilly North","Caerphilly South","Monmouthshire North","Monmouthshire South","Newport Central","Newport East","Newport West","Torfaen North","Torfaen South","Betsi Cadwaladr","Anglesey","Conwy East","Conwy West","Central - South Denbighshire","North Denbighshire","North East Flintshire","Nort West Flintshire","South flintshire","Arfon","Dwyfor","Meirionnydd","South Wrexham","West - North Wrexham","Wrexham Town","Cardiff & Vale","Cardiff East","Cardiff North","Cardiff South East","Cardiff South West","Cardiff West","City - Cardiff South","Central Vale","Eastern Vale","Western Vale","Cwm Taf","North Merthyr Tydfil","South Merthyr Tydfil","North Cynon","North Rhondda","North Taf Ely","South Cynon","South Rhondda","South Taf Ely","Hywel Dda","Amman-Gwendraeth","Llanelli","Taf - Teifi - Tywi","North Ceredigion","South Ceredigion","North Pembrokeshire","South Pembrokeshire","Powys","Mid Powys","North Powys","South Powys"]
[null,null,"Children living in poverty, PHOF 7 (%)"]
[null,null,"People able to afford everyday goods and activities, PHOF 11 (%)",2018,83.49015,null,null,null,null,null,null,null,null,null,null,null,83.022670000000005,null,null,null,null,null,null,null,null,null,null,null,null,85.937309999999997,null,null,null,null,null,null,null,null,null,null,null,null,null,null,83.820269999999994,null,null,null,null,null,null,null,null,null,81.252380000000002,null,null,null,null,null,null,null,null,86.410750000000007,null,null,null,null,null,null,null,87.904139999999998]
[null,null,"Working age adults in good health, PHOF 35a (%)",2018,73.276229999999998,null,null,null,null,null,null,null,null,null,null,null,73.834350000000001,null,null,null,null,null,null,null,null,null,null,null,null,77.336680000000001,null,null,null,null,null,null,null,null,null,null,null,null,null,null,80.769040000000004,null,null,null,null,null,null,null,null,null,71.992149999999995,null,null,null,null,null,null,null,null,75.870450000000005,null,null,null,null,null,null,null,79.316640000000007]
[null,null,"Working age adults free from limiting long term illness, PHOF 36a (%)",2018,67.535679999999999,null,null,null,null,null,null,null,null,null,null,null,71.804990000000004,null,null,null,null,null,null,null,null,null,null,null,null,75.352900000000005,null,null,null,null,null,null,null,null,null,null,null,null,null,null,77.222030000000004,null,null,null,null,null,null,null,null,null,73.096770000000006,null,null,null,null,null,null,null,null,71.836219999999997,null,null,null,null,null,null,null,75.286439999999999]
[null,null,"Working age adults of healthy weight, PHOF 38a (%)",2018,39.178289999999997,null,null,null,null,null,null,null,null,null,null,null,33.222679999999997,null,null,null,null,null,null,null,null,null,null,null,null,41.313499999999998,null,null,null,null,null,null,null,null,null,null,null,null,null,null,44.521329999999999,null,null,null,null,null,null,null,null,null,33.504620000000003,null,null,null,null,null,null,null,null,40.123180000000005,null,null,null,null,null,null,null,44.700050000000005]
[null,null,null,null,null,null,null,null,null,null,null,null,null,null,null,null,null,null,null,null,null,null,null,null,null,null,null,null,null,null,null,null,null,null,null,null,null,null,null,null,null,null,null,null,null,null,null,null,null,null,null,null,null,null,null,null,null,null,null,null,null,null,null,null,null,null,null,null,null,null,null,null,null,null,null,null,null," "]

{"sheet":"CLA_DOH","index":36,"n_rows":36,"n_cols":93,"rows_kept":36,"cut":false,"hidden":false,"merged":[[7,1,7,2],[8,1,8,2]]}
[]
[]
[]
[]
[]
[]
[null,null,null,null,null,"Key:"]
[null,"ⓘ You are currently viewing the category page for determinants of health",null,null,null,null,"Primary care data exists, but no PHW access"]
[null,"ⓘ You are currently viewing this information by clusters, by local authority (PSB)",null,null,null,null,"No statistical comparison made, or no data available"]
[]
[]
[]
[]
[null,null,"Compare your position to others, and use the checkbox to select indicators of interest for review."]
[null,null,"After selecting indicators, scroll right to click 'Review this indicator'; this will open a web page."]
[null,null,"When complete, click the 'Finished!' button at the top, to return to the Home page."]
[]
[]
[null,null,"Learning & training"]
[null,null,"Indicator","Period","Bridgend","Bridgend East Network","Bridgend North Network","Bridgend West Network","Neath Port Talbot","Afan","Neath","Upper Valleys","Swansea","BayHealth","CityHealth","Cwmtawe","Llwchwr","Penderi","Blaenau Gwent","Blaenau Gwent East","Blaenau Gwent West","Caerphilly","Caerphilly East","Caerphilly North","Caerphilly South","Monmouthshire","Monmouthshire North","Monmouthshire South","Newport","Newport Central","Newport East","Newport West","Torfaen","Torfaen North","Torfaen South","Anglesey LA","Anglesey Cluster","Conwy","Conwy East","Conwy West","Denbighshire","Central - South Denbighshire","North Denbighshire","Flintshire","North East Flintshire","Nort West Flintshire","South flintshire","Gwynedd","Arfon","Dwyfor","Meirionnydd","Wrexham","South Wrexham","West - North Wrexham","Wrexham Town","Cardiff","Cardiff East","Cardiff North","Cardiff South East","Cardiff South West","Cardiff West","City - Cardiff South","Vale of Glamorgan","Central Vale","Eastern Vale","Western Vale","Merthyr Tydfil","North Merthyr Tydfil","South Merthyr Tydfil","Rhondda Cynon Taf","North Cynon","North Rhondda","North Taf Ely","South Cynon","South Rhondda","South Taf Ely","Carmarthenshire","Amman-Gwendraeth","Llanelli","Taf - Teifi - Tywi","Ceredigion","North Ceredigion","South Ceredigion","Pembrokeshire","North Pembrokeshire","South Pembrokeshire","Powys","Mid Powys","North Powys","South Powys"]
[null,null,"School leavers with qualifications, PHOF 9"]
[null,null,"People not in education, employment or training, PHOF 12"]
[null,null,"Home & housing"]
[null,null,"Indicator","Period","Bridgend","Bridgend East Network","Bridgend North Network","Bridgend West Network","Neath Port Talbot","Afan","Neath","Upper Valleys","Swansea","BayHealth","CityHealth","Cwmtawe","Llwchwr","Penderi","Blaenau Gwent","Blaenau Gwent East","Blaenau Gwent West","Caerphilly","Caerphilly East","Caerphilly North","Caerphilly South","Monmouthshire","Monmouthshire North","Monmouthshire South","Newport","Newport Central","Newport East","Newport West","Torfaen","Torfaen North","Torfaen South","Anglesey LA","Anglesey Cluster","Conwy","Conwy East","Conwy West","Denbighshire","Central - South Denbighshire","North Denbighshire","Flintshire","North East Flintshire","Nort West Flintshire","South flintshire","Gwynedd","Arfon","Dwyfor","Meirionnydd","Wrexham","South Wrexham","West - North Wrexham","Wrexham Town","Cardiff","Cardiff East","Cardiff North","Cardiff South East","Cardiff South West","Cardiff West","City - Cardiff South","Vale of Glamorgan","Central Vale","Eastern Vale","Western Vale","Merthyr Tydfil","North Merthyr Tydfil","South Merthyr Tydfil","Rhondda Cynon Taf","North Cynon","North Rhondda","North Taf Ely","South Cynon","South Rhondda","South Taf Ely","Carmarthenshire","Amman-Gwendraeth","Llanelli","Taf - Teifi - Tywi","Ceredigion","North Ceredigion","South Ceredigion","Pembrokeshire","North Pembrokeshire","South Pembrokeshire","Powys","Mid Powys","North Powys","South Powys"]
[null,null,"A sense of community, PHOF 14 (%)",2018,49.968389999999999,null,null,null,40.991520000000001,null,null,null,46.591120000000004,null,null,null,null,null,38.168959999999998,null,null,42.127389999999998,null,null,null,53.682580000000002,null,null,38.896839999999997,null,null,null,45.772730000000003,null,null,52.997720000000001,null,57.502900000000004,null,null,60.396410000000003,null,null,50.123720000000006,null,null,null,60.859459999999999,null,null,null,38.86271,null,null,null,55.271279999999997,null,null,null,null,null,null,55.933790000000002,null,null,null,43.91451,null,null,42.127389999999998,null,null,null,null,null,null,47.080919999999999,null,null,null,65.650719999999993,null,null,58.95317,null,null,64.682910000000007]
[null,null,"People who volunteer, PHOF 15 (%)",2018,27.802070000000001,null,null,null,26.415369999999999,null,null,null,30.682839999999999,null,null,null,null,null,23.23724,null,null,22.910869999999999,null,null,null,35.887329999999999,null,null,26.897569999999998,null,null,null,29.265699999999999,null,null,31.231560000000002,null,28.400180000000002,null,null,25.019209999999998,null,null,23.827680000000001,null,null,null,30.860159999999997,null,null,null,23.278850000000002,null,null,null,30.985780000000002,null,null,null,null,null,null,30.475300000000001,null,null,null,21.744309999999999,null,null,22.484860000000001,null,null,null,null,null,null,33.722580000000001,null,null,null,33.339410000000001,null,null,28.780349999999999,null,null,37.462519999999998]
[null,null,"People feeling lonely, PHOF 16 (%)",2018,11.750159999999999,null,null,null,18.943560000000002,null,null,null,17.971630000000001,null,null,null,null,null,19.25159,null,null,20.69707,null,null,null,15.762039999999999,null,null,16.72373,null,null,null,17.695,null,null,17.11449,null,14.269129999999999,null,null,14.11722,null,null,12.607589999999998,null,null,null,15.5474,null,null,null,19.781869999999998,null,null,null,17.924340000000001,null,null,null,null,null,null,17.298160000000003,null,null,null,20.8414,null,null,17.459440000000001,null,null,null,null,null,null,16.986899999999999,null,null,null,12.535070000000001,null,null,17.34177,null,null,12.982859999999999]
[null,null,"Quality of housing, PHOF 17"]
[null,null,"Money & jobs"]
[null,null,"Indicator","Period","Bridgend","Bridgend East Network","Bridgend North Network","Bridgend West Network","Neath Port Talbot","Afan","Neath","Upper Valleys","Swansea","BayHealth","CityHealth","Cwmtawe","Llwchwr","Penderi","Blaenau Gwent","Blaenau Gwent East","Blaenau Gwent West","Caerphilly","Caerphilly East","Caerphilly North","Caerphilly South","Monmouthshire","Monmouthshire North","Monmouthshire South","Newport","Newport Central","Newport East","Newport West","Torfaen","Torfaen North","Torfaen South","Anglesey","Anglesey Cluster","Conwy","Conwy East","Conwy West","Denbighshire","Central - South Denbighshire","North Denbighshire","Flintshire","North East Flintshire","Nort West Flintshire","South flintshire","Gwynedd","Arfon","Dwyfor","Meirionnydd","Wrexham","South Wrexham","West - North Wrexham","Wrexham Town","Cardiff","Cardiff East","Cardiff North","Cardiff South East","Cardiff South West","Cardiff West","City - Cardiff South","Vale of Glamorgan","Central Vale","Eastern Vale","Western Vale","Merthyr Tydfil","North Merthyr Tydfil","South Merthyr Tydfil","Rhondda Cynon Taf","North Cynon","North Rhondda","North Taf Ely","South Cynon","South Rhondda","South Taf Ely","Carmarthenshire","Amman-Gwendraeth","Llanelli","Taf - Teifi - Tywi","Ceredigion","North Ceredigion","South Ceredigion","Pembrokeshire","North Pembrokeshire","South Pembrokeshire","Powys","Mid Powys","North Powys","South Powys"]
[null,null,"Children living in poverty, PHOF 7 (%)",2018,25,null,null,null,28,null,null,null,25,null,null,null,null,null,32,null,null,26,null,null,null,14,null,null,27,null,null,null,26,null,null,22,null,22,null,null,25,null,null,19,null,null,null,18,null,null,null,22,null,null,null,27,null,null,null,null,null,null,19,null,null,null,29,null,null,28,null,null,null,null,null,null,23,null,null,null,19,null,null,22,null,null,15]
[null,null,"People able to afford everyday goods and activities, PHOF 11 (%)",2018,88.852130000000002,null,null,null,82.747839999999997,null,null,null,80.792029999999997,null,null,null,null,null,81.171459999999996,null,null,82.248359999999991,null,null,null,87.199669999999998,null,null,82.256129999999999,null,null,null,82.888959999999997,null,null,82.791840000000008,null,88.153009999999995,null,null,84.719459999999998,null,null,86.199159999999992,null,null,null,85.533950000000004,null,null,null,86.565919999999991,null,null,null,82.493960000000001,null,null,null,null,null,null,87.49024,null,null,null,78.929259999999999,null,null,81.825119999999998,null,null,null,null,null,null,84.471919999999997,null,null,null,87.737529999999992,null,null,88.482349999999997,null,null,87.886350000000007]
[null,null,"Working age adults in good health, PHOF 35a (%)",2018,77.826720000000009,null,null,null,70.996160000000003,null,null,null,71.991479999999996,null,null,null,null,null,69.000399999999999,null,null,73.080219999999997,null,null,null,81.787140000000008,null,null,71.922799999999995,null,null,null,73.950819999999993,null,null,76.432950000000005,null,79.387990000000002,null,null,74.835220000000007,null,null,79.618340000000003,null,null,null,81.913129999999995,null,null,null,71.092060000000004,null,null,null,80.900720000000007,null,null,null,null,null,null,80.36872000000001,null,null,null,73.350059999999999,null,null,71.652540000000002,null,null,null,null,null,null,74.797470000000004,null,null,null,79.431149999999988,null,null,75.288820000000001,null,null,79.47775]
[null,null,"Working age adults free from limiting long term illness, PHOF 36a (%)",2018,75.82495999999999,null,null,null,64.032420000000002,null,null,null,64.82987,null,null,null,null,null,62.826269999999994,null,null,71.828180000000003,null,null,null,75.785780000000003,null,null,72.857230000000001,null,null,null,72.574309999999997,null,null,75.182859999999991,null,74.400210000000001,null,null,72.066479999999999,null,null,76.755330000000001,null,null,null,79.010100000000008,null,null,null,73.611590000000007,null,null,null,76.917690000000007,null,null,null,null,null,null,78.151089999999996,null,null,null,75.865409999999997,null,null,72.403649999999999,null,null,null,null,null,null,69.102329999999995,null,null,null,75.3874,null,null,74.021110000000007,null,null,75.439660000000003]
[null,null,"Working age adults of healthy weight, PHOF 38a (%)",2018,38.810230000000004,null,null,null,33.059190000000001,null,null,null,42.432379999999995,null,null,null,null,null,30.558710000000001,null,null,27.1067,null,null,null,43.277900000000002,null,null,36.20881,null,null,null,32.600839999999998,null,null,38.49877,null,47.858280000000001,null,null,42.707659999999997,null,null,43.533439999999999,null,null,null,42.283029999999997,null,null,null,32.367960000000004,null,null,null,46.371139999999997,null,null,null,null,null,null,38.713140000000003,null,null,null,36.937049999999999,null,null,32.640349999999998,null,null,null,null,null,null,42.075899999999997,null,null,null,41.20064,null,null,36.267229999999998,null,null,44.700050000000005]
[null,null,null,null,null,null,null,null,null,null,null,null,null,null,null,null,null,null,null,null,null,null,null,null,null,null,null,null,null,null,null,null,null,null,null,null,null,null,null,null,null,null,null,null,null,null,null,null,null,null,null,null,null,null,null,null,null,null,null,null,null,null,null,null,null,null,null,null,null,null,null,null,null,null,null,null,null,null,null,null,null,null,null,null,null,null,null,null,null,null,null,null," "]

{"sheet":"DOH data","index":37,"n_rows":288,"n_cols":31,"rows_kept":288,"cut":false,"hidden":true,"merged":[]}
[" ","Title","Area value"]
["Wales","Children living in poverty, 2017",24]
["Isle of Anglesey","Children living in poverty, 2017",22]
["Gwynedd","Children living in poverty, 2017",18]
["Conwy","Children living in poverty, 2017",22]
["Denbighshire","Children living in poverty, 2017",25]
["Flintshire","Children living in poverty, 2017",19]
["Wrexham","Children living in poverty, 2017",22]
["Powys","Children living in poverty, 2017",15]
["Ceredigion","Children living in poverty, 2017",19]
["Pembrokeshire","Children living in poverty, 2017",22]
["Carmarthenshire","Children living in poverty, 2017",23]
["Swansea","Children living in poverty, 2017",25]
["Neath Port Talbot","Children living in poverty, 2017",28]
["Bridgend","Children living in poverty, 2017",25]
["Vale of Glamorgan","Children living in poverty, 2017",19]
["Cardiff","Children living in poverty, 2017",27]
["Rhondda Cynon Taf","Children living in poverty, 2017",28]
["Merthyr Tydfil","Children living in poverty, 2017",29]
["Caerphilly","Children living in poverty, 2017",26]
["Blaenau Gwent","Children living in poverty, 2017",32]
["Torfaen","Children living in poverty, 2017",26]
["Monmouthshire","Children living in poverty, 2017",14]
["Newport","Children living in poverty, 2017",27]
["Wales","People able to afford everyday goods and activities, 2016/17 - 2017/18",84.345219999999998]
["Betsi Cadwaladr UHB","People able to afford everyday goods and activities, 2016/17 - 2017/18",85.937309999999997]
["Powys THB","People able to afford everyday goods and activities, 2016/17 - 2017/18",87.904139999999998]
["Hywel Dda UHB","People able to afford everyday goods and activities, 2016/17 - 2017/18",86.410750000000007]
["ABM UHB","People able to afford everyday goods and activities, 2016/17 - 2017/18",83.49015]
["Cardiff and Vale UHB","People able to afford everyday goods and activities, 2016/17 - 2017/18",83.820269999999994]
["Cwm Taf UHB","People able to afford everyday goods and activities, 2016/17 - 2017/18",81.252380000000002]
["Aneurin Bevan UHB","People able to afford everyday goods and activities, 2016/17 - 2017/18",83.022670000000005]
["Isle of Anglesey","People able to afford everyday goods and activities, 2016/17 - 2017/18",82.791840000000008]
["Gwynedd","People able to afford everyday goods and activities, 2016/17 - 2017/18",85.533950000000004]
["Conwy","People able to afford everyday goods and activities, 2016/17 - 2017/18",88.153009999999995]
["Denbighshire","People able to afford everyday goods and activities, 2016/17 - 2017/18",84.719459999999998]
["Flintshire","People able to afford everyday goods and activities, 2016/17 - 2017/18",86.199159999999992]
["Wrexham","People able to afford everyday goods and activities, 2016/17 - 2017/18",86.565919999999991]
["Powys","People able to afford everyday goods and activities, 2016/17 - 2017/18",87.886350000000007]
["Ceredigion","People able to afford everyday goods and activities, 2016/17 - 2017/18",87.737529999999992]
["Pembrokeshire","People able to afford everyday goods and activities, 2016/17 - 2017/18",88.482349999999997]
["Carmarthenshire","People able to afford everyday goods and activities, 2016/17 - 2017/18",84.471919999999997]
["Swansea","People able to afford everyday goods and activities, 2016/17 - 2017/18",80.792029999999997]
["Neath Port Talbot","People able to afford everyday goods and activities, 2016/17 - 2017/18",82.747839999999997]
["Bridgend","People able to afford everyday goods and activities, 2016/17 - 2017/18",88.852130000000002]
["Vale of Glamorgan","People able to afford everyday goods and activities, 2016/17 - 2017/18",87.49024]
["Cardiff","People able to afford everyday goods and activities, 2016/17 - 2017/18",82.493960000000001]
["Rhondda Cynon Taf","People able to afford everyday goods and activities, 2016/17 - 2017/18",81.825119999999998]
["Merthyr Tydfil","People able to afford everyday goods and activities, 2016/17 - 2017/18",78.929259999999999]
["Caerphilly","People able to afford everyday goods and activities, 2016/17 - 2017/18",82.248359999999991]
["Blaenau Gwent","People able to afford everyday goods and activities, 2016/17 - 2017/18",81.171459999999996]
["Torfaen","People able to afford everyday goods and activities, 2016/17 - 2017/18",82.888959999999997]
["Monmouthshire","People able to afford everyday goods and activities, 2016/17 - 2017/18",87.199669999999998]
["Newport","People able to afford everyday goods and activities, 2016/17 - 2017/18",82.256129999999999]
["Wales","A sense of community, 2016/17",50]
["Betsi Cadwaladr UHB","A sense of community, 2016/17",52.710120000000003]
["Powys THB","A sense of community, 2016/17",64.682910000000007]
["Hywel Dda UHB","A sense of community, 2016/17",54.368479999999998]
["ABM UHB","A sense of community, 2016/17",46.072499999999998]
["Cardiff and Vale UHB","A sense of community, 2016/17",55.086359999999999]
["Cwm Taf UHB","A sense of community, 2016/17",43.298349999999999]
["Aneurin Bevan UHB","A sense of community, 2016/17",43.226799999999997]
["Isle of Anglesey","A sense of community, 2016/17",52.997720000000001]
["Gwynedd","A sense of community, 2016/17",60.859459999999999]
["Conwy","A sense of community, 2016/17",57.502900000000004]
["Denbighshire","A sense of community, 2016/17",60.396410000000003]
["Flintshire","A sense of community, 2016/17",50.123720000000006]
["Wrexham","A sense of community, 2016/17",38.86271]
["Powys","A sense of community, 2016/17",64.682910000000007]
["Ceredigion","A sense of community, 2016/17",65.650719999999993]
["Pembrokeshire","A sense of community, 2016/17",58.95317]
["Carmarthenshire","A sense of community, 2016/17",47.080919999999999]
["Swansea","A sense of community, 2016/17",46.591120000000004]
["Neath Port Talbot","A sense of community, 2016/17",40.991520000000001]
["Bridgend","A sense of community, 2016/17",49.968389999999999]
["Vale of Glamorgan","A sense of community, 2016/17",55.933790000000002]
["Cardiff","A sense of community, 2016/17",55.271279999999997]
["Rhondda Cynon Taf","A sense of community, 2016/17",43.032979999999995]
["Merthyr Tydfil","A sense of community, 2016/17",43.91451]
["Caerphilly","A sense of community, 2016/17",42.127389999999998]
["Blaenau Gwent","A sense of community, 2016/17",38.168959999999998]
["Torfaen","A sense of community, 2016/17",45.772730000000003]
["Monmouthshire","A sense of community, 2016/17",53.682580000000002]
["Newport","A sense of community, 2016/17",38.896839999999997]
["Wales","People who volunteer, 2016/17",28.473140000000001]
["Betsi Cadwaladr UHB","People who volunteer, 2016/17",26.589289999999998]
["Powys THB","People who volunteer, 2016/17",37.462519999999998]
["Hywel Dda UHB","People who volunteer, 2016/17",31.991880000000002]
["ABM UHB","People who volunteer, 2016/17",28.559620000000002]
["Cardiff and Vale UHB","People who volunteer, 2016/17",30.823270000000001]
["Cwm Taf UHB","People who volunteer, 2016/17",22.260160000000003]
["Aneurin Bevan UHB","People who volunteer, 2016/17",27.015850000000004]
["Isle of Anglesey","People who volunteer, 2016/17",31.231560000000002]
["Gwynedd","People who volunteer, 2016/17",30.860159999999997]
["Conwy","People who volunteer, 2016/17",28.400180000000002]
["Denbighshire","People who volunteer, 2016/17",25.019209999999998]
["Flintshire","People who volunteer, 2016/17",23.827680000000001]
["Wrexham","People who volunteer, 2016/17",23.278850000000002]
["Powys","People who volunteer, 2016/17",37.462519999999998]
["Ceredigion","People who volunteer, 2016/17",33.339410000000001]
["Pembrokeshire","People who volunteer, 2016/17",28.780349999999999]
["Carmarthenshire","People who volunteer, 2016/17",33.722580000000001]
["Swansea","People who volunteer, 2016/17",30.682839999999999]
["Neath Port Talbot","People who volunteer, 2016/17",26.415369999999999]
["Bridgend","People who volunteer, 2016/17",27.802070000000001]
["Vale of Glamorgan","People who volunteer, 2016/17",30.475300000000001]
["Cardiff","People who volunteer, 2016/17",30.985780000000002]
["Rhondda Cynon Taf","People who volunteer, 2016/17",22.484860000000001]
["Merthyr Tydfil","People who volunteer, 2016/17",21.744309999999999]
["Caerphilly","People who volunteer, 2016/17",22.910869999999999]
["Blaenau Gwent","People who volunteer, 2016/17",23.23724]
["Torfaen","People who volunteer, 2016/17",29.265699999999999]
["Monmouthshire","People who volunteer, 2016/17",35.887329999999999]
["Newport","People who volunteer, 2016/17",26.897569999999998]
["Wales","People feeling lonely, 2016/17 - 2017/18",16.731729999999999]
["Betsi Cadwaladr UHB","People feeling lonely, 2016/17 - 2017/18",15.56658]
["Powys THB","People feeling lonely, 2016/17 - 2017/18",13.10937]
["Hywel Dda UHB","People feeling lonely, 2016/17 - 2017/18",16.12603]
["ABM UHB","People feeling lonely, 2016/17 - 2017/18",16.52759]
["Cardiff and Vale UHB","People feeling lonely, 2016/17 - 2017/18",17.553279999999997]
["Cwm Taf UHB","People feeling lonely, 2016/17 - 2017/18",17.912980000000001]
["Aneurin Bevan UHB","People feeling lonely, 2016/17 - 2017/18",18.191600000000001]
["Isle of Anglesey","People feeling lonely, 2016/17 - 2017/18",17.11449]
["Gwynedd","People feeling lonely, 2016/17 - 2017/18",15.5474]
["Conwy","People feeling lonely, 2016/17 - 2017/18",14.269129999999999]
["Denbighshire","People feeling lonely, 2016/17 - 2017/18",14.11722]
["Flintshire","People feeling lonely, 2016/17 - 2017/18",12.607589999999998]
["Wrexham","People feeling lonely, 2016/17 - 2017/18",19.781869999999998]
["Powys","People feeling lonely, 2016/17 - 2017/18",12.982859999999999]
["Ceredigion","People feeling lonely, 2016/17 - 2017/18",12.535070000000001]
["Pembrokeshire","People feeling lonely, 2016/17 - 2017/18",17.34177]
["Carmarthenshire","People feeling lonely, 2016/17 - 2017/18",16.986899999999999]
["Swansea","People feeling lonely, 2016/17 - 2017/18",17.971630000000001]
["Neath Port Talbot","People feeling lonely, 2016/17 - 2017/18",18.943560000000002]
["Bridgend","People feeling lonely, 2016/17 - 2017/18",11.750159999999999]
["Vale of Glamorgan","People feeling lonely, 2016/17 - 2017/18",17.298160000000003]
["Cardiff","People feeling lonely, 2016/17 - 2017/18",17.924340000000001]
["Rhondda Cynon Taf","People feeling lonely, 2016/17 - 2017/18",17.459440000000001]
["Merthyr Tydfil","People feeling lonely, 2016/17 - 2017/18",20.8414]
["Caerphilly","People feeling lonely, 2016/17 - 2017/18",20.69707]
["Blaenau Gwent","People feeling lonely, 2016/17 - 2017/18",19.25159]
["Torfaen","People feeling lonely, 2016/17 - 2017/18",17.695]
["Monmouthshire","People feeling lonely, 2016/17 - 2017/18",15.762039999999999]
["Newport","People feeling lonely, 2016/17 - 2017/18",16.72373]
["Wales","Working age adults in good health, 2016/17 - 2017/18",75.922370000000001]
["Betsi Cadwaladr UHB","Working age adults in good health, 2016/17 - 2017/18",77.336680000000001]
["Powys THB","Working age adults in good health, 2016/17 - 2017/18",79.316640000000007]
["Hywel Dda UHB","Working age adults in good health, 2016/17 - 2017/18",75.870450000000005]
["ABM UHB","Working age adults in good health, 2016/17 - 2017/18",73.276229999999998]
["Cardiff and Vale UHB","Working age adults in good health, 2016/17 - 2017/18",80.769040000000004]
["Cwm Taf UHB","Working age adults in good health, 2016/17 - 2017/18",71.992149999999995]
["Aneurin Bevan UHB","Working age adults in good health, 2016/17 - 2017/18",73.834350000000001]
["Isle of Anglesey","Working age adults in good health, 2016/17 - 2017/18",76.432950000000005]
["Gwynedd","Working age adults in good health, 2016/17 - 2017/18",81.913129999999995]
["Conwy","Working age adults in good health, 2016/17 - 2017/18",79.387990000000002]
["Denbighshire","Working age adults in good health, 2016/17 - 2017/18",74.835220000000007]
["Flintshire","Working age adults in good health, 2016/17 - 2017/18",79.618340000000003]
["Wrexham","Working age adults in good health, 2016/17 - 2017/18",71.092060000000004]
["Powys","Working age adults in good health, 2016/17 - 2017/18",79.47775]
["Ceredigion","Working age adults in good health, 2016/17 - 2017/18",79.431149999999988]
["Pembrokeshire","Working age adults in good health, 2016/17 - 2017/18",75.288820000000001]
["Carmarthenshire","Working age adults in good health, 2016/17 - 2017/18",74.797470000000004]
["Swansea","Working age adults in good health, 2016/17 - 2017/18",71.991479999999996]
["Neath Port Talbot","Working age adults in good health, 2016/17 - 2017/18",70.996160000000003]
["Bridgend","Working age adults in good health, 2016/17 - 2017/18",77.826720000000009]
["Vale of Glamorgan","Working age adults in good health, 2016/17 - 2017/18",80.36872000000001]
["Cardiff","Working age adults in good health, 2016/17 - 2017/18",80.900720000000007]
["Rhondda Cynon Taf","Working age adults in good health, 2016/17 - 2017/18",71.652540000000002]
["Merthyr Tydfil","Working age adults in good health, 2016/17 - 2017/18",73.350059999999999]
["Caerphilly","Working age adults in good health, 2016/17 - 2017/18",73.080219999999997]
["Blaenau Gwent","Working age adults in good health, 2016/17 - 2017/18",69.000399999999999]
["Torfaen","Working age adults in good health, 2016/17 - 2017/18",73.950819999999993]
["Monmouthshire","Working age adults in good health, 2016/17 - 2017/18",81.787140000000008]
["Newport","Working age adults in good health, 2016/17 - 2017/18",71.922799999999995]
["Wales","Working age adults free from limiting long term illness, 2016/17 - 2017/18",73.010170000000002]
["Betsi Cadwaladr UHB","Working age adults free from limiting long term illness, 2016/17 - 2017/18",75.352900000000005]
["Powys THB","Working age adults free from limiting long term illness, 2016/17 - 2017/18",75.286439999999999]
["Hywel Dda UHB","Working age adults free from limiting long term illness, 2016/17 - 2017/18",71.836219999999997]
["ABM UHB","Working age adults free from limiting long term illness, 2016/17 - 2017/18",67.535679999999999]
["Cardiff and Vale UHB","Working age adults free from limiting long term illness, 2016/17 - 2017/18",77.222030000000004]
["Cwm Taf UHB","Working age adults free from limiting long term illness, 2016/17 - 2017/18",73.096770000000006]
["Aneurin Bevan UHB","Working age adults free from limiting long term illness, 2016/17 - 2017/18",71.804990000000004]
["Isle of Anglesey","Working age adults free from limiting long term illness, 2016/17 - 2017/18",75.182859999999991]
["Gwynedd","Working age adults free from limiting long term illness, 2016/17 - 2017/18",79.010100000000008]
["Conwy","Working age adults free from limiting long term illness, 2016/17 - 2017/18",74.400210000000001]
["Denbighshire","Working age adults free from limiting long term illness, 2016/17 - 2017/18",72.066479999999999]
["Flintshire","Working age adults free from limiting long term illness, 2016/17 - 2017/18",76.755330000000001]
["Wrexham","Working age adults free from limiting long term illness, 2016/17 - 2017/18",73.611590000000007]
["Powys","Working age adults free from limiting long term illness, 2016/17 - 2017/18",75.439660000000003]
["Ceredigion","Working age adults free from limiting long term illness, 2016/17 - 2017/18",75.3874]
["Pembrokeshire","Working age adults free from limiting long term illness, 2016/17 - 2017/18",74.021110000000007]
["Carmarthenshire","Working age adults free from limiting long term illness, 2016/17 - 2017/18",69.102329999999995]
["Swansea","Working age adults free from limiting long term illness, 2016/17 - 2017/18",64.82987]
["Neath Port Talbot","Working age adults free from limiting long term illness, 2016/17 - 2017/18",64.032420000000002]
["Bridgend","Working age adults free from limiting long term illness, 2016/17 - 2017/18",75.82495999999999]
["Vale of Glamorgan","Working age adults free from limiting long term illness, 2016/17 - 2017/18",78.151089999999996]
["Cardiff","Working age adults free from limiting long term illness, 2016/17 - 2017/18",76.917690000000007]
["Rhondda Cynon Taf","Working age adults free from limiting long term illness, 2016/17 - 2017/18",72.403649999999999]
["Merthyr Tydfil","Working age adults free from limiting long term illness, 2016/17 - 2017/18",75.865409999999997]
["Caerphilly","Working age adults free from limiting long term illness, 2016/17 - 2017/18",71.828180000000003]
["Blaenau Gwent","Working age adults free from limiting long term illness, 2016/17 - 2017/18",62.826269999999994]
["Torfaen","Working age adults free from limiting long term illness, 2016/17 - 2017/18",72.574309999999997]
["Monmouthshire","Working age adults free from limiting long term illness, 2016/17 - 2017/18",75.785780000000003]
["Newport","Working age adults free from limiting long term illness, 2016/17 - 2017/18",72.857230000000001]
["Wales","Working age adults of healthy weight, 2016/17 - 2017/18",39.16339]
["Betsi Cadwaladr UHB","Working age adults of healthy weight, 2016/17 - 2017/18",41.313499999999998]
["Powys THB","Working age adults of healthy weight, 2016/17 - 2017/18",44.700050000000005]
["Hywel Dda UHB","Working age adults of healthy weight, 2016/17 - 2017/18",40.123180000000005]
["ABM UHB","Working age adults of healthy weight, 2016/17 - 2017/18",39.178289999999997]
["Cardiff and Vale UHB","Working age adults of healthy weight, 2016/17 - 2017/18",44.521329999999999]
["Cwm Taf UHB","Working age adults of healthy weight, 2016/17 - 2017/18",33.504620000000003]
["Aneurin Bevan UHB","Working age adults of healthy weight, 2016/17 - 2017/18",33.222679999999997]
["Isle of Anglesey","Working age adults of healthy weight, 2016/17 - 2017/18",38.49877]
["Gwynedd","Working age adults of healthy weight, 2016/17 - 2017/18",42.283029999999997]
["Conwy","Working age adults of healthy weight, 2016/17 - 2017/18",47.858280000000001]
["Denbighshire","Working age adults of healthy weight, 2016/17 - 2017/18",42.707659999999997]
["Flintshire","Working age adults of healthy weight, 2016/17 - 2017/18",43.533439999999999]
["Wrexham","Working age adults of healthy weight, 2016/17 - 2017/18",32.367960000000004]
["Powys","Working age adults of healthy weight, 2016/17 - 2017/18",44.700050000000005]
["Ceredigion","Working age adults of healthy weight, 2016/17 - 2017/18",41.20064]
["Pembrokeshire","Working age adults of healthy weight, 2016/17 - 2017/18",36.267229999999998]
["Carmarthenshire","Working age adults of healthy weight, 2016/17 - 2017/18",42.075899999999997]
["Swansea","Working age adults of healthy weight, 2016/17 - 2017/18",42.432379999999995]
["Neath Port Talbot","Working age adults of healthy weight, 2016/17 - 2017/18",33.059190000000001]
["Bridgend","Working age adults of healthy weight, 2016/17 - 2017/18",38.810230000000004]
["Vale of Glamorgan","Working age adults of healthy weight, 2016/17 - 2017/18",38.713140000000003]
["Cardiff","Working age adults of healthy weight, 2016/17 - 2017/18",46.371139999999997]
["Rhondda Cynon Taf","Working age adults of healthy weight, 2016/17 - 2017/18",32.640349999999998]
["Merthyr Tydfil","Working age adults of healthy weight, 2016/17 - 2017/18",36.937049999999999]
["Caerphilly","Working age adults of healthy weight, 2016/17 - 2017/18",27.1067]
["Blaenau Gwent","Working age adults of healthy weight, 2016/17 - 2017/18",30.558710000000001]
["Torfaen","Working age adults of healthy weight, 2016/17 - 2017/18",32.600839999999998]
["Monmouthshire","Working age adults of healthy weight, 2016/17 - 2017/18",43.277900000000002]
["Newport","Working age adults of healthy weight, 2016/17 - 2017/18",36.20881]
[]
["Education & training"]
["Indicator","Period","Wales","ABM","AB","BC","CV","CT","HD","Powys"]
["School leavers with qualifications (PHOF 9) %"]
["People not in education, employment or training (PHOF 12) %"]
["Home & housing"]
["Indicator","Period","Wales","ABM","AB","BC","CV","CT","HD","Powys"]
["A sense of community (PHOF 14) %",null,{"$f":"C55","v":50},{"$f":"C59","v":46.072499999999998},{"$f":"C62","v":43.226799999999997},{"$f":"C56","v":52.710120000000003},{"$f":"C60","v":55.086359999999999},{"$f":"C61","v":43.298349999999999},{"$f":"C58","v":54.368479999999998},{"$f":"C57","v":64.682910000000007}]
["People who volunteer (PHOF 15) %",null,{"$f":"C85","v":28.473140000000001},{"$f":"C89","v":28.559620000000002},{"$f":"C92","v":27.015850000000004},{"$f":"C86","v":26.589289999999998},{"$f":"C90","v":30.823270000000001},{"$f":"C91","v":22.260160000000003},{"$f":"C88","v":31.991880000000002},{"$f":"C87","v":37.462519999999998}]
["People feeling lonely (PHOF 16) %",null,{"$f":"C115","v":16.731729999999999},{"$f":"C119","v":16.52759},{"$f":"C122","v":18.191600000000001},{"$f":"C116","v":15.56658},{"$f":"C120","v":17.553279999999997},{"$f":"C121","v":17.912980000000001},{"$f":"C118","v":16.12603},{"$f":"C129","v":12.982859999999999}]
["Quality of housing (PHOF 17) %"]
["Money & jobs"]
["Indicator","Period","Wales","ABM","AB","BC","CV","CT","HD","Powys"]
["Children living in poverty (PHOF 7) %",2018,{"$f":"C2","v":24}]
["People able to afford everyday goods and activities (PHOF 11) %",2018,{"$f":"C25","v":84.345219999999998},83.49015,83.022670000000005,85.937309999999997,83.820269999999994,81.252380000000002,86.410750000000007,87.904139999999998]
["Working age adults in good health (PHOF 35a) %",2018,{"$f":"C145","v":75.922370000000001},73.276229999999998,73.834350000000001,77.336680000000001,80.769040000000004,71.992149999999995,75.870450000000005,79.316640000000007]
["Working age adults free from limiting long term illness (PHOF 36a) %",2018,{"$f":"C175","v":73.010170000000002},67.535679999999999,71.804990000000004,75.352900000000005,77.222030000000004,73.096770000000006,71.836219999999997,75.286439999999999]
["Working age adults of healthy weight (38a) %",2018,{"$f":"C205","v":39.16339},39.178289999999997,33.222679999999997,41.313499999999998,44.521329999999999,33.504620000000003,40.123180000000005,44.700050000000005]
[]
["Education & training"]
["Indicator","Period","Wales","Bridgend","Neath Port Talbot","Swansea","Blaenau Gwent","Caerphilly","Monmouthshire","Newport","Torfaen","Anglesey","Conwy","Denbighshire","Flintshire","Gwynedd","Wrexham","Cardiff","Vale of Glamorgan","Merthyr Tydfil","Rhondda Cynon Taf","Carmarthenshire","Ceredigion","Pembrokeshire","Powys"]
["School leavers with qualifications (PHOF 9) %"]
["People not in education, employment or training (PHOF 12) %"]
["Home & housing"]
["Indicator","Period","Wales","Bridgend","Neath Port Talbot","Swansea","Blaenau Gwent","Caerphilly","Monmouthshire","Newport","Torfaen","Anglesey","Conwy","Denbighshire","Flintshire","Gwynedd","Wrexham","Cardiff","Vale of Glamorgan","Merthyr Tydfil","Rhondda Cynon Taf","Carmarthenshire","Ceredigion","Pembrokeshire","Powys"]
["A sense of community (PHOF 14) %",null,50,49.968389999999999,40.991520000000001,46.591120000000004,38.168959999999998,42.127389999999998,53.682580000000002,38.896839999999997,45.772730000000003,52.997720000000001,57.502900000000004,60.396410000000003,50.123720000000006,60.859459999999999,38.86271,55.271279999999997,55.933790000000002,43.91451,42.127389999999998,47.080919999999999,65.650719999999993,58.95317,64.682910000000007]
["People who volunteer (PHOF 15) %",null,28.473140000000001,27.802070000000001,26.415369999999999,30.682839999999999,23.23724,22.910869999999999,35.887329999999999,26.897569999999998,29.265699999999999,31.231560000000002,28.400180000000002,25.019209999999998,23.827680000000001,30.860159999999997,23.278850000000002,30.985780000000002,30.475300000000001,21.744309999999999,22.484860000000001,33.722580000000001,33.339410000000001,28.780349999999999,37.462519999999998]
["People feeling lonely (PHOF 16) %",null,16.731729999999999,11.750159999999999,18.943560000000002,17.971630000000001,19.25159,20.69707,15.762039999999999,16.72373,17.695,17.11449,14.269129999999999,14.11722,12.607589999999998,15.5474,19.781869999999998,17.924340000000001,17.298160000000003,20.8414,17.459440000000001,16.986899999999999,12.535070000000001,17.34177,12.982859999999999]
["Quality of housing (PHOF 17) %"]
["Money & jobs"]
["Indicator","Period","Wales","Bridgend","Neath Port Talbot","Swansea","Blaenau Gwent","Caerphilly","Monmouthshire","Newport","Torfaen","Anglesey","Conwy","Denbighshire","Flintshire","Gwynedd","Wrexham","Cardiff","Vale of Glamorgan","Merthyr Tydfil","Rhondda Cynon Taf","Carmarthenshire","Ceredigion","Pembrokeshire","Powys"]
["Children living in poverty (PHOF 7) %",2018,{"$f":"C2","v":24},{"$f":"C15","v":25},{"$f":"C14","v":28},{"$f":"C13","v":25},{"$f":"C21","v":32},{"$f":"C20","v":26},{"$f":"C23","v":14},{"$f":"C24","v":27},{"$f":"C22","v":26},{"$f":"C3","v":22},{"$f":"C5","v":22},{"$f":"C6","v":25},{"$f":"C7","v":19},{"$f":"C4","v":18},{"$f":"C8","v":22},{"$f":"C17","v":27},{"$f":"C16","v":19},{"$f":"C19","v":29},{"$f":"C18","v":28},{"$f":"C12","v":23},{"$f":"C10","v":19},{"$f":"C11","v":22},{"$f":"C9","v":15}]
["People able to afford everyday goods and activities (PHOF 11) %",2018,{"$f":"C25","v":84.345219999999998},88.852130000000002,82.747839999999997,80.792029999999997,81.171459999999996,82.248359999999991,87.199669999999998,82.256129999999999,82.888959999999997,82.791840000000008,88.153009999999995,84.719459999999998,86.199159999999992,85.533950000000004,86.565919999999991,82.493960000000001,87.49024,78.929259999999999,81.825119999999998,84.471919999999997,87.737529999999992,88.482349999999997,87.886350000000007]
["Working age adults in good health (PHOF 35a) %",2018,{"$f":"C145","v":75.922370000000001},77.826720000000009,70.996160000000003,71.991479999999996,69.000399999999999,73.080219999999997,81.787140000000008,71.922799999999995,73.950819999999993,76.432950000000005,79.387990000000002,74.835220000000007,79.618340000000003,81.913129999999995,71.092060000000004,80.900720000000007,80.36872000000001,73.350059999999999,71.652540000000002,74.797470000000004,79.431149999999988,75.288820000000001,79.47775]
["Working age adults free from limiting long term illness (PHOF 36a) %",2018,{"$f":"C175","v":73.010170000000002},75.82495999999999,64.032420000000002,64.82987,62.826269999999994,71.828180000000003,75.785780000000003,72.857230000000001,72.574309999999997,75.182859999999991,74.400210000000001,72.066479999999999,76.755330000000001,79.010100000000008,73.611590000000007,76.917690000000007,78.151089999999996,75.865409999999997,72.403649999999999,69.102329999999995,75.3874,74.021110000000007,75.439660000000003]
["Working age adults of healthy weight (38a) %",2018,{"$f":"C205","v":39.16339},38.810230000000004,33.059190000000001,42.432379999999995,30.558710000000001,27.1067,43.277900000000002,36.20881,32.600839999999998,38.49877,47.858280000000001,42.707659999999997,43.533439999999999,42.283029999999997,32.367960000000004,46.371139999999997,38.713140000000003,36.937049999999999,32.640349999999998,42.075899999999997,41.20064,36.267229999999998,44.700050000000005]
[]
["Education & training"]
["Indicator","Period","ABM","Bridgend","Neath Port Talbot","Swansea","AB","Blaenau Gwent","Caerphilly","Monmouthshire","Newport","Torfaen","BC","Anglesey","Conwy","Denbighshire","Flintshire","Gwynedd","Wrexham","CV","Cardiff","Vale of Glamorgan","CT","Merthyr Tydfil","Rhondda Cynon Taf","HD","Carmarthenshire","Ceredigion","Pembrokeshire","Powys HB","Powys LA"]
["School leavers with qualifications (PHOF 9) %"]
["People not in education, employment or training (PHOF 12) %"]
["Home & housing"]
["Indicator","Period","ABM","Bridgend","Neath Port Talbot","Swansea","AB","Blaenau Gwent","Caerphilly","Monmouthshire","Newport","Torfaen","BC","Anglesey","Conwy","Denbighshire","Flintshire","Gwynedd","Wrexham","CV","Cardiff","Vale of Glamorgan","CT","Merthyr Tydfil","Rhondda Cynon Taf","HD","Carmarthenshire","Ceredigion","Pembrokeshire","Powys HB","Powys LA"]
["A sense of community (PHOF 14) %",null,46.072499999999998,{"$f":"C75","v":49.968389999999999},{"$f":"C74","v":40.991520000000001},{"$f":"C73","v":46.591120000000004},43.226799999999997,{"$f":"C81","v":38.168959999999998},{"$f":"C80","v":42.127389999999998},{"$f":"C83","v":53.682580000000002},{"$f":"C84","v":38.896839999999997},{"$f":"C82","v":45.772730000000003},52.710120000000003,{"$f":"C63","v":52.997720000000001},{"$f":"C65","v":57.502900000000004},{"$f":"C66","v":60.396410000000003},{"$f":"C67","v":50.123720000000006},{"$f":"C64","v":60.859459999999999},{"$f":"C68","v":38.86271},55.086359999999999,{"$f":"C77","v":55.271279999999997},{"$f":"C76","v":55.933790000000002},43.298349999999999,{"$f":"C79","v":43.91451},{"$f":"C80","v":42.127389999999998},54.368479999999998,{"$f":"C72","v":47.080919999999999},{"$f":"C70","v":65.650719999999993},{"$f":"C71","v":58.95317},64.682910000000007,{"$f":"C69","v":64.682910000000007}]
["People who volunteer (PHOF 15) %",null,28.559620000000002,{"$f":"C105","v":27.802070000000001},{"$f":"C104","v":26.415369999999999},{"$f":"C103","v":30.682839999999999},27.015850000000004,{"$f":"C111","v":23.23724},{"$f":"C110","v":22.910869999999999},{"$f":"C113","v":35.887329999999999},{"$f":"C114","v":26.897569999999998},{"$f":"C112","v":29.265699999999999},26.589289999999998,{"$f":"C93","v":31.231560000000002},{"$f":"C95","v":28.400180000000002},{"$f":"C96","v":25.019209999999998},{"$f":"C97","v":23.827680000000001},{"$f":"C94","v":30.860159999999997},{"$f":"C98","v":23.278850000000002},30.823270000000001,{"$f":"C107","v":30.985780000000002},{"$f":"C106","v":30.475300000000001},22.260160000000003,{"$f":"C109","v":21.744309999999999},{"$f":"C108","v":22.484860000000001},31.991880000000002,{"$f":"C102","v":33.722580000000001},{"$f":"C100","v":33.339410000000001},{"$f":"C101","v":28.780349999999999},37.462519999999998,{"$f":"C99","v":37.462519999999998}]
["People feeling lonely (PHOF 16) %",null,16.52759,{"$f":"C135","v":11.750159999999999},{"$f":"C134","v":18.943560000000002},{"$f":"C133","v":17.971630000000001},18.191600000000001,{"$f":"C141","v":19.25159},{"$f":"C140","v":20.69707},{"$f":"C143","v":15.762039999999999},{"$f":"C144","v":16.72373},{"$f":"C142","v":17.695},15.56658,{"$f":"C123","v":17.11449},{"$f":"C125","v":14.269129999999999},{"$f":"C126","v":14.11722},{"$f":"C127","v":12.607589999999998},{"$f":"C124","v":15.5474},{"$f":"C128","v":19.781869999999998},17.553279999999997,{"$f":"C137","v":17.924340000000001},{"$f":"C136","v":17.298160000000003},17.912980000000001,{"$f":"C139","v":20.8414},{"$f":"C138","v":17.459440000000001},16.12603,{"$f":"C132","v":16.986899999999999},{"$f":"C130","v":12.535070000000001},{"$f":"C131","v":17.34177},12.982859999999999,{"$f":"C129","v":12.982859999999999}]
["Quality of housing (PHOF 17) %"]
["Money & jobs"]
["Indicator","Period","ABM","Bridgend","Neath Port Talbot","Swansea","AB","Blaenau Gwent","Caerphilly","Monmouthshire","Newport","Torfaen","BC","Anglesey","Conwy","Denbighshire","Flintshire","Gwynedd","Wrexham","CV","Cardiff","Vale of Glamorgan","CT","Merthyr Tydfil","Rhondda Cynon Taf","HD","Carmarthenshire","Ceredigion","Pembrokeshire","Powys HB","Powys LA"]
["Children living in poverty (PHOF 7) %",2018]
["People able to afford everyday goods and activities (PHOF 11) %",2018,{"$f":"C29","v":83.49015},{"$f":"C45","v":88.852130000000002},{"$f":"C44","v":82.747839999999997},{"$f":"C43","v":80.792029999999997},{"$f":"C32","v":83.022670000000005},{"$f":"C51","v":81.171459999999996},{"$f":"C50","v":82.248359999999991},{"$f":"C53","v":87.199669999999998},{"$f":"C54","v":82.256129999999999},{"$f":"C52","v":82.888959999999997},{"$f":"C26","v":85.937309999999997},{"$f":"C33","v":82.791840000000008},{"$f":"C35","v":88.153009999999995},{"$f":"C36","v":84.719459999999998},{"$f":"C37","v":86.199159999999992},{"$f":"C34","v":85.533950000000004},{"$f":"C38","v":86.565919999999991},{"$f":"C30","v":83.820269999999994},{"$f":"C47","v":82.493960000000001},{"$f":"C46","v":87.49024},{"$f":"C31","v":81.252380000000002},{"$f":"C49","v":78.929259999999999},{"$f":"C48","v":81.825119999999998},{"$f":"C28","v":86.410750000000007},{"$f":"C42","v":84.471919999999997},{"$f":"C40","v":87.737529999999992},{"$f":"C41","v":88.482349999999997},{"$f":"C27","v":87.904139999999998},{"$f":"C39","v":87.886350000000007}]
["Working age adults in good health (PHOF 35a) %",2018,{"$f":"C149","v":73.276229999999998},{"$f":"C165","v":77.826720000000009},{"$f":"C164","v":70.996160000000003},{"$f":"C163","v":71.991479999999996},{"$f":"C152","v":73.834350000000001},{"$f":"C171","v":69.000399999999999},{"$f":"C170","v":73.080219999999997},{"$f":"C173","v":81.787140000000008},{"$f":"C174","v":71.922799999999995},{"$f":"C172","v":73.950819999999993},{"$f":"C146","v":77.336680000000001},{"$f":"C153","v":76.432950000000005},{"$f":"C155","v":79.387990000000002},{"$f":"C156","v":74.835220000000007},{"$f":"C157","v":79.618340000000003},{"$f":"C154","v":81.913129999999995},{"$f":"C158","v":71.092060000000004},{"$f":"C150","v":80.769040000000004},{"$f":"C167","v":80.900720000000007},{"$f":"C166","v":80.36872000000001},{"$f":"C151","v":71.992149999999995},{"$f":"C169","v":73.350059999999999},{"$f":"C168","v":71.652540000000002},{"$f":"C148","v":75.870450000000005},{"$f":"C162","v":74.797470000000004},{"$f":"C160","v":79.431149999999988},{"$f":"C161","v":75.288820000000001},{"$f":"C147","v":79.316640000000007},{"$f":"C159","v":79.47775}]
["Working age adults free from limiting long term illness (PHOF 36a) %",2018,{"$f":"C179","v":67.535679999999999},{"$f":"C195","v":75.82495999999999},{"$f":"C194","v":64.032420000000002},{"$f":"C193","v":64.82987},{"$f":"C182","v":71.804990000000004},{"$f":"C201","v":62.826269999999994},{"$f":"C200","v":71.828180000000003},{"$f":"C203","v":75.785780000000003},{"$f":"C204","v":72.857230000000001},{"$f":"C202","v":72.574309999999997},{"$f":"C176","v":75.352900000000005},{"$f":"C183","v":75.182859999999991},{"$f":"C185","v":74.400210000000001},{"$f":"C186","v":72.066479999999999},{"$f":"C187","v":76.755330000000001},{"$f":"C184","v":79.010100000000008},{"$f":"C188","v":73.611590000000007},{"$f":"C180","v":77.222030000000004},{"$f":"C197","v":76.917690000000007},{"$f":"C196","v":78.151089999999996},{"$f":"C181","v":73.096770000000006},{"$f":"C199","v":75.865409999999997},{"$f":"C198","v":72.403649999999999},{"$f":"C178","v":71.836219999999997},{"$f":"C192","v":69.102329999999995},{"$f":"C190","v":75.3874},{"$f":"C191","v":74.021110000000007},{"$f":"C177","v":75.286439999999999},{"$f":"C189","v":75.439660000000003}]
["Working age adults of healthy weight (38a) %",2018,{"$f":"C209","v":39.178289999999997},{"$f":"C225","v":38.810230000000004},{"$f":"C224","v":33.059190000000001},{"$f":"C223","v":42.432379999999995},{"$f":"C212","v":33.222679999999997},{"$f":"C231","v":30.558710000000001},{"$f":"C230","v":27.1067},{"$f":"C233","v":43.277900000000002},{"$f":"C234","v":36.20881},{"$f":"C232","v":32.600839999999998},{"$f":"C206","v":41.313499999999998},{"$f":"C213","v":38.49877},{"$f":"C215","v":47.858280000000001},{"$f":"C216","v":42.707659999999997},{"$f":"C217","v":43.533439999999999},{"$f":"C214","v":42.283029999999997},{"$f":"C218","v":32.367960000000004},{"$f":"C210","v":44.521329999999999},{"$f":"C227","v":46.371139999999997},{"$f":"C226","v":38.713140000000003},{"$f":"C211","v":33.504620000000003},{"$f":"C229","v":36.937049999999999},{"$f":"C228","v":32.640349999999998},{"$f":"C208","v":40.123180000000005},{"$f":"C222","v":42.075899999999997},{"$f":"C220","v":41.20064},{"$f":"C221","v":36.267229999999998},{"$f":"C207","v":44.700050000000005},{"$f":"C219","v":44.700050000000005}]

{"sheet":"flu data","index":38,"n_rows":392,"n_cols":97,"rows_kept":392,"cut":false,"hidden":true,"merged":[]}
["Cluster level","Local Authority","Cluster","Year","Measure","Immunised (n)","Denominator (n) ","Uptake (%)",null,"Hb level","Measure","HB total immunised (n)","HB total denominator (d)","HB Uptake (%)",null,"LA level","Measure","HB total immunised (n)","HB total denominator (d)","HB Uptake (%)"]
["Wales","Wales","Wales","2017/15","Aged 65+",{"$f":"SUM($L$5,$L$8,$L$11,$L$14,$L$17,$L$20,$L$23)","v":449933},{"$f":"SUM($M$5,$M$8,$M$11,$M$14,$M$17,$M$20,$M$23)","v":655949},{"$f":"F2/G2","v":0.68592680223614944},null,"Wales","Aged 65+",{"$f":"SUM($L$5,$L$8,$L$11,$L$14,$L$17,$L$20,$L$23)","v":449933},{"$f":"SUM($M$5,$M$8,$M$11,$M$14,$M$17,$M$20,$M$23)","v":655949},{"$f":"L2/M2","v":0.68592680223614944},null,"Wales","Aged 65+",{"$f":"SUM($L$5,$L$8,$L$11,$L$14,$L$17,$L$20,$L$23)","v":449933},{"$f":"SUM($M$5,$M$8,$M$11,$M$14,$M$17,$M$20,$M$23)","v":655949},68.592680223614948]
["Wales","Wales","Wales","2017/16","At risk aged 6m to 64y",{"$f":"SUM($L$6,$L$9,$L$12,$L$15,$L$18,$L$21,$L$24)","v":184055},{"$f":"SUM($M$6,$M$9,$M$12,$M$15,$M$18,$M$21,$M$24)","v":379449},{"$f":"F3/G3","v":0.48505859812517627},null,"Wales","At risk aged 6m to 64y",{"$f":"SUM($L$6,$L$9,$L$12,$L$15,$L$18,$L$21,$L$24)","v":184055},{"$f":"SUM($M$6,$M$9,$M$12,$M$15,$M$18,$M$21,$M$24)","v":379449},{"$f":"L3/M3","v":0.48505859812517627},null,"Wales","At risk aged 6m to 64y",{"$f":"SUM($L$6,$L$9,$L$12,$L$15,$L$18,$L$21,$L$24)","v":184055},{"$f":"SUM($M$6,$M$9,$M$12,$M$15,$M$18,$M$21,$M$24)","v":379449},48.505859812517627]
["Wales","Wales","Wales","2017/17","2&3 Year olds",{"$f":"SUM($L$7,$L$10,$L$13,$L$16,$L$19,$L$22,$L$25)","v":35057},{"$f":"SUM($M$7,$M$10,$M$13,$M$16,$M$19,$M$22,$M$25)","v":69769},{"$f":"F4/G4","v":0.50247244478206654},null,"Wales","2&3 Year olds",{"$f":"SUM($L$7,$L$10,$L$13,$L$16,$L$19,$L$22,$L$25)","v":35057},{"$f":"SUM($M$7,$M$10,$M$13,$M$16,$M$19,$M$22,$M$25)","v":69769},{"$f":"L4/M4","v":0.50247244478206654},null,"Wales","2&3 Year olds",{"$f":"SUM($L$7,$L$10,$L$13,$L$16,$L$19,$L$22,$L$25)","v":35057},{"$f":"SUM($M$7,$M$10,$M$13,$M$16,$M$19,$M$22,$M$25)","v":69769},50.247244478206653]
["ABM UHB","Bridgend","Bridgend East Network","2017/18","Aged 65+",9849,13335,73.858267716535437,null,"ABMU","Aged 65+",{"$f":"SUM($F$5:$F$15)","v":75054},{"$f":"SUM($G$5:$G$15)","v":110001},{"$f":"L5/M5","v":0.68230288815556217},null,"Bridgend","Aged 65+",{"$f":"SUM($F$5:$F$7)","v":22227},{"$f":"SUM($G$5:$G$7)","v":31740},70.028355387523632]
["ABM UHB","Bridgend","Bridgend North Network","2017/18","Aged 65+",6674,9924,67.251108424022576,null,"ABMU","At risk aged 6m to 64y",{"$f":"SUM($F$69:$F$79)","v":31206},{"$f":"SUM($G$69:$G$79)","v":66824},{"$f":"L6/M6","v":0.46698790853585537},null,"Bridgend","At risk aged 6m to 64y",{"$f":"SUM($F$69:$F$71)","v":8992},{"$f":"SUM($G$69:$G$71)","v":19965},45.038817931379917]
["ABM UHB","Bridgend","Bridgend West Network","2017/18","Aged 65+",5704,8481,67.256219785402664,null,"ABMU","2&3 Year olds",{"$f":"SUM($F$133:$F$143)","v":5745},{"$f":"SUM($G$133:$G$143)","v":11689},{"$f":"L7/M7","v":0.49148772350072717},null,"Bridgend","2&3 Year olds",{"$f":"SUM($F$133:$F$135)","v":1758},{"$f":"SUM($G$133:$G$135)","v":3498},50.257289879931392]
["ABM UHB","Neath Port Talbot","Afan","2017/18","Aged 65+",7125,10173,70.038336773813043,null,"Aneurin Bevan","Aged 65+",{"$f":"SUM($F$16:$F$27)","v":83891},{"$f":"SUM($G$16:$G$27)","v":120186},0.69800975155176148,null,"Neath Port Talbot","Aged 65+",{"$f":"SUM($F$11:$F$15)","v":33208},{"$f":"SUM($G$11:$G$15)","v":49256},67.419197661198638]
["ABM UHB","Neath Port Talbot","Neath","2017/18","Aged 65+",8122,11961,67.904021402892738,null,"Aneurin Bevan","At risk aged 6m to 64y",{"$f":"SUM($F$80:$F$91)","v":37563},{"$f":"SUM($G$80:$G$91)","v":73990},0.50767671306933371,null,"Neath Port Talbot","At risk aged 6m to 64y",{"$f":"SUM($F$72:$F$74)","v":8641},{"$f":"SUM($G$72:$G$74)","v":17652},48.951960117833671]
["ABM UHB","Neath Port Talbot","Upper Valleys","2017/18","Aged 65+",4372,6871,63.629748217144524,null,"Aneurin Bevan","2&3 Year olds",{"$f":"SUM($F$144:$F$155)","v":6832},{"$f":"SUM($G$144:$G$155)","v":13902},0.49144008056394761,null,"Neath Port Talbot","2&3 Year olds",{"$f":"SUM(F$136:F$138)","v":1500},{"$f":"SUM(G$136:G$138)","v":2940},51.020408163265309]
["ABM UHB","Swansea","BayHealth","2017/18","Aged 65+",11420,16479,69.300321621457613,null,"Betsi Cadwaladr","Aged 65+",{"$f":"SUM($F$28:$F$41)","v":112130},{"$f":"SUM($G$28:$G$41)","v":158825},0.70599716669290102,null,"Swansea","Aged 65+",{"$f":"SUM(F$11:F$15)","v":33208},{"$f":"SUM(G$11:G$15)","v":49256},67.419197661198638]
["ABM UHB","Swansea","CityHealth","2017/18","Aged 65+",5585,8198,68.126372285923395,null,"Betsi Cadwaladr","At risk aged 6m to 64y",{"$f":"SUM($F$92:$F$105)","v":42603},{"$f":"SUM($G$92:$G$105)","v":82635},0.51555636231620983,null,"Swansea","At risk aged 6m to 64y",{"$f":"SUM(F$75:F$79)","v":13573},{"$f":"SUM(G$75:G$79)","v":29207},46.471736227616667]
["ABM UHB","Swansea","Cwmtawe","2017/18","Aged 65+",5528,8215,67.291539866098603,null,"Betsi Cadwaladr","2&3 Year olds",{"$f":"SUM($F$156:$F$169)","v":8041},{"$f":"SUM($G$156:$G$169)","v":14814},0.54279735385446204,null,"Swansea","2&3 Year olds",{"$f":"SUM(F$139:F$143)","v":2487},{"$f":"SUM(G$139:G$143)","v":5251},47.362407160540847]
["ABM UHB","Swansea","Llwchwr","2017/18","Aged 65+",6360,9882,64.359441408621734,null,"Cardiff & Vale","Aged 65+",{"$f":"SUM($F$42:$F$50)","v":56451},{"$f":"SUM($G$42:$G$50)","v":79548},0.70964700558153571,null,"Blaenau Gwent","Aged 65+",{"$f":"SUM(F$16:F$17)","v":9491},{"$f":"SUM(G$16:G$17)","v":14313},66.310347236777758]
["ABM UHB","Swansea","Penderi","2017/18","Aged 65+",4315,6482,66.56896019746992,null,"Cardiff & Vale","At risk aged 6m to 64y",{"$f":"SUM($F$106:$F$114)","v":28198},{"$f":"SUM($G$106:$G$114)","v":57553},0.48994839539207341,null,"Blaenau Gwent","At risk aged 6m to 64y",{"$f":"SUM(F$80:F$81)","v":4688},{"$f":"SUM(G$80:G$81)","v":9635},48.655941878567724]
["Aneurin Bevan UHB","Blaenau Gwent","Blaenau Gwent East","2017/18","Aged 65+",4286,6763,63.374242200207007,null,"Cardiff & Vale","2&3 Year olds",{"$f":"SUM($F$170:$F$178)","v":5872},{"$f":"SUM($G$170:$G$178)","v":11936},0.49195710455764075,null,"Blaenau Gwent","2&3 Year olds",{"$f":"SUM(F$144:F$145)","v":716},{"$f":"SUM(G$144:G$145)","v":1616},44.306930693069305]
["Aneurin Bevan UHB","Blaenau Gwent","Blaenau Gwent West","2017/18","Aged 65+",5205,7550,68.940397350993379,null,"Cwm Taf","Aged 65+",{"$f":"SUM($F$51:$F$58)","v":39202},{"$f":"SUM($G$51:$G$58)","v":57908},0.67697036678869926,null,"Caerphilly","Aged 65+",{"$f":"SUM(F$18:F$20)","v":24273},{"$f":"SUM(G$18:G$20)","v":36265},66.93230387425892]
["Aneurin Bevan UHB","Caerphilly","Caerphilly East","2017/18","Aged 65+",8240,12793,64.410224341436731,null,"Cwm Taf","At risk aged 6m to 64y",{"$f":"SUM($F$115:$F$122)","v":17715},{"$f":"SUM($G$115:$G$122)","v":37842},0.46813064848580943,null,"Caerphilly","At risk aged 6m to 64y",{"$f":"SUM(F$82:F$84)","v":11361},{"$f":"SUM(G$82:G$84)","v":22659},50.139017608897127]
["Aneurin Bevan UHB","Caerphilly","Caerphilly North","2017/18","Aged 65+",8494,12690,66.934594168636721,null,"Cwm Taf","2&3 Year olds",{"$f":"SUM($F$179:$F$186)","v":3723},{"$f":"SUM($G$179:$G$186)","v":7021},0.53026634382566584,null,"Caerphilly","2&3 Year olds",{"$f":"SUM(F$146:F$148)","v":2111},{"$f":"SUM(G$146:G$148)","v":4268},49.461105904404874]
["Aneurin Bevan UHB","Caerphilly","Caerphilly South","2017/18","Aged 65+",7539,10782,69.922092376182533,null,"Hywel Dda","Aged 65+",{"$f":"SUM($F$59:$F$65)","v":60469},{"$f":"SUM($G$59:$G$65)","v":93019},0.65007149077070281,null,"Monmouthshire","Aged 65+",{"$f":"SUM(F$21:F$22)","v":17701},{"$f":"SUM(G$21:G$22)","v":24104},73.435944241619637]
["Aneurin Bevan UHB","Monmouthshire","Monmouthshire North","2017/18","Aged 65+",10089,13740,73.427947598253269,null,"Hywel Dda","At risk aged 6m to 64y",{"$f":"SUM($F$123:$F$129)","v":19332},{"$f":"SUM($G$123:$G$129)","v":45061},0.42901844166796121,null,"Monmouthshire","At risk aged 6m to 64y",{"$f":"SUM(F$85:F$86)","v":6218},{"$f":"SUM(G$85:G$86)","v":11239},55.325206868938515]
["Aneurin Bevan UHB","Monmouthshire","Monmouthshire South","2017/18","Aged 65+",7612,10364,73.446545735237351,null,"Hywel Dda","2&3 Year olds",{"$f":"SUM($F$187:$F$193)","v":3363},{"$f":"SUM($G$187:$G$193)","v":7802},0.43104332222507047,null,"Monmouthshire","2&3 Year olds",{"$f":"SUM(F$150:F$151)","v":1260},{"$f":"SUM(G$150:G$151)","v":2307},54.616384915474647]
["Aneurin Bevan UHB","Newport","Newport Central","2017/18","Aged 65+",8112,11030,73.544877606527649,null,"Powys","Aged 65+",{"$f":"SUM($F$67:$F$69)","v":22736},{"$f":"SUM($G$67:$G$69)","v":36462},0.62355328835499968,null,"Newport","Aged 65+",{"$f":"SUM(F$23:F$25)","v":18856},{"$f":"SUM(G$23:G$25)","v":26507},71.135926359074958]
["Aneurin Bevan UHB","Newport","Newport East","2017/18","Aged 65+",5478,7788,70.33898305084746,null,"Powys","At risk aged 6m to 64y",{"$f":"SUM($F$130:$F$132)","v":7438},{"$f":"SUM($G$130:$G$132)","v":15544},0.47851260936695833,null,"Newport","At risk aged 6m to 64y",{"$f":"SUM(F$87:F$89)","v":9019},{"$f":"SUM(G$87:G$89)","v":17920},50.329241071428577]
["Aneurin Bevan UHB","Newport","Newport West","2017/18","Aged 65+",5266,7689,68.487449603329438,null,"Powys","2&3 Year olds",{"$f":"SUM($F$194:$F$196)","v":1481},{"$f":"SUM($G$194:$G$196)","v":2605},0.56852207293666024,null,"Newport","2&3 Year olds",{"$f":"SUM(F$151:F$153)","v":1885},{"$f":"SUM(G$151:G$153)","v":4041},46.646869586735953]
["Aneurin Bevan UHB","Torfaen","Torfaen North","2017/18","Aged 65+",7108,10205,69.652131308182263,null,null,null,null,null,null,null,"Torfaen","Aged 65+",{"$f":"SUM(F$26:F$27)","v":13570},{"$f":"SUM(G$26:G$27)","v":18997},71.432331420750643]
["Aneurin Bevan UHB","Torfaen","Torfaen South","2017/18","Aged 65+",6462,8792,73.498635122838934,null,"Hb level","Measure","HB Uptake (%)",null,null,null,"Torfaen","At risk aged 6m to 64y",{"$f":"SUM(F$90:F$91)","v":6277},{"$f":"SUM(G$90:G$91)","v":12537},50.067799314030466]
["Betsi Cadwaladr UHB","Anglesey","Anglesey","2017/18","Aged 65+",11761,16429,71.586828169699928,null,"Wales","Aged 65+",0.68592680223614944,null,null,null,"Torfaen","2&3 Year olds",{"$f":"SUM(F$154:F$155)","v":1042},{"$f":"SUM(G$154:G$155)","v":2090},49.856459330143544]
["Betsi Cadwaladr UHB","Conwy","Conwy East","2017/18","Aged 65+",9271,13861,66.885506096241258,null,"Wales","At risk aged 6m to 64y",0.48505859812517627,null,null,null,"Anglesey","Aged 65+",{"$f":"F28","v":11761},{"$f":"G28","v":16429},71.586828169699928]
["Betsi Cadwaladr UHB","Conwy","Conwy West","2017/18","Aged 65+",11627,16533,70.326014637391893,null,"Wales","2&3 Year olds",0.50247244478206654,null,null,null,"Anglesey","At risk aged 6m to 64y",{"$f":"F92","v":4366},{"$f":"G92","v":8132},53.689129365469746]
["Betsi Cadwaladr UHB","Denbighshire","Central - South Denbighshire","2017/18","Aged 65+",7129,10342,68.932508218913171,null,"ABMU","Aged 65+",0.68230288815556217,null,null,null,"Anglesey","2&3 Year olds",{"$f":"F156","v":761},{"$f":"G156","v":1361},55.914768552534902]
["Betsi Cadwaladr UHB","Denbighshire","North Denbighshire","2017/18","Aged 65+",9471,13890,68.185745140388761,null,"ABMU","At risk aged 6m to 64y",0.46698790853585537,null,null,null,"Conwy","Aged 65+",{"$f":"SUM(F$29:F$30)","v":20898},{"$f":"SUM(G$29:G$30)","v":30394},68.756991511482539]
["Betsi Cadwaladr UHB","Flintshire","Deeside Hawarden - Saltney","2017/18","Aged 65+",8636,11681,73.932026367605502,null,"ABMU","2&3 Year olds",0.49148772350072717,null,null,null,"Conwy","At risk aged 6m to 64y",{"$f":"SUM(F$93:F$94)","v":6378},{"$f":"SUM(G$93:G$94)","v":13132},48.568382576911361]
["Betsi Cadwaladr UHB","Flintshire","Holywell - Flint","2017/18","Aged 65+",5461,7899,69.135333586529953,null,"Aneurin Bevan","Aged 65+",0.69800975155176148,null,null,null,"Conwy","2&3 Year olds",{"$f":"SUM(F$157:F$158)","v":1192},{"$f":"SUM(G$157:G$158)","v":2232},53.405017921146957]
["Betsi Cadwaladr UHB","Flintshire","Mold Buckley - Caergwle","2017/18","Aged 65+",8785,11765,74.670633234169145,null,"Aneurin Bevan","At risk aged 6m to 64y",0.50767671306933371,null,null,null,"Denbighshire","Aged 65+",{"$f":"SUM(F$31:F$32)","v":16600},{"$f":"SUM(G$31:G$32)","v":24232},68.504456916474084]
["Betsi Cadwaladr UHB","Gwynedd","Arfon","2017/18","Aged 65+",8206,11994,68.417542104385532,null,"Aneurin Bevan","2&3 Year olds",0.49144008056394761,null,null,null,"Denbighshire","At risk aged 6m to 64y",{"$f":"SUM(F$95:F$96)","v":6012},{"$f":"SUM(G$95:G$96)","v":12530},47.980845969672785]
["Betsi Cadwaladr UHB","Gwynedd","Dwyfor","2017/18","Aged 65+",4608,6700,68.776119402985074,null,"Betsi Cadwaladr","Aged 65+",0.70599716669290102,null,null,null,"Denbighshire","2&3 Year olds",{"$f":"SUM(F$159:F$160)","v":1060},{"$f":"SUM(G$159:G$160)","v":2240},47.321428571428569]
["Betsi Cadwaladr UHB","Gwynedd","Meirionnydd","2017/18","Aged 65+",5932,8801,67.401431655493695,null,"Betsi Cadwaladr","At risk aged 6m to 64y",0.51555636231620983,null,null,null,"Flintshire","Aged 65+",{"$f":"SUM(F$33:F$35)","v":22882},{"$f":"SUM(G$33:G$35)","v":31345},73.000478545222521]
["Betsi Cadwaladr UHB","Wrexham","South Wrexham","2017/18","Aged 65+",8443,11398,74.074399017371476,null,"Betsi Cadwaladr","2&3 Year olds",0.54279735385446204,null,null,null,"Flintshire","At risk aged 6m to 64y",{"$f":"SUM(F$97:F$99)","v":9775},{"$f":"SUM(G$97:G$99)","v":17787},54.955866644178329]
["Betsi Cadwaladr UHB","Wrexham","West - North Wrexham","2017/18","Aged 65+",5892,8217,71.705001825483748,null,"Cardiff & Vale","Aged 65+",0.70964700558153571,null,null,null,"Flintshire","2&3 Year olds",{"$f":"SUM(F$161:F$163)","v":1874},{"$f":"SUM(G$161:G$163)","v":3186},58.819836785938485]
["Betsi Cadwaladr UHB","Wrexham","Wrexham Town","2017/18","Aged 65+",6908,9315,74.159957058507786,null,"Cardiff & Vale","At risk aged 6m to 64y",0.48994839539207341,null,null,null,"Gwynedd","Aged 65+",{"$f":"SUM(F$36:F$38)","v":18746},{"$f":"SUM(G$36:G$38)","v":27495},68.179669030732853]
["Cardiff and Vale UHB","Cardiff","Cardiff East","2017/18","Aged 65+",5653,8046,70.258513547104144,null,"Cardiff & Vale","2&3 Year olds",0.49195710455764075,null,null,null,"Gwynedd","At risk aged 6m to 64y",{"$f":"SUM(F$100:F$102)","v":6719},{"$f":"SUM(G$100:G$102)","v":13807},48.663721300789454]
["Cardiff and Vale UHB","Cardiff","Cardiff North","2017/18","Aged 65+",12176,16591,73.389186908564881,null,"Cwm Taf","Aged 65+",0.67697036678869926,null,null,null,"Gwynedd","2&3 Year olds",{"$f":"SUM(F$164:F$166)","v":1317},{"$f":"SUM(G$164:G$166)","v":2466},53.406326034063255]
["Cardiff and Vale UHB","Cardiff","Cardiff South East","2017/18","Aged 65+",4021,5738,70.076681770651788,null,"Cwm Taf","At risk aged 6m to 64y",0.46813064848580943,null,null,null,"Wrexham","Aged 65+",{"$f":"SUM(F$39:F$41)","v":21243},{"$f":"SUM(G$39:G$41)","v":28930},73.428966470791565]
["Cardiff and Vale UHB","Cardiff","Cardiff South West","2017/18","Aged 65+",5760,8827,65.254333295570405,null,"Cwm Taf","2&3 Year olds",0.53026634382566584,null,null,null,"Wrexham","At risk aged 6m to 64y",{"$f":"SUM(F$167:F$169)","v":1837},{"$f":"SUM(G$167:G$169)","v":3329},55.181736257134276]
["Cardiff and Vale UHB","Cardiff","Cardiff West","2017/18","Aged 65+",7847,10508,74.676437000380659,null,"Hywel Dda","Aged 65+",0.65007149077070281,null,null,null,"Wrexham","2&3 Year olds",{"$f":"SUM(F$167:F$169)","v":1837},{"$f":"SUM(G$167:G$169)","v":3329},55.181736257134276]
["Cardiff and Vale UHB","Cardiff","City - Cardiff South","2017/18","Aged 65+",2214,3598,61.534185658699279,null,"Hywel Dda","At risk aged 6m to 64y",0.42901844166796121,null,null,null,"Cardiff","Aged 65+",{"$f":"SUM(F$42:F$47)","v":37671},{"$f":"SUM(G$42:G$47)","v":53308},70.666691678547309]
["Cardiff and Vale UHB","Vale of Glamorgan","Central Vale","2017/18","Aged 65+",7841,11362,69.010737546206656,null,"Hywel Dda","2&3 Year olds",0.43104332222507047,null,null,null,"Cardiff","At risk aged 6m to 64y",{"$f":"SUM(F$106:F$111)","v":21239},{"$f":"SUM(G$106:G$111)","v":43006},49.386132167604515]
["Cardiff and Vale UHB","Vale of Glamorgan","Eastern Vale","2017/18","Aged 65+",6029,8397,71.799452185304276,null,"Powys","Aged 65+",0.62355328835499968,null,null,null,"Cardiff","2&3 Year olds",{"$f":"SUM(F$170:F$175)","v":4367},{"$f":"SUM(G$170:G$175)","v":9098},47.999560342932512]
["Cardiff and Vale UHB","Vale of Glamorgan","Western Vale","2017/18","Aged 65+",4910,6481,75.759913593581246,null,"Powys","At risk aged 6m to 64y",0.47851260936695833,null,null,null,"Vale of Glamorgan","Aged 65+",{"$f":"SUM(F$48:F$50)","v":18780},{"$f":"SUM(G$48:G$50)","v":26240},71.570121951219505]
["Cwm Taf UHB","Merthyr Tydfil","North Merthyr Tydfil","2017/18","Aged 65+",3708,5707,64.972840371473623,null,"Powys","2&3 Year olds",0.56852207293666024,null,null,null,"Vale of Glamorgan","At risk aged 6m to 64y",{"$f":"SUM(F$112:F$114)","v":6959},{"$f":"SUM(G$112:G$114)","v":14547},47.838042208015395]
["Cwm Taf UHB","Merthyr Tydfil","South Merthyr Tydfil","2017/18","Aged 65+",3833,5285,72.526017029328287,null,null,null,null,null,null,null,"Vale of Glamorgan","2&3 Year olds",{"$f":"SUM(F$176:F$178)","v":1505},{"$f":"SUM(G$176:G$178)","v":2838},53.030303030303031]
["Cwm Taf UHB","Rhondda Cynon Taf","North Cynon","2017/18","Aged 65+",5483,8275,66.259818731117832,null,null,null,null,null,null,null,"Merthyr Tydfil","Aged 65+",{"$f":"SUM(F$51:F$52)","v":7541},{"$f":"SUM(G$51:G$52)","v":10992},68.60443959243085]
["Cwm Taf UHB","Rhondda Cynon Taf","North Rhondda","2017/18","Aged 65+",4873,7253,67.185992003308982,null,null,null,null,null,null,null,"Merthyr Tydfil","At risk aged 6m to 64y",{"$f":"SUM(F$115:F$116)","v":3496},{"$f":"SUM(G$115:G$116)","v":7655},45.669497060744611]
["Cwm Taf UHB","Rhondda Cynon Taf","North Taf Ely","2017/18","Aged 65+",5719,8381,68.237680467724616,null,null,null,null,null,null,null,"Merthyr Tydfil","2&3 Year olds",{"$f":"SUM(F$179:F$180)","v":686},{"$f":"SUM(G$179:G$180)","v":1508},45.490716180371358]
["Cwm Taf UHB","Rhondda Cynon Taf","South Cynon","2017/18","Aged 65+",2729,3792,71.96729957805907,null,null,null,null,null,null,null,"Rhondda Cynon Taf","Aged 65+",{"$f":"SUM(F$53:F$58)","v":31661},{"$f":"SUM(G$53:G$58)","v":46916},67.484440276238388]
["Cwm Taf UHB","Rhondda Cynon Taf","South Rhondda","2017/18","Aged 65+",6820,10014,68.104653485120835,null,null,null,null,null,null,null,"Rhondda Cynon Taf","At risk aged 6m to 64y",{"$f":"SUM(F$117:F$122)","v":14219},{"$f":"SUM(G$117:G$122)","v":30187},47.103057607579423]
["Cwm Taf UHB","Rhondda Cynon Taf","South Taf Ely","2017/18","Aged 65+",6037,9201,65.612433431148787,null,null,null,null,null,null,null,"Rhondda Cynon Taf","2&3 Year olds",{"$f":"SUM(F$181:F$186)","v":3037},{"$f":"SUM(G$181:G$186)","v":5513},55.087973879920192]
["Hywel Dda UHB","Carmarthenshire","Amman-Gwendraeth","2017/18","Aged 65+",8867,13843,64.054034530087407,null,null,null,null,null,null,null,"Carmarthenshire","Aged 65+",{"$f":"SUM(F$59:F$61)","v":27027},{"$f":"SUM(G$59:G$61)","v":40922},66.045159083133768]
["Hywel Dda UHB","Carmarthenshire","Llanelli","2017/18","Aged 65+",8850,12850,68.871595330739297,null,null,null,null,null,null,null,"Carmarthenshire","At risk aged 6m to 64y",{"$f":"SUM(F$123:F$125)","v":8907},{"$f":"SUM(G$123:G$125)","v":21104},42.205269143290366]
["Hywel Dda UHB","Carmarthenshire","Taf - Teifi - Tywi","2017/18","Aged 65+",9310,14229,65.429756131843419,null,null,null,null,null,null,null,"Carmarthenshire","2&3 Year olds",{"$f":"SUM(F$187:F$189)","v":1699},{"$f":"SUM(G$187:G$189)","v":3703},45.88171752633]
["Hywel Dda UHB","Ceredigion","North Ceredigion","2017/18","Aged 65+",5855,9509,61.573246398149116,null,null,null,null,null,null,null,"Ceredigion","Aged 65+",{"$f":"SUM(F$62:F$63)","v":13739},{"$f":"SUM(G$62:G$63)","v":22475},61.130144605116797]
["Hywel Dda UHB","Ceredigion","South Ceredigion","2017/18","Aged 65+",7884,12966,60.805182785747334,null,null,null,null,null,null,null,"Ceredigion","At risk aged 6m to 64y",{"$f":"SUM(F$126:F$127)","v":4136},{"$f":"SUM(G$126:G$127)","v":9606},43.056423068915265]
["Hywel Dda UHB","Pembrokeshire","North Pembrokeshire","2017/18","Aged 65+",10420,15449,67.447731244740766,null,null,null,null,null,null,null,"Ceredigion","2&3 Year olds",{"$f":"SUM(F$190:F$191)","v":695},{"$f":"SUM(G$190:G$191)","v":1610},43.167701863354033]
["Hywel Dda UHB","Pembrokeshire","South Pembrokeshire","2017/18","Aged 65+",9283,14173,65.497777464192481,null,null,null,null,null,null,null,"Pembrokeshire","Aged 65+",{"$f":"SUM(F$64:F$65)","v":19703},{"$f":"SUM(G$64:G$65)","v":29622},66.514752548781303]
["Powys Teaching HB","Powys","Mid Powys","2017/18","Aged 65+",5670,8619,65.784893839192478,null,null,null,null,null,null,null,"Pembrokeshire","At risk aged 6m to 64y",{"$f":"SUM(F$128:F$129)","v":6289},{"$f":"SUM(G$128:G$129)","v":14351},43.822730123336349]
["Powys Teaching HB","Powys","North Powys","2017/18","Aged 65+",10460,15872,65.902217741935488,null,null,null,null,null,null,null,"Pembrokeshire","2&3 Year olds",{"$f":"SUM(F$192:F$193)","v":969},{"$f":"SUM(G$192:G$193)","v":2489},38.931297709923662]
["Powys Teaching HB","Powys","South Powys","2017/18","Aged 65+",8019,11924,67.250922509225092,null,null,null,null,null,null,null,"Powys","Aged 65+",{"$f":"SUM(F$66:F$68)","v":24149},{"$f":"SUM(G$66:G$68)","v":36415},66.316078539063568]
["ABM UHB","Bridgend","Bridgend East Network","2017/18","At risk aged 6m to 64y",4257,8666,49.123009462266324,null,null,null,null,null,null,null,"Powys","At risk aged 6m to 64y",{"$f":"SUM(F$130:F$132)","v":7438},{"$f":"SUM(G$130:G$132)","v":15544},47.85126093669583]
["ABM UHB","Bridgend","Bridgend North Network","2017/18","At risk aged 6m to 64y",3083,7156,43.082727780883175,null,null,null,null,null,null,null,"Powys","2&3 Year olds",{"$f":"SUM(F$194:F$196)","v":1481},{"$f":"SUM(G$194:G$196)","v":2605},56.852207293666027]
["ABM UHB","Bridgend","Bridgend West Network","2017/18","At risk aged 6m to 64y",1652,4143,39.874487086652181]
["ABM UHB","Neath Port Talbot","Afan","2017/18","At risk aged 6m to 64y",3504,6775,51.719557195571952,null,null,null,null,null,null,null,"LA level","Measure","HB Uptake (%)"]
["ABM UHB","Neath Port Talbot","Neath","2017/18","At risk aged 6m to 64y",3447,7026,49.060631938514092,null,null,null,null,null,null,null,"Wales","Aged 65+",0.68592680223614944]
["ABM UHB","Neath Port Talbot","Upper Valleys","2017/18","At risk aged 6m to 64y",1690,3851,43.884705271358087,null,null,null,null,null,null,null,"Wales","At risk aged 6m to 64y",0.48505859812517627]
["ABM UHB","Swansea","BayHealth","2017/18","At risk aged 6m to 64y",3187,6974,45.698308001147119,null,null,null,null,null,null,null,"Wales","2&3 Year olds",0.50247244478206654]
["ABM UHB","Swansea","CityHealth","2017/18","At risk aged 6m to 64y",3430,6622,51.79704016913319,null,null,null,null,null,null,null,"Bridgend","Aged 65+",0.70028355387523633]
["ABM UHB","Swansea","Cwmtawe","2017/18","At risk aged 6m to 64y",2188,5101,42.893550284257984,null,null,null,null,null,null,null,"Bridgend","At risk aged 6m to 64y",0.45038817931379915]
["ABM UHB","Swansea","Llwchwr","2017/18","At risk aged 6m to 64y",2341,5646,41.462982642578815,null,null,null,null,null,null,null,"Bridgend","2&3 Year olds",0.50257289879931388]
["ABM UHB","Swansea","Penderi","2017/18","At risk aged 6m to 64y",2427,4864,49.897203947368425,null,null,null,null,null,null,null,"Neath Port Talbot","Aged 65+",0.67419197661198638]
["Aneurin Bevan UHB","Blaenau Gwent","Blaenau Gwent East","2017/18","At risk aged 6m to 64y",1991,4547,43.787112381790187,null,null,null,null,null,null,null,"Neath Port Talbot","At risk aged 6m to 64y",0.48951960117833671]
["Aneurin Bevan UHB","Blaenau Gwent","Blaenau Gwent West","2017/18","At risk aged 6m to 64y",2697,5088,53.007075471698116,null,null,null,null,null,null,null,"Neath Port Talbot","2&3 Year olds",0.51020408163265307]
["Aneurin Bevan UHB","Caerphilly","Caerphilly East","2017/18","At risk aged 6m to 64y",3745,7606,49.23744412306074,null,null,null,null,null,null,null,"Swansea","Aged 65+",0.67419197661198638]
["Aneurin Bevan UHB","Caerphilly","Caerphilly North","2017/18","At risk aged 6m to 64y",4032,8264,48.789932236205232,null,null,null,null,null,null,null,"Swansea","At risk aged 6m to 64y",0.46471736227616667]
["Aneurin Bevan UHB","Caerphilly","Caerphilly South","2017/18","At risk aged 6m to 64y",3584,6789,52.791280011783769,null,null,null,null,null,null,null,"Swansea","2&3 Year olds",0.47362407160540848]
["Aneurin Bevan UHB","Monmouthshire","Monmouthshire North","2017/18","At risk aged 6m to 64y",3171,5796,54.710144927536234,null,null,null,null,null,null,null,"Blaenau Gwent","Aged 65+",0.66310347236777756]
["Aneurin Bevan UHB","Monmouthshire","Monmouthshire South","2017/18","At risk aged 6m to 64y",3047,5443,55.980158001102332,null,null,null,null,null,null,null,"Blaenau Gwent","At risk aged 6m to 64y",0.48655941878567721]
["Aneurin Bevan UHB","Newport","Newport Central","2017/18","At risk aged 6m to 64y",3336,6354,52.502360717658171,null,null,null,null,null,null,null,"Blaenau Gwent","2&3 Year olds",0.44306930693069307]
["Aneurin Bevan UHB","Newport","Newport East","2017/18","At risk aged 6m to 64y",2888,5754,50.191171359054579,null,null,null,null,null,null,null,"Caerphilly","Aged 65+",0.66932303874258925]
["Aneurin Bevan UHB","Newport","Newport West","2017/18","At risk aged 6m to 64y",2795,5812,48.090158293186505,null,null,null,null,null,null,null,"Caerphilly","At risk aged 6m to 64y",0.5013901760889713]
["Aneurin Bevan UHB","Torfaen","Torfaen North","2017/18","At risk aged 6m to 64y",3338,6695,49.858103061986561,null,null,null,null,null,null,null,"Caerphilly","2&3 Year olds",0.49461105904404873]
["Aneurin Bevan UHB","Torfaen","Torfaen South","2017/18","At risk aged 6m to 64y",2939,5842,50.308113659705576,null,null,null,null,null,null,null,"Monmouthshire","Aged 65+",0.73435944241619644]
["Betsi Cadwaladr UHB","Anglesey","Anglesey","2017/18","At risk aged 6m to 64y",4366,8132,53.689129365469746,null,null,null,null,null,null,null,"Monmouthshire","At risk aged 6m to 64y",0.55325206868938515]
["Betsi Cadwaladr UHB","Conwy","Conwy East","2017/18","At risk aged 6m to 64y",2849,6200,45.951612903225808,null,null,null,null,null,null,null,"Monmouthshire","2&3 Year olds",0.54616384915474647]
["Betsi Cadwaladr UHB","Conwy","Conwy West","2017/18","At risk aged 6m to 64y",3529,6932,50.908828620888634,null,null,null,null,null,null,null,"Newport","Aged 65+",0.71135926359074964]
["Betsi Cadwaladr UHB","Denbighshire","Central - South Denbighshire","2017/18","At risk aged 6m to 64y",2463,4923,50.030469226081649,null,null,null,null,null,null,null,"Newport","At risk aged 6m to 64y",0.50329241071428577]
["Betsi Cadwaladr UHB","Denbighshire","North Denbighshire","2017/18","At risk aged 6m to 64y",3549,7607,46.654397265676351,null,null,null,null,null,null,null,"Newport","2&3 Year olds",0.46646869586735956]
["Betsi Cadwaladr UHB","Flintshire","Deeside Hawarden - Saltney","2017/18","At risk aged 6m to 64y",4079,7136,57.160874439461885,null,null,null,null,null,null,null,"Torfaen","Aged 65+",0.7143233142075065]
["Betsi Cadwaladr UHB","Flintshire","Holywell - Flint","2017/18","At risk aged 6m to 64y",2494,4817,51.77496367033423,null,null,null,null,null,null,null,"Torfaen","At risk aged 6m to 64y",0.5006779931403047]
["Betsi Cadwaladr UHB","Flintshire","Mold Buckley - Caergwle","2017/18","At risk aged 6m to 64y",3202,5834,54.885155982173458,null,null,null,null,null,null,null,"Torfaen","2&3 Year olds",0.49856459330143543]
["Betsi Cadwaladr UHB","Gwynedd","Arfon","2017/18","At risk aged 6m to 64y",3580,7688,46.566077003121748,null,null,null,null,null,null,null,"Anglesey","Aged 65+",0.71586828169699923]
["Betsi Cadwaladr UHB","Gwynedd","Dwyfor","2017/18","At risk aged 6m to 64y",1364,2580,52.868217054263567,null,null,null,null,null,null,null,"Anglesey","At risk aged 6m to 64y",0.53689129365469745]
["Betsi Cadwaladr UHB","Gwynedd","Meirionnydd","2017/18","At risk aged 6m to 64y",1775,3539,50.155411133088442,null,null,null,null,null,null,null,"Anglesey","2&3 Year olds",0.55914768552534899]
["Betsi Cadwaladr UHB","Wrexham","South Wrexham","2017/18","At risk aged 6m to 64y",3703,6358,58.241585404215158,null,null,null,null,null,null,null,"Conwy","Aged 65+",0.68756991511482535]
["Betsi Cadwaladr UHB","Wrexham","West - North Wrexham","2017/18","At risk aged 6m to 64y",2560,5083,50.363958292347043,null,null,null,null,null,null,null,"Conwy","At risk aged 6m to 64y",0.48568382576911362]
["Betsi Cadwaladr UHB","Wrexham","Wrexham Town","2017/18","At risk aged 6m to 64y",3090,5806,53.220806062693761,null,null,null,null,null,null,null,"Conwy","2&3 Year olds",0.53405017921146958]
["Cardiff and Vale UHB","Cardiff","Cardiff East","2017/18","At risk aged 6m to 64y",3678,7358,49.986409350366948,null,null,null,null,null,null,null,"Denbighshire","Aged 65+",0.68504456916474088]
["Cardiff and Vale UHB","Cardiff","Cardiff North","2017/18","At risk aged 6m to 64y",5413,10850,49.889400921658989,null,null,null,null,null,null,null,"Denbighshire","At risk aged 6m to 64y",0.47980845969672786]
["Cardiff and Vale UHB","Cardiff","Cardiff South East","2017/18","At risk aged 6m to 64y",3118,6143,50.756959140485101,null,null,null,null,null,null,null,"Denbighshire","2&3 Year olds",0.4732142857142857]
["Cardiff and Vale UHB","Cardiff","Cardiff South West","2017/18","At risk aged 6m to 64y",3951,8135,48.567916410571605,null,null,null,null,null,null,null,"Flintshire","Aged 65+",0.73000478545222525]
["Cardiff and Vale UHB","Cardiff","Cardiff West","2017/18","At risk aged 6m to 64y",3182,6265,50.790103750997609,null,"Hb level","Measure","HB Uptake (%)",null,null,null,"Flintshire","At risk aged 6m to 64y",0.54955866644178331]
["Cardiff and Vale UHB","Cardiff","City - Cardiff South","2017/18","At risk aged 6m to 64y",1897,4255,44.5828437132785,null,"Wales","Aged 65+",0.68592680223614944,null,null,null,"Flintshire","2&3 Year olds",0.58819836785938484]
["Cardiff and Vale UHB","Vale of Glamorgan","Central Vale","2017/18","At risk aged 6m to 64y",3619,7922,45.682908356475636,null,"Wales","At risk aged 6m to 64y",0.48505859812517627,null,null,null,"Gwynedd","Aged 65+",0.68179669030732859]
["Cardiff and Vale UHB","Vale of Glamorgan","Eastern Vale","2017/18","At risk aged 6m to 64y",1732,3749,46.198986396372362,null,"Wales","2&3 Year olds",0.50247244478206654,null,null,null,"Gwynedd","At risk aged 6m to 64y",0.48663721300789453]
["Cardiff and Vale UHB","Vale of Glamorgan","Western Vale","2017/18","At risk aged 6m to 64y",1608,2876,55.910987482614736,null,"ABMU","Aged 65+",0.68230288815556217,null,null,null,"Gwynedd","2&3 Year olds",0.53406326034063256]
["Cwm Taf UHB","Merthyr Tydfil","North Merthyr Tydfil","2017/18","At risk aged 6m to 64y",1891,4280,44.18224299065421,null,"ABMU","At risk aged 6m to 64y",0.46698790853585537,null,null,null,"Wrexham","Aged 65+",0.73428966470791568]
["Cwm Taf UHB","Merthyr Tydfil","South Merthyr Tydfil","2017/18","At risk aged 6m to 64y",1605,3375,47.555555555555557,null,"ABMU","2&3 Year olds",0.49148772350072717,null,null,null,"Wrexham","At risk aged 6m to 64y",0.55181736257134273]
["Cwm Taf UHB","Rhondda Cynon Taf","North Cynon","2017/18","At risk aged 6m to 64y",2253,4752,47.411616161616159,null,"Aneurin Bevan","Aged 65+",0.69800975155176148,null,null,null,"Wrexham","2&3 Year olds",0.55181736257134273]
["Cwm Taf UHB","Rhondda Cynon Taf","North Rhondda","2017/18","At risk aged 6m to 64y",2177,4382,49.680511182108624,null,"Aneurin Bevan","At risk aged 6m to 64y",0.50767671306933371,null,null,null,"Cardiff","Aged 65+",0.70666691678547311]
["Cwm Taf UHB","Rhondda Cynon Taf","North Taf Ely","2017/18","At risk aged 6m to 64y",2563,5546,46.213487197980527,null,"Aneurin Bevan","2&3 Year olds",0.49144008056394761,null,null,null,"Cardiff","At risk aged 6m to 64y",0.49386132167604518]
["Cwm Taf UHB","Rhondda Cynon Taf","South Cynon","2017/18","At risk aged 6m to 64y",1455,2857,50.927546377318869,null,"Betsi Cadwaladr","Aged 65+",0.70599716669290102,null,null,null,"Cardiff","2&3 Year olds",0.47999560342932512]
["Cwm Taf UHB","Rhondda Cynon Taf","South Rhondda","2017/18","At risk aged 6m to 64y",3308,6996,47.284162378502003,null,"Betsi Cadwaladr","At risk aged 6m to 64y",0.51555636231620983,null,null,null,"Vale of Glamorgan","Aged 65+",0.71570121951219512]
["Cwm Taf UHB","Rhondda Cynon Taf","South Taf Ely","2017/18","At risk aged 6m to 64y",2463,5654,43.5620799434029,null,"Betsi Cadwaladr","2&3 Year olds",0.54279735385446204,null,null,null,"Vale of Glamorgan","At risk aged 6m to 64y",0.47838042208015397]
["Hywel Dda UHB","Carmarthenshire","Amman-Gwendraeth","2017/18","At risk aged 6m to 64y",3076,7035,43.724235963041934,null,"Cardiff & Vale","Aged 65+",0.70964700558153571,null,null,null,"Vale of Glamorgan","2&3 Year olds",0.53030303030303028]
["Hywel Dda UHB","Carmarthenshire","Llanelli","2017/18","At risk aged 6m to 64y",3195,7442,42.932007524858903,null,"Cardiff & Vale","At risk aged 6m to 64y",0.48994839539207341,null,null,null,"Merthyr Tydfil","Aged 65+",0.68604439592430855]
["Hywel Dda UHB","Carmarthenshire","Taf - Teifi - Tywi","2017/18","At risk aged 6m to 64y",2636,6627,39.776671193601928,null,"Cardiff & Vale","2&3 Year olds",0.49195710455764075,null,null,null,"Merthyr Tydfil","At risk aged 6m to 64y",0.45669497060744613]
["Hywel Dda UHB","Ceredigion","North Ceredigion","2017/18","At risk aged 6m to 64y",1908,4585,41.613958560523443,null,"Cwm Taf","Aged 65+",0.67697036678869926,null,null,null,"Merthyr Tydfil","2&3 Year olds",0.45490716180371354]
["Hywel Dda UHB","Ceredigion","South Ceredigion","2017/18","At risk aged 6m to 64y",2228,5021,44.373630750846445,null,"Cwm Taf","At risk aged 6m to 64y",0.46813064848580943,null,null,null,"Rhondda Cynon Taf","Aged 65+",0.67484440276238389]
["Hywel Dda UHB","Pembrokeshire","North Pembrokeshire","2017/18","At risk aged 6m to 64y",3451,7738,44.598087361075208,null,"Cwm Taf","2&3 Year olds",0.53026634382566584,null,null,null,"Rhondda Cynon Taf","At risk aged 6m to 64y",0.47103057607579424]
["Hywel Dda UHB","Pembrokeshire","South Pembrokeshire","2017/18","At risk aged 6m to 64y",2838,6613,42.915469529714201,null,"Hywel Dda","Aged 65+",0.65007149077070281,null,null,null,"Rhondda Cynon Taf","2&3 Year olds",0.55087973879920193]
["Powys Teaching HB","Powys","Mid Powys","2017/18","At risk aged 6m to 64y",1660,3336,49.760191846522787,null,"Hywel Dda","At risk aged 6m to 64y",0.42901844166796121,null,null,null,"Carmarthenshire","Aged 65+",0.66045159083133764]
["Powys Teaching HB","Powys","North Powys","2017/18","At risk aged 6m to 64y",3242,7100,45.661971830985912,null,"Hywel Dda","2&3 Year olds",0.43104332222507047,null,null,null,"Carmarthenshire","At risk aged 6m to 64y",0.42205269143290369]
["Powys Teaching HB","Powys","South Powys","2017/18","At risk aged 6m to 64y",2536,5108,49.647611589663271,null,"Powys","Aged 65+",0.62355328835499968,null,null,null,"Carmarthenshire","2&3 Year olds",0.45881717526330001]
["ABM UHB","Bridgend","Bridgend East Network","2017/18","2&3 Year olds",935,1634,57.221542227662184,null,"Powys","At risk aged 6m to 64y",0.47851260936695833,null,null,null,"Ceredigion","Aged 65+",0.61130144605116798]
["ABM UHB","Bridgend","Bridgend North Network","2017/18","2&3 Year olds",606,1229,49.308380797396254,null,"Powys","2&3 Year olds",0.56852207293666024,null,null,null,"Ceredigion","At risk aged 6m to 64y",0.43056423068915262]
["ABM UHB","Bridgend","Bridgend West Network","2017/18","2&3 Year olds",217,635,34.173228346456689,null,null,null,null,null,null,null,"Ceredigion","2&3 Year olds",0.43167701863354035]
["ABM UHB","Neath Port Talbot","Afan","2017/18","2&3 Year olds",661,1149,57.528285465622275,null,null,null,null,null,null,null,"Pembrokeshire","Aged 65+",0.66514752548781308]
["ABM UHB","Neath Port Talbot","Neath","2017/18","2&3 Year olds",545,1144,47.63986013986014,null,null,null,null,null,null,null,"Pembrokeshire","At risk aged 6m to 64y",0.43822730123336351]
["ABM UHB","Neath Port Talbot","Upper Valleys","2017/18","2&3 Year olds",294,647,45.440494590417316,null,null,null,null,null,null,null,"Pembrokeshire","2&3 Year olds",0.38931297709923662]
["ABM UHB","Swansea","BayHealth","2017/18","2&3 Year olds",551,1135,48.546255506607928,null,null,null,null,null,null,null,"Powys","Aged 65+",0.66316078539063572]
["ABM UHB","Swansea","CityHealth","2017/18","2&3 Year olds",522,1082,48.243992606284657,null,null,null,null,null,null,null,"Powys","At risk aged 6m to 64y",0.47851260936695833]
["ABM UHB","Swansea","Cwmtawe","2017/18","2&3 Year olds",428,987,43.363728470111454,null,null,null,null,null,null,null,"Powys","2&3 Year olds",0.56852207293666024]
["ABM UHB","Swansea","Llwchwr","2017/18","2&3 Year olds",535,1058,50.567107750472594]
["ABM UHB","Swansea","Penderi","2017/18","2&3 Year olds",451,989,45.601617795753285]
["Aneurin Bevan UHB","Blaenau Gwent","Blaenau Gwent East","2017/18","2&3 Year olds",302,803,37.608966376089661,null,"Health boards"]
["Aneurin Bevan UHB","Blaenau Gwent","Blaenau Gwent West","2017/18","2&3 Year olds",414,813,50.922509225092249,null,"Influenza vaccination uptake"]
["Aneurin Bevan UHB","Caerphilly","Caerphilly East","2017/18","2&3 Year olds",705,1414,49.858557284299856,null,"Indicator","Period","Wales","ABM","AB","BC","CV","CT","HD","Powys"]
["Aneurin Bevan UHB","Caerphilly","Caerphilly North","2017/18","2&3 Year olds",667,1498,44.526034712950604,null,"At risk aged 6m to 64y","2017-18",48.505859812517627,46.698790853585535,50.767671306933373,51.55563623162098,48.994839539207341,46.813064848580943,42.901844166796124,47.85126093669583]
["Aneurin Bevan UHB","Caerphilly","Caerphilly South","2017/18","2&3 Year olds",739,1356,54.498525073746315,null,"2&3 Year olds","2017-18",50.247244478206653,49.148772350072718,49.14400805639476,54.279735385446202,49.195710455764072,53.026634382566584,43.104332222507047,56.852207293666027]
["Aneurin Bevan UHB","Monmouthshire","Monmouthshire North","2017/18","2&3 Year olds",511,903,56.589147286821706,null,"Aged 65+","2017-18",68.592680223614948,68.230288815556221,69.800975155176147,70.599716669290103,70.964700558153567,67.697036678869921,65.007149077070281,62.355328835499968]
["Aneurin Bevan UHB","Monmouthshire","Monmouthshire South","2017/18","2&3 Year olds",567,984,57.621951219512191,null,"Local authorities"]
["Aneurin Bevan UHB","Newport","Newport Central","2017/18","2&3 Year olds",693,1323,52.380952380952387,null,"Influenza vaccination uptake"]
["Aneurin Bevan UHB","Newport","Newport East","2017/18","2&3 Year olds",649,1384,46.893063583815028,null,"Indicator","Period","Wales","Bridgend","Neath Port Talbot","Swansea","Blaenau Gwent","Caerphilly","Monmouthshire","Newport","Torfaen","Anglesey","Conwy","Denbighshire","Flintshire","Gwynedd","Wrexham","Cardiff","Vale of Glamorgan","Merthyr Tydfil","Rhondda Cynon Taf","Carmarthenshire","Ceredigion","Pembrokeshire","Powys"]
["Aneurin Bevan UHB","Newport","Newport West","2017/18","2&3 Year olds",543,1334,40.704647676161919,null,"At risk aged 6m to 64y","2017-18",48.505859812517627,45.038817931379917,48.951960117833671,46.471736227616667,48.655941878567724,50.139017608897127,55.325206868938515,50.329241071428577,50.067799314030466,53.689129365469746,48.568382576911361,47.980845969672785,54.955866644178329,48.663721300789454,55.181736257134276,49.386132167604515,47.838042208015395,45.669497060744611,47.103057607579423,42.205269143290366,43.056423068915265,43.822730123336349,47.85126093669583]
["Aneurin Bevan UHB","Torfaen","Torfaen North","2017/18","2&3 Year olds",471,1120,42.053571428571431,null,"2&3 Year olds","2017-18",50.247244478206653,50.257289879931392,51.020408163265309,47.362407160540847,44.306930693069305,49.461105904404874,54.616384915474647,46.646869586735953,49.856459330143544,55.914768552534902,53.405017921146957,47.321428571428569,58.819836785938485,53.406326034063255,55.181736257134276,47.999560342932512,53.030303030303031,45.490716180371358,55.087973879920192,45.88171752633,43.167701863354033,38.931297709923662,56.852207293666027]
["Aneurin Bevan UHB","Torfaen","Torfaen South","2017/18","2&3 Year olds",571,970,58.865979381443303,null,"Aged 65+","2017-18",68.592680223614948,70.028355387523632,67.419197661198638,67.419197661198638,66.310347236777758,66.93230387425892,73.435944241619637,71.135926359074958,71.432331420750643,71.586828169699928,68.756991511482539,68.504456916474084,73.000478545222521,68.179669030732853,73.428966470791565,70.666691678547309,71.570121951219505,68.60443959243085,67.484440276238388,66.045159083133768,61.130144605116797,66.514752548781303,66.316078539063568]
["Betsi Cadwaladr UHB","Anglesey","Anglesey","2017/18","2&3 Year olds",761,1361,55.914768552534902,null,"Regional Partnership Boards"]
["Betsi Cadwaladr UHB","Conwy","Conwy East","2017/18","2&3 Year olds",509,1045,48.708133971291865,null,"Influenza vaccination uptake"]
["Betsi Cadwaladr UHB","Conwy","Conwy West","2017/18","2&3 Year olds",683,1187,57.54001684919966,null,"Indicator","Period","ABM","Bridgend","Neath Port Talbot","Swansea","AB","Blaenau Gwent","Caerphilly","Monmouthshire","Newport","Torfaen","BC","Anglesey","Conwy","Denbighshire","Flintshire","Gwynedd","Wrexham","CV","Cardiff","Vale of Glamorgan","CT","Merthyr Tydfil","Rhondda Cynon Taf","HD","Carmarthenshire","Ceredigion","Pembrokeshire","Powys HB","Powys LA"]
["Betsi Cadwaladr UHB","Denbighshire","Central - South Denbighshire","2017/18","2&3 Year olds",509,840,60.595238095238088,null,"At risk aged 6m to 64y","2017-18",46.698790853585535,45.038817931379917,48.951960117833671,46.471736227616667,50.767671306933373,48.655941878567724,50.139017608897127,55.325206868938515,50.329241071428577,50.067799314030466,51.55563623162098,53.689129365469746,48.568382576911361,47.980845969672785,54.955866644178329,48.663721300789454,55.181736257134276,48.994839539207341,49.386132167604515,47.838042208015395,46.813064848580943,45.669497060744611,47.103057607579423,42.901844166796124,42.205269143290366,43.056423068915265,43.822730123336349,47.85126093669583,47.85126093669583]
["Betsi Cadwaladr UHB","Denbighshire","North Denbighshire","2017/18","2&3 Year olds",551,1400,39.357142857142854,null,"2&3 Year olds","2017-18",49.148772350072718,50.257289879931392,51.020408163265309,47.362407160540847,49.14400805639476,44.306930693069305,49.461105904404874,54.616384915474647,46.646869586735953,49.856459330143544,54.279735385446202,55.914768552534902,53.405017921146957,47.321428571428569,58.819836785938485,53.406326034063255,55.181736257134276,49.195710455764072,47.999560342932512,53.030303030303031,53.026634382566584,45.490716180371358,55.087973879920192,43.104332222507047,45.88171752633,43.167701863354033,38.931297709923662,56.852207293666027,56.852207293666027]
["Betsi Cadwaladr UHB","Flintshire","Deeside Hawarden - Saltney","2017/18","2&3 Year olds",849,1377,61.655773420479299,null,"Aged 65+","2017-18",68.230288815556221,70.028355387523632,67.419197661198638,67.419197661198638,69.800975155176147,66.310347236777758,66.93230387425892,73.435944241619637,71.135926359074958,71.432331420750643,70.599716669290103,71.586828169699928,68.756991511482539,68.504456916474084,73.000478545222521,68.179669030732853,73.428966470791565,70.964700558153567,70.666691678547309,71.570121951219505,67.697036678869921,68.60443959243085,67.484440276238388,65.007149077070281,66.045159083133768,61.130144605116797,66.514752548781303,66.316078539063568,66.316078539063568]
["Betsi Cadwaladr UHB","Flintshire","Holywell - Flint","2017/18","2&3 Year olds",399,801,49.812734082397,null,"Clusters, by health board"]
["Betsi Cadwaladr UHB","Flintshire","Mold Buckley - Caergwle","2017/18","2&3 Year olds",626,1008,62.103174603174608,null,"Influenza vaccination uptake"]
["Betsi Cadwaladr UHB","Gwynedd","Arfon","2017/18","2&3 Year olds",703,1412,49.787535410764875,null,"Indicator","Period","ABM","Bridgend East Network","Bridgend North Network","Bridgend West Network","Afan","Neath","Upper Valleys","BayHealth","CityHealth","Cwmtawe","Llwchwr","Penderi","AB","Blaenau Gwent East","Blaenau Gwent West","Caerphilly East","Caerphilly North","Caerphilly South","Monmouthshire North","Monmouthshire South","Newport Central","Newport East","Newport West","Torfaen North","Torfaen South","BC","Anglesey","Conwy East","Conwy West","Central - South Denbighshire","North Denbighshire","Deeside Hawarden - Saltney","Holywell - Flint","Mold Buckley - Caergwle","Arfon","Dwyfor","Meirionnydd","South Wrexham","West - North Wrexham","Wrexham Town","CV","Cardiff East","Cardiff North","Cardiff South East","Cardiff South West","Cardiff West","City - Cardiff South","Central Vale","Eastern Vale","Western Vale","CT","North Merthyr Tydfil","South Merthyr Tydfil","North Cynon","North Rhondda","North Taf Ely","South Cynon","South Rhondda","South Taf Ely","HD","Amman-Gwendraeth","Llanelli","Taf - Teifi - Tywi","North Ceredigion","South Ceredigion","North Pembrokeshire","South Pembrokeshire","Powys","Mid Powys","North Powys","South Powys"]
["Betsi Cadwaladr UHB","Gwynedd","Dwyfor","2017/18","2&3 Year olds",303,460,65.869565217391298,null,"At risk aged 6m to 64y","2017-18",46.698790853585535,49.123009462266324,43.082727780883175,39.874487086652181,51.719557195571952,49.060631938514092,43.884705271358087,45.698308001147119,51.79704016913319,42.893550284257984,41.462982642578815,49.897203947368425,50.767671306933373,43.787112381790187,53.007075471698116,49.23744412306074,48.789932236205232,52.791280011783769,54.710144927536234,55.980158001102332,52.502360717658171,50.191171359054579,48.090158293186505,49.858103061986561,50.308113659705576,51.55563623162098,53.689129365469746,45.951612903225808,50.908828620888634,50.030469226081649,46.654397265676351,57.160874439461885,51.77496367033423,54.885155982173458,46.566077003121748,52.868217054263567,50.155411133088442,58.241585404215158,50.363958292347043,53.220806062693761,48.994839539207341,49.986409350366948,49.889400921658989,50.756959140485101,48.567916410571605,50.790103750997609,44.5828437132785,45.682908356475636,46.198986396372362,55.910987482614736,46.813064848580943,44.18224299065421,47.555555555555557,47.411616161616159,49.680511182108624,46.213487197980527,50.927546377318869,47.284162378502003,43.5620799434029,42.901844166796124,43.724235963041934,42.932007524858903,39.776671193601928,41.613958560523443,44.373630750846445,44.598087361075208,42.915469529714201,47.85126093669583,49.760191846522787,45.661971830985912,49.647611589663271]
["Betsi Cadwaladr UHB","Gwynedd","Meirionnydd","2017/18","2&3 Year olds",311,594,52.35690235690236,null,"2&3 Year olds","2017-18",49.148772350072718,57.221542227662184,49.308380797396254,34.173228346456689,57.528285465622275,47.63986013986014,45.440494590417316,48.546255506607928,48.243992606284657,43.363728470111454,50.567107750472594,45.601617795753285,49.14400805639476,37.608966376089661,50.922509225092249,49.858557284299856,44.526034712950604,54.498525073746315,56.589147286821706,57.621951219512191,52.380952380952387,46.893063583815028,40.704647676161919,42.053571428571431,58.865979381443303,54.279735385446202,55.914768552534902,48.708133971291865,57.54001684919966,60.595238095238088,39.357142857142854,61.655773420479299,49.812734082397,62.103174603174608,49.787535410764875,65.869565217391298,52.35690235690236,59.283088235294116,51.111111111111107,54.836131095123896,49.195710455764072,36.217303822937623,60.756709194896608,49.070945945945951,45.054316752429962,63.943028485757125,20.993439550140579,52.864938608458388,49.744245524296673,57.796610169491522,53.026634382566584,42.441860465116278,49.537037037037038,45.191313340227509,57.105606258148633,47.002141327623129,37.295081967213115,58.559322033898312,72.217502124044174,43.104332222507047,48.892405063291136,38.822652757078984,51.04831358249772,40.745672436750993,45.285215366705472,43.991416309012877,32.447296058661777,56.852207293666027,54.820415879017013,55.967078189300409,59.349593495934961]
["Betsi Cadwaladr UHB","Wrexham","South Wrexham","2017/18","2&3 Year olds",645,1088,59.283088235294116,null,"Aged 65+","2017-18",68.230288815556221,73.858267716535437,67.251108424022576,67.256219785402664,70.038336773813043,67.904021402892738,63.629748217144524,69.300321621457613,68.126372285923395,67.291539866098603,64.359441408621734,66.56896019746992,69.800975155176147,63.374242200207007,68.940397350993379,64.410224341436731,66.934594168636721,69.922092376182533,73.427947598253269,73.446545735237351,73.544877606527649,70.33898305084746,68.487449603329438,69.652131308182263,73.498635122838934,70.599716669290103,71.586828169699928,66.885506096241258,70.326014637391893,68.932508218913171,68.185745140388761,73.932026367605502,69.135333586529953,74.670633234169145,68.417542104385532,68.776119402985074,67.401431655493695,74.074399017371476,71.705001825483748,74.159957058507786,70.964700558153567,70.258513547104144,73.389186908564881,70.076681770651788,65.254333295570405,74.676437000380659,61.534185658699279,69.010737546206656,71.799452185304276,75.759913593581246,67.697036678869921,64.972840371473623,72.526017029328287,66.259818731117832,67.185992003308982,68.237680467724616,71.96729957805907,68.104653485120835,65.612433431148787,65.007149077070281,64.054034530087407,68.871595330739297,65.429756131843419,61.573246398149116,60.805182785747334,67.447731244740766,65.497777464192481,62.355328835499968,65.784893839192478,65.902217741935488,67.250922509225092]
["Betsi Cadwaladr UHB","Wrexham","West - North Wrexham","2017/18","2&3 Year olds",506,990,51.111111111111107,null,"Clusters, by local authority (PSB)"]
["Betsi Cadwaladr UHB","Wrexham","Wrexham Town","2017/18","2&3 Year olds",686,1251,54.836131095123896,null,"Influenza vaccination uptake"]
["Cardiff and Vale UHB","Cardiff","Cardiff East","2017/18","2&3 Year olds",540,1491,36.217303822937623,null,"Indicator","Period","Bridgend","Bridgend East Network","Bridgend North Network","Bridgend West Network","Neath Port Talbot","Afan","Neath","Upper Valleys","Swansea","BayHealth","CityHealth","Cwmtawe","Llwchwr","Penderi","Blaenau Gwent","Blaenau Gwent East","Blaenau Gwent West","Caerphilly","Caerphilly East","Caerphilly North","Caerphilly South","Monmouthshire","Monmouthshire North","Monmouthshire South","Newport","Newport Central","Newport East","Newport West","Torfaen","Torfaen North","Torfaen South","Anglesey LA","Anglesey Cluster","Conwy","Conwy East","Conwy West","Denbighshire","Central - South Denbighshire","North Denbighshire","Flintshire","Deeside Hawarden - Saltney","Holywell - Flint","Mold Buckley - Caergwle","Gwynedd","Arfon","Dwyfor","Meirionnydd","Wrexham","South Wrexham","West - North Wrexham","Wrexham Town","Cardiff","Cardiff East","Cardiff North","Cardiff South East","Cardiff South West","Cardiff West","City - Cardiff South","Vale of Glamorgan","Central Vale","Eastern Vale","Western Vale","Merthyr Tydfil","North Merthyr Tydfil","South Merthyr Tydfil","Rhondda Cynon Taf","North Cynon","North Rhondda","North Taf Ely","South Cynon","South Rhondda","South Taf Ely","Carmarthenshire","Amman-Gwendraeth","Llanelli","Taf - Teifi - Tywi","Ceredigion","North Ceredigion","South Ceredigion","Pembrokeshire","North Pembrokeshire","South Pembrokeshire","Powys","Mid Powys","North Powys","South Powys"]
["Cardiff and Vale UHB","Cardiff","Cardiff North","2017/18","2&3 Year olds",1381,2273,60.756709194896608,null,"At risk aged 6m to 64y","2017-18",45.038817931379917,49.123009462266324,43.082727780883175,39.874487086652181,48.951960117833671,51.719557195571952,49.060631938514092,43.884705271358087,46.471736227616667,45.698308001147119,51.79704016913319,42.893550284257984,41.462982642578815,49.897203947368425,48.655941878567724,43.787112381790187,53.007075471698116,50.139017608897127,49.23744412306074,48.789932236205232,52.791280011783769,55.325206868938515,54.710144927536234,55.980158001102332,50.329241071428577,52.502360717658171,50.191171359054579,48.090158293186505,50.067799314030466,49.858103061986561,50.308113659705576,53.689129365469746,53.689129365469746,48.568382576911361,45.951612903225808,50.908828620888634,47.980845969672785,50.030469226081649,46.654397265676351,54.955866644178329,57.160874439461885,51.77496367033423,54.885155982173458,48.663721300789454,46.566077003121748,52.868217054263567,50.155411133088442,55.181736257134276,58.241585404215158,50.363958292347043,53.220806062693761,49.386132167604515,49.986409350366948,49.889400921658989,50.756959140485101,48.567916410571605,50.790103750997609,44.5828437132785,47.838042208015395,45.682908356475636,46.198986396372362,55.910987482614736,45.669497060744611,44.18224299065421,47.555555555555557,47.103057607579423,47.411616161616159,49.680511182108624,46.213487197980527,50.927546377318869,47.284162378502003,43.5620799434029,42.205269143290366,43.724235963041934,42.932007524858903,39.776671193601928,43.056423068915265,41.613958560523443,44.373630750846445,43.822730123336349,44.598087361075208,42.915469529714201,47.85126093669583,49.760191846522787,45.661971830985912,49.647611589663271]
["Cardiff and Vale UHB","Cardiff","Cardiff South East","2017/18","2&3 Year olds",581,1184,49.070945945945951,null,"2&3 Year olds","2017-18",50.257289879931392,57.221542227662184,49.308380797396254,34.173228346456689,51.020408163265309,57.528285465622275,47.63986013986014,45.440494590417316,47.362407160540847,48.546255506607928,48.243992606284657,43.363728470111454,50.567107750472594,45.601617795753285,44.306930693069305,37.608966376089661,50.922509225092249,49.461105904404874,49.858557284299856,44.526034712950604,54.498525073746315,54.616384915474647,56.589147286821706,57.621951219512191,46.646869586735953,52.380952380952387,46.893063583815028,40.704647676161919,49.856459330143544,42.053571428571431,58.865979381443303,55.914768552534902,55.914768552534902,53.405017921146957,48.708133971291865,57.54001684919966,47.321428571428569,60.595238095238088,39.357142857142854,58.819836785938485,61.655773420479299,49.812734082397,62.103174603174608,53.406326034063255,49.787535410764875,65.869565217391298,52.35690235690236,55.181736257134276,59.283088235294116,51.111111111111107,54.836131095123896,47.999560342932512,36.217303822937623,60.756709194896608,49.070945945945951,45.054316752429962,63.943028485757125,20.993439550140579,53.030303030303031,52.864938608458388,49.744245524296673,57.796610169491522,45.490716180371358,42.441860465116278,49.537037037037038,55.087973879920192,45.191313340227509,57.105606258148633,47.002141327623129,37.295081967213115,58.559322033898312,72.217502124044174,45.88171752633,48.892405063291136,38.822652757078984,51.04831358249772,43.167701863354033,40.745672436750993,45.285215366705472,38.931297709923662,43.991416309012877,32.447296058661777,56.852207293666027,54.820415879017013,55.967078189300409,59.349593495934961]
["Cardiff and Vale UHB","Cardiff","Cardiff South West","2017/18","2&3 Year olds",788,1749,45.054316752429962,null,"Aged 65+","2017-18",70.028355387523632,73.858267716535437,67.251108424022576,67.256219785402664,67.419197661198638,70.038336773813043,67.904021402892738,63.629748217144524,67.419197661198638,69.300321621457613,68.126372285923395,67.291539866098603,64.359441408621734,66.56896019746992,66.310347236777758,63.374242200207007,68.940397350993379,66.93230387425892,64.410224341436731,66.934594168636721,69.922092376182533,73.435944241619637,73.427947598253269,73.446545735237351,71.135926359074958,73.544877606527649,70.33898305084746,68.487449603329438,71.432331420750643,69.652131308182263,73.498635122838934,71.586828169699928,71.586828169699928,68.756991511482539,66.885506096241258,70.326014637391893,68.504456916474084,68.932508218913171,68.185745140388761,73.000478545222521,73.932026367605502,69.135333586529953,74.670633234169145,68.179669030732853,68.417542104385532,68.776119402985074,67.401431655493695,73.428966470791565,74.074399017371476,71.705001825483748,74.159957058507786,70.666691678547309,70.258513547104144,73.389186908564881,70.076681770651788,65.254333295570405,74.676437000380659,61.534185658699279,71.570121951219505,69.010737546206656,71.799452185304276,75.759913593581246,68.60443959243085,64.972840371473623,72.526017029328287,67.484440276238388,66.259818731117832,67.185992003308982,68.237680467724616,71.96729957805907,68.104653485120835,65.612433431148787,66.045159083133768,64.054034530087407,68.871595330739297,65.429756131843419,61.130144605116797,61.573246398149116,60.805182785747334,66.514752548781303,67.447731244740766,65.497777464192481,66.316078539063568,65.784893839192478,65.902217741935488,67.250922509225092]
["Cardiff and Vale UHB","Cardiff","Cardiff West","2017/18","2&3 Year olds",853,1334,63.943028485757125]
["Cardiff and Vale UHB","Cardiff","City - Cardiff South","2017/18","2&3 Year olds",224,1067,20.993439550140579]
["Cardiff and Vale UHB","Vale of Glamorgan","Central Vale","2017/18","2&3 Year olds",775,1466,52.864938608458388]
["Cardiff and Vale UHB","Vale of Glamorgan","Eastern Vale","2017/18","2&3 Year olds",389,782,49.744245524296673]
["Cardiff and Vale UHB","Vale of Glamorgan","Western Vale","2017/18","2&3 Year olds",341,590,57.796610169491522]
["Cwm Taf UHB","Merthyr Tydfil","North Merthyr Tydfil","2017/18","2&3 Year olds",365,860,42.441860465116278]
["Cwm Taf UHB","Merthyr Tydfil","South Merthyr Tydfil","2017/18","2&3 Year olds",321,648,49.537037037037038]
["Cwm Taf UHB","Rhondda Cynon Taf","North Cynon","2017/18","2&3 Year olds",437,967,45.191313340227509]
["Cwm Taf UHB","Rhondda Cynon Taf","North Rhondda","2017/18","2&3 Year olds",438,767,57.105606258148633]
["Cwm Taf UHB","Rhondda Cynon Taf","North Taf Ely","2017/18","2&3 Year olds",439,934,47.002141327623129]
["Cwm Taf UHB","Rhondda Cynon Taf","South Cynon","2017/18","2&3 Year olds",182,488,37.295081967213115]
["Cwm Taf UHB","Rhondda Cynon Taf","South Rhondda","2017/18","2&3 Year olds",691,1180,58.559322033898312]
["Cwm Taf UHB","Rhondda Cynon Taf","South Taf Ely","2017/18","2&3 Year olds",850,1177,72.217502124044174]
["Hywel Dda UHB","Carmarthenshire","Amman-Gwendraeth","2017/18","2&3 Year olds",618,1264,48.892405063291136]
["Hywel Dda UHB","Carmarthenshire","Llanelli","2017/18","2&3 Year olds",521,1342,38.822652757078984]
["Hywel Dda UHB","Carmarthenshire","Taf - Teifi - Tywi","2017/18","2&3 Year olds",560,1097,51.04831358249772]
["Hywel Dda UHB","Ceredigion","North Ceredigion","2017/18","2&3 Year olds",306,751,40.745672436750993]
["Hywel Dda UHB","Ceredigion","South Ceredigion","2017/18","2&3 Year olds",389,859,45.285215366705472]
["Hywel Dda UHB","Pembrokeshire","North Pembrokeshire","2017/18","2&3 Year olds",615,1398,43.991416309012877]
["Hywel Dda UHB","Pembrokeshire","South Pembrokeshire","2017/18","2&3 Year olds",354,1091,32.447296058661777]
["Powys Teaching HB","Powys","Mid Powys","2017/18","2&3 Year olds",290,529,54.820415879017013]
["Powys Teaching HB","Powys","North Powys","2017/18","2&3 Year olds",680,1215,55.967078189300409]
["Powys Teaching HB","Powys","South Powys","2017/18","2&3 Year olds",511,861,59.349593495934961]
[]
["Cluster","Measure","Uptake (%)"]
["Wales","Aged 65+",0.68592680223614944]
["Wales","At risk aged 6m to 64y",0.48505859812517627]
["Wales","2&3 Year olds",0.50247244478206654]
["Bridgend East Network","Aged 65+",73.858267716535437]
["Bridgend North Network","Aged 65+",67.251108424022576]
["Bridgend West Network","Aged 65+",67.256219785402664]
["Afan","Aged 65+",70.038336773813043]
["Neath","Aged 65+",67.904021402892738]
["Upper Valleys","Aged 65+",63.629748217144524]
["BayHealth","Aged 65+",69.300321621457613]
["CityHealth","Aged 65+",68.126372285923395]
["Cwmtawe","Aged 65+",67.291539866098603]
["Llwchwr","Aged 65+",64.359441408621734]
["Penderi","Aged 65+",66.56896019746992]
["Blaenau Gwent East","Aged 65+",63.374242200207007]
["Blaenau Gwent West","Aged 65+",68.940397350993379]
["Caerphilly North","Aged 65+",66.934594168636721]
["Caerphilly South","Aged 65+",69.922092376182533]
["Monmouthshire North","Aged 65+",73.427947598253269]
["Monmouthshire South","Aged 65+",73.446545735237351]
["Newport Central","Aged 65+",73.544877606527649]
["Newport East","Aged 65+",70.33898305084746]
["Newport West","Aged 65+",68.487449603329438]
["Torfaen North","Aged 65+",69.652131308182263]
["Torfaen South","Aged 65+",73.498635122838934]
["Anglesey","Aged 65+",71.586828169699928]
["Conwy East","Aged 65+",66.885506096241258]
["Conwy West","Aged 65+",70.326014637391893]
["Central - South Denbighshire","Aged 65+",68.932508218913171]
["North Denbighshire","Aged 65+",68.185745140388761]
["Deeside Hawarden - Saltney","Aged 65+",73.932026367605502]
["Holywell - Flint","Aged 65+",69.135333586529953]
["Mold Buckley - Caergwle","Aged 65+",74.670633234169145]
["Arfon","Aged 65+",68.417542104385532]
["Dwyfor","Aged 65+",68.776119402985074]
["Meirionnydd","Aged 65+",67.401431655493695]
["South Wrexham","Aged 65+",74.074399017371476]
["West - North Wrexham","Aged 65+",71.705001825483748]
["Wrexham Town","Aged 65+",74.159957058507786]
["Cardiff East","Aged 65+",70.258513547104144]
["Cardiff North","Aged 65+",73.389186908564881]
["Cardiff South East","Aged 65+",70.076681770651788]
["Cardiff South West","Aged 65+",65.254333295570405]
["Cardiff West","Aged 65+",74.676437000380659]
["City - Cardiff South","Aged 65+",61.534185658699279]
["Central Vale","Aged 65+",69.010737546206656]
["Eastern Vale","Aged 65+",71.799452185304276]
["Western Vale","Aged 65+",75.759913593581246]
["North Merthyr Tydfil","Aged 65+",64.972840371473623]
["South Merthyr Tydfil","Aged 65+",72.526017029328287]
["North Cynon","Aged 65+",66.259818731117832]
["North Rhondda","Aged 65+",67.185992003308982]
["North Taf Ely","Aged 65+",68.237680467724616]
["South Cynon","Aged 65+",71.96729957805907]
["South Rhondda","Aged 65+",68.104653485120835]
["South Taf Ely","Aged 65+",65.612433431148787]
["Amman-Gwendraeth","Aged 65+",64.054034530087407]
["Llanelli","Aged 65+",68.871595330739297]
["Taf - Teifi - Tywi","Aged 65+",65.429756131843419]
["North Ceredigion","Aged 65+",61.573246398149116]
["South Ceredigion","Aged 65+",60.805182785747334]
["North Pembrokeshire","Aged 65+",67.447731244740766]
["South Pembrokeshire","Aged 65+",65.497777464192481]
["Mid Powys","Aged 65+",65.784893839192478]
["North Powys","Aged 65+",65.902217741935488]
["South Powys","Aged 65+",67.250922509225092]
["Bridgend East Network","At risk aged 6m to 64y",49.123009462266324]
["Bridgend North Network","At risk aged 6m to 64y",43.082727780883175]
["Bridgend West Network","At risk aged 6m to 64y",39.874487086652181]
["Afan","At risk aged 6m to 64y",51.719557195571952]
["Neath","At risk aged 6m to 64y",49.060631938514092]
["Upper Valleys","At risk aged 6m to 64y",43.884705271358087]
["BayHealth","At risk aged 6m to 64y",45.698308001147119]
["CityHealth","At risk aged 6m to 64y",51.79704016913319]
["Cwmtawe","At risk aged 6m to 64y",42.893550284257984]
["Llwchwr","At risk aged 6m to 64y",41.462982642578815]
["Penderi","At risk aged 6m to 64y",49.897203947368425]
["Blaenau Gwent East","At risk aged 6m to 64y",43.787112381790187]
["Blaenau Gwent West","At risk aged 6m to 64y",53.007075471698116]
["Caerphilly East","At risk aged 6m to 64y",49.23744412306074]
["Caerphilly North","At risk aged 6m to 64y",48.789932236205232]
["Caerphilly South","At risk aged 6m to 64y",52.791280011783769]
["Monmouthshire North","At risk aged 6m to 64y",54.710144927536234]
["Monmouthshire South","At risk aged 6m to 64y",55.980158001102332]
["Newport Central","At risk aged 6m to 64y",52.502360717658171]
["Newport East","At risk aged 6m to 64y",50.191171359054579]
["Newport West","At risk aged 6m to 64y",48.090158293186505]
["Torfaen North","At risk aged 6m to 64y",49.858103061986561]
["Torfaen South","At risk aged 6m to 64y",50.308113659705576]
["Anglesey","At risk aged 6m to 64y",53.689129365469746]
["Conwy East","At risk aged 6m to 64y",45.951612903225808]
["Conwy West","At risk aged 6m to 64y",50.908828620888634]
["Central - South Denbighshire","At risk aged 6m to 64y",50.030469226081649]
["North Denbighshire","At risk aged 6m to 64y",46.654397265676351]
["Deeside Hawarden - Saltney","At risk aged 6m to 64y",57.160874439461885]
["Holywell - Flint","At risk aged 6m to 64y",51.77496367033423]
["Mold Buckley - Caergwle","At risk aged 6m to 64y",54.885155982173458]
["Arfon","At risk aged 6m to 64y",46.566077003121748]
["Dwyfor","At risk aged 6m to 64y",52.868217054263567]
["Meirionnydd","At risk aged 6m to 64y",50.155411133088442]
["South Wrexham","At risk aged 6m to 64y",58.241585404215158]
["West - North Wrexham","At risk aged 6m to 64y",50.363958292347043]
["Wrexham Town","At risk aged 6m to 64y",53.220806062693761]
["Cardiff East","At risk aged 6m to 64y",49.986409350366948]
["Cardiff North","At risk aged 6m to 64y",49.889400921658989]
["Cardiff South East","At risk aged 6m to 64y",50.756959140485101]
["Cardiff South West","At risk aged 6m to 64y",48.567916410571605]
["Cardiff West","At risk aged 6m to 64y",50.790103750997609]
["City - Cardiff South","At risk aged 6m to 64y",44.5828437132785]
["Central Vale","At risk aged 6m to 64y",45.682908356475636]
["Eastern Vale","At risk aged 6m to 64y",46.198986396372362]
["Western Vale","At risk aged 6m to 64y",55.910987482614736]
["North Merthyr Tydfil","At risk aged 6m to 64y",44.18224299065421]
["South Merthyr Tydfil","At risk aged 6m to 64y",47.555555555555557]
["North Cynon","At risk aged 6m to 64y",47.411616161616159]
["North Rhondda","At risk aged 6m to 64y",49.680511182108624]
["North Taf Ely","At risk aged 6m to 64y",46.213487197980527]
["South Cynon","At risk aged 6m to 64y",50.927546377318869]
["South Rhondda","At risk aged 6m to 64y",47.284162378502003]
["South Taf Ely","At risk aged 6m to 64y",43.5620799434029]
["Amman-Gwendraeth","At risk aged 6m to 64y",43.724235963041934]
["Llanelli","At risk aged 6m to 64y",42.932007524858903]
["Taf - Teifi - Tywi","At risk aged 6m to 64y",39.776671193601928]
["North Ceredigion","At risk aged 6m to 64y",41.613958560523443]
["South Ceredigion","At risk aged 6m to 64y",44.373630750846445]
["North Pembrokeshire","At risk aged 6m to 64y",44.598087361075208]
["South Pembrokeshire","At risk aged 6m to 64y",42.915469529714201]
["Mid Powys","At risk aged 6m to 64y",49.760191846522787]
["North Powys","At risk aged 6m to 64y",45.661971830985912]
["South Powys","At risk aged 6m to 64y",49.647611589663271]
["Bridgend East Network","2&3 Year olds",57.221542227662184]
["Bridgend North Network","2&3 Year olds",49.308380797396254]
["Bridgend West Network","2&3 Year olds",34.173228346456689]
["Afan","2&3 Year olds",57.528285465622275]
["Neath","2&3 Year olds",47.63986013986014]
["Upper Valleys","2&3 Year olds",45.440494590417316]
["BayHealth","2&3 Year olds",48.546255506607928]
["CityHealth","2&3 Year olds",48.243992606284657]
["Cwmtawe","2&3 Year olds",43.363728470111454]
["Llwchwr","2&3 Year olds",50.567107750472594]
["Penderi","2&3 Year olds",45.601617795753285]
["Blaenau Gwent East","2&3 Year olds",37.608966376089661]
["Blaenau Gwent West","2&3 Year olds",50.922509225092249]
["Caerphilly East","2&3 Year olds",49.858557284299856]
["Caerphilly North","2&3 Year olds",44.526034712950604]
["Caerphilly South","2&3 Year olds",54.498525073746315]
["Monmouthshire North","2&3 Year olds",56.589147286821706]
["Monmouthshire South","2&3 Year olds",57.621951219512191]
["Newport Central","2&3 Year olds",52.380952380952387]
["Newport East","2&3 Year olds",46.893063583815028]
["Newport West","2&3 Year olds",40.704647676161919]
["Torfaen North","2&3 Year olds",42.053571428571431]
["Torfaen South","2&3 Year olds",58.865979381443303]
["Anglesey","2&3 Year olds",55.914768552534902]
["Conwy East","2&3 Year olds",48.708133971291865]
["Conwy West","2&3 Year olds",57.54001684919966]
["Central - South Denbighshire","2&3 Year olds",60.595238095238088]
["North Denbighshire","2&3 Year olds",39.357142857142854]
["Deeside Hawarden - Saltney","2&3 Year olds",61.655773420479299]
["Holywell - Flint","2&3 Year olds",49.812734082397]
["Mold Buckley - Caergwle","2&3 Year olds",62.103174603174608]
["Arfon","2&3 Year olds",49.787535410764875]
["Dwyfor","2&3 Year olds",65.869565217391298]
["Meirionnydd","2&3 Year olds",52.35690235690236]
["South Wrexham","2&3 Year olds",59.283088235294116]
["West - North Wrexham","2&3 Year olds",51.111111111111107]
["Wrexham Town","2&3 Year olds",54.836131095123896]
["Cardiff East","2&3 Year olds",36.217303822937623]
["Cardiff North","2&3 Year olds",60.756709194896608]
["Cardiff South East","2&3 Year olds",49.070945945945951]
["Cardiff South West","2&3 Year olds",45.054316752429962]
["Cardiff West","2&3 Year olds",63.943028485757125]
["City - Cardiff South","2&3 Year olds",20.993439550140579]
["Central Vale","2&3 Year olds",52.864938608458388]
["Eastern Vale","2&3 Year olds",49.744245524296673]
["Western Vale","2&3 Year olds",57.796610169491522]
["North Merthyr Tydfil","2&3 Year olds",42.441860465116278]
["South Merthyr Tydfil","2&3 Year olds",49.537037037037038]
["North Cynon","2&3 Year olds",45.191313340227509]
["North Rhondda","2&3 Year olds",57.105606258148633]
["North Taf Ely","2&3 Year olds",47.002141327623129]
["South Cynon","2&3 Year olds",37.295081967213115]
["South Rhondda","2&3 Year olds",58.559322033898312]
["South Taf Ely","2&3 Year olds",72.217502124044174]
["Amman-Gwendraeth","2&3 Year olds",48.892405063291136]
["Llanelli","2&3 Year olds",38.822652757078984]
["Taf - Teifi - Tywi","2&3 Year olds",51.04831358249772]
["North Ceredigion","2&3 Year olds",40.745672436750993]
["South Ceredigion","2&3 Year olds",45.285215366705472]
["North Pembrokeshire","2&3 Year olds",43.991416309012877]
["South Pembrokeshire","2&3 Year olds",32.447296058661777]
["Mid Powys","2&3 Year olds",54.820415879017013]
["North Powys","2&3 Year olds",55.967078189300409]
["South Powys","2&3 Year olds",59.349593495934961]

{"sheet":"Child vacc data","index":39,"n_rows":116,"n_cols":88,"rows_kept":116,"cut":false,"hidden":true,"merged":[[1,38,1,40],[1,24,1,26],[0,29,0,31],[0,32,0,34],[0,35,0,37],[1,30,1,31],[1,33,1,34],[1,36,1,37],[0,15,0,17],[0,18,0,20],[0,21,0,23],[1,16,1,17],[1,19,1,20],[1,22,1,23],[1,2,1,3],[0,1,0,3],[1,10,1,12],[0,4,0,6],[0,7,0,9],[1,5,1,6],[1,8,1,9]]}
["LAs","Age 1 year",null,null,"Age 4 years",null,null,"Age 5 years",null,null,null,null,null,null,"Clusters","Age 1 year",null,null,"Age 4 years",null,null,"Age 5 years",null,null,null,null,null,null,"Clusters & LA","Age 1 year",null,null,"Age 4 years",null,null,"Age 5 years"]
[null,null,"5 in 1",null,null,"Up to date in schedule",null,null,"MMR2",null,"MMR2 at 16 years",null,null,null,null,null,"5 in 1",null,null,"Up to date in schedule",null,null,"MMR2",null,"MMR2 at 16 years",null,null,null,null,null,"5 in 1",null,null,"Up to date in schedule",null,null,"MMR2",null,"MMR2 at 16 years"]
[null,"Denominator","Numerator","%","Denominator","Numerator","%","Denominator","Numerator","%","Denominator","Numerator","%",null,null,"Denominator","Numerator","%","Denominator","Numerator","%","Denominator","Numerator","%","Denominator","Numerator","%",null,null,"Denominator","Numerator","%","Denominator","Numerator","%","Denominator","Numerator","%","Denominator","Numerator","%"]
["Bridgend",1559,1512,97,1620,1426,88,1668,1531,91.8,1522,1326,87.1,null,"Bridgend East Network",820,798,97.317073170731703,840,766,91.19047619047619,845,786,93.017751479289942,739,649,87.821380243572406,null,"Bridgend",1559,1512,97,1620,1426,88,1668,1531,91.8,1522,1326,87.1]
["Neath",1524,1469,96.4,1534,1324,86.3,1549,1413,91.2,1473,1257,85.3,null,"Bridgend North Network",549,532,96.903460837887067,601,525,87.354409317803658,578,538,93.079584775086516,554,505,91.155234657039713,null,"Bridgend East Network",820,798,97.317073170731703,840,766,91.19047619047619,845,786,93.017751479289942,739,649,87.821380243572406]
["Swansea",2431,2333,96,2581,2194,85,2732,2468,90.3,2503,2123,84.8,null,"Bridgend West Network",330,321,97.27272727272728,323,268,82.972136222910223,397,356,89.672544080604538,336,293,87.202380952380949,null,"Bridgend North Network",549,532,96.903460837887067,601,525,87.354409317803658,578,538,93.079584775086516,554,505,91.155234657039713]
["ABMU",5514,5314,96.4,5735,4944,86.2,5949,5412,91,5498,4706,85.6,null,"Afan",572,549,95.979020979020973,540,458,84.81481481481481,539,501,92.949907235621524,485,422,87.010309278350519,null,"Bridgend West Network",330,321,97.27272727272728,323,268,82.972136222910223,397,356,89.672544080604538,336,293,87.202380952380949]
["Blaenau",730,711,97.4,808,644,79.7,807,733,90.8,704,632,89.8,null,"Neath",547,530,96.892138939670929,560,486,86.785714285714292,585,528,90.256410256410263,565,475,84.070796460176993,null,"Neath Port Talbot",1524,1469,96.4,1534,1324,86.3,1549,1413,91.2,1473,1257,85.3]
["Caerphilly",1961,1904,97.1,2108,1812,86,2167,1982,91.5,2016,1845,91.5,null,"Upper Valleys",313,301,96.166134185303505,336,306,91.071428571428569,318,294,92.452830188679243,290,264,91.034482758620697,null,"Afan",572,549,95.979020979020973,540,458,84.81481481481481,539,501,92.949907235621524,485,422,87.010309278350519]
["Monmouthshire",791,752,95.1,879,737,83.8,975,844,86.6,1034,809,78.2,null,"BayHealth",520,490,94.230769230769226,575,489,85.043478260869563,618,545,88.187702265372167,609,510,83.743842364532014,null,"Neath",547,530,96.892138939670929,560,486,86.785714285714292,585,528,90.256410256410263,565,475,84.070796460176993]
["Newport",2007,1897,94.5,2036,1487,73,2061,1780,86.4,1852,1618,87.4,null,"CityHealth",536,500,93.28358208955224,524,418,79.770992366412216,528,455,86.174242424242422,502,420,83.665338645418331,null,"Upper Valleys",313,301,96.166134185303505,336,306,91.071428571428569,318,294,92.452830188679243,290,264,91.034482758620697]
["Torfaen",1017,988,97.1,1107,940,84.9,1157,1042,90.1,1024,930,90.8,null,"Cwmtawe",387,380,98.191214470284237,383,352,91.906005221932119,444,426,95.945945945945937,394,342,86.802030456852791,null,"Swansea",2431,2333,96,2581,2194,85,2732,2468,90.3,2503,2123,84.8]
["Aneurin Bevan",6506,6252,96.1,6938,5620,81,7167,6381,89,6630,5834,88,null,"Llwchwr",457,451,98.687089715536104,526,467,88.783269961977183,543,521,95.948434622467772,524,469,89.503816793893137,null,"BayHealth",520,490,94.230769230769226,575,489,85.043478260869563,618,545,88.187702265372167,609,510,83.743842364532014]
["Anglesey",731,712,97.4,753,681,90.4,806,754,93.5,733,669,91.3,null,"Penderi",480,464,96.666666666666671,487,409,83.983572895277206,484,429,88.63636363636364,431,378,87.703016241299309,null,"CityHealth",536,500,93.28358208955224,524,418,79.770992366412216,528,455,86.174242424242422,502,420,83.665338645418331]
["Conwy",1025,982,95.8,1080,923,85.5,1196,1099,91.9,1136,1001,88.1,null,"ABMU",5514,5314,96.4,5735,4944,86.2,5949,5412,91,5498,4706,85.6,null,"Cwmtawe",387,380,98.191214470284237,383,352,91.906005221932119,444,426,95.945945945945937,394,342,86.802030456852791]
["Denbighshire",1030,967,93.9,1078,909,84.3,1066,970,91,1056,920,87.1,null,"Blaenau Gwent East",327,318,97.247706422018354,382,300,78.534031413612567,389,353,90.745501285347046,317,283,89.274447949526817,null,"Llwchwr",457,451,98.687089715536104,526,467,88.783269961977183,543,521,95.948434622467772,524,469,89.503816793893137]
["Flintshire",1551,1501,96.8,1643,1461,88.9,1736,1568,90.3,1588,1428,89.9,null,"Blaenau Gwent West",406,393,96.798029556650249,433,357,82.448036951501152,420,379,90.238095238095241,388,353,90.979381443298962,null,"Penderi",480,464,96.666666666666671,487,409,83.983572895277206,484,429,88.63636363636364,431,378,87.703016241299309]
["Gwynedd",1152,1121,97.3,1205,1057,87.7,1336,1212,90.7,1177,1074,91.2,null,"Caerphilly East",633,623,98.420221169036338,693,617,89.033189033189032,754,711,94.297082228116707,707,652,92.220650636492223,null,"Blaenau Gwent",730,711,97.4,808,644,79.7,807,733,90.8,704,632,89.8]
["Wrexham",1505,1458,96.9,1609,1447,89.9,1667,1535,92.1,1313,1231,93.8,null,"Caerphilly North",719,702,97.635605006954108,737,634,86.024423337856177,741,681,91.902834008097173,665,622,93.53383458646617,null,"Blaenau Gwent East",327,318,97.247706422018354,382,300,78.534031413612567,389,353,90.745501285347046,317,283,89.274447949526817]
["Betsi Cadwaladr",6994,6741,96.4,7368,6478,87.9,7807,7138,91.4,7003,6323,90.3,null,"Caerphilly South",619,593,95.799676898222941,649,549,84.591679506933744,660,595,90.151515151515156,570,531,93.15789473684211,null,"Blaenau Gwent West",406,393,96.798029556650249,433,357,82.448036951501152,420,379,90.238095238095241,388,353,90.979381443298962]
["Cardiff",4240,4008,94.5,4429,3634,82.1,4554,3921,86.1,3664,3056,83.4,null,"Monmouthshire North",389,366,94.087403598971719,421,346,82.185273159144884,473,408,86.257928118393238,498,377,75.702811244979912,null,"Caerphilly",1961,1904,97.1,2108,1812,86,2167,1982,91.5,2016,1845,91.5]
["Vale",1435,1373,95.7,1486,1253,84.3,1538,1365,88.8,1352,1182,87.4,null,"Monmouthshire South",352,345,98.01136363636364,391,347,88.746803069053698,426,388,91.079812206572768,431,370,85.846867749419957,null,"Caerphilly East",633,623,98.420221169036338,693,617,89.033189033189032,754,711,94.297082228116707,707,652,92.220650636492223]
["Cardiff & Vale",5675,5381,94.8,5915,4887,82.6,6092,5286,86.8,5016,4238,84.5,null,"Newport Central",578,554,95.847750865051907,596,465,78.020134228187914,575,502,87.304347826086953,534,484,90.636704119850179,null,"Caerphilly North",719,702,97.635605006954108,737,634,86.024423337856177,741,681,91.902834008097173,665,622,93.53383458646617]
["Merthyr",688,672,97.7,676,615,91,750,691,92.1,627,550,87.7,null,"Newport East",642,611,95.171339563862929,665,465,69.924812030075188,674,602,89.317507418397625,524,472,90.07633587786259,null,"Caerphilly South",619,593,95.799676898222941,649,549,84.591679506933744,660,595,90.151515151515156,570,531,93.15789473684211]
["Rhondda",2655,2585,97.4,2849,2494,87.5,2872,2592,90.3,2536,2257,89,null,"Newport West",709,667,94.07616361071932,660,482,73.030303030303031,665,570,85.714285714285708,540,476,88.148148148148152,null,"Monmouthshire",791,752,95.1,879,737,83.8,975,844,86.6,1034,809,78.2]
["Cwm Taf",3343,3257,97.4,3525,3109,88.2,3622,3283,90.6,3163,2807,88.7,null,"Torfaen North",518,497,95.945945945945937,571,488,85.464098073555164,610,546,89.508196721311478,517,485,93.810444874274651,null,"Monmouthshire North",389,366,94.087403598971719,421,346,82.185273159144884,473,408,86.257928118393238,498,377,75.702811244979912]
["Carmarthenshire",1876,1772,94.5,1957,1644,84,2041,1795,87.9,2035,1810,88.9,null,"Torfaen South",499,489,97.99599198396794,515,441,85.631067961165058,521,478,91.746641074856043,452,417,92.256637168141594,null,"Monmouthshire South",352,345,98.01136363636364,391,347,88.746803069053698,426,388,91.079812206572768,431,370,85.846867749419957]
["Ceredigion",586,550,93.9,663,573,86.4,695,626,90.1,593,523,88.2,null,"Aneurin Bevan",6506,6252,96.1,6938,5620,81,7167,6381,89,6630,5834,88,null,"Newport",2007,1897,94.5,2036,1487,73,2061,1780,86.4,1852,1618,87.4]
["Pembrokeshire",1179,1108,94,1220,1007,82.5,1318,1130,85.7,1180,1014,85.9,null,"Anglesey",669,653,97.608370702541109,695,638,91.798561151079141,750,717,95.6,661,597,90.317700453857796,null,"Newport Central",578,554,95.847750865051907,596,465,78.020134228187914,575,502,87.304347826086953,534,484,90.636704119850179]
["Hywel dda",3641,3430,94.2,3840,3224,84,4054,3551,87.6,3808,3347,87.9,null,"Conwy East",432,401,92.824074074074076,479,417,87.05636743215031,584,537,91.952054794520549,582,506,86.941580756013749,null,"Newport East",642,611,95.171339563862929,665,465,69.924812030075188,674,602,89.317507418397625,524,472,90.07633587786259]
["Powys",1119,1079,96.4,1226,1057,86.2,1256,1104,87.9,1291,1058,82,null,"Conwy West",564,554,98.226950354609926,601,519,86.356073211314481,605,557,92.066115702479337,573,499,87.085514834205938,null,"Newport West",709,667,94.07616361071932,660,482,73.030303030303031,665,570,85.714285714285708,540,476,88.148148148148152]
["Unknown",15,13,86.7,70,55,78.599999999999994,64,62,96.9,100,90,90,null,"Central & South Denbighshire",376,357,94.946808510638306,371,324,87.331536388140165,391,360,92.071611253196934,437,372,85.125858123569799,null,"Torfaen",1017,988,97.1,1107,940,84.9,1157,1042,90.1,1024,930,90.8]
["Wales",32807,31468,95.9,34617,29374,84.9,36011,32217,89.5,32509,28403,87.4,null,"North Denbighshire",632,592,93.670886075949369,687,567,82.532751091703062,694,630,90.778097982708942,596,518,86.912751677852356,null,"Torfaen North",518,497,95.945945945945937,571,488,85.464098073555164,610,546,89.508196721311478,517,485,93.810444874274651]
[null,null,null,null,null,null,null,null,null,null,null,null,null,null,"Deeside, Hawarden & Saltney",645,629,97.519379844961236,669,592,88.490284005979063,704,639,90.767045454545453,603,552,91.542288557213936,null,"Torfaen South",499,489,97.99599198396794,515,441,85.631067961165058,521,478,91.746641074856043,452,417,92.256637168141594]
[null,null,null,null,null,null,null,null,null,null,null,null,null,null,"Holywell & Flint",383,373,97.38903394255874,391,360,92.071611253196934,439,417,94.988610478359917,389,352,90.488431876606683,null,"Anglesey",669,653,97.608370702541109,695,638,91.798561151079141,750,717,95.6,661,597,90.317700453857796]
[null,null,null,null,null,null,null,null,null,null,null,null,null,null,"Mold, Buckley & Caergwle",485,469,96.701030927835049,521,472,90.595009596928989,508,453,89.173228346456696,505,465,92.079207920792086,null,"Conwy",1025,982,95.8,1080,923,85.5,1196,1099,91.9,1136,1001,88.1]
[null,null,null,null,null,null,null,null,null,null,null,null,null,null,"Arfon",687,666,96.943231441048042,712,611,85.81460674157303,763,688,90.170380078636953,661,606,91.679273827534033,null,"Conwy East",432,401,92.824074074074076,479,417,87.05636743215031,584,537,91.952054794520549,582,506,86.941580756013749]
[null,null,null,null,null,null,null,null,null,null,null,null,null,null,"Dwyfor",214,211,98.598130841121502,241,221,91.701244813278009,261,248,95.019157088122611,252,238,94.444444444444443,null,"Conwy West",564,554,98.226950354609926,601,519,86.356073211314481,605,557,92.066115702479337,573,499,87.085514834205938]
[null,null,null,null,null,null,null,null,null,null,null,null,null,null,"Meirionnydd",273,267,97.802197802197796,279,257,92.114695340501797,318,290,91.19496855345912,308,287,93.181818181818173,null,"Denbighshire",1030,967,93.9,1078,909,84.3,1066,970,91,1056,920,87.1]
[null,null,null,null,null,null,null,null,null,null,null,null,null,null,"South Wrexham",440,429,97.5,482,441,91.493775933609953,500,465,93,449,427,95.100222717149222,null,"Central - South Denbighshire",376,357,94.946808510638306,371,324,87.331536388140165,391,360,92.071611253196934,437,372,85.125858123569799]
[null,null,null,null,null,null,null,null,null,null,null,null,null,null,"West & North Wrexham",503,496,98.608349900596423,492,447,90.853658536585371,505,475,94.059405940594047,405,389,96.049382716049379,null,"North Denbighshire",632,592,93.670886075949369,687,567,82.532751091703062,694,630,90.778097982708942,596,518,86.912751677852356]
[null,null,null,null,null,null,null,null,null,null,null,null,null,null,"Wrexham Town",551,521,94.555353901996369,633,563,88.941548183254355,650,593,91.230769230769226,485,456,94.020618556701024,null,"Flintshire",1551,1501,96.8,1643,1461,88.9,1736,1568,90.3,1588,1428,89.9]
[null,null,null,null,null,null,null,null,null,null,null,null,null,null,"Betsi Cadwaladr",6994,6741,96.4,7368,6478,87.9,7807,7138,91.4,7003,6323,90.3,null,"Deeside Hawarden - Saltney",645,629,97.519379844961236,669,592,88.490284005979063,704,639,90.767045454545453,603,552,91.542288557213936]
[null,null,null,null,null,null,null,null,null,null,null,null,null,null,"Cardiff East",632,600,94.936708860759495,746,620,83.10991957104558,749,657,87.716955941255009,645,553,85.736434108527121,null,"Holywell - Flint",383,373,97.38903394255874,391,360,92.071611253196934,439,417,94.988610478359917,389,352,90.488431876606683]
[null,null,null,null,null,null,null,null,null,null,null,null,null,null,"Cardiff North",1042,1007,96.64107485604606,1113,972,87.331536388140165,1129,1014,89.813994685562449,907,782,86.218302094818071,null,"Mold Buckley - Caergwle",485,469,96.701030927835049,521,472,90.595009596928989,508,453,89.173228346456696,505,465,92.079207920792086]
[null,null,null,null,null,null,null,null,null,null,null,null,null,null,"Cardiff South East",604,569,94.205298013245027,543,434,79.926335174953948,602,504,83.720930232558146,426,350,82.159624413145536,null,"Gwynedd",1152,1121,97.3,1205,1057,87.7,1336,1212,90.7,1177,1074,91.2]
[null,null,null,null,null,null,null,null,null,null,null,null,null,null,"Cardiff South West",786,740,94.147582697201017,836,685,81.937799043062199,861,750,87.108013937282223,690,593,85.94202898550725,null,"Arfon",687,666,96.943231441048042,712,611,85.81460674157303,763,688,90.170380078636953,661,606,91.679273827534033]
[null,null,null,null,null,null,null,null,null,null,null,null,null,null,"Cardiff West",588,574,97.61904761904762,672,602,89.583333333333343,673,612,90.936106983655279,593,537,90.556492411467119,null,"Dwyfor",214,211,98.598130841121502,241,221,91.701244813278009,261,248,95.019157088122611,252,238,94.444444444444443]
[null,null,null,null,null,null,null,null,null,null,null,null,null,null,"City & Cardiff South",555,500,90.090090090090087,479,334,69.728601252609607,495,383,77.37373737373737,352,274,77.840909090909093,null,"Meirionnydd",273,267,97.802197802197796,279,257,92.114695340501797,318,290,91.19496855345912,308,287,93.181818181818173]
[null,null,null,null,null,null,null,null,null,null,null,null,null,null,"Central Vale",769,729,94.798439531859557,767,652,85.006518904823992,776,698,89.948453608247419,617,557,90.275526742301466,null,"Wrexham",1505,1458,96.9,1609,1447,89.9,1667,1535,92.1,1313,1231,93.8]
[null,null,null,null,null,null,null,null,null,null,null,null,null,null,"Eastern Vale",351,344,98.005698005698008,375,324,86.4,392,347,88.520408163265301,367,307,83.651226158038156,null,"South Wrexham",440,429,97.5,482,441,91.493775933609953,500,465,93,449,427,95.100222717149222]
[null,null,null,null,null,null,null,null,null,null,null,null,null,null,"Western Vale",252,239,94.841269841269835,294,245,83.333333333333343,305,268,87.868852459016395,321,265,82.554517133956381,null,"West - North Wrexham",503,496,98.608349900596423,492,447,90.853658536585371,505,475,94.059405940594047,405,389,96.049382716049379]
[null,null,null,null,null,null,null,null,null,null,null,null,null,null,"Cardiff & Vale",5675,5381,94.8,5915,4887,82.6,6092,5286,86.8,5016,4238,84.5,null,"Wrexham Town",551,521,94.555353901996369,633,563,88.941548183254355,650,593,91.230769230769226,485,456,94.020618556701024]
[null,null,null,null,null,null,null,null,null,null,null,null,null,null,"North Merthyr Tydfil",350,344,98.285714285714292,370,330,89.189189189189193,385,354,91.94805194805194,303,261,86.138613861386133,null,"Cardiff",4240,4008,94.5,4429,3634,82.1,4554,3921,86.1,3664,3056,83.4]
[null,null,null,null,null,null,null,null,null,null,null,null,null,null,"South Merthyr Tydfil",320,312,97.5,299,283,94.648829431438131,339,316,93.21533923303835,312,284,91.025641025641022,null,"Cardiff East",632,600,94.936708860759495,746,620,83.10991957104558,749,657,87.716955941255009,645,553,85.736434108527121]
[null,null,null,null,null,null,null,null,null,null,null,null,null,null,"North Cynon",441,428,97.05215419501134,455,401,88.131868131868131,440,403,91.590909090909093,411,356,86.618004866180058,null,"Cardiff North",1042,1007,96.64107485604606,1113,972,87.331536388140165,1129,1014,89.813994685562449,907,782,86.218302094818071]
[null,null,null,null,null,null,null,null,null,null,null,null,null,null,"North Rhondda",396,382,96.464646464646464,378,321,84.920634920634924,385,355,92.20779220779221,374,341,91.17647058823529,null,"Cardiff South East",604,569,94.205298013245027,543,434,79.926335174953948,602,504,83.720930232558146,426,350,82.159624413145536]
[null,null,null,null,null,null,null,null,null,null,null,null,null,null,"North Taf Ely",443,434,97.968397291196382,452,395,87.389380530973455,491,424,86.354378818737274,430,372,86.511627906976742,null,"Cardiff South West",786,740,94.147582697201017,836,685,81.937799043062199,861,750,87.108013937282223,690,593,85.94202898550725]
[null,null,null,null,null,null,null,null,null,null,null,null,null,null,"South Cynon",223,218,97.757847533632287,242,220,90.909090909090907,240,220,91.666666666666657,237,206,86.919831223628691,null,"Cardiff West",588,574,97.61904761904762,672,602,89.583333333333343,673,612,90.936106983655279,593,537,90.556492411467119]
[null,null,null,null,null,null,null,null,null,null,null,null,null,null,"South Rhondda",491,478,97.352342158859472,508,446,87.795275590551185,528,475,89.962121212121218,456,418,91.666666666666657,null,"City - Cardiff South",555,500,90.090090090090087,479,334,69.728601252609607,495,383,77.37373737373737,352,274,77.840909090909093]
[null,null,null,null,null,null,null,null,null,null,null,null,null,null,"South Taf Ely",578,566,97.923875432525946,707,635,89.816124469589823,694,647,93.22766570605188,597,533,89.279731993299833,null,"Vale of Glamorgan",1435,1373,95.7,1486,1253,84.3,1538,1365,88.8,1352,1182,87.4]
[null,null,null,null,null,null,null,null,null,null,null,null,null,null,"Cwm Taf",3343,3257,97.4,3525,3109,88.2,3622,3283,90.6,3163,2807,88.7,null,"Central Vale",769,729,94.798439531859557,767,652,85.006518904823992,776,698,89.948453608247419,617,557,90.275526742301466]
[null,null,null,null,null,null,null,null,null,null,null,null,null,null,"Amman/Gwendraeth",610,580,95.081967213114751,611,524,85.761047463175117,672,606,90.178571428571431,638,585,91.692789968652036,null,"Eastern Vale",351,344,98.005698005698008,375,324,86.4,392,347,88.520408163265301,367,307,83.651226158038156]
[null,null,null,null,null,null,null,null,null,null,null,null,null,null,"Llanelli",632,596,94.303797468354432,680,554,81.470588235294116,719,632,87.899860917941581,692,607,87.716763005780351,null,"Western Vale",252,239,94.841269841269835,294,245,83.333333333333343,305,268,87.868852459016395,321,265,82.554517133956381]
[null,null,null,null,null,null,null,null,null,null,null,null,null,null,"Taf / Teifi / Tywi",529,497,93.950850661625708,557,480,86.175942549371626,541,473,87.430683918669132,596,537,90.100671140939596,null,"Merthyr Tydfil",688,672,97.7,676,615,91,750,691,92.1,627,550,87.7]
[null,null,null,null,null,null,null,null,null,null,null,null,null,null,"North Ceredigion",328,318,96.951219512195124,374,321,85.828877005347593,433,389,89.838337182448029,345,307,88.985507246376812,null,"North Merthyr Tydfil",350,344,98.285714285714292,370,330,89.189189189189193,385,354,91.94805194805194,303,261,86.138613861386133]
[null,null,null,null,null,null,null,null,null,null,null,null,null,null,"South Ceredigion",387,358,92.506459948320412,416,361,86.77884615384616,389,356,91.516709511568124,367,326,88.828337874659397,null,"South Merthyr Tydfil",320,312,97.5,299,283,94.648829431438131,339,316,93.21533923303835,312,284,91.025641025641022]
[null,null,null,null,null,null,null,null,null,null,null,null,null,null,"North Pembrokeshire",675,632,93.629629629629633,658,545,82.82674772036475,705,616,87.375886524822704,636,547,86.006289308176093,null,"Rhondda Cynon Taf",2655,2585,97.4,2849,2494,87.5,2872,2592,90.3,2536,2257,89]
[null,null,null,null,null,null,null,null,null,null,null,null,null,null,"South Pembrokeshire",463,438,94.600431965442766,518,430,83.011583011583014,558,470,84.229390681003579,515,460,89.320388349514573,null,"North Cynon",441,428,97.05215419501134,455,401,88.131868131868131,440,403,91.590909090909093,411,356,86.618004866180058]
[null,null,null,null,null,null,null,null,null,null,null,null,null,null,"Hywel dda",3641,3430,94.2,3840,3224,84,4054,3551,87.6,3808,3347,87.9,null,"North Rhondda",396,382,96.464646464646464,378,321,84.920634920634924,385,355,92.20779220779221,374,341,91.17647058823529]
[null,null,null,null,null,null,null,null,null,null,null,null,null,null,"Mid Powys",225,221,98.222222222222229,241,215,89.211618257261421,265,235,88.679245283018872,240,197,82.083333333333329,null,"North Taf Ely",443,434,97.968397291196382,452,395,87.389380530973455,491,424,86.354378818737274,430,372,86.511627906976742]
[null,null,null,null,null,null,null,null,null,null,null,null,null,null,"North Powys",527,503,95.44592030360532,566,499,88.162544169611309,610,549,90,592,510,86.148648648648646,null,"South Cynon",223,218,97.757847533632287,242,220,90.909090909090907,240,220,91.666666666666657,237,206,86.919831223628691]
[null,null,null,null,null,null,null,null,null,null,null,null,null,null,"South Powys",390,383,98.205128205128204,459,386,84.095860566448806,396,349,88.131313131313121,433,362,83.602771362586608,null,"South Rhondda",491,478,97.352342158859472,508,446,87.795275590551185,528,475,89.962121212121218,456,418,91.666666666666657]
[null,null,null,null,null,null,null,null,null,null,null,null,null,null,"Powys",1119,1079,96.4,1226,1057,86.2,1256,1104,87.9,1291,1058,82,null,"South Taf Ely",578,566,97.923875432525946,707,635,89.816124469589823,694,647,93.22766570605188,597,533,89.279731993299833]
[null,null,null,null,null,null,null,null,null,null,null,null,null,null,"Wales",32807,31468,95.9,34617,29374,84.9,36011,32217,89.5,32509,28403,87.4,null,"Carmarthenshire",1876,1772,94.5,1957,1644,84,2041,1795,87.9,2035,1810,88.9]
[null,null,null,null,null,null,null,null,null,null,null,null,null,null,null,null,null,null,null,null,null,null,null,null,null,null,null,null,"Amman-Gwendraeth",610,580,95.081967213114751,611,524,85.761047463175117,672,606,90.178571428571431,638,585,91.692789968652036]
[null,null,null,null,null,null,null,null,null,null,null,null,null,null,null,null,null,null,null,null,null,null,null,null,null,null,null,null,"Llanelli",632,596,94.303797468354432,680,554,81.470588235294116,719,632,87.899860917941581,692,607,87.716763005780351]
["Health boards",null,null,null,null,null,null,null,null,null,null,null,null,null,null,null,null,null,null,null,null,null,null,null,null,null,null,null,"Taf - Teifi - Tywi",529,497,93.950850661625708,557,480,86.175942549371626,541,473,87.430683918669132,596,537,90.100671140939596]
["Childhood vaccination uptake",null,null,null,null,null,null,null,null,null,null,null,null,null,null,null,null,null,null,null,null,null,null,null,null,null,null,null,"Ceredigion",586,550,93.9,663,573,86.4,695,626,90.1,593,523,88.2]
["Indicator","Period","Wales","ABM","AB","BC","CV","CT","HD","Powys",null,null,null,null,null,null,null,null,null,null,null,null,null,null,null,null,null,null,"North Ceredigion",328,318,96.951219512195124,374,321,85.828877005347593,433,389,89.838337182448029,345,307,88.985507246376812]
["Uptake of the 5 in 1 at 1y","2017-18",95.9,96.4,96.1,96.4,94.8,97.4,94.2,96.4,null,null,null,null,null,null,null,null,null,null,null,null,null,null,null,null,null,null,"South Ceredigion",387,358,92.506459948320412,416,361,86.77884615384616,389,356,91.516709511568124,367,326,88.828337874659397]
["Up to date with immunisations by age 4y","2017-18",84.9,86.2,81,87.9,82.6,88.2,84,86.2,null,null,null,null,null,null,null,null,null,null,null,null,null,null,null,null,null,null,"Pembrokeshire",1179,1108,94,1220,1007,82.5,1318,1130,85.7,1180,1014,85.9]
["MMR2 at 5y","2017-18",89.5,91,89,91.4,86.8,90.6,87.6,87.9,null,null,null,null,null,null,null,null,null,null,null,null,null,null,null,null,null,null,"North Pembrokeshire",675,632,93.629629629629633,658,545,82.82674772036475,705,616,87.375886524822704,636,547,86.006289308176093]
["MMR2 at 16y","2017-18",87.4,85.6,88,90.3,84.5,88.7,87.9,82,null,null,null,null,null,null,null,null,null,null,null,null,null,null,null,null,null,null,"South Pembrokeshire",463,438,94.600431965442766,518,430,83.011583011583014,558,470,84.229390681003579,515,460,89.320388349514573]
[null,null,null,null,null,null,null,null,null,null,null,null,null,null,null,null,null,null,null,null,null,null,null,null,null,null,null,null,"Powys",1119,1079,96.4,1226,1057,86.2,1256,1104,87.9,1291,1058,82]
["Local authorities",null,null,null,null,null,null,null,null,null,null,null,null,null,null,null,null,null,null,null,null,null,null,null,null,null,null,null,"Mid Powys",225,221,98.222222222222229,241,215,89.211618257261421,265,235,88.679245283018872,240,197,82.083333333333329]
["Childhood vaccination uptake",null,null,null,null,null,null,null,null,null,null,null,null,null,null,null,null,null,null,null,null,null,null,null,null,null,null,null,"North Powys",527,503,95.44592030360532,566,499,88.162544169611309,610,549,90,592,510,86.148648648648646]
["Indicator","Period","Wales","Bridgend","Neath Port Talbot","Swansea","Blaenau Gwent","Caerphilly","Monmouthshire","Newport","Torfaen","Anglesey","Conwy","Denbighshire","Flintshire","Gwynedd","Wrexham","Cardiff","Vale of Glamorgan","Merthyr Tydfil","Rhondda Cynon Taf","Carmarthenshire","Ceredigion","Pembrokeshire","Powys",null,null,null,"South Powys",390,383,98.205128205128204,459,386,84.095860566448806,396,349,88.131313131313121,433,362,83.602771362586608]
["Uptake of the 5 in 1 at 1y","2017-18",95.9,97,96.4,96,97.4,97.1,95.1,94.5,97.1,97.4,95.8,93.9,96.8,97.3,96.9,94.5,95.7,97.7,97.4,94.5,93.9,93.9,94]
["Up to date with immunisations by age 4y","2017-18",84.9,88,86.3,85,79.7,86,83.8,73,84.9,90.4,85.5,84.3,88.9,87.7,89.9,82.1,84.3,91,87.5,84,86.4,86.4,82.5]
["MMR2 at 5y","2017-18",89.5,91.8,91.2,90.3,90.8,91.5,86.6,86.4,90.1,93.5,91.9,91,90.3,90.7,92.1,86.1,88.8,92.1,90.3,87.9,90.1,90.1,85.7]
["MMR2 at 16y","2017-18",87.4,87.1,85.3,84.8,89.8,91.5,78.2,87.4,90.8,91.3,88.1,87.1,89.9,91.2,93.8,83.4,87.4,87.7,89,88.9,88.2,88.2,85.9]
[]
["Regional Partnership Boards"]
["Childhood vaccination uptake"]
["Indicator","Period","ABM","Bridgend","Neath","Swansea","AB","Blaenau","Caerphilly","Monmouthshire","Newport","Torfaen","BC","Anglesey","Conwy","Denbighshire","Flintshire","Gwynedd","Wrexham","CV","Cardiff","Vale","CT","Merthyr","Rhondda","HD","Carmarthenshire","Ceredigion","Pembrokeshire","Powys HB","Powys LA"]
["Uptake of the 5 in 1 at 1y","2017-18",96.4,9700,96.4,96,96.1,97.4,97.1,95.1,94.5,97.1,96.4,97.4,95.8,93.9,96.8,97.3,96.9,94.8,94.5,95.7,97.4,97.7,97.4,94.2,94.5,93.9,94,96.4,96.4]
["Up to date with immunisations by age 4y","2017-18",86.2,8800,86.3,85,81,79.7,86,83.8,73,84.9,87.9,90.4,85.5,84.3,88.9,87.7,89.9,82.6,82.1,84.3,88.2,91,87.5,84,84,86.4,82.5,86.2,86.2]
["MMR2 at 5y","2017-18",91,9180,91.2,90.3,89,90.8,91.5,86.6,86.4,90.1,91.4,93.5,91.9,91,90.3,90.7,92.1,86.8,86.1,88.8,90.6,92.1,90.3,87.6,87.9,90.1,85.7,87.9,87.9]
["MMR2 at 16y","2017-18",85.6,8710,85.3,84.8,88,89.8,91.5,78.2,87.4,90.8,90.3,91.3,88.1,87.1,89.9,91.2,93.8,84.5,83.4,87.4,88.7,87.7,89,87.9,88.9,88.2,85.9,82,82]
[]
["Clusters, by health board"]
["Childhood vaccination uptake"]
["Indicator","Period","ABM","Bridgend East Network","Bridgend North Network","Bridgend West Network","Afan","Neath","Upper Valleys","BayHealth","CityHealth","Cwmtawe","Llwchwr","Penderi","AB","Blaenau Gwent East","Blaenau Gwent West","Caerphilly East","Caerphilly North","Caerphilly South","Monmouthshire North","Monmouthshire South","Newport Central","Newport East","Newport West","Torfaen North","Torfaen South","BC","Anglesey","Conwy East","Conwy West","Central - South Denbighshire","North Denbighshire","Deeside Hawarden - Saltney","Holywell - Flint","Mold Buckley - Caergwle","Arfon","Dwyfor","Meirionnydd","South Wrexham","West - North Wrexham","Wrexham Town","CV","Cardiff East","Cardiff North","Cardiff South East","Cardiff South West","Cardiff West","City - Cardiff South","Central Vale","Eastern Vale","Western Vale","CT","North Merthyr Tydfil","South Merthyr Tydfil","North Cynon","North Rhondda","North Taf Ely","South Cynon","South Rhondda","South Taf Ely","HD","Amman-Gwendraeth","Llanelli","Taf - Teifi - Tywi","North Ceredigion","South Ceredigion","North Pembrokeshire","South Pembrokeshire","Powys","Mid Powys","North Powys","South Powys"]
["Uptake of the 5 in 1 at 1y","2017-18",96.4,97.317073170731703,96.903460837887067,97.27272727272728,95.979020979020973,96.892138939670929,96.166134185303505,94.230769230769226,93.28358208955224,98.191214470284237,98.687089715536104,96.666666666666671,96.1,97.247706422018354,96.798029556650249,98.420221169036338,97.635605006954108,95.799676898222941,94.087403598971719,98.01136363636364,95.847750865051907,95.171339563862929,94.07616361071932,95.945945945945937,97.99599198396794,96.4,97.608370702541109,92.824074074074076,98.226950354609926,94.946808510638306,93.670886075949369,97.519379844961236,97.38903394255874,96.701030927835049,96.943231441048042,98.598130841121502,97.802197802197796,97.5,98.608349900596423,94.555353901996369,94.8,94.936708860759495,96.64107485604606,94.205298013245027,94.147582697201017,97.61904761904762,90.090090090090087,94.798439531859557,98.005698005698008,94.841269841269835,97.4,98.285714285714292,97.5,97.05215419501134,96.464646464646464,97.968397291196382,97.757847533632287,97.352342158859472,97.923875432525946,94.2,95.081967213114751,94.303797468354432,93.950850661625708,96.951219512195124,92.506459948320412,93.629629629629633,94.600431965442766,96.4,98.222222222222229,95.44592030360532,98.205128205128204]
["Up to date with immunisations by age 4y","2017-18",86.2,91.19047619047619,87.354409317803658,82.972136222910223,84.81481481481481,86.785714285714292,91.071428571428569,85.043478260869563,79.770992366412216,91.906005221932119,88.783269961977183,83.983572895277206,81,78.534031413612567,82.448036951501152,89.033189033189032,86.024423337856177,84.591679506933744,82.185273159144884,88.746803069053698,78.020134228187914,69.924812030075188,73.030303030303031,85.464098073555164,85.631067961165058,87.9,91.798561151079141,87.05636743215031,86.356073211314481,87.331536388140165,82.532751091703062,88.490284005979063,92.071611253196934,90.595009596928989,85.81460674157303,91.701244813278009,92.114695340501797,91.493775933609953,90.853658536585371,88.941548183254355,82.6,83.10991957104558,87.331536388140165,79.926335174953948,81.937799043062199,89.583333333333343,69.728601252609607,85.006518904823992,86.4,83.333333333333343,88.2,89.189189189189193,94.648829431438131,88.131868131868131,84.920634920634924,87.389380530973455,90.909090909090907,87.795275590551185,89.816124469589823,84,85.761047463175117,81.470588235294116,86.175942549371626,85.828877005347593,86.77884615384616,82.82674772036475,83.011583011583014,86.2,89.211618257261421,88.162544169611309,84.095860566448806]
["MMR2 at 5y","2017-18",91,93.017751479289942,93.079584775086516,89.672544080604538,92.949907235621524,90.256410256410263,92.452830188679243,88.187702265372167,86.174242424242422,95.945945945945937,95.948434622467772,88.63636363636364,89,90.745501285347046,90.238095238095241,94.297082228116707,91.902834008097173,90.151515151515156,86.257928118393238,91.079812206572768,87.304347826086953,89.317507418397625,85.714285714285708,89.508196721311478,91.746641074856043,91.4,95.6,91.952054794520549,92.066115702479337,92.071611253196934,90.778097982708942,90.767045454545453,94.988610478359917,89.173228346456696,90.170380078636953,95.019157088122611,91.19496855345912,93,94.059405940594047,91.230769230769226,86.8,87.716955941255009,89.813994685562449,83.720930232558146,87.108013937282223,90.936106983655279,77.37373737373737,89.948453608247419,88.520408163265301,87.868852459016395,90.6,91.94805194805194,93.21533923303835,91.590909090909093,92.20779220779221,86.354378818737274,91.666666666666657,89.962121212121218,93.22766570605188,87.6,90.178571428571431,87.899860917941581,87.430683918669132,89.838337182448029,91.516709511568124,87.375886524822704,84.229390681003579,87.9,88.679245283018872,90,88.131313131313121]
["MMR2 at 16y","2017-18",85.6,87.821380243572406,91.155234657039713,87.202380952380949,87.010309278350519,84.070796460176993,91.034482758620697,83.743842364532014,83.665338645418331,86.802030456852791,89.503816793893137,87.703016241299309,88,89.274447949526817,90.979381443298962,92.220650636492223,93.53383458646617,93.15789473684211,75.702811244979912,85.846867749419957,90.636704119850179,90.07633587786259,88.148148148148152,93.810444874274651,92.256637168141594,90.3,90.317700453857796,86.941580756013749,87.085514834205938,85.125858123569799,86.912751677852356,91.542288557213936,90.488431876606683,92.079207920792086,91.679273827534033,94.444444444444443,93.181818181818173,95.100222717149222,96.049382716049379,94.020618556701024,84.5,85.736434108527121,86.218302094818071,82.159624413145536,85.94202898550725,90.556492411467119,77.840909090909093,90.275526742301466,83.651226158038156,82.554517133956381,88.7,86.138613861386133,91.025641025641022,86.618004866180058,91.17647058823529,86.511627906976742,86.919831223628691,91.666666666666657,89.279731993299833,87.9,91.692789968652036,87.716763005780351,90.100671140939596,88.985507246376812,88.828337874659397,86.006289308176093,89.320388349514573,82,82.083333333333329,86.148648648648646,83.602771362586608]
[]
["Clusters, by local authority (PSB)"]
["Childhood vaccination uptake"]
["Indicator","Period","Bridgend","Bridgend East Network","Bridgend North Network","Bridgend West Network","Neath Port Talbot","Afan","Neath","Upper Valleys","Swansea","BayHealth","CityHealth","Cwmtawe","Llwchwr","Penderi","Blaenau Gwent","Blaenau Gwent East","Blaenau Gwent West","Caerphilly","Caerphilly East","Caerphilly North","Caerphilly South","Monmouthshire","Monmouthshire North","Monmouthshire South","Newport","Newport Central","Newport East","Newport West","Torfaen","Torfaen North","Torfaen South","Anglesey LA","Anglesey Cluster","Conwy","Conwy East","Conwy West","Denbighshire","Central - South Denbighshire","North Denbighshire","Flintshire","Deeside Hawarden - Saltney","Holywell - Flint","Mold Buckley - Caergwle","Gwynedd","Arfon","Dwyfor","Meirionnydd","Wrexham","South Wrexham","West - North Wrexham","Wrexham Town","Cardiff","Cardiff East","Cardiff North","Cardiff South East","Cardiff South West","Cardiff West","City - Cardiff South","Vale of Glamorgan","Central Vale","Eastern Vale","Western Vale","Merthyr Tydfil","North Merthyr Tydfil","South Merthyr Tydfil","Rhondda Cynon Taf","North Cynon","North Rhondda","North Taf Ely","South Cynon","South Rhondda","South Taf Ely","Carmarthenshire","Amman-Gwendraeth","Llanelli","Taf - Teifi - Tywi","Ceredigion","North Ceredigion","South Ceredigion","Pembrokeshire","North Pembrokeshire","South Pembrokeshire","Powys","Mid Powys","North Powys","South Powys"]
["Uptake of the 5 in 1 at 1y","2017-18",{"$f":"$D$4","v":97},97.317073170731703,96.903460837887067,97.27272727272728,{"$f":"$D$5","v":96.4},95.979020979020973,96.892138939670929,96.166134185303505,{"$f":"$D$6","v":96},94.230769230769226,93.28358208955224,98.191214470284237,98.687089715536104,96.666666666666671,{"$f":"$D$8","v":97.4},97.247706422018354,96.798029556650249,{"$f":"$D$9","v":97.1},98.420221169036338,97.635605006954108,95.799676898222941,{"$f":"$D$10","v":95.1},94.087403598971719,98.01136363636364,{"$f":"$D$11","v":94.5},95.847750865051907,95.171339563862929,94.07616361071932,{"$f":"$D$12","v":97.1},95.945945945945937,97.99599198396794,{"$f":"$D$14","v":97.4},97.608370702541109,{"$f":"$D$15","v":95.8},92.824074074074076,98.226950354609926,{"$f":"$D$16","v":93.9},94.946808510638306,93.670886075949369,{"$f":"$D$17","v":96.8},97.519379844961236,97.38903394255874,96.701030927835049,{"$f":"$D$18","v":97.3},96.943231441048042,98.598130841121502,97.802197802197796,{"$f":"$D$19","v":96.9},97.5,98.608349900596423,94.555353901996369,{"$f":"$D$21","v":94.5},94.936708860759495,96.64107485604606,94.205298013245027,94.147582697201017,97.61904761904762,90.090090090090087,{"$f":"$D$22","v":95.7},94.798439531859557,98.005698005698008,94.841269841269835,{"$f":"$D$24","v":97.7},98.285714285714292,97.5,{"$f":"$D$25","v":97.4},97.05215419501134,96.464646464646464,97.968397291196382,97.757847533632287,97.352342158859472,97.923875432525946,{"$f":"$D$27","v":94.5},95.081967213114751,94.303797468354432,93.950850661625708,{"$f":"$D$28","v":93.9},96.951219512195124,92.506459948320412,{"$f":"$D$29","v":94},93.629629629629633,94.600431965442766,{"$f":"$D$31","v":96.4},98.222222222222229,95.44592030360532,98.205128205128204]
["Up to date with immunisations by age 4y","2017-18",{"$f":"$G$4","v":88},91.19047619047619,87.354409317803658,82.972136222910223,{"$f":"$G$5","v":86.3},84.81481481481481,86.785714285714292,91.071428571428569,{"$f":"$G$6","v":85},85.043478260869563,79.770992366412216,91.906005221932119,88.783269961977183,83.983572895277206,{"$f":"$G$8","v":79.7},78.534031413612567,82.448036951501152,{"$f":"$G$9","v":86},89.033189033189032,86.024423337856177,84.591679506933744,{"$f":"$G$10","v":83.8},82.185273159144884,88.746803069053698,{"$f":"$G$11","v":73},78.020134228187914,69.924812030075188,73.030303030303031,{"$f":"$G$12","v":84.9},85.464098073555164,85.631067961165058,{"$f":"$G$14","v":90.4},91.798561151079141,{"$f":"$G$15","v":85.5},87.05636743215031,86.356073211314481,{"$f":"$G$16","v":84.3},87.331536388140165,82.532751091703062,{"$f":"$G$17","v":88.9},88.490284005979063,92.071611253196934,90.595009596928989,{"$f":"$G$18","v":87.7},85.81460674157303,91.701244813278009,92.114695340501797,{"$f":"$G$19","v":89.9},91.493775933609953,90.853658536585371,88.941548183254355,{"$f":"$G$21","v":82.1},83.10991957104558,87.331536388140165,79.926335174953948,81.937799043062199,89.583333333333343,69.728601252609607,{"$f":"$G$22","v":84.3},85.006518904823992,86.4,83.333333333333343,{"$f":"$G$24","v":91},89.189189189189193,94.648829431438131,{"$f":"$G$25","v":87.5},88.131868131868131,84.920634920634924,87.389380530973455,90.909090909090907,87.795275590551185,89.816124469589823,{"$f":"$G$27","v":84},85.761047463175117,81.470588235294116,86.175942549371626,{"$f":"$G$28","v":86.4},85.828877005347593,86.77884615384616,{"$f":"$G$29","v":82.5},82.82674772036475,83.011583011583014,{"$f":"$G$31","v":86.2},89.211618257261421,88.162544169611309,84.095860566448806]
["MMR2 at 5y","2017-18",{"$f":"$J$4","v":91.8},93.017751479289942,93.079584775086516,89.672544080604538,{"$f":"$J$5","v":91.2},92.949907235621524,90.256410256410263,92.452830188679243,{"$f":"$J$6","v":90.3},88.187702265372167,86.174242424242422,95.945945945945937,95.948434622467772,88.63636363636364,{"$f":"$J$8","v":90.8},90.745501285347046,90.238095238095241,{"$f":"$J$9","v":91.5},94.297082228116707,91.902834008097173,90.151515151515156,{"$f":"$J$10","v":86.6},86.257928118393238,91.079812206572768,{"$f":"$J$11","v":86.4},87.304347826086953,89.317507418397625,85.714285714285708,{"$f":"$J$12","v":90.1},89.508196721311478,91.746641074856043,{"$f":"$J$14","v":93.5},95.6,{"$f":"$J$15","v":91.9},91.952054794520549,92.066115702479337,{"$f":"$J$16","v":91},92.071611253196934,90.778097982708942,{"$f":"$J$17","v":90.3},90.767045454545453,94.988610478359917,89.173228346456696,{"$f":"$J$18","v":90.7},90.170380078636953,95.019157088122611,91.19496855345912,{"$f":"$J$19","v":92.1},93,94.059405940594047,91.230769230769226,{"$f":"$J$21","v":86.1},87.716955941255009,89.813994685562449,83.720930232558146,87.108013937282223,90.936106983655279,77.37373737373737,{"$f":"$J$22","v":88.8},89.948453608247419,88.520408163265301,87.868852459016395,{"$f":"$J$24","v":92.1},91.94805194805194,93.21533923303835,{"$f":"$J$25","v":90.3},91.590909090909093,92.20779220779221,86.354378818737274,91.666666666666657,89.962121212121218,93.22766570605188,{"$f":"$J$27","v":87.9},90.178571428571431,87.899860917941581,87.430683918669132,{"$f":"$J$28","v":90.1},89.838337182448029,91.516709511568124,{"$f":"$J$29","v":85.7},87.375886524822704,84.229390681003579,{"$f":"$J$31","v":87.9},88.679245283018872,90,88.131313131313121]
["MMR2 at 16y","2017-18",{"$f":"$M$4","v":87.1},87.821380243572406,91.155234657039713,87.202380952380949,{"$f":"$M$5","v":85.3},87.010309278350519,84.070796460176993,91.034482758620697,{"$f":"$M$6","v":84.8},83.743842364532014,83.665338645418331,86.802030456852791,89.503816793893137,87.703016241299309,{"$f":"$M$8","v":89.8},89.274447949526817,90.979381443298962,{"$f":"$M$9","v":91.5},92.220650636492223,93.53383458646617,93.15789473684211,{"$f":"$M$10","v":78.2},75.702811244979912,85.846867749419957,{"$f":"$M$11","v":87.4},90.636704119850179,90.07633587786259,88.148148148148152,{"$f":"$M$12","v":90.8},93.810444874274651,92.256637168141594,{"$f":"$M$14","v":91.3},90.317700453857796,{"$f":"$M$15","v":88.1},86.941580756013749,87.085514834205938,{"$f":"$M$16","v":87.1},85.125858123569799,86.912751677852356,{"$f":"$M$17","v":89.9},91.542288557213936,90.488431876606683,92.079207920792086,{"$f":"$M$18","v":91.2},91.679273827534033,94.444444444444443,93.181818181818173,{"$f":"$M$19","v":93.8},95.100222717149222,96.049382716049379,94.020618556701024,{"$f":"$M$21","v":83.4},85.736434108527121,86.218302094818071,82.159624413145536,85.94202898550725,90.556492411467119,77.840909090909093,{"$f":"$M$22","v":87.4},90.275526742301466,83.651226158038156,82.554517133956381,{"$f":"$M$24","v":87.7},86.138613861386133,91.025641025641022,{"$f":"$M$25","v":89},86.618004866180058,91.17647058823529,86.511627906976742,86.919831223628691,91.666666666666657,89.279731993299833,{"$f":"$M$27","v":88.9},91.692789968652036,87.716763005780351,90.100671140939596,{"$f":"$M$28","v":88.2},88.985507246376812,88.828337874659397,{"$f":"$M$29","v":85.9},86.006289308176093,89.320388349514573,{"$f":"$M$31","v":82},82.083333333333329,86.148648648648646,83.602771362586608]